{"text_format":"1","workbook":"xlsx","n_sheets":58,"sheets":["Identification","Bâtiment (1)","Bâtiment (2)","Bâtiment (3)","Bâtiment (4)","Bâtiment (5)","Bâtiment (6)","Bâtiment (7)","Bâtiment (8)","Bâtiment (9)","Bâtiment (10)","Bâtiment (11)","Bâtiment (12)","Bâtiment (13)","Bâtiment (14)","Bâtiment (15)","EP_Captage","EP_Coagulation","EP_Decantation","EP_Filtration","EP_Traitements_specifiques","EP_Desinfection_CHLO","EP_OZONATION","EP_Desinfection_UV","EP_Reserve_eau","EP_Pompage_distribution","EP_Traitement_boues","EP_Chambre","EU_Affluent","EU_Dégrillage","EU_Dessablage","EU_Régulation_débit","EU_Décantation_primaire","EU_Traitement_secondaire","EU_Décantation_secondaire","EU_Filtration","EU_Desinfection","EU_Effluent","EU_Epaississement","EU_Stabilisation","EU_Déshydratation_Séchage","EU_Incinération","EU_Traitement_odeurs","EU_Stockage","EU_Pompage","EU_Chambre","EPL_Pompage","EPL_Stockage","EPL_Régulation_débit","EPL_Chambre","EP_Regulation_pression","EP_Barrage","Systèmes_communs","Synthèse_Bâtiments","Synthèse_Procédés","Aide","Inventaire","Données"],"not_rendered":{"charts":0,"images":9,"macros":1,"external_links":4,"defined_names":428,"comments":0,"pivot_tables":0},"unopened":[],"bounds":{"document_bytes":16777216,"sheet_cells":100000,"rows_first":2000,"rows_last":500,"rows_between":2000,"halvings":0,"cell_chars":16384,"cell_head_chars":4096},"cells_cut":0,"cells_raw":0,"read":"whole","date_system":"1900"}

{"sheet":"Identification","index":0,"n_rows":81,"n_cols":13,"rows_kept":81,"cut":false,"hidden":false,"merged":[[57,7,57,10],[54,5,54,6],[16,2,16,12],[17,2,17,12],[53,5,53,6],[53,7,53,10],[55,5,55,6],[55,7,55,10],[34,1,34,2],[54,7,54,10],[32,1,32,2],[26,1,26,11],[63,5,63,6],[64,5,64,6],[64,7,64,8],[64,9,64,10],[63,7,63,10],[74,7,74,10],[75,7,75,10],[66,7,66,9],[68,7,68,10],[68,5,68,6],[69,5,69,6],[69,7,69,10],[70,5,70,6],[70,7,70,10],[81,2,82,11],[79,7,79,10],[60,7,60,10],[61,5,61,6],[61,7,61,10],[65,5,65,6],[65,7,65,10],[66,5,66,6],[62,5,62,6],[62,7,62,10],[77,5,77,6],[77,7,77,10],[78,5,78,6],[76,5,76,6],[76,7,76,10],[74,5,74,6],[6,8,6,12],[15,2,15,12],[78,7,78,10],[67,7,67,10],[3,1,3,12],[5,1,5,12],[7,9,7,12],[8,1,8,12],[46,1,46,12],[47,9,47,12],[49,7,49,10],[11,1,12,12],[29,8,32,12],[30,1,30,2],[59,5,59,6],[59,7,59,10]]}
[null,null,null,null,null,null,null,null,null,null,null,null,{"$f":"\"Municipalité : \"&PROPER(H55)","v":"Municipalité : "}]
[null,null,null,null,null,null,null,null,null,null,null,null,{"$f":"\"Code géographique : \"&IF(Code_geo=\"\",\"\",Code_geo)","v":"Code géographique : "}]
[null,null,null,null,null,null,null,null,null,null,null,null,{"$f":"\"Année de mise à jour : \"&Annee_BI","v":"Année de mise à jour : "}]
[null,"Fiche d'évaluation des infrastructures ponctuelles en eau"]
[]
[null,"IDENTIFICATION"]
[null,null,null,null,null,null,null,null,"Appuyez ici pour consulter l'aide se rapportant à l'onglet « Identification »."]
[]
[null,"SECTION 1  -  PRÉSENTATION DE LA FICHE D'ÉVALUATION DES INFRASTRUCTURES PONCTUELLES EN EAU"]
[]
[null,"Mise en contexte"]
[null,"La fiche d'évaluation des infrastructures ponctuelles en eau a été élaborée en support au formulaire annexe du Guide de gestion des actifs municipaux pour le renouvellement des infrastructures ponctuelles en eau (Guide IP) qui vise à évaluer l'état et les besoins en investissement à court et moyen termes (0-10 ans) des infrastructures ponctuelles en eau des municipalités du Québec. Cette fiche permet aux municipalités de colliger les informations concernant l'inventaire et l'état des composants majeurs d'une infrastructure ponctuelle en eau auscultés dans le cadre d'un plan de renouvellement.\n\nIl est fortement suggéré que cette fiche d'évaluation soit complétée par tout professionnel dans le domaine en collaboration avec les opérateurs de l'installation des services d'eau de la municipalité."]
[]
[]
[null,"Mode d'emploi"]
[null,"•","Activer les macros en cliquant « Activer le contenu » dans la bande jaune au haut de votre écran, comme illustré ci-dessous. "]
[null,"•","Remplir les informations de base de l'infrastructure évaluée à la section 2 de cette feuille."]
[null,"•","Les systèmes propres à l'ouvrage sélectionné (bâtiments, procédés et systèmes communs) s'afficheront automatiquement, comme illustré ci-dessous pour une grande installation de production d'eau potable."]
[]
[]
[]
[]
[]
[]
[]
[null,"Mise en garde"]
[null,"Il est fortement recommandé de ne pas modifier les noms et les positions des onglets. \nToute modification des noms et positions des onglets peut causer des incohérences au niveau de la structure du fichier."]
[]
[null,"Type de case",null,null,null,null,null,null,"À noter"]
[null,null,null,null,null,null,null,null,"- Utilisez uniquement le format « valeur » pour copier-coller des données.\n- Selon la configuration de l'ordinateur, inscrivez les nombres décimaux en employant la virgule ou le point."]
[null,null,null," Case à remplir obligatoirement (contour rouge)"]
[]
[null,null,null," Case à remplir si possible (contour noir)"]
[]
[null,null,null," Valeur par défaut à modifier si nécessaire"]
[]
[null,null,null," Valeur calculée automatiquement."]
[]
[null,null,null," Valeur non valide."]
[]
[]
[]
[]
[]
[]
[]
[null,"SECTION 2  -  INFORMATIONS DE BASE"]
[]
[]
[null,"2.1","ANNÉE DE MISE À JOUR :"]
[]
[null,"2.2","IDENTIFICATION DE LA MUNICIPALITÉ :"]
[]
[null,null,null,null,null,"Code géographique : "]
[null,null,null,null,null,"Nom de la municipalité : ",null,{"$f":"IFERROR(VLOOKUP(H54,Données!C225:E1332,2,FALSE),\"\")","v":""}]
[null,null,null,null,null,"Région administrative : ",null,{"$f":"IFERROR(VLOOKUP(H54,Données!C225:E1332,3,FALSE),\"\")","v":""}]
[]
[null,"2.3","IDENTIFICATION DE L'INFRASTRUCTURE :"]
[]
[null,null,null,null,null,"Service d'eau : "]
[null,null,null,null,null,null,"Type d'infrastructures : "]
[null,null,null,null,null,"Sous-type d'infrastructures : ",null,null,null,null,null,{"$f":"H61&H62","v":""}]
[null,null,null,null,null,"Nom commun : "]
[null,null,null,null,null,"Adresse civique : "]
[null,null,null,null,null,"Latitude \\ Longitude : "]
[null,null,null,null,null,"Année de mise en opération : "]
[null,null,null,null,null,"Capacité nominale : "]
[null,null,null,null,null,null,"Valeur de remplacement : ",null,null,null,null,{"$f":"IF(AND(H68<>\"\",Synthèse_Procédés!J351>H68),\"La valeur de remplacement des systèmes (\"&Synthèse_Procédés!J351&\" $) est supérieure à la valeur de remplacement de l'ouvrage.\",\"\")","v":""}]
[null,null,null,null,null,"Coût des interventions  : ",null,{"$f":"IF(AND(Synthèse_Procédés!N351=0,Synthèse_Procédés!O351=0,Synthèse_Bâtiments!N67=0+Synthèse_Bâtiments!O67=0),\"\",Synthèse_Procédés!N351+Synthèse_Procédés!O351+Synthèse_Bâtiments!N67+Synthèse_Bâtiments!O67)","v":0}]
[null,null,null,null,null,"Indice de vétusité physique (IVP)  : ",null,{"$f":"IF($H$68<>\"\",$H$69/$H$68,\"\")","v":""}]
[null,null,null,null,null,"Nombre de bâtiments de votre ouvrage  : "]
[]
[null,"2.4","IDENTIFICATION DU RÉPONDANT PRINCIPAL :"]
[]
[null,null,null,null,null,"Prénom : "]
[null,null,null,null,null,null,"Nom : "]
[null,null,null,null,null,"Fonction : "]
[null,null,null,null,null,"Courriel : "]
[null,null,null,null,null,"Téléphone : "]
[null,null,null,null,null,null,"Poste : "]
[null,null,"Commentaires généraux :"]

{"sheet":"Bâtiment (1)","index":1,"n_rows":87,"n_cols":13,"rows_kept":87,"cut":false,"hidden":true,"merged":[[11,1,11,10],[12,1,12,10],[6,1,6,10],[7,1,7,10],[8,1,8,10],[9,1,9,10],[10,1,10,10],[2,8,2,10],[3,8,3,10],[1,6,1,7],[2,6,2,7],[3,6,3,7],[86,1,86,10],[49,1,49,10],[5,0,5,11],[14,0,14,11],[1,1,1,5],[2,1,2,5],[3,1,3,5],[4,1,4,5],[36,0,36,11],[50,0,50,11],[78,0,78,11],[4,6,4,7],[4,8,4,10],[77,1,77,10],[35,1,35,10],[1,8,1,10]]}
["IDENTIFICATION DU BÂTIMENT",null,null,null,null,null,null,null,null,"Consulter l'aide se rapportant aux bâtiments"]
["Type d'infrastructure :",{"$f":"IF(Identification!H61=0,\"\",Identification!H61)","v":""},null,null,null,null,"Sous-type d'infrastructure :",null,{"$f":"IF(Identification!H62=0,\"\",Identification!H62)","v":""}]
["Nom commun de l'infrastructure :",{"$f":"IF(Identification!H63=0,\"\",Identification!H63)","v":""},null,null,null,null,"Nom commun du bâtiment :"]
["Année de construction :",{"$f":"Identification!H66","v":0},null,null,null,null,"Année de l'évaluation :"]
["Valeur de remplacement :",{"$f":"IF(H35+H49+H77+H86=0,\"\",H35+H49+H77+H86)","v":""},null,null,null,null,"Autres informations :"]
["CRITÈRES D'ÉVALUATION DES COMPOSANTS"]
["Cote","État constaté"]
[0,"Le composant n'a pas été ausculté."]
[1,"Le composant est récent ou remis à neuf. Son fonctionnement est adéquat."]
[2,"Le composant présente un niveau léger de dégradation ou de défectuosité. Son fonctionnement est adéquat."]
[3,"Le composant présente un niveau modéré de dégradation ou de défectuosité. Son fonctionnement est adéquat."]
[4,"Le composant présente un niveau élevé de dégradation ou de défectuosité. Son fonctionnement est inadéquat."]
[5,"Le composant présente un niveau très élevé de dégradation ou de défectuosité. Le composant est inopérant ou son fonctionnement est intolérable."]
["*Type d'évaluation : Visuelle (V), Opérateur (O), Mesure (M)",null,null,null,null,null,"**Type d'intervention : Ajout (AJ), Remplacement (RP), Réfection majeure (RFM), Expertise complémentaire (DE)"]
["RELEVÉ DES COMPOSANTS ARCHITECTURAUX"]
["Composants majeurs","Année d'installation","Durée de vie utile","% Durée de vie écoulée","État constaté","Année d'évaluation","Type d'évaluation*","Valeur de remplacement ($)","Coût de l'intervention ($)","Type d'intervention**","Année d'intervention",null,{"$f":"B16","v":"Année d'installation"}]
["B20-Enveloppe extérieure",null,{"$f":"IF(B17=\"\",\"\",Données!$E$71)","v":""},{"$f":"IF(B17=\"\",\"\",(Annee_BI-B17)/C17)","v":""},null,null,null,null,null,null,null,null,{"$f":"E17","v":0}]
["B2010-Murs extérieurs",null,{"$f":"IF(B18=\"\",\"\",Données!$E$71)","v":""},""]
["B2020-Fenêtres extérieures",null,{"$f":"IF(B19=\"\",\"\",Données!$E$71)","v":""},""]
["B2030-Portes extérieures",null,{"$f":"IF(B20=\"\",\"\",Données!$E$71)","v":""},""]
["B30-Toit",null,{"$f":"IF(B21=\"\",\"\",Données!$E$71)","v":""},"",null,null,null,null,null,null,null,null,{"$f":"E21","v":0}]
["B3010-Couverture",null,{"$f":"IF(B22=\"\",\"\",Données!$E$71)","v":""},""]
["B3020-Ouvertures du toit",null,{"$f":"IF(B23=\"\",\"\",Données!$E$71)","v":""},""]
["C10-Construction intérieure",null,{"$f":"IF(B24=\"\",\"\",Données!$E$71)","v":""},"",null,null,null,null,null,null,null,null,{"$f":"E24","v":0}]
["C1010-Cloisons",null,{"$f":"IF(B25=\"\",\"\",Données!$E$71)","v":""},""]
["C1020-Portes intérieures",null,{"$f":"IF(B26=\"\",\"\",Données!$E$71)","v":""},""]
["C1030-Accessoires intégrés",null,{"$f":"IF(B27=\"\",\"\",Données!$E$71)","v":""},""]
["C20-Escaliers",null,{"$f":"IF(B28=\"\",\"\",Données!$E$71)","v":""},"",null,null,null,null,null,null,null,null,{"$f":"E28","v":0}]
["C2010-Construction d'escaliers",null,{"$f":"IF(B29=\"\",\"\",Données!$E$71)","v":""},""]
["C2020-Finitions d'escaliers",null,{"$f":"IF(B30=\"\",\"\",Données!$E$71)","v":""},""]
["C30-Finitions intérieures",null,{"$f":"IF(B31=\"\",\"\",Données!$E$71)","v":""},"",null,null,null,null,null,null,null,null,{"$f":"E31","v":0}]
["C3010-Finitions de murs",null,{"$f":"IF(B32=\"\",\"\",Données!$E$71)","v":""},""]
["C3020-Finitions de planchers",null,{"$f":"IF(B33=\"\",\"\",Données!$E$71)","v":""},""]
["C3030-Finitions de plafonds",null,{"$f":"IF(B34=\"\",\"\",Données!$E$71)","v":""},""]
["Récapitulatif des résultats (discipline)",{"$f":"IF(MIN(B17:B34)=0,\"\",MIN(B17:B34))","v":""},{"$f":"IF(MAX(C17:C34)=0,\"\",MAX(C17:C34))","v":""},{"$f":"IF(MAX(D17,D21,D24,D28,D31)=0,\"\",MAX(D17,D21,D24,D28,D31))","v":""},{"$f":"IF(MAX(E17:E34)=0,\"\",MAX(E17:E34))","v":""},{"$f":"IF(MAX(F17:F34)=0,\"\",MAX(F17:F34))","v":""},null,{"$f":"SUM(H17:H34)","v":0},{"$f":"SUM(I17:I34)","v":0},null,null,null,{"$f":"E35","v":""}]
["Commentaires ou notes explicatives sur les composants majeurs critiques auscultés\n\n(¨  Notes supplémentaires et/ou photos disponibles)"]
["RELEVÉ DES COMPOSANTS CIVILS"]
["Composants majeurs","Année d'installation","Durée de vie utile","% Durée de vie écoulée","État constaté","Année d'évaluation","Type d'évaluation*","Valeur de remplacement ($)","Coût de l'intervention ($)","Type d'intervention**","Année d'intervention"]
["A10-Fondations",null,{"$f":"IF(B39=\"\",\"\",Données!$E$72)","v":""},{"$f":"IF(B39=\"\",\"\",(Annee_BI-B39)/C39)","v":""},null,null,null,null,null,null,null,null,{"$f":"E39","v":0}]
["A1010-Fondations standard",null,{"$f":"IF(B40=\"\",\"\",Données!$E$72)","v":""},""]
["A1020-Finitions spéciales",null,{"$f":"IF(B41=\"\",\"\",Données!$E$72)","v":""},""]
["A1030-Dalle inférieure",null,{"$f":"IF(B42=\"\",\"\",Données!$E$72)","v":""},""]
["A20-Construction du sous-sol",null,{"$f":"IF(B43=\"\",\"\",Données!$E$72)","v":""},"",null,null,null,null,null,null,null,null,{"$f":"E43","v":0}]
["A2010-Excavation du sous-sol",null,{"$f":"IF(B44=\"\",\"\",Données!$E$72)","v":""},""]
["A2020-Murs du sous-sol",null,{"$f":"IF(B45=\"\",\"\",Données!$E$72)","v":""},""]
["B10-Superstructure",null,{"$f":"IF(B46=\"\",\"\",Données!$E$72)","v":""},"",null,null,null,null,null,null,null,null,{"$f":"E46","v":0}]
["B1010-Construction de plancher",null,{"$f":"IF(B47=\"\",\"\",Données!$E$72)","v":""},""]
["B1020-Construction de toiture",null,{"$f":"IF(B48=\"\",\"\",Données!$E$72)","v":""},""]
["Récapitulatif des résultats (discipline)",{"$f":"IF(MIN(B39:B48)=0,\"\",MIN(B39:B48))","v":""},{"$f":"IF(MAX(C39:C48)=0,\"\",MAX(C39:C48))","v":""},{"$f":"IF(MAX(D39,D43,D46)=0,\"\",MAX(D39,D43,D46))","v":""},{"$f":"IF(MAX(E39:E48)=0,\"\",MAX(E39:E48))","v":""},{"$f":"IF(MAX(F39:F48)=0,\"\",MAX(F39:F48))","v":""},null,{"$f":"SUM(H39:H48)","v":0},{"$f":"SUM(I39:I48)","v":0},null,null,null,{"$f":"E49","v":""}]
["Commentaires ou notes explicatives sur les composants majeurs critiques auscultés\n\n(¨  Notes supplémentaires et/ou photos disponibles)"]
["RELEVÉ DES COMPOSANTS MÉCANIQUES"]
["Composants majeurs","Année d'installation","Durée de vie utile","% Durée de vie écoulée","État constaté","Année d'évaluation","Type d'évaluation*","Valeur de remplacement ($)","Coût de l'intervention ($)","Type d'intervention**","Année d'intervention"]
["D10-Moyens de transport",null,{"$f":"IF(B53=\"\",\"\",Données!$E$73)","v":""},{"$f":"IF(B53=\"\",\"\",(Annee_BI-B53)/C53)","v":""},null,null,null,null,null,null,null,null,{"$f":"E53","v":0}]
["D1010-Ascenseurs et monte-charge",null,{"$f":"IF(B54=\"\",\"\",Données!$E$73)","v":""},""]
["D1020-Escaliers mécaniques et trottoirs roulants",null,{"$f":"IF(B55=\"\",\"\",Données!$E$73)","v":""},""]
["D1030-Autres systèmes transporteurs",null,{"$f":"IF(B56=\"\",\"\",Données!$E$73)","v":""},""]
["D20-Plomberie",null,{"$f":"IF(B57=\"\",\"\",Données!$E$73)","v":""},"",null,null,null,null,null,null,null,null,{"$f":"E57","v":0}]
["D2010-Appareils de plomberie",null,{"$f":"IF(B58=\"\",\"\",Données!$E$73)","v":""},""]
["D2020-Réseau d'eau domestique",null,{"$f":"IF(B59=\"\",\"\",Données!$E$73)","v":""},""]
["D2030-Réseau de drainage sanitaire",null,{"$f":"IF(B60=\"\",\"\",Données!$E$73)","v":""},""]
["D2040-Réseau de drainage pluvial",null,{"$f":"IF(B61=\"\",\"\",Données!$E$73)","v":""},""]
["D2090-Autres système de plomberie",null,{"$f":"IF(B62=\"\",\"\",Données!$E$73)","v":""},""]
["D30-CVAC",null,{"$f":"IF(B63=\"\",\"\",Données!$E$73)","v":""},"",null,null,null,null,null,null,null,null,{"$f":"E63","v":0}]
["D3010-Source d'énergie",null,{"$f":"IF(B64=\"\",\"\",Données!$E$73)","v":""},""]
["D3020-Systèmes de production de chaleur",null,{"$f":"IF(B65=\"\",\"\",Données!$E$73)","v":""},""]
["D3030-Sytèmes de production de froid",null,{"$f":"IF(B66=\"\",\"\",Données!$E$73)","v":""},""]
["D3040-Distribution de CVCA",null,{"$f":"IF(B67=\"\",\"\",Données!$E$73)","v":""},""]
["D3050-Unités autonomes ou monoblocs",null,{"$f":"IF(B68=\"\",\"\",Données!$E$73)","v":""},""]
["D3060-Régulation et instrumentation",null,{"$f":"IF(B69=\"\",\"\",Données!$E$73)","v":""},""]
["D3070-Essai et réglage des systèmes",null,{"$f":"IF(B70=\"\",\"\",Données!$E$73)","v":""},""]
["D3090-Autres systèmes ou équipements de CVCA",null,{"$f":"IF(B71=\"\",\"\",Données!$E$73)","v":""},""]
["D40-Protection incendie",null,{"$f":"IF(B72=\"\",\"\",Données!$E$73)","v":""},"",null,null,null,null,null,null,null,null,{"$f":"E72","v":0}]
["D4010-Gicleurs",null,{"$f":"IF(B73=\"\",\"\",Données!$E$73)","v":""},""]
["D4020-Canalisations montantes",null,{"$f":"IF(B74=\"\",\"\",Données!$E$73)","v":""},""]
["D4030-Accessoires de protection incendie",null,{"$f":"IF(B75=\"\",\"\",Données!$E$73)","v":""},""]
["D4090-Autres systèmes de protection incendie",null,{"$f":"IF(B76=\"\",\"\",Données!$E$73)","v":""},""]
["Récapitulatif des résultats (discipline)",{"$f":"IF(MIN(B53:B76)=0,\"\",MIN(B53:B76))","v":""},{"$f":"IF(MAX(C53:C76)=0,\"\",MAX(C53:C76))","v":""},{"$f":"IF(MAX(D53,D57,D63,D72)=0,\"\",MAX(D53,D57,D63,D72))","v":""},{"$f":"IF(MAX(E53:E76)=0,\"\",MAX(E53:E76))","v":""},{"$f":"IF(MAX(F53:F76)=0,\"\",MAX(F53:F76))","v":""},null,{"$f":"SUM(H53:H76)","v":0},{"$f":"SUM(I53:I76)","v":0},null,null,null,{"$f":"E77","v":""}]
["Commentaires ou notes explicatives sur les composants majeurs critiques auscultés\n\n(¨  Notes supplémentaires et/ou photos disponibles)"]
["RELEVÉ DES COMPOSANTS ÉLECTRIQUES"]
["Composants majeurs","Année d'installation","Durée de vie utile","% Durée de vie écoulée","État constaté","Année d'évaluation","Type d'évaluation*","Valeur de remplacement ($)","Coût de l'intervention ($)","Type d'intervention**","Année d'intervention"]
["D50-Électricité",null,{"$f":"IF(B81=\"\",\"\",Données!$E$74)","v":""},{"$f":"IF(B81=\"\",\"\",(Annee_BI-B81)/C81)","v":""},null,null,null,null,null,null,null,null,{"$f":"E81","v":0}]
["D5010-Services et distribution électrique",null,{"$f":"IF(B82=\"\",\"\",Données!$E$74)","v":""},{"$f":"IF(B82=\"\",\"\",(Annee_BI-B82)/C82)","v":""}]
["D5020-Éclairage et distribution secondaire",null,{"$f":"IF(B83=\"\",\"\",Données!$E$74)","v":""},{"$f":"IF(B83=\"\",\"\",(Annee_BI-B83)/C83)","v":""}]
["D5030-Communication & sécurité ",null,{"$f":"IF(B84=\"\",\"\",Données!$E$74)","v":""},{"$f":"IF(B84=\"\",\"\",(Annee_BI-B84)/C84)","v":""}]
["D5090-Autres systèmes électriques",null,{"$f":"IF(B85=\"\",\"\",Données!$E$74)","v":""},{"$f":"IF(B85=\"\",\"\",(Annee_BI-B85)/C85)","v":""}]
["Récapitulatif des résultats (discipline)",{"$f":"IF(MIN(B81:B85)=0,\"\",MIN(B81:B85))","v":""},{"$f":"IF(MAX(C81:C85)=0,\"\",MAX(C81:C85))","v":""},{"$f":"IF(MAX(D82:D85)=0,\"\",MAX(D82:D85))","v":""},{"$f":"IF(MAX(E81:E85)=0,\"\",MAX(E81:E85))","v":""},{"$f":"IF(MAX(F81:F85)=0,\"\",MAX(F81:F85))","v":""},null,{"$f":"SUM(H81:H85)","v":0},{"$f":"SUM(I81:I85)","v":0},null,null,null,{"$f":"E86","v":""}]
["Commentaires ou notes explicatives sur les composants majeurs critiques auscultés\n\n(¨  Notes supplémentaires et/ou photos disponibles)"]

{"sheet":"Bâtiment (2)","index":2,"n_rows":87,"n_cols":13,"rows_kept":87,"cut":false,"hidden":true,"merged":[[1,1,1,5],[1,6,1,7],[1,8,1,10],[2,1,2,5],[2,6,2,7],[2,8,2,10],[10,1,10,10],[3,1,3,5],[3,6,3,7],[3,8,3,10],[4,1,4,5],[4,6,4,7],[4,8,4,10],[5,0,5,11],[6,1,6,10],[7,1,7,10],[8,1,8,10],[9,1,9,10],[50,0,50,11],[77,1,77,10],[78,0,78,11],[86,1,86,10],[11,1,11,10],[12,1,12,10],[14,0,14,11],[35,1,35,10],[36,0,36,11],[49,1,49,10]]}
["IDENTIFICATION DU BÂTIMENT",null,null,null,null,null,null,null,null,"Consulter l'aide se rapportant aux bâtiments"]
["Type d'infrastructure :",{"$f":"IF(Identification!H61=0,\"\",Identification!H61)","v":""},null,null,null,null,"Sous-type d'infrastructure :",null,{"$f":"IF(Identification!H62=0,\"\",Identification!H62)","v":""}]
["Nom commun de l'infrastructure :",{"$f":"IF(Identification!H63=0,\"\",Identification!H63)","v":""},null,null,null,null,"Nom commun du bâtiment :"]
["Année de construction :",{"$f":"Identification!H66","v":0},null,null,null,null,"Année de l'évaluation :"]
["Valeur de remplacement :",{"$f":"IF(H35+H49+H77+H86=0,\"\",H35+H49+H77+H86)","v":""},null,null,null,null,"Autres informations :"]
["CRITÈRES D'ÉVALUATION DES COMPOSANTS"]
["Cote","État constaté"]
[0,"Le composant n'a pas été ausculté."]
[1,"Le composant est récent ou remis à neuf. Son fonctionnement est adéquat."]
[2,"Le composant présente un niveau léger de dégradation ou de défectuosité. Son fonctionnement est adéquat."]
[3,"Le composant présente un niveau modéré de dégradation ou de défectuosité. Son fonctionnement est adéquat."]
[4,"Le composant présente un niveau élevé de dégradation ou de défectuosité. Son fonctionnement est inadéquat."]
[5,"Le composant présente un niveau très élevé de dégradation ou de défectuosité. Le composant est inopérant ou son fonctionnement est intolérable."]
["*Type d'évaluation : Visuelle (V), Opérateur (O), Mesure (M)",null,null,null,null,null,"**Type d'intervention : Ajout (AJ), Remplacement (RP), Réfection majeure (RFM), Expertise complémentaire (DE)"]
["RELEVÉ DES COMPOSANTS ARCHITECTURAUX"]
["Composants majeurs","Année d'installation","Durée de vie utile","% Durée de vie écoulée","État constaté","Année d'évaluation","Type d'évaluation*","Valeur de remplacement ($)","Coût de l'intervention ($)","Type d'intervention**","Année d'intervention",null,{"$f":"B16","v":"Année d'installation"}]
["B20-Enveloppe extérieure",null,{"$f":"IF(B17=\"\",\"\",Données!$E$71)","v":""},{"$f":"IF(B17=\"\",\"\",(Annee_BI-B17)/C17)","v":""},null,null,null,null,null,null,null,null,{"$f":"E17","v":0}]
["B2010-Murs extérieurs",null,{"$f":"IF(B18=\"\",\"\",Données!$E$71)","v":""},""]
["B2020-Fenêtres extérieures",null,{"$f":"IF(B19=\"\",\"\",Données!$E$71)","v":""},""]
["B2030-Portes extérieures",null,{"$f":"IF(B20=\"\",\"\",Données!$E$71)","v":""},""]
["B30-Toit",null,{"$f":"IF(B21=\"\",\"\",Données!$E$71)","v":""},"",null,null,null,null,null,null,null,null,{"$f":"E21","v":0}]
["B3010-Couverture",null,{"$f":"IF(B22=\"\",\"\",Données!$E$71)","v":""},""]
["B3020-Ouvertures du toit",null,{"$f":"IF(B23=\"\",\"\",Données!$E$71)","v":""},""]
["C10-Construction intérieure",null,{"$f":"IF(B24=\"\",\"\",Données!$E$71)","v":""},"",null,null,null,null,null,null,null,null,{"$f":"E24","v":0}]
["C1010-Cloisons",null,{"$f":"IF(B25=\"\",\"\",Données!$E$71)","v":""},""]
["C1020-Portes intérieures",null,{"$f":"IF(B26=\"\",\"\",Données!$E$71)","v":""},""]
["C1030-Accessoires intégrés",null,{"$f":"IF(B27=\"\",\"\",Données!$E$71)","v":""},""]
["C20-Escaliers",null,{"$f":"IF(B28=\"\",\"\",Données!$E$71)","v":""},"",null,null,null,null,null,null,null,null,{"$f":"E28","v":0}]
["C2010-Construction d'escaliers",null,{"$f":"IF(B29=\"\",\"\",Données!$E$71)","v":""},""]
["C2020-Finitions d'escaliers",null,{"$f":"IF(B30=\"\",\"\",Données!$E$71)","v":""},""]
["C30-Finitions intérieures",null,{"$f":"IF(B31=\"\",\"\",Données!$E$71)","v":""},"",null,null,null,null,null,null,null,null,{"$f":"E31","v":0}]
["C3010-Finitions de murs",null,{"$f":"IF(B32=\"\",\"\",Données!$E$71)","v":""},""]
["C3020-Finitions de planchers",null,{"$f":"IF(B33=\"\",\"\",Données!$E$71)","v":""},""]
["C3030-Finitions de plafonds",null,{"$f":"IF(B34=\"\",\"\",Données!$E$71)","v":""},""]
["Récapitulatif des résultats (discipline)",{"$f":"IF(MIN(B17:B34)=0,\"\",MIN(B17:B34))","v":""},{"$f":"IF(MAX(C17:C34)=0,\"\",MAX(C17:C34))","v":""},{"$f":"IF(MAX(D17,D21,D24,D28,D31)=0,\"\",MAX(D17,D21,D24,D28,D31))","v":""},{"$f":"IF(MAX(E17:E34)=0,\"\",MAX(E17:E34))","v":""},{"$f":"IF(MAX(F17:F34)=0,\"\",MAX(F17:F34))","v":""},null,{"$f":"SUM(H17:H34)","v":0},{"$f":"SUM(I17:I34)","v":0},null,null,null,{"$f":"E35","v":""}]
["Commentaires ou notes explicatives sur les composants majeurs critiques auscultés\n\n(¨  Notes supplémentaires et/ou photos disponibles)"]
["RELEVÉ DES COMPOSANTS CIVILS"]
["Composants majeurs","Année d'installation","Durée de vie utile","% Durée de vie écoulée","État constaté","Année d'évaluation","Type d'évaluation*","Valeur de remplacement ($)","Coût de l'intervention ($)","Type d'intervention**","Année d'intervention"]
["A10-Fondations",null,{"$f":"IF(B39=\"\",\"\",Données!$E$72)","v":""},{"$f":"IF(B39=\"\",\"\",(Annee_BI-B39)/C39)","v":""},null,null,null,null,null,null,null,null,{"$f":"E39","v":0}]
["A1010-Fondations standard",null,{"$f":"IF(B40=\"\",\"\",Données!$E$72)","v":""},""]
["A1020-Finitions spéciales",null,{"$f":"IF(B41=\"\",\"\",Données!$E$72)","v":""},""]
["A1030-Dalle inférieure",null,{"$f":"IF(B42=\"\",\"\",Données!$E$72)","v":""},""]
["A20-Construction du sous-sol",null,{"$f":"IF(B43=\"\",\"\",Données!$E$72)","v":""},"",null,null,null,null,null,null,null,null,{"$f":"E43","v":0}]
["A2010-Excavation du sous-sol",null,{"$f":"IF(B44=\"\",\"\",Données!$E$72)","v":""},""]
["A2020-Murs du sous-sol",null,{"$f":"IF(B45=\"\",\"\",Données!$E$72)","v":""},""]
["B10-Superstructure",null,{"$f":"IF(B46=\"\",\"\",Données!$E$72)","v":""},"",null,null,null,null,null,null,null,null,{"$f":"E46","v":0}]
["B1010-Construction de plancher",null,{"$f":"IF(B47=\"\",\"\",Données!$E$72)","v":""},""]
["B1020-Construction de toiture",null,{"$f":"IF(B48=\"\",\"\",Données!$E$72)","v":""},""]
["Récapitulatif des résultats (discipline)",{"$f":"IF(MIN(B39:B48)=0,\"\",MIN(B39:B48))","v":""},{"$f":"IF(MAX(C39:C48)=0,\"\",MAX(C39:C48))","v":""},{"$f":"IF(MAX(D39,D43,D46)=0,\"\",MAX(D39,D43,D46))","v":""},{"$f":"IF(MAX(E39:E48)=0,\"\",MAX(E39:E48))","v":""},{"$f":"IF(MAX(F39:F48)=0,\"\",MAX(F39:F48))","v":""},null,{"$f":"SUM(H39:H48)","v":0},{"$f":"SUM(I39:I48)","v":0},null,null,null,{"$f":"E49","v":""}]
["Commentaires ou notes explicatives sur les composants majeurs critiques auscultés\n\n(¨  Notes supplémentaires et/ou photos disponibles)"]
["RELEVÉ DES COMPOSANTS MÉCANIQUES"]
["Composants majeurs","Année d'installation","Durée de vie utile","% Durée de vie écoulée","État constaté","Année d'évaluation","Type d'évaluation*","Valeur de remplacement ($)","Coût de l'intervention ($)","Type d'intervention**","Année d'intervention"]
["D10-Moyens de transport",null,{"$f":"IF(B53=\"\",\"\",Données!$E$73)","v":""},{"$f":"IF(B53=\"\",\"\",(Annee_BI-B53)/C53)","v":""},null,null,null,null,null,null,null,null,{"$f":"E53","v":0}]
["D1010-Ascenseurs et monte-charge",null,{"$f":"IF(B54=\"\",\"\",Données!$E$73)","v":""},""]
["D1020-Escaliers mécaniques et trottoirs roulants",null,{"$f":"IF(B55=\"\",\"\",Données!$E$73)","v":""},""]
["D1030-Autres systèmes transporteurs",null,{"$f":"IF(B56=\"\",\"\",Données!$E$73)","v":""},""]
["D20-Plomberie",null,{"$f":"IF(B57=\"\",\"\",Données!$E$73)","v":""},"",null,null,null,null,null,null,null,null,{"$f":"E57","v":0}]
["D2010-Appareils de plomberie",null,{"$f":"IF(B58=\"\",\"\",Données!$E$73)","v":""},""]
["D2020-Réseau d'eau domestique",null,{"$f":"IF(B59=\"\",\"\",Données!$E$73)","v":""},""]
["D2030-Réseau de drainage sanitaire",null,{"$f":"IF(B60=\"\",\"\",Données!$E$73)","v":""},""]
["D2040-Réseau de drainage pluvial",null,{"$f":"IF(B61=\"\",\"\",Données!$E$73)","v":""},""]
["D2090-Autres système de plomberie",null,{"$f":"IF(B62=\"\",\"\",Données!$E$73)","v":""},""]
["D30-CVAC",null,{"$f":"IF(B63=\"\",\"\",Données!$E$73)","v":""},"",null,null,null,null,null,null,null,null,{"$f":"E63","v":0}]
["D3010-Source d'énergie",null,{"$f":"IF(B64=\"\",\"\",Données!$E$73)","v":""},""]
["D3020-Systèmes de production de chaleur",null,{"$f":"IF(B65=\"\",\"\",Données!$E$73)","v":""},""]
["D3030-Sytèmes de production de froid",null,{"$f":"IF(B66=\"\",\"\",Données!$E$73)","v":""},""]
["D3040-Distribution de CVCA",null,{"$f":"IF(B67=\"\",\"\",Données!$E$73)","v":""},""]
["D3050-Unités autonomes ou monoblocs",null,{"$f":"IF(B68=\"\",\"\",Données!$E$73)","v":""},""]
["D3060-Régulation et instrumentation",null,{"$f":"IF(B69=\"\",\"\",Données!$E$73)","v":""},""]
["D3070-Essai et réglage des systèmes",null,{"$f":"IF(B70=\"\",\"\",Données!$E$73)","v":""},""]
["D3090-Autres systèmes ou équipements de CVCA",null,{"$f":"IF(B71=\"\",\"\",Données!$E$73)","v":""},""]
["D40-Protection incendie",null,{"$f":"IF(B72=\"\",\"\",Données!$E$73)","v":""},"",null,null,null,null,null,null,null,null,{"$f":"E72","v":0}]
["D4010-Gicleurs",null,{"$f":"IF(B73=\"\",\"\",Données!$E$73)","v":""},""]
["D4020-Canalisations montantes",null,{"$f":"IF(B74=\"\",\"\",Données!$E$73)","v":""},""]
["D4030-Accessoires de protection incendie",null,{"$f":"IF(B75=\"\",\"\",Données!$E$73)","v":""},""]
["D4090-Autres systèmes de protection incendie",null,{"$f":"IF(B76=\"\",\"\",Données!$E$73)","v":""},""]
["Récapitulatif des résultats (discipline)",{"$f":"IF(MIN(B53:B76)=0,\"\",MIN(B53:B76))","v":""},{"$f":"IF(MAX(C53:C76)=0,\"\",MAX(C53:C76))","v":""},{"$f":"IF(MAX(D53,D57,D63,D72)=0,\"\",MAX(D53,D57,D63,D72))","v":""},{"$f":"IF(MAX(E53:E76)=0,\"\",MAX(E53:E76))","v":""},{"$f":"IF(MAX(F53:F76)=0,\"\",MAX(F53:F76))","v":""},null,{"$f":"SUM(H53:H76)","v":0},{"$f":"SUM(I53:I76)","v":0},null,null,null,{"$f":"E77","v":""}]
["Commentaires ou notes explicatives sur les composants majeurs critiques auscultés\n\n(¨  Notes supplémentaires et/ou photos disponibles)"]
["RELEVÉ DES COMPOSANTS ÉLECTRIQUES"]
["Composants majeurs","Année d'installation","Durée de vie utile","% Durée de vie écoulée","État constaté","Année d'évaluation","Type d'évaluation*","Valeur de remplacement ($)","Coût de l'intervention ($)","Type d'intervention**","Année d'intervention"]
["D50-Électricité",null,{"$f":"IF(B81=\"\",\"\",Données!$E$74)","v":""},{"$f":"IF(B81=\"\",\"\",(Annee_BI-B81)/C81)","v":""},null,null,null,null,null,null,null,null,{"$f":"E81","v":0}]
["D5010-Services et distribution électrique",null,{"$f":"IF(B82=\"\",\"\",Données!$E$74)","v":""},{"$f":"IF(B82=\"\",\"\",(Annee_BI-B82)/C82)","v":""}]
["D5020-Éclairage et distribution secondaire",null,{"$f":"IF(B83=\"\",\"\",Données!$E$74)","v":""},{"$f":"IF(B83=\"\",\"\",(Annee_BI-B83)/C83)","v":""}]
["D5030-Communication & sécurité ",null,{"$f":"IF(B84=\"\",\"\",Données!$E$74)","v":""},{"$f":"IF(B84=\"\",\"\",(Annee_BI-B84)/C84)","v":""}]
["D5090-Autres systèmes électriques",null,{"$f":"IF(B85=\"\",\"\",Données!$E$74)","v":""},{"$f":"IF(B85=\"\",\"\",(Annee_BI-B85)/C85)","v":""}]
["Récapitulatif des résultats (discipline)",{"$f":"IF(MIN(B81:B85)=0,\"\",MIN(B81:B85))","v":""},{"$f":"IF(MAX(C81:C85)=0,\"\",MAX(C81:C85))","v":""},{"$f":"IF(MAX(D82:D85)=0,\"\",MAX(D82:D85))","v":""},{"$f":"IF(MAX(E81:E85)=0,\"\",MAX(E81:E85))","v":""},{"$f":"IF(MAX(F81:F85)=0,\"\",MAX(F81:F85))","v":""},null,{"$f":"SUM(H81:H85)","v":0},{"$f":"SUM(I81:I85)","v":0},null,null,null,{"$f":"E86","v":""}]
["Commentaires ou notes explicatives sur les composants majeurs critiques auscultés\n\n(¨  Notes supplémentaires et/ou photos disponibles)"]

{"sheet":"Bâtiment (3)","index":3,"n_rows":87,"n_cols":13,"rows_kept":87,"cut":false,"hidden":true,"merged":[[1,1,1,5],[1,6,1,7],[1,8,1,10],[2,1,2,5],[2,6,2,7],[2,8,2,10],[10,1,10,10],[3,1,3,5],[3,6,3,7],[3,8,3,10],[4,1,4,5],[4,6,4,7],[4,8,4,10],[5,0,5,11],[6,1,6,10],[7,1,7,10],[8,1,8,10],[9,1,9,10],[50,0,50,11],[77,1,77,10],[78,0,78,11],[86,1,86,10],[11,1,11,10],[12,1,12,10],[14,0,14,11],[35,1,35,10],[36,0,36,11],[49,1,49,10]]}
["IDENTIFICATION DU BÂTIMENT",null,null,null,null,null,null,null,null,"Consulter l'aide se rapportant aux bâtiments"]
["Type d'infrastructure :",{"$f":"IF(Identification!H61=0,\"\",Identification!H61)","v":""},null,null,null,null,"Sous-type d'infrastructure :",null,{"$f":"IF(Identification!H62=0,\"\",Identification!H62)","v":""}]
["Nom commun de l'infrastructure :",{"$f":"IF(Identification!H63=0,\"\",Identification!H63)","v":""},null,null,null,null,"Nom commun du bâtiment :"]
["Année de construction :",{"$f":"Identification!H66","v":0},null,null,null,null,"Année de l'évaluation :"]
["Valeur de remplacement :",{"$f":"IF(H35+H49+H77+H86=0,\"\",H35+H49+H77+H86)","v":""},null,null,null,null,"Autres informations :"]
["CRITÈRES D'ÉVALUATION DES COMPOSANTS"]
["Cote","État constaté"]
[0,"Le composant n'a pas été ausculté."]
[1,"Le composant est récent ou remis à neuf. Son fonctionnement est adéquat."]
[2,"Le composant présente un niveau léger de dégradation ou de défectuosité. Son fonctionnement est adéquat."]
[3,"Le composant présente un niveau modéré de dégradation ou de défectuosité. Son fonctionnement est adéquat."]
[4,"Le composant présente un niveau élevé de dégradation ou de défectuosité. Son fonctionnement est inadéquat."]
[5,"Le composant présente un niveau très élevé de dégradation ou de défectuosité. Le composant est inopérant ou son fonctionnement est intolérable."]
["*Type d'évaluation : Visuelle (V), Opérateur (O), Mesure (M)",null,null,null,null,null,"**Type d'intervention : Ajout (AJ), Remplacement (RP), Réfection majeure (RFM), Expertise complémentaire (DE)"]
["RELEVÉ DES COMPOSANTS ARCHITECTURAUX"]
["Composants majeurs","Année d'installation","Durée de vie utile","% Durée de vie écoulée","État constaté","Année d'évaluation","Type d'évaluation*","Valeur de remplacement ($)","Coût de l'intervention ($)","Type d'intervention**","Année d'intervention",null,{"$f":"B16","v":"Année d'installation"}]
["B20-Enveloppe extérieure",null,{"$f":"IF(B17=\"\",\"\",Données!$E$71)","v":""},{"$f":"IF(B17=\"\",\"\",(Annee_BI-B17)/C17)","v":""},null,null,null,null,null,null,null,null,{"$f":"E17","v":0}]
["B2010-Murs extérieurs",null,{"$f":"IF(B18=\"\",\"\",Données!$E$71)","v":""},""]
["B2020-Fenêtres extérieures",null,{"$f":"IF(B19=\"\",\"\",Données!$E$71)","v":""},""]
["B2030-Portes extérieures",null,{"$f":"IF(B20=\"\",\"\",Données!$E$71)","v":""},""]
["B30-Toit",null,{"$f":"IF(B21=\"\",\"\",Données!$E$71)","v":""},"",null,null,null,null,null,null,null,null,{"$f":"E21","v":0}]
["B3010-Couverture",null,{"$f":"IF(B22=\"\",\"\",Données!$E$71)","v":""},""]
["B3020-Ouvertures du toit",null,{"$f":"IF(B23=\"\",\"\",Données!$E$71)","v":""},""]
["C10-Construction intérieure",null,{"$f":"IF(B24=\"\",\"\",Données!$E$71)","v":""},"",null,null,null,null,null,null,null,null,{"$f":"E24","v":0}]
["C1010-Cloisons",null,{"$f":"IF(B25=\"\",\"\",Données!$E$71)","v":""},""]
["C1020-Portes intérieures",null,{"$f":"IF(B26=\"\",\"\",Données!$E$71)","v":""},""]
["C1030-Accessoires intégrés",null,{"$f":"IF(B27=\"\",\"\",Données!$E$71)","v":""},""]
["C20-Escaliers",null,{"$f":"IF(B28=\"\",\"\",Données!$E$71)","v":""},"",null,null,null,null,null,null,null,null,{"$f":"E28","v":0}]
["C2010-Construction d'escaliers",null,{"$f":"IF(B29=\"\",\"\",Données!$E$71)","v":""},""]
["C2020-Finitions d'escaliers",null,{"$f":"IF(B30=\"\",\"\",Données!$E$71)","v":""},""]
["C30-Finitions intérieures",null,{"$f":"IF(B31=\"\",\"\",Données!$E$71)","v":""},"",null,null,null,null,null,null,null,null,{"$f":"E31","v":0}]
["C3010-Finitions de murs",null,{"$f":"IF(B32=\"\",\"\",Données!$E$71)","v":""},""]
["C3020-Finitions de planchers",null,{"$f":"IF(B33=\"\",\"\",Données!$E$71)","v":""},""]
["C3030-Finitions de plafonds",null,{"$f":"IF(B34=\"\",\"\",Données!$E$71)","v":""},""]
["Récapitulatif des résultats (discipline)",{"$f":"IF(MIN(B17:B34)=0,\"\",MIN(B17:B34))","v":""},{"$f":"IF(MAX(C17:C34)=0,\"\",MAX(C17:C34))","v":""},{"$f":"IF(MAX(D17,D21,D24,D28,D31)=0,\"\",MAX(D17,D21,D24,D28,D31))","v":""},{"$f":"IF(MAX(E17:E34)=0,\"\",MAX(E17:E34))","v":""},{"$f":"IF(MAX(F17:F34)=0,\"\",MAX(F17:F34))","v":""},null,{"$f":"SUM(H17:H34)","v":0},{"$f":"SUM(I17:I34)","v":0},null,null,null,{"$f":"E35","v":""}]
["Commentaires ou notes explicatives sur les composants majeurs critiques auscultés\n\n(¨  Notes supplémentaires et/ou photos disponibles)"]
["RELEVÉ DES COMPOSANTS CIVILS"]
["Composants majeurs","Année d'installation","Durée de vie utile","% Durée de vie écoulée","État constaté","Année d'évaluation","Type d'évaluation*","Valeur de remplacement ($)","Coût de l'intervention ($)","Type d'intervention**","Année d'intervention"]
["A10-Fondations",null,{"$f":"IF(B39=\"\",\"\",Données!$E$72)","v":""},{"$f":"IF(B39=\"\",\"\",(Annee_BI-B39)/C39)","v":""},null,null,null,null,null,null,null,null,{"$f":"E39","v":0}]
["A1010-Fondations standard",null,{"$f":"IF(B40=\"\",\"\",Données!$E$72)","v":""},""]
["A1020-Finitions spéciales",null,{"$f":"IF(B41=\"\",\"\",Données!$E$72)","v":""},""]
["A1030-Dalle inférieure",null,{"$f":"IF(B42=\"\",\"\",Données!$E$72)","v":""},""]
["A20-Construction du sous-sol",null,{"$f":"IF(B43=\"\",\"\",Données!$E$72)","v":""},"",null,null,null,null,null,null,null,null,{"$f":"E43","v":0}]
["A2010-Excavation du sous-sol",null,{"$f":"IF(B44=\"\",\"\",Données!$E$72)","v":""},""]
["A2020-Murs du sous-sol",null,{"$f":"IF(B45=\"\",\"\",Données!$E$72)","v":""},""]
["B10-Superstructure",null,{"$f":"IF(B46=\"\",\"\",Données!$E$72)","v":""},"",null,null,null,null,null,null,null,null,{"$f":"E46","v":0}]
["B1010-Construction de plancher",null,{"$f":"IF(B47=\"\",\"\",Données!$E$72)","v":""},""]
["B1020-Construction de toiture",null,{"$f":"IF(B48=\"\",\"\",Données!$E$72)","v":""},""]
["Récapitulatif des résultats (discipline)",{"$f":"IF(MIN(B39:B48)=0,\"\",MIN(B39:B48))","v":""},{"$f":"IF(MAX(C39:C48)=0,\"\",MAX(C39:C48))","v":""},{"$f":"IF(MAX(D39,D43,D46)=0,\"\",MAX(D39,D43,D46))","v":""},{"$f":"IF(MAX(E39:E48)=0,\"\",MAX(E39:E48))","v":""},{"$f":"IF(MAX(F39:F48)=0,\"\",MAX(F39:F48))","v":""},null,{"$f":"SUM(H39:H48)","v":0},{"$f":"SUM(I39:I48)","v":0},null,null,null,{"$f":"E49","v":""}]
["Commentaires ou notes explicatives sur les composants majeurs critiques auscultés\n\n(¨  Notes supplémentaires et/ou photos disponibles)"]
["RELEVÉ DES COMPOSANTS MÉCANIQUES"]
["Composants majeurs","Année d'installation","Durée de vie utile","% Durée de vie écoulée","État constaté","Année d'évaluation","Type d'évaluation*","Valeur de remplacement ($)","Coût de l'intervention ($)","Type d'intervention**","Année d'intervention"]
["D10-Moyens de transport",null,{"$f":"IF(B53=\"\",\"\",Données!$E$73)","v":""},{"$f":"IF(B53=\"\",\"\",(Annee_BI-B53)/C53)","v":""},null,null,null,null,null,null,null,null,{"$f":"E53","v":0}]
["D1010-Ascenseurs et monte-charge",null,{"$f":"IF(B54=\"\",\"\",Données!$E$73)","v":""},""]
["D1020-Escaliers mécaniques et trottoirs roulants",null,{"$f":"IF(B55=\"\",\"\",Données!$E$73)","v":""},""]
["D1030-Autres systèmes transporteurs",null,{"$f":"IF(B56=\"\",\"\",Données!$E$73)","v":""},""]
["D20-Plomberie",null,{"$f":"IF(B57=\"\",\"\",Données!$E$73)","v":""},"",null,null,null,null,null,null,null,null,{"$f":"E57","v":0}]
["D2010-Appareils de plomberie",null,{"$f":"IF(B58=\"\",\"\",Données!$E$73)","v":""},""]
["D2020-Réseau d'eau domestique",null,{"$f":"IF(B59=\"\",\"\",Données!$E$73)","v":""},""]
["D2030-Réseau de drainage sanitaire",null,{"$f":"IF(B60=\"\",\"\",Données!$E$73)","v":""},""]
["D2040-Réseau de drainage pluvial",null,{"$f":"IF(B61=\"\",\"\",Données!$E$73)","v":""},""]
["D2090-Autres système de plomberie",null,{"$f":"IF(B62=\"\",\"\",Données!$E$73)","v":""},""]
["D30-CVAC",null,{"$f":"IF(B63=\"\",\"\",Données!$E$73)","v":""},"",null,null,null,null,null,null,null,null,{"$f":"E63","v":0}]
["D3010-Source d'énergie",null,{"$f":"IF(B64=\"\",\"\",Données!$E$73)","v":""},""]
["D3020-Systèmes de production de chaleur",null,{"$f":"IF(B65=\"\",\"\",Données!$E$73)","v":""},""]
["D3030-Sytèmes de production de froid",null,{"$f":"IF(B66=\"\",\"\",Données!$E$73)","v":""},""]
["D3040-Distribution de CVCA",null,{"$f":"IF(B67=\"\",\"\",Données!$E$73)","v":""},""]
["D3050-Unités autonomes ou monoblocs",null,{"$f":"IF(B68=\"\",\"\",Données!$E$73)","v":""},""]
["D3060-Régulation et instrumentation",null,{"$f":"IF(B69=\"\",\"\",Données!$E$73)","v":""},""]
["D3070-Essai et réglage des systèmes",null,{"$f":"IF(B70=\"\",\"\",Données!$E$73)","v":""},""]
["D3090-Autres systèmes ou équipements de CVCA",null,{"$f":"IF(B71=\"\",\"\",Données!$E$73)","v":""},""]
["D40-Protection incendie",null,{"$f":"IF(B72=\"\",\"\",Données!$E$73)","v":""},"",null,null,null,null,null,null,null,null,{"$f":"E72","v":0}]
["D4010-Gicleurs",null,{"$f":"IF(B73=\"\",\"\",Données!$E$73)","v":""},""]
["D4020-Canalisations montantes",null,{"$f":"IF(B74=\"\",\"\",Données!$E$73)","v":""},""]
["D4030-Accessoires de protection incendie",null,{"$f":"IF(B75=\"\",\"\",Données!$E$73)","v":""},""]
["D4090-Autres systèmes de protection incendie",null,{"$f":"IF(B76=\"\",\"\",Données!$E$73)","v":""},""]
["Récapitulatif des résultats (discipline)",{"$f":"IF(MIN(B53:B76)=0,\"\",MIN(B53:B76))","v":""},{"$f":"IF(MAX(C53:C76)=0,\"\",MAX(C53:C76))","v":""},{"$f":"IF(MAX(D53,D57,D63,D72)=0,\"\",MAX(D53,D57,D63,D72))","v":""},{"$f":"IF(MAX(E53:E76)=0,\"\",MAX(E53:E76))","v":""},{"$f":"IF(MAX(F53:F76)=0,\"\",MAX(F53:F76))","v":""},null,{"$f":"SUM(H53:H76)","v":0},{"$f":"SUM(I53:I76)","v":0},null,null,null,{"$f":"E77","v":""}]
["Commentaires ou notes explicatives sur les composants majeurs critiques auscultés\n\n(¨  Notes supplémentaires et/ou photos disponibles)"]
["RELEVÉ DES COMPOSANTS ÉLECTRIQUES"]
["Composants majeurs","Année d'installation","Durée de vie utile","% Durée de vie écoulée","État constaté","Année d'évaluation","Type d'évaluation*","Valeur de remplacement ($)","Coût de l'intervention ($)","Type d'intervention**","Année d'intervention"]
["D50-Électricité",null,{"$f":"IF(B81=\"\",\"\",Données!$E$74)","v":""},{"$f":"IF(B81=\"\",\"\",(Annee_BI-B81)/C81)","v":""},null,null,null,null,null,null,null,null,{"$f":"E81","v":0}]
["D5010-Services et distribution électrique",null,{"$f":"IF(B82=\"\",\"\",Données!$E$74)","v":""},{"$f":"IF(B82=\"\",\"\",(Annee_BI-B82)/C82)","v":""}]
["D5020-Éclairage et distribution secondaire",null,{"$f":"IF(B83=\"\",\"\",Données!$E$74)","v":""},{"$f":"IF(B83=\"\",\"\",(Annee_BI-B83)/C83)","v":""}]
["D5030-Communication & sécurité ",null,{"$f":"IF(B84=\"\",\"\",Données!$E$74)","v":""},{"$f":"IF(B84=\"\",\"\",(Annee_BI-B84)/C84)","v":""}]
["D5090-Autres systèmes électriques",null,{"$f":"IF(B85=\"\",\"\",Données!$E$74)","v":""},{"$f":"IF(B85=\"\",\"\",(Annee_BI-B85)/C85)","v":""}]
["Récapitulatif des résultats (discipline)",{"$f":"IF(MIN(B81:B85)=0,\"\",MIN(B81:B85))","v":""},{"$f":"IF(MAX(C81:C85)=0,\"\",MAX(C81:C85))","v":""},{"$f":"IF(MAX(D82:D85)=0,\"\",MAX(D82:D85))","v":""},{"$f":"IF(MAX(E81:E85)=0,\"\",MAX(E81:E85))","v":""},{"$f":"IF(MAX(F81:F85)=0,\"\",MAX(F81:F85))","v":""},null,{"$f":"SUM(H81:H85)","v":0},{"$f":"SUM(I81:I85)","v":0},null,null,null,{"$f":"E86","v":""}]
["Commentaires ou notes explicatives sur les composants majeurs critiques auscultés\n\n(¨  Notes supplémentaires et/ou photos disponibles)"]

{"sheet":"Bâtiment (4)","index":4,"n_rows":87,"n_cols":13,"rows_kept":87,"cut":false,"hidden":true,"merged":[[1,1,1,5],[1,6,1,7],[1,8,1,10],[2,1,2,5],[2,6,2,7],[2,8,2,10],[10,1,10,10],[3,1,3,5],[3,6,3,7],[3,8,3,10],[4,1,4,5],[4,6,4,7],[4,8,4,10],[5,0,5,11],[6,1,6,10],[7,1,7,10],[8,1,8,10],[9,1,9,10],[50,0,50,11],[77,1,77,10],[78,0,78,11],[86,1,86,10],[11,1,11,10],[12,1,12,10],[14,0,14,11],[35,1,35,10],[36,0,36,11],[49,1,49,10]]}
["IDENTIFICATION DU BÂTIMENT",null,null,null,null,null,null,null,null,"Consulter l'aide se rapportant aux bâtiments"]
["Type d'infrastructure :",{"$f":"IF(Identification!H61=0,\"\",Identification!H61)","v":""},null,null,null,null,"Sous-type d'infrastructure :",null,{"$f":"IF(Identification!H62=0,\"\",Identification!H62)","v":""}]
["Nom commun de l'infrastructure :",{"$f":"IF(Identification!H63=0,\"\",Identification!H63)","v":""},null,null,null,null,"Nom commun du bâtiment :"]
["Année de construction :",{"$f":"Identification!H66","v":0},null,null,null,null,"Année de l'évaluation :"]
["Valeur de remplacement :",{"$f":"IF(H35+H49+H77+H86=0,\"\",H35+H49+H77+H86)","v":""},null,null,null,null,"Autres informations :"]
["CRITÈRES D'ÉVALUATION DES COMPOSANTS"]
["Cote","État constaté"]
[0,"Le composant n'a pas été ausculté."]
[1,"Le composant est récent ou remis à neuf. Son fonctionnement est adéquat."]
[2,"Le composant présente un niveau léger de dégradation ou de défectuosité. Son fonctionnement est adéquat."]
[3,"Le composant présente un niveau modéré de dégradation ou de défectuosité. Son fonctionnement est adéquat."]
[4,"Le composant présente un niveau élevé de dégradation ou de défectuosité. Son fonctionnement est inadéquat."]
[5,"Le composant présente un niveau très élevé de dégradation ou de défectuosité. Le composant est inopérant ou son fonctionnement est intolérable."]
["*Type d'évaluation : Visuelle (V), Opérateur (O), Mesure (M)",null,null,null,null,null,"**Type d'intervention : Ajout (AJ), Remplacement (RP), Réfection majeure (RFM), Expertise complémentaire (DE)"]
["RELEVÉ DES COMPOSANTS ARCHITECTURAUX"]
["Composants majeurs","Année d'installation","Durée de vie utile","% Durée de vie écoulée","État constaté","Année d'évaluation","Type d'évaluation*","Valeur de remplacement ($)","Coût de l'intervention ($)","Type d'intervention**","Année d'intervention",null,{"$f":"B16","v":"Année d'installation"}]
["B20-Enveloppe extérieure",null,{"$f":"IF(B17=\"\",\"\",Données!$E$71)","v":""},{"$f":"IF(B17=\"\",\"\",(Annee_BI-B17)/C17)","v":""},null,null,null,null,null,null,null,null,{"$f":"E17","v":0}]
["B2010-Murs extérieurs",null,{"$f":"IF(B18=\"\",\"\",Données!$E$71)","v":""},""]
["B2020-Fenêtres extérieures",null,{"$f":"IF(B19=\"\",\"\",Données!$E$71)","v":""},""]
["B2030-Portes extérieures",null,{"$f":"IF(B20=\"\",\"\",Données!$E$71)","v":""},""]
["B30-Toit",null,{"$f":"IF(B21=\"\",\"\",Données!$E$71)","v":""},"",null,null,null,null,null,null,null,null,{"$f":"E21","v":0}]
["B3010-Couverture",null,{"$f":"IF(B22=\"\",\"\",Données!$E$71)","v":""},""]
["B3020-Ouvertures du toit",null,{"$f":"IF(B23=\"\",\"\",Données!$E$71)","v":""},""]
["C10-Construction intérieure",null,{"$f":"IF(B24=\"\",\"\",Données!$E$71)","v":""},"",null,null,null,null,null,null,null,null,{"$f":"E24","v":0}]
["C1010-Cloisons",null,{"$f":"IF(B25=\"\",\"\",Données!$E$71)","v":""},""]
["C1020-Portes intérieures",null,{"$f":"IF(B26=\"\",\"\",Données!$E$71)","v":""},""]
["C1030-Accessoires intégrés",null,{"$f":"IF(B27=\"\",\"\",Données!$E$71)","v":""},""]
["C20-Escaliers",null,{"$f":"IF(B28=\"\",\"\",Données!$E$71)","v":""},"",null,null,null,null,null,null,null,null,{"$f":"E28","v":0}]
["C2010-Construction d'escaliers",null,{"$f":"IF(B29=\"\",\"\",Données!$E$71)","v":""},""]
["C2020-Finitions d'escaliers",null,{"$f":"IF(B30=\"\",\"\",Données!$E$71)","v":""},""]
["C30-Finitions intérieures",null,{"$f":"IF(B31=\"\",\"\",Données!$E$71)","v":""},"",null,null,null,null,null,null,null,null,{"$f":"E31","v":0}]
["C3010-Finitions de murs",null,{"$f":"IF(B32=\"\",\"\",Données!$E$71)","v":""},""]
["C3020-Finitions de planchers",null,{"$f":"IF(B33=\"\",\"\",Données!$E$71)","v":""},""]
["C3030-Finitions de plafonds",null,{"$f":"IF(B34=\"\",\"\",Données!$E$71)","v":""},""]
["Récapitulatif des résultats (discipline)",{"$f":"IF(MIN(B17:B34)=0,\"\",MIN(B17:B34))","v":""},{"$f":"IF(MAX(C17:C34)=0,\"\",MAX(C17:C34))","v":""},{"$f":"IF(MAX(D17,D21,D24,D28,D31)=0,\"\",MAX(D17,D21,D24,D28,D31))","v":""},{"$f":"IF(MAX(E17:E34)=0,\"\",MAX(E17:E34))","v":""},{"$f":"IF(MAX(F17:F34)=0,\"\",MAX(F17:F34))","v":""},null,{"$f":"SUM(H17:H34)","v":0},{"$f":"SUM(I17:I34)","v":0},null,null,null,{"$f":"E35","v":""}]
["Commentaires ou notes explicatives sur les composants majeurs critiques auscultés\n\n(¨  Notes supplémentaires et/ou photos disponibles)"]
["RELEVÉ DES COMPOSANTS CIVILS"]
["Composants majeurs","Année d'installation","Durée de vie utile","% Durée de vie écoulée","État constaté","Année d'évaluation","Type d'évaluation*","Valeur de remplacement ($)","Coût de l'intervention ($)","Type d'intervention**","Année d'intervention"]
["A10-Fondations",null,{"$f":"IF(B39=\"\",\"\",Données!$E$72)","v":""},{"$f":"IF(B39=\"\",\"\",(Annee_BI-B39)/C39)","v":""},null,null,null,null,null,null,null,null,{"$f":"E39","v":0}]
["A1010-Fondations standard",null,{"$f":"IF(B40=\"\",\"\",Données!$E$72)","v":""},""]
["A1020-Finitions spéciales",null,{"$f":"IF(B41=\"\",\"\",Données!$E$72)","v":""},""]
["A1030-Dalle inférieure",null,{"$f":"IF(B42=\"\",\"\",Données!$E$72)","v":""},""]
["A20-Construction du sous-sol",null,{"$f":"IF(B43=\"\",\"\",Données!$E$72)","v":""},"",null,null,null,null,null,null,null,null,{"$f":"E43","v":0}]
["A2010-Excavation du sous-sol",null,{"$f":"IF(B44=\"\",\"\",Données!$E$72)","v":""},""]
["A2020-Murs du sous-sol",null,{"$f":"IF(B45=\"\",\"\",Données!$E$72)","v":""},""]
["B10-Superstructure",null,{"$f":"IF(B46=\"\",\"\",Données!$E$72)","v":""},"",null,null,null,null,null,null,null,null,{"$f":"E46","v":0}]
["B1010-Construction de plancher",null,{"$f":"IF(B47=\"\",\"\",Données!$E$72)","v":""},""]
["B1020-Construction de toiture",null,{"$f":"IF(B48=\"\",\"\",Données!$E$72)","v":""},""]
["Récapitulatif des résultats (discipline)",{"$f":"IF(MIN(B39:B48)=0,\"\",MIN(B39:B48))","v":""},{"$f":"IF(MAX(C39:C48)=0,\"\",MAX(C39:C48))","v":""},{"$f":"IF(MAX(D39,D43,D46)=0,\"\",MAX(D39,D43,D46))","v":""},{"$f":"IF(MAX(E39:E48)=0,\"\",MAX(E39:E48))","v":""},{"$f":"IF(MAX(F39:F48)=0,\"\",MAX(F39:F48))","v":""},null,{"$f":"SUM(H39:H48)","v":0},{"$f":"SUM(I39:I48)","v":0},null,null,null,{"$f":"E49","v":""}]
["Commentaires ou notes explicatives sur les composants majeurs critiques auscultés\n\n(¨  Notes supplémentaires et/ou photos disponibles)"]
["RELEVÉ DES COMPOSANTS MÉCANIQUES"]
["Composants majeurs","Année d'installation","Durée de vie utile","% Durée de vie écoulée","État constaté","Année d'évaluation","Type d'évaluation*","Valeur de remplacement ($)","Coût de l'intervention ($)","Type d'intervention**","Année d'intervention"]
["D10-Moyens de transport",null,{"$f":"IF(B53=\"\",\"\",Données!$E$73)","v":""},{"$f":"IF(B53=\"\",\"\",(Annee_BI-B53)/C53)","v":""},null,null,null,null,null,null,null,null,{"$f":"E53","v":0}]
["D1010-Ascenseurs et monte-charge",null,{"$f":"IF(B54=\"\",\"\",Données!$E$73)","v":""},""]
["D1020-Escaliers mécaniques et trottoirs roulants",null,{"$f":"IF(B55=\"\",\"\",Données!$E$73)","v":""},""]
["D1030-Autres systèmes transporteurs",null,{"$f":"IF(B56=\"\",\"\",Données!$E$73)","v":""},""]
["D20-Plomberie",null,{"$f":"IF(B57=\"\",\"\",Données!$E$73)","v":""},"",null,null,null,null,null,null,null,null,{"$f":"E57","v":0}]
["D2010-Appareils de plomberie",null,{"$f":"IF(B58=\"\",\"\",Données!$E$73)","v":""},""]
["D2020-Réseau d'eau domestique",null,{"$f":"IF(B59=\"\",\"\",Données!$E$73)","v":""},""]
["D2030-Réseau de drainage sanitaire",null,{"$f":"IF(B60=\"\",\"\",Données!$E$73)","v":""},""]
["D2040-Réseau de drainage pluvial",null,{"$f":"IF(B61=\"\",\"\",Données!$E$73)","v":""},""]
["D2090-Autres système de plomberie",null,{"$f":"IF(B62=\"\",\"\",Données!$E$73)","v":""},""]
["D30-CVAC",null,{"$f":"IF(B63=\"\",\"\",Données!$E$73)","v":""},"",null,null,null,null,null,null,null,null,{"$f":"E63","v":0}]
["D3010-Source d'énergie",null,{"$f":"IF(B64=\"\",\"\",Données!$E$73)","v":""},""]
["D3020-Systèmes de production de chaleur",null,{"$f":"IF(B65=\"\",\"\",Données!$E$73)","v":""},""]
["D3030-Sytèmes de production de froid",null,{"$f":"IF(B66=\"\",\"\",Données!$E$73)","v":""},""]
["D3040-Distribution de CVCA",null,{"$f":"IF(B67=\"\",\"\",Données!$E$73)","v":""},""]
["D3050-Unités autonomes ou monoblocs",null,{"$f":"IF(B68=\"\",\"\",Données!$E$73)","v":""},""]
["D3060-Régulation et instrumentation",null,{"$f":"IF(B69=\"\",\"\",Données!$E$73)","v":""},""]
["D3070-Essai et réglage des systèmes",null,{"$f":"IF(B70=\"\",\"\",Données!$E$73)","v":""},""]
["D3090-Autres systèmes ou équipements de CVCA",null,{"$f":"IF(B71=\"\",\"\",Données!$E$73)","v":""},""]
["D40-Protection incendie",null,{"$f":"IF(B72=\"\",\"\",Données!$E$73)","v":""},"",null,null,null,null,null,null,null,null,{"$f":"E72","v":0}]
["D4010-Gicleurs",null,{"$f":"IF(B73=\"\",\"\",Données!$E$73)","v":""},""]
["D4020-Canalisations montantes",null,{"$f":"IF(B74=\"\",\"\",Données!$E$73)","v":""},""]
["D4030-Accessoires de protection incendie",null,{"$f":"IF(B75=\"\",\"\",Données!$E$73)","v":""},""]
["D4090-Autres systèmes de protection incendie",null,{"$f":"IF(B76=\"\",\"\",Données!$E$73)","v":""},""]
["Récapitulatif des résultats (discipline)",{"$f":"IF(MIN(B53:B76)=0,\"\",MIN(B53:B76))","v":""},{"$f":"IF(MAX(C53:C76)=0,\"\",MAX(C53:C76))","v":""},{"$f":"IF(MAX(D53,D57,D63,D72)=0,\"\",MAX(D53,D57,D63,D72))","v":""},{"$f":"IF(MAX(E53:E76)=0,\"\",MAX(E53:E76))","v":""},{"$f":"IF(MAX(F53:F76)=0,\"\",MAX(F53:F76))","v":""},null,{"$f":"SUM(H53:H76)","v":0},{"$f":"SUM(I53:I76)","v":0},null,null,null,{"$f":"E77","v":""}]
["Commentaires ou notes explicatives sur les composants majeurs critiques auscultés\n\n(¨  Notes supplémentaires et/ou photos disponibles)"]
["RELEVÉ DES COMPOSANTS ÉLECTRIQUES"]
["Composants majeurs","Année d'installation","Durée de vie utile","% Durée de vie écoulée","État constaté","Année d'évaluation","Type d'évaluation*","Valeur de remplacement ($)","Coût de l'intervention ($)","Type d'intervention**","Année d'intervention"]
["D50-Électricité",null,{"$f":"IF(B81=\"\",\"\",Données!$E$74)","v":""},{"$f":"IF(B81=\"\",\"\",(Annee_BI-B81)/C81)","v":""},null,null,null,null,null,null,null,null,{"$f":"E81","v":0}]
["D5010-Services et distribution électrique",null,{"$f":"IF(B82=\"\",\"\",Données!$E$74)","v":""},{"$f":"IF(B82=\"\",\"\",(Annee_BI-B82)/C82)","v":""}]
["D5020-Éclairage et distribution secondaire",null,{"$f":"IF(B83=\"\",\"\",Données!$E$74)","v":""},{"$f":"IF(B83=\"\",\"\",(Annee_BI-B83)/C83)","v":""}]
["D5030-Communication & sécurité ",null,{"$f":"IF(B84=\"\",\"\",Données!$E$74)","v":""},{"$f":"IF(B84=\"\",\"\",(Annee_BI-B84)/C84)","v":""}]
["D5090-Autres systèmes électriques",null,{"$f":"IF(B85=\"\",\"\",Données!$E$74)","v":""},{"$f":"IF(B85=\"\",\"\",(Annee_BI-B85)/C85)","v":""}]
["Récapitulatif des résultats (discipline)",{"$f":"IF(MIN(B81:B85)=0,\"\",MIN(B81:B85))","v":""},{"$f":"IF(MAX(C81:C85)=0,\"\",MAX(C81:C85))","v":""},{"$f":"IF(MAX(D82:D85)=0,\"\",MAX(D82:D85))","v":""},{"$f":"IF(MAX(E81:E85)=0,\"\",MAX(E81:E85))","v":""},{"$f":"IF(MAX(F81:F85)=0,\"\",MAX(F81:F85))","v":""},null,{"$f":"SUM(H81:H85)","v":0},{"$f":"SUM(I81:I85)","v":0},null,null,null,{"$f":"E86","v":""}]
["Commentaires ou notes explicatives sur les composants majeurs critiques auscultés\n\n(¨  Notes supplémentaires et/ou photos disponibles)"]

{"sheet":"Bâtiment (5)","index":5,"n_rows":87,"n_cols":13,"rows_kept":87,"cut":false,"hidden":true,"merged":[[1,1,1,5],[1,6,1,7],[1,8,1,10],[2,1,2,5],[2,6,2,7],[2,8,2,10],[10,1,10,10],[3,1,3,5],[3,6,3,7],[3,8,3,10],[4,1,4,5],[4,6,4,7],[4,8,4,10],[5,0,5,11],[6,1,6,10],[7,1,7,10],[8,1,8,10],[9,1,9,10],[50,0,50,11],[77,1,77,10],[78,0,78,11],[86,1,86,10],[11,1,11,10],[12,1,12,10],[14,0,14,11],[35,1,35,10],[36,0,36,11],[49,1,49,10]]}
["IDENTIFICATION DU BÂTIMENT",null,null,null,null,null,null,null,null,"Consulter l'aide se rapportant aux bâtiments"]
["Type d'infrastructure :",{"$f":"IF(Identification!H61=0,\"\",Identification!H61)","v":""},null,null,null,null,"Sous-type d'infrastructure :",null,{"$f":"IF(Identification!H62=0,\"\",Identification!H62)","v":""}]
["Nom commun de l'infrastructure :",{"$f":"IF(Identification!H63=0,\"\",Identification!H63)","v":""},null,null,null,null,"Nom commun du bâtiment :"]
["Année de construction :",{"$f":"Identification!H66","v":0},null,null,null,null,"Année de l'évaluation :"]
["Valeur de remplacement :",{"$f":"IF(H35+H49+H77+H86=0,\"\",H35+H49+H77+H86)","v":""},null,null,null,null,"Autres informations :"]
["CRITÈRES D'ÉVALUATION DES COMPOSANTS"]
["Cote","État constaté"]
[0,"Le composant n'a pas été ausculté."]
[1,"Le composant est récent ou remis à neuf. Son fonctionnement est adéquat."]
[2,"Le composant présente un niveau léger de dégradation ou de défectuosité. Son fonctionnement est adéquat."]
[3,"Le composant présente un niveau modéré de dégradation ou de défectuosité. Son fonctionnement est adéquat."]
[4,"Le composant présente un niveau élevé de dégradation ou de défectuosité. Son fonctionnement est inadéquat."]
[5,"Le composant présente un niveau très élevé de dégradation ou de défectuosité. Le composant est inopérant ou son fonctionnement est intolérable."]
["*Type d'évaluation : Visuelle (V), Opérateur (O), Mesure (M)",null,null,null,null,null,"**Type d'intervention : Ajout (AJ), Remplacement (RP), Réfection majeure (RFM), Expertise complémentaire (DE)"]
["RELEVÉ DES COMPOSANTS ARCHITECTURAUX"]
["Composants majeurs","Année d'installation","Durée de vie utile","% Durée de vie écoulée","État constaté","Année d'évaluation","Type d'évaluation*","Valeur de remplacement ($)","Coût de l'intervention ($)","Type d'intervention**","Année d'intervention",null,{"$f":"B16","v":"Année d'installation"}]
["B20-Enveloppe extérieure",null,{"$f":"IF(B17=\"\",\"\",Données!$E$71)","v":""},{"$f":"IF(B17=\"\",\"\",(Annee_BI-B17)/C17)","v":""},null,null,null,null,null,null,null,null,{"$f":"E17","v":0}]
["B2010-Murs extérieurs",null,{"$f":"IF(B18=\"\",\"\",Données!$E$71)","v":""},""]
["B2020-Fenêtres extérieures",null,{"$f":"IF(B19=\"\",\"\",Données!$E$71)","v":""},""]
["B2030-Portes extérieures",null,{"$f":"IF(B20=\"\",\"\",Données!$E$71)","v":""},""]
["B30-Toit",null,{"$f":"IF(B21=\"\",\"\",Données!$E$71)","v":""},"",null,null,null,null,null,null,null,null,{"$f":"E21","v":0}]
["B3010-Couverture",null,{"$f":"IF(B22=\"\",\"\",Données!$E$71)","v":""},""]
["B3020-Ouvertures du toit",null,{"$f":"IF(B23=\"\",\"\",Données!$E$71)","v":""},""]
["C10-Construction intérieure",null,{"$f":"IF(B24=\"\",\"\",Données!$E$71)","v":""},"",null,null,null,null,null,null,null,null,{"$f":"E24","v":0}]
["C1010-Cloisons",null,{"$f":"IF(B25=\"\",\"\",Données!$E$71)","v":""},""]
["C1020-Portes intérieures",null,{"$f":"IF(B26=\"\",\"\",Données!$E$71)","v":""},""]
["C1030-Accessoires intégrés",null,{"$f":"IF(B27=\"\",\"\",Données!$E$71)","v":""},""]
["C20-Escaliers",null,{"$f":"IF(B28=\"\",\"\",Données!$E$71)","v":""},"",null,null,null,null,null,null,null,null,{"$f":"E28","v":0}]
["C2010-Construction d'escaliers",null,{"$f":"IF(B29=\"\",\"\",Données!$E$71)","v":""},""]
["C2020-Finitions d'escaliers",null,{"$f":"IF(B30=\"\",\"\",Données!$E$71)","v":""},""]
["C30-Finitions intérieures",null,{"$f":"IF(B31=\"\",\"\",Données!$E$71)","v":""},"",null,null,null,null,null,null,null,null,{"$f":"E31","v":0}]
["C3010-Finitions de murs",null,{"$f":"IF(B32=\"\",\"\",Données!$E$71)","v":""},""]
["C3020-Finitions de planchers",null,{"$f":"IF(B33=\"\",\"\",Données!$E$71)","v":""},""]
["C3030-Finitions de plafonds",null,{"$f":"IF(B34=\"\",\"\",Données!$E$71)","v":""},""]
["Récapitulatif des résultats (discipline)",{"$f":"IF(MIN(B17:B34)=0,\"\",MIN(B17:B34))","v":""},{"$f":"IF(MAX(C17:C34)=0,\"\",MAX(C17:C34))","v":""},{"$f":"IF(MAX(D17,D21,D24,D28,D31)=0,\"\",MAX(D17,D21,D24,D28,D31))","v":""},{"$f":"IF(MAX(E17:E34)=0,\"\",MAX(E17:E34))","v":""},{"$f":"IF(MAX(F17:F34)=0,\"\",MAX(F17:F34))","v":""},null,{"$f":"SUM(H17:H34)","v":0},{"$f":"SUM(I17:I34)","v":0},null,null,null,{"$f":"E35","v":""}]
["Commentaires ou notes explicatives sur les composants majeurs critiques auscultés\n\n(¨  Notes supplémentaires et/ou photos disponibles)"]
["RELEVÉ DES COMPOSANTS CIVILS"]
["Composants majeurs","Année d'installation","Durée de vie utile","% Durée de vie écoulée","État constaté","Année d'évaluation","Type d'évaluation*","Valeur de remplacement ($)","Coût de l'intervention ($)","Type d'intervention**","Année d'intervention"]
["A10-Fondations",null,{"$f":"IF(B39=\"\",\"\",Données!$E$72)","v":""},{"$f":"IF(B39=\"\",\"\",(Annee_BI-B39)/C39)","v":""},null,null,null,null,null,null,null,null,{"$f":"E39","v":0}]
["A1010-Fondations standard",null,{"$f":"IF(B40=\"\",\"\",Données!$E$72)","v":""},""]
["A1020-Finitions spéciales",null,{"$f":"IF(B41=\"\",\"\",Données!$E$72)","v":""},""]
["A1030-Dalle inférieure",null,{"$f":"IF(B42=\"\",\"\",Données!$E$72)","v":""},""]
["A20-Construction du sous-sol",null,{"$f":"IF(B43=\"\",\"\",Données!$E$72)","v":""},"",null,null,null,null,null,null,null,null,{"$f":"E43","v":0}]
["A2010-Excavation du sous-sol",null,{"$f":"IF(B44=\"\",\"\",Données!$E$72)","v":""},""]
["A2020-Murs du sous-sol",null,{"$f":"IF(B45=\"\",\"\",Données!$E$72)","v":""},""]
["B10-Superstructure",null,{"$f":"IF(B46=\"\",\"\",Données!$E$72)","v":""},"",null,null,null,null,null,null,null,null,{"$f":"E46","v":0}]
["B1010-Construction de plancher",null,{"$f":"IF(B47=\"\",\"\",Données!$E$72)","v":""},""]
["B1020-Construction de toiture",null,{"$f":"IF(B48=\"\",\"\",Données!$E$72)","v":""},""]
["Récapitulatif des résultats (discipline)",{"$f":"IF(MIN(B39:B48)=0,\"\",MIN(B39:B48))","v":""},{"$f":"IF(MAX(C39:C48)=0,\"\",MAX(C39:C48))","v":""},{"$f":"IF(MAX(D39,D43,D46)=0,\"\",MAX(D39,D43,D46))","v":""},{"$f":"IF(MAX(E39:E48)=0,\"\",MAX(E39:E48))","v":""},{"$f":"IF(MAX(F39:F48)=0,\"\",MAX(F39:F48))","v":""},null,{"$f":"SUM(H39:H48)","v":0},{"$f":"SUM(I39:I48)","v":0},null,null,null,{"$f":"E49","v":""}]
["Commentaires ou notes explicatives sur les composants majeurs critiques auscultés\n\n(¨  Notes supplémentaires et/ou photos disponibles)"]
["RELEVÉ DES COMPOSANTS MÉCANIQUES"]
["Composants majeurs","Année d'installation","Durée de vie utile","% Durée de vie écoulée","État constaté","Année d'évaluation","Type d'évaluation*","Valeur de remplacement ($)","Coût de l'intervention ($)","Type d'intervention**","Année d'intervention"]
["D10-Moyens de transport",null,{"$f":"IF(B53=\"\",\"\",Données!$E$73)","v":""},{"$f":"IF(B53=\"\",\"\",(Annee_BI-B53)/C53)","v":""},null,null,null,null,null,null,null,null,{"$f":"E53","v":0}]
["D1010-Ascenseurs et monte-charge",null,{"$f":"IF(B54=\"\",\"\",Données!$E$73)","v":""},""]
["D1020-Escaliers mécaniques et trottoirs roulants",null,{"$f":"IF(B55=\"\",\"\",Données!$E$73)","v":""},""]
["D1030-Autres systèmes transporteurs",null,{"$f":"IF(B56=\"\",\"\",Données!$E$73)","v":""},""]
["D20-Plomberie",null,{"$f":"IF(B57=\"\",\"\",Données!$E$73)","v":""},"",null,null,null,null,null,null,null,null,{"$f":"E57","v":0}]
["D2010-Appareils de plomberie",null,{"$f":"IF(B58=\"\",\"\",Données!$E$73)","v":""},""]
["D2020-Réseau d'eau domestique",null,{"$f":"IF(B59=\"\",\"\",Données!$E$73)","v":""},""]
["D2030-Réseau de drainage sanitaire",null,{"$f":"IF(B60=\"\",\"\",Données!$E$73)","v":""},""]
["D2040-Réseau de drainage pluvial",null,{"$f":"IF(B61=\"\",\"\",Données!$E$73)","v":""},""]
["D2090-Autres système de plomberie",null,{"$f":"IF(B62=\"\",\"\",Données!$E$73)","v":""},""]
["D30-CVAC",null,{"$f":"IF(B63=\"\",\"\",Données!$E$73)","v":""},"",null,null,null,null,null,null,null,null,{"$f":"E63","v":0}]
["D3010-Source d'énergie",null,{"$f":"IF(B64=\"\",\"\",Données!$E$73)","v":""},""]
["D3020-Systèmes de production de chaleur",null,{"$f":"IF(B65=\"\",\"\",Données!$E$73)","v":""},""]
["D3030-Sytèmes de production de froid",null,{"$f":"IF(B66=\"\",\"\",Données!$E$73)","v":""},""]
["D3040-Distribution de CVCA",null,{"$f":"IF(B67=\"\",\"\",Données!$E$73)","v":""},""]
["D3050-Unités autonomes ou monoblocs",null,{"$f":"IF(B68=\"\",\"\",Données!$E$73)","v":""},""]
["D3060-Régulation et instrumentation",null,{"$f":"IF(B69=\"\",\"\",Données!$E$73)","v":""},""]
["D3070-Essai et réglage des systèmes",null,{"$f":"IF(B70=\"\",\"\",Données!$E$73)","v":""},""]
["D3090-Autres systèmes ou équipements de CVCA",null,{"$f":"IF(B71=\"\",\"\",Données!$E$73)","v":""},""]
["D40-Protection incendie",null,{"$f":"IF(B72=\"\",\"\",Données!$E$73)","v":""},"",null,null,null,null,null,null,null,null,{"$f":"E72","v":0}]
["D4010-Gicleurs",null,{"$f":"IF(B73=\"\",\"\",Données!$E$73)","v":""},""]
["D4020-Canalisations montantes",null,{"$f":"IF(B74=\"\",\"\",Données!$E$73)","v":""},""]
["D4030-Accessoires de protection incendie",null,{"$f":"IF(B75=\"\",\"\",Données!$E$73)","v":""},""]
["D4090-Autres systèmes de protection incendie",null,{"$f":"IF(B76=\"\",\"\",Données!$E$73)","v":""},""]
["Récapitulatif des résultats (discipline)",{"$f":"IF(MIN(B53:B76)=0,\"\",MIN(B53:B76))","v":""},{"$f":"IF(MAX(C53:C76)=0,\"\",MAX(C53:C76))","v":""},{"$f":"IF(MAX(D53,D57,D63,D72)=0,\"\",MAX(D53,D57,D63,D72))","v":""},{"$f":"IF(MAX(E53:E76)=0,\"\",MAX(E53:E76))","v":""},{"$f":"IF(MAX(F53:F76)=0,\"\",MAX(F53:F76))","v":""},null,{"$f":"SUM(H53:H76)","v":0},{"$f":"SUM(I53:I76)","v":0},null,null,null,{"$f":"E77","v":""}]
["Commentaires ou notes explicatives sur les composants majeurs critiques auscultés\n\n(¨  Notes supplémentaires et/ou photos disponibles)"]
["RELEVÉ DES COMPOSANTS ÉLECTRIQUES"]
["Composants majeurs","Année d'installation","Durée de vie utile","% Durée de vie écoulée","État constaté","Année d'évaluation","Type d'évaluation*","Valeur de remplacement ($)","Coût de l'intervention ($)","Type d'intervention**","Année d'intervention"]
["D50-Électricité",null,{"$f":"IF(B81=\"\",\"\",Données!$E$74)","v":""},{"$f":"IF(B81=\"\",\"\",(Annee_BI-B81)/C81)","v":""},null,null,null,null,null,null,null,null,{"$f":"E81","v":0}]
["D5010-Services et distribution électrique",null,{"$f":"IF(B82=\"\",\"\",Données!$E$74)","v":""},{"$f":"IF(B82=\"\",\"\",(Annee_BI-B82)/C82)","v":""}]
["D5020-Éclairage et distribution secondaire",null,{"$f":"IF(B83=\"\",\"\",Données!$E$74)","v":""},{"$f":"IF(B83=\"\",\"\",(Annee_BI-B83)/C83)","v":""}]
["D5030-Communication & sécurité ",null,{"$f":"IF(B84=\"\",\"\",Données!$E$74)","v":""},{"$f":"IF(B84=\"\",\"\",(Annee_BI-B84)/C84)","v":""}]
["D5090-Autres systèmes électriques",null,{"$f":"IF(B85=\"\",\"\",Données!$E$74)","v":""},{"$f":"IF(B85=\"\",\"\",(Annee_BI-B85)/C85)","v":""}]
["Récapitulatif des résultats (discipline)",{"$f":"IF(MIN(B81:B85)=0,\"\",MIN(B81:B85))","v":""},{"$f":"IF(MAX(C81:C85)=0,\"\",MAX(C81:C85))","v":""},{"$f":"IF(MAX(D82:D85)=0,\"\",MAX(D82:D85))","v":""},{"$f":"IF(MAX(E81:E85)=0,\"\",MAX(E81:E85))","v":""},{"$f":"IF(MAX(F81:F85)=0,\"\",MAX(F81:F85))","v":""},null,{"$f":"SUM(H81:H85)","v":0},{"$f":"SUM(I81:I85)","v":0},null,null,null,{"$f":"E86","v":""}]
["Commentaires ou notes explicatives sur les composants majeurs critiques auscultés\n\n(¨  Notes supplémentaires et/ou photos disponibles)"]

{"sheet":"Bâtiment (6)","index":6,"n_rows":87,"n_cols":13,"rows_kept":87,"cut":false,"hidden":true,"merged":[[1,1,1,5],[1,6,1,7],[1,8,1,10],[2,1,2,5],[2,6,2,7],[2,8,2,10],[10,1,10,10],[3,1,3,5],[3,6,3,7],[3,8,3,10],[4,1,4,5],[4,6,4,7],[4,8,4,10],[5,0,5,11],[6,1,6,10],[7,1,7,10],[8,1,8,10],[9,1,9,10],[50,0,50,11],[77,1,77,10],[78,0,78,11],[86,1,86,10],[11,1,11,10],[12,1,12,10],[14,0,14,11],[35,1,35,10],[36,0,36,11],[49,1,49,10]]}
["IDENTIFICATION DU BÂTIMENT",null,null,null,null,null,null,null,null,"Consulter l'aide se rapportant aux bâtiments"]
["Type d'infrastructure :",{"$f":"IF(Identification!H61=0,\"\",Identification!H61)","v":""},null,null,null,null,"Sous-type d'infrastructure :",null,{"$f":"IF(Identification!H62=0,\"\",Identification!H62)","v":""}]
["Nom commun de l'infrastructure :",{"$f":"IF(Identification!H63=0,\"\",Identification!H63)","v":""},null,null,null,null,"Nom commun du bâtiment :"]
["Année de construction :",{"$f":"Identification!H66","v":0},null,null,null,null,"Année de l'évaluation :"]
["Valeur de remplacement :",{"$f":"IF(H35+H49+H77+H86=0,\"\",H35+H49+H77+H86)","v":""},null,null,null,null,"Autres informations :"]
["CRITÈRES D'ÉVALUATION DES COMPOSANTS"]
["Cote","État constaté"]
[0,"Le composant n'a pas été ausculté."]
[1,"Le composant est récent ou remis à neuf. Son fonctionnement est adéquat."]
[2,"Le composant présente un niveau léger de dégradation ou de défectuosité. Son fonctionnement est adéquat."]
[3,"Le composant présente un niveau modéré de dégradation ou de défectuosité. Son fonctionnement est adéquat."]
[4,"Le composant présente un niveau élevé de dégradation ou de défectuosité. Son fonctionnement est inadéquat."]
[5,"Le composant présente un niveau très élevé de dégradation ou de défectuosité. Le composant est inopérant ou son fonctionnement est intolérable."]
["*Type d'évaluation : Visuelle (V), Opérateur (O), Mesure (M)",null,null,null,null,null,"**Type d'intervention : Ajout (AJ), Remplacement (RP), Réfection majeure (RFM), Expertise complémentaire (DE)"]
["RELEVÉ DES COMPOSANTS ARCHITECTURAUX"]
["Composants majeurs","Année d'installation","Durée de vie utile","% Durée de vie écoulée","État constaté","Année d'évaluation","Type d'évaluation*","Valeur de remplacement ($)","Coût de l'intervention ($)","Type d'intervention**","Année d'intervention",null,{"$f":"B16","v":"Année d'installation"}]
["B20-Enveloppe extérieure",null,{"$f":"IF(B17=\"\",\"\",Données!$E$71)","v":""},{"$f":"IF(B17=\"\",\"\",(Annee_BI-B17)/C17)","v":""},null,null,null,null,null,null,null,null,{"$f":"E17","v":0}]
["B2010-Murs extérieurs",null,{"$f":"IF(B18=\"\",\"\",Données!$E$71)","v":""},""]
["B2020-Fenêtres extérieures",null,{"$f":"IF(B19=\"\",\"\",Données!$E$71)","v":""},""]
["B2030-Portes extérieures",null,{"$f":"IF(B20=\"\",\"\",Données!$E$71)","v":""},""]
["B30-Toit",null,{"$f":"IF(B21=\"\",\"\",Données!$E$71)","v":""},"",null,null,null,null,null,null,null,null,{"$f":"E21","v":0}]
["B3010-Couverture",null,{"$f":"IF(B22=\"\",\"\",Données!$E$71)","v":""},""]
["B3020-Ouvertures du toit",null,{"$f":"IF(B23=\"\",\"\",Données!$E$71)","v":""},""]
["C10-Construction intérieure",null,{"$f":"IF(B24=\"\",\"\",Données!$E$71)","v":""},"",null,null,null,null,null,null,null,null,{"$f":"E24","v":0}]
["C1010-Cloisons",null,{"$f":"IF(B25=\"\",\"\",Données!$E$71)","v":""},""]
["C1020-Portes intérieures",null,{"$f":"IF(B26=\"\",\"\",Données!$E$71)","v":""},""]
["C1030-Accessoires intégrés",null,{"$f":"IF(B27=\"\",\"\",Données!$E$71)","v":""},""]
["C20-Escaliers",null,{"$f":"IF(B28=\"\",\"\",Données!$E$71)","v":""},"",null,null,null,null,null,null,null,null,{"$f":"E28","v":0}]
["C2010-Construction d'escaliers",null,{"$f":"IF(B29=\"\",\"\",Données!$E$71)","v":""},""]
["C2020-Finitions d'escaliers",null,{"$f":"IF(B30=\"\",\"\",Données!$E$71)","v":""},""]
["C30-Finitions intérieures",null,{"$f":"IF(B31=\"\",\"\",Données!$E$71)","v":""},"",null,null,null,null,null,null,null,null,{"$f":"E31","v":0}]
["C3010-Finitions de murs",null,{"$f":"IF(B32=\"\",\"\",Données!$E$71)","v":""},""]
["C3020-Finitions de planchers",null,{"$f":"IF(B33=\"\",\"\",Données!$E$71)","v":""},""]
["C3030-Finitions de plafonds",null,{"$f":"IF(B34=\"\",\"\",Données!$E$71)","v":""},""]
["Récapitulatif des résultats (discipline)",{"$f":"IF(MIN(B17:B34)=0,\"\",MIN(B17:B34))","v":""},{"$f":"IF(MAX(C17:C34)=0,\"\",MAX(C17:C34))","v":""},{"$f":"IF(MAX(D17,D21,D24,D28,D31)=0,\"\",MAX(D17,D21,D24,D28,D31))","v":""},{"$f":"IF(MAX(E17:E34)=0,\"\",MAX(E17:E34))","v":""},{"$f":"IF(MAX(F17:F34)=0,\"\",MAX(F17:F34))","v":""},null,{"$f":"SUM(H17:H34)","v":0},{"$f":"SUM(I17:I34)","v":0},null,null,null,{"$f":"E35","v":""}]
["Commentaires ou notes explicatives sur les composants majeurs critiques auscultés\n\n(¨  Notes supplémentaires et/ou photos disponibles)"]
["RELEVÉ DES COMPOSANTS CIVILS"]
["Composants majeurs","Année d'installation","Durée de vie utile","% Durée de vie écoulée","État constaté","Année d'évaluation","Type d'évaluation*","Valeur de remplacement ($)","Coût de l'intervention ($)","Type d'intervention**","Année d'intervention"]
["A10-Fondations",null,{"$f":"IF(B39=\"\",\"\",Données!$E$72)","v":""},{"$f":"IF(B39=\"\",\"\",(Annee_BI-B39)/C39)","v":""},null,null,null,null,null,null,null,null,{"$f":"E39","v":0}]
["A1010-Fondations standard",null,{"$f":"IF(B40=\"\",\"\",Données!$E$72)","v":""},""]
["A1020-Finitions spéciales",null,{"$f":"IF(B41=\"\",\"\",Données!$E$72)","v":""},""]
["A1030-Dalle inférieure",null,{"$f":"IF(B42=\"\",\"\",Données!$E$72)","v":""},""]
["A20-Construction du sous-sol",null,{"$f":"IF(B43=\"\",\"\",Données!$E$72)","v":""},"",null,null,null,null,null,null,null,null,{"$f":"E43","v":0}]
["A2010-Excavation du sous-sol",null,{"$f":"IF(B44=\"\",\"\",Données!$E$72)","v":""},""]
["A2020-Murs du sous-sol",null,{"$f":"IF(B45=\"\",\"\",Données!$E$72)","v":""},""]
["B10-Superstructure",null,{"$f":"IF(B46=\"\",\"\",Données!$E$72)","v":""},"",null,null,null,null,null,null,null,null,{"$f":"E46","v":0}]
["B1010-Construction de plancher",null,{"$f":"IF(B47=\"\",\"\",Données!$E$72)","v":""},""]
["B1020-Construction de toiture",null,{"$f":"IF(B48=\"\",\"\",Données!$E$72)","v":""},""]
["Récapitulatif des résultats (discipline)",{"$f":"IF(MIN(B39:B48)=0,\"\",MIN(B39:B48))","v":""},{"$f":"IF(MAX(C39:C48)=0,\"\",MAX(C39:C48))","v":""},{"$f":"IF(MAX(D39,D43,D46)=0,\"\",MAX(D39,D43,D46))","v":""},{"$f":"IF(MAX(E39:E48)=0,\"\",MAX(E39:E48))","v":""},{"$f":"IF(MAX(F39:F48)=0,\"\",MAX(F39:F48))","v":""},null,{"$f":"SUM(H39:H48)","v":0},{"$f":"SUM(I39:I48)","v":0},null,null,null,{"$f":"E49","v":""}]
["Commentaires ou notes explicatives sur les composants majeurs critiques auscultés\n\n(¨  Notes supplémentaires et/ou photos disponibles)"]
["RELEVÉ DES COMPOSANTS MÉCANIQUES"]
["Composants majeurs","Année d'installation","Durée de vie utile","% Durée de vie écoulée","État constaté","Année d'évaluation","Type d'évaluation*","Valeur de remplacement ($)","Coût de l'intervention ($)","Type d'intervention**","Année d'intervention"]
["D10-Moyens de transport",null,{"$f":"IF(B53=\"\",\"\",Données!$E$73)","v":""},{"$f":"IF(B53=\"\",\"\",(Annee_BI-B53)/C53)","v":""},null,null,null,null,null,null,null,null,{"$f":"E53","v":0}]
["D1010-Ascenseurs et monte-charge",null,{"$f":"IF(B54=\"\",\"\",Données!$E$73)","v":""},""]
["D1020-Escaliers mécaniques et trottoirs roulants",null,{"$f":"IF(B55=\"\",\"\",Données!$E$73)","v":""},""]
["D1030-Autres systèmes transporteurs",null,{"$f":"IF(B56=\"\",\"\",Données!$E$73)","v":""},""]
["D20-Plomberie",null,{"$f":"IF(B57=\"\",\"\",Données!$E$73)","v":""},"",null,null,null,null,null,null,null,null,{"$f":"E57","v":0}]
["D2010-Appareils de plomberie",null,{"$f":"IF(B58=\"\",\"\",Données!$E$73)","v":""},""]
["D2020-Réseau d'eau domestique",null,{"$f":"IF(B59=\"\",\"\",Données!$E$73)","v":""},""]
["D2030-Réseau de drainage sanitaire",null,{"$f":"IF(B60=\"\",\"\",Données!$E$73)","v":""},""]
["D2040-Réseau de drainage pluvial",null,{"$f":"IF(B61=\"\",\"\",Données!$E$73)","v":""},""]
["D2090-Autres système de plomberie",null,{"$f":"IF(B62=\"\",\"\",Données!$E$73)","v":""},""]
["D30-CVAC",null,{"$f":"IF(B63=\"\",\"\",Données!$E$73)","v":""},"",null,null,null,null,null,null,null,null,{"$f":"E63","v":0}]
["D3010-Source d'énergie",null,{"$f":"IF(B64=\"\",\"\",Données!$E$73)","v":""},""]
["D3020-Systèmes de production de chaleur",null,{"$f":"IF(B65=\"\",\"\",Données!$E$73)","v":""},""]
["D3030-Sytèmes de production de froid",null,{"$f":"IF(B66=\"\",\"\",Données!$E$73)","v":""},""]
["D3040-Distribution de CVCA",null,{"$f":"IF(B67=\"\",\"\",Données!$E$73)","v":""},""]
["D3050-Unités autonomes ou monoblocs",null,{"$f":"IF(B68=\"\",\"\",Données!$E$73)","v":""},""]
["D3060-Régulation et instrumentation",null,{"$f":"IF(B69=\"\",\"\",Données!$E$73)","v":""},""]
["D3070-Essai et réglage des systèmes",null,{"$f":"IF(B70=\"\",\"\",Données!$E$73)","v":""},""]
["D3090-Autres systèmes ou équipements de CVCA",null,{"$f":"IF(B71=\"\",\"\",Données!$E$73)","v":""},""]
["D40-Protection incendie",null,{"$f":"IF(B72=\"\",\"\",Données!$E$73)","v":""},"",null,null,null,null,null,null,null,null,{"$f":"E72","v":0}]
["D4010-Gicleurs",null,{"$f":"IF(B73=\"\",\"\",Données!$E$73)","v":""},""]
["D4020-Canalisations montantes",null,{"$f":"IF(B74=\"\",\"\",Données!$E$73)","v":""},""]
["D4030-Accessoires de protection incendie",null,{"$f":"IF(B75=\"\",\"\",Données!$E$73)","v":""},""]
["D4090-Autres systèmes de protection incendie",null,{"$f":"IF(B76=\"\",\"\",Données!$E$73)","v":""},""]
["Récapitulatif des résultats (discipline)",{"$f":"IF(MIN(B53:B76)=0,\"\",MIN(B53:B76))","v":""},{"$f":"IF(MAX(C53:C76)=0,\"\",MAX(C53:C76))","v":""},{"$f":"IF(MAX(D53,D57,D63,D72)=0,\"\",MAX(D53,D57,D63,D72))","v":""},{"$f":"IF(MAX(E53:E76)=0,\"\",MAX(E53:E76))","v":""},{"$f":"IF(MAX(F53:F76)=0,\"\",MAX(F53:F76))","v":""},null,{"$f":"SUM(H53:H76)","v":0},{"$f":"SUM(I53:I76)","v":0},null,null,null,{"$f":"E77","v":""}]
["Commentaires ou notes explicatives sur les composants majeurs critiques auscultés\n\n(¨  Notes supplémentaires et/ou photos disponibles)"]
["RELEVÉ DES COMPOSANTS ÉLECTRIQUES"]
["Composants majeurs","Année d'installation","Durée de vie utile","% Durée de vie écoulée","État constaté","Année d'évaluation","Type d'évaluation*","Valeur de remplacement ($)","Coût de l'intervention ($)","Type d'intervention**","Année d'intervention"]
["D50-Électricité",null,{"$f":"IF(B81=\"\",\"\",Données!$E$74)","v":""},{"$f":"IF(B81=\"\",\"\",(Annee_BI-B81)/C81)","v":""},null,null,null,null,null,null,null,null,{"$f":"E81","v":0}]
["D5010-Services et distribution électrique",null,{"$f":"IF(B82=\"\",\"\",Données!$E$74)","v":""},{"$f":"IF(B82=\"\",\"\",(Annee_BI-B82)/C82)","v":""}]
["D5020-Éclairage et distribution secondaire",null,{"$f":"IF(B83=\"\",\"\",Données!$E$74)","v":""},{"$f":"IF(B83=\"\",\"\",(Annee_BI-B83)/C83)","v":""}]
["D5030-Communication & sécurité ",null,{"$f":"IF(B84=\"\",\"\",Données!$E$74)","v":""},{"$f":"IF(B84=\"\",\"\",(Annee_BI-B84)/C84)","v":""}]
["D5090-Autres systèmes électriques",null,{"$f":"IF(B85=\"\",\"\",Données!$E$74)","v":""},{"$f":"IF(B85=\"\",\"\",(Annee_BI-B85)/C85)","v":""}]
["Récapitulatif des résultats (discipline)",{"$f":"IF(MIN(B81:B85)=0,\"\",MIN(B81:B85))","v":""},{"$f":"IF(MAX(C81:C85)=0,\"\",MAX(C81:C85))","v":""},{"$f":"IF(MAX(D82:D85)=0,\"\",MAX(D82:D85))","v":""},{"$f":"IF(MAX(E81:E85)=0,\"\",MAX(E81:E85))","v":""},{"$f":"IF(MAX(F81:F85)=0,\"\",MAX(F81:F85))","v":""},null,{"$f":"SUM(H81:H85)","v":0},{"$f":"SUM(I81:I85)","v":0},null,null,null,{"$f":"E86","v":""}]
["Commentaires ou notes explicatives sur les composants majeurs critiques auscultés\n\n(¨  Notes supplémentaires et/ou photos disponibles)"]

{"sheet":"Bâtiment (7)","index":7,"n_rows":87,"n_cols":13,"rows_kept":87,"cut":false,"hidden":true,"merged":[[1,1,1,5],[1,6,1,7],[1,8,1,10],[2,1,2,5],[2,6,2,7],[2,8,2,10],[10,1,10,10],[3,1,3,5],[3,6,3,7],[3,8,3,10],[4,1,4,5],[4,6,4,7],[4,8,4,10],[5,0,5,11],[6,1,6,10],[7,1,7,10],[8,1,8,10],[9,1,9,10],[50,0,50,11],[77,1,77,10],[78,0,78,11],[86,1,86,10],[11,1,11,10],[12,1,12,10],[14,0,14,11],[35,1,35,10],[36,0,36,11],[49,1,49,10]]}
["IDENTIFICATION DU BÂTIMENT",null,null,null,null,null,null,null,null,"Consulter l'aide se rapportant aux bâtiments"]
["Type d'infrastructure :",{"$f":"IF(Identification!H61=0,\"\",Identification!H61)","v":""},null,null,null,null,"Sous-type d'infrastructure :",null,{"$f":"IF(Identification!H62=0,\"\",Identification!H62)","v":""}]
["Nom commun de l'infrastructure :",{"$f":"IF(Identification!H63=0,\"\",Identification!H63)","v":""},null,null,null,null,"Nom commun du bâtiment :"]
["Année de construction :",{"$f":"Identification!H66","v":0},null,null,null,null,"Année de l'évaluation :"]
["Valeur de remplacement :",{"$f":"IF(H35+H49+H77+H86=0,\"\",H35+H49+H77+H86)","v":""},null,null,null,null,"Autres informations :"]
["CRITÈRES D'ÉVALUATION DES COMPOSANTS"]
["Cote","État constaté"]
[0,"Le composant n'a pas été ausculté."]
[1,"Le composant est récent ou remis à neuf. Son fonctionnement est adéquat."]
[2,"Le composant présente un niveau léger de dégradation ou de défectuosité. Son fonctionnement est adéquat."]
[3,"Le composant présente un niveau modéré de dégradation ou de défectuosité. Son fonctionnement est adéquat."]
[4,"Le composant présente un niveau élevé de dégradation ou de défectuosité. Son fonctionnement est inadéquat."]
[5,"Le composant présente un niveau très élevé de dégradation ou de défectuosité. Le composant est inopérant ou son fonctionnement est intolérable."]
["*Type d'évaluation : Visuelle (V), Opérateur (O), Mesure (M)",null,null,null,null,null,"**Type d'intervention : Ajout (AJ), Remplacement (RP), Réfection majeure (RFM), Expertise complémentaire (DE)"]
["RELEVÉ DES COMPOSANTS ARCHITECTURAUX"]
["Composants majeurs","Année d'installation","Durée de vie utile","% Durée de vie écoulée","État constaté","Année d'évaluation","Type d'évaluation*","Valeur de remplacement ($)","Coût de l'intervention ($)","Type d'intervention**","Année d'intervention",null,{"$f":"B16","v":"Année d'installation"}]
["B20-Enveloppe extérieure",null,{"$f":"IF(B17=\"\",\"\",Données!$E$71)","v":""},{"$f":"IF(B17=\"\",\"\",(Annee_BI-B17)/C17)","v":""},null,null,null,null,null,null,null,null,{"$f":"E17","v":0}]
["B2010-Murs extérieurs",null,{"$f":"IF(B18=\"\",\"\",Données!$E$71)","v":""},""]
["B2020-Fenêtres extérieures",null,{"$f":"IF(B19=\"\",\"\",Données!$E$71)","v":""},""]
["B2030-Portes extérieures",null,{"$f":"IF(B20=\"\",\"\",Données!$E$71)","v":""},""]
["B30-Toit",null,{"$f":"IF(B21=\"\",\"\",Données!$E$71)","v":""},"",null,null,null,null,null,null,null,null,{"$f":"E21","v":0}]
["B3010-Couverture",null,{"$f":"IF(B22=\"\",\"\",Données!$E$71)","v":""},""]
["B3020-Ouvertures du toit",null,{"$f":"IF(B23=\"\",\"\",Données!$E$71)","v":""},""]
["C10-Construction intérieure",null,{"$f":"IF(B24=\"\",\"\",Données!$E$71)","v":""},"",null,null,null,null,null,null,null,null,{"$f":"E24","v":0}]
["C1010-Cloisons",null,{"$f":"IF(B25=\"\",\"\",Données!$E$71)","v":""},""]
["C1020-Portes intérieures",null,{"$f":"IF(B26=\"\",\"\",Données!$E$71)","v":""},""]
["C1030-Accessoires intégrés",null,{"$f":"IF(B27=\"\",\"\",Données!$E$71)","v":""},""]
["C20-Escaliers",null,{"$f":"IF(B28=\"\",\"\",Données!$E$71)","v":""},"",null,null,null,null,null,null,null,null,{"$f":"E28","v":0}]
["C2010-Construction d'escaliers",null,{"$f":"IF(B29=\"\",\"\",Données!$E$71)","v":""},""]
["C2020-Finitions d'escaliers",null,{"$f":"IF(B30=\"\",\"\",Données!$E$71)","v":""},""]
["C30-Finitions intérieures",null,{"$f":"IF(B31=\"\",\"\",Données!$E$71)","v":""},"",null,null,null,null,null,null,null,null,{"$f":"E31","v":0}]
["C3010-Finitions de murs",null,{"$f":"IF(B32=\"\",\"\",Données!$E$71)","v":""},""]
["C3020-Finitions de planchers",null,{"$f":"IF(B33=\"\",\"\",Données!$E$71)","v":""},""]
["C3030-Finitions de plafonds",null,{"$f":"IF(B34=\"\",\"\",Données!$E$71)","v":""},""]
["Récapitulatif des résultats (discipline)",{"$f":"IF(MIN(B17:B34)=0,\"\",MIN(B17:B34))","v":""},{"$f":"IF(MAX(C17:C34)=0,\"\",MAX(C17:C34))","v":""},{"$f":"IF(MAX(D17,D21,D24,D28,D31)=0,\"\",MAX(D17,D21,D24,D28,D31))","v":""},{"$f":"IF(MAX(E17:E34)=0,\"\",MAX(E17:E34))","v":""},{"$f":"IF(MAX(F17:F34)=0,\"\",MAX(F17:F34))","v":""},null,{"$f":"SUM(H17:H34)","v":0},{"$f":"SUM(I17:I34)","v":0},null,null,null,{"$f":"E35","v":""}]
["Commentaires ou notes explicatives sur les composants majeurs critiques auscultés\n\n(¨  Notes supplémentaires et/ou photos disponibles)"]
["RELEVÉ DES COMPOSANTS CIVILS"]
["Composants majeurs","Année d'installation","Durée de vie utile","% Durée de vie écoulée","État constaté","Année d'évaluation","Type d'évaluation*","Valeur de remplacement ($)","Coût de l'intervention ($)","Type d'intervention**","Année d'intervention"]
["A10-Fondations",null,{"$f":"IF(B39=\"\",\"\",Données!$E$72)","v":""},{"$f":"IF(B39=\"\",\"\",(Annee_BI-B39)/C39)","v":""},null,null,null,null,null,null,null,null,{"$f":"E39","v":0}]
["A1010-Fondations standard",null,{"$f":"IF(B40=\"\",\"\",Données!$E$72)","v":""},""]
["A1020-Finitions spéciales",null,{"$f":"IF(B41=\"\",\"\",Données!$E$72)","v":""},""]
["A1030-Dalle inférieure",null,{"$f":"IF(B42=\"\",\"\",Données!$E$72)","v":""},""]
["A20-Construction du sous-sol",null,{"$f":"IF(B43=\"\",\"\",Données!$E$72)","v":""},"",null,null,null,null,null,null,null,null,{"$f":"E43","v":0}]
["A2010-Excavation du sous-sol",null,{"$f":"IF(B44=\"\",\"\",Données!$E$72)","v":""},""]
["A2020-Murs du sous-sol",null,{"$f":"IF(B45=\"\",\"\",Données!$E$72)","v":""},""]
["B10-Superstructure",null,{"$f":"IF(B46=\"\",\"\",Données!$E$72)","v":""},"",null,null,null,null,null,null,null,null,{"$f":"E46","v":0}]
["B1010-Construction de plancher",null,{"$f":"IF(B47=\"\",\"\",Données!$E$72)","v":""},""]
["B1020-Construction de toiture",null,{"$f":"IF(B48=\"\",\"\",Données!$E$72)","v":""},""]
["Récapitulatif des résultats (discipline)",{"$f":"IF(MIN(B39:B48)=0,\"\",MIN(B39:B48))","v":""},{"$f":"IF(MAX(C39:C48)=0,\"\",MAX(C39:C48))","v":""},{"$f":"IF(MAX(D39,D43,D46)=0,\"\",MAX(D39,D43,D46))","v":""},{"$f":"IF(MAX(E39:E48)=0,\"\",MAX(E39:E48))","v":""},{"$f":"IF(MAX(F39:F48)=0,\"\",MAX(F39:F48))","v":""},null,{"$f":"SUM(H39:H48)","v":0},{"$f":"SUM(I39:I48)","v":0},null,null,null,{"$f":"E49","v":""}]
["Commentaires ou notes explicatives sur les composants majeurs critiques auscultés\n\n(¨  Notes supplémentaires et/ou photos disponibles)"]
["RELEVÉ DES COMPOSANTS MÉCANIQUES"]
["Composants majeurs","Année d'installation","Durée de vie utile","% Durée de vie écoulée","État constaté","Année d'évaluation","Type d'évaluation*","Valeur de remplacement ($)","Coût de l'intervention ($)","Type d'intervention**","Année d'intervention"]
["D10-Moyens de transport",null,{"$f":"IF(B53=\"\",\"\",Données!$E$73)","v":""},{"$f":"IF(B53=\"\",\"\",(Annee_BI-B53)/C53)","v":""},null,null,null,null,null,null,null,null,{"$f":"E53","v":0}]
["D1010-Ascenseurs et monte-charge",null,{"$f":"IF(B54=\"\",\"\",Données!$E$73)","v":""},""]
["D1020-Escaliers mécaniques et trottoirs roulants",null,{"$f":"IF(B55=\"\",\"\",Données!$E$73)","v":""},""]
["D1030-Autres systèmes transporteurs",null,{"$f":"IF(B56=\"\",\"\",Données!$E$73)","v":""},""]
["D20-Plomberie",null,{"$f":"IF(B57=\"\",\"\",Données!$E$73)","v":""},"",null,null,null,null,null,null,null,null,{"$f":"E57","v":0}]
["D2010-Appareils de plomberie",null,{"$f":"IF(B58=\"\",\"\",Données!$E$73)","v":""},""]
["D2020-Réseau d'eau domestique",null,{"$f":"IF(B59=\"\",\"\",Données!$E$73)","v":""},""]
["D2030-Réseau de drainage sanitaire",null,{"$f":"IF(B60=\"\",\"\",Données!$E$73)","v":""},""]
["D2040-Réseau de drainage pluvial",null,{"$f":"IF(B61=\"\",\"\",Données!$E$73)","v":""},""]
["D2090-Autres système de plomberie",null,{"$f":"IF(B62=\"\",\"\",Données!$E$73)","v":""},""]
["D30-CVAC",null,{"$f":"IF(B63=\"\",\"\",Données!$E$73)","v":""},"",null,null,null,null,null,null,null,null,{"$f":"E63","v":0}]
["D3010-Source d'énergie",null,{"$f":"IF(B64=\"\",\"\",Données!$E$73)","v":""},""]
["D3020-Systèmes de production de chaleur",null,{"$f":"IF(B65=\"\",\"\",Données!$E$73)","v":""},""]
["D3030-Sytèmes de production de froid",null,{"$f":"IF(B66=\"\",\"\",Données!$E$73)","v":""},""]
["D3040-Distribution de CVCA",null,{"$f":"IF(B67=\"\",\"\",Données!$E$73)","v":""},""]
["D3050-Unités autonomes ou monoblocs",null,{"$f":"IF(B68=\"\",\"\",Données!$E$73)","v":""},""]
["D3060-Régulation et instrumentation",null,{"$f":"IF(B69=\"\",\"\",Données!$E$73)","v":""},""]
["D3070-Essai et réglage des systèmes",null,{"$f":"IF(B70=\"\",\"\",Données!$E$73)","v":""},""]
["D3090-Autres systèmes ou équipements de CVCA",null,{"$f":"IF(B71=\"\",\"\",Données!$E$73)","v":""},""]
["D40-Protection incendie",null,{"$f":"IF(B72=\"\",\"\",Données!$E$73)","v":""},"",null,null,null,null,null,null,null,null,{"$f":"E72","v":0}]
["D4010-Gicleurs",null,{"$f":"IF(B73=\"\",\"\",Données!$E$73)","v":""},""]
["D4020-Canalisations montantes",null,{"$f":"IF(B74=\"\",\"\",Données!$E$73)","v":""},""]
["D4030-Accessoires de protection incendie",null,{"$f":"IF(B75=\"\",\"\",Données!$E$73)","v":""},""]
["D4090-Autres systèmes de protection incendie",null,{"$f":"IF(B76=\"\",\"\",Données!$E$73)","v":""},""]
["Récapitulatif des résultats (discipline)",{"$f":"IF(MIN(B53:B76)=0,\"\",MIN(B53:B76))","v":""},{"$f":"IF(MAX(C53:C76)=0,\"\",MAX(C53:C76))","v":""},{"$f":"IF(MAX(D53,D57,D63,D72)=0,\"\",MAX(D53,D57,D63,D72))","v":""},{"$f":"IF(MAX(E53:E76)=0,\"\",MAX(E53:E76))","v":""},{"$f":"IF(MAX(F53:F76)=0,\"\",MAX(F53:F76))","v":""},null,{"$f":"SUM(H53:H76)","v":0},{"$f":"SUM(I53:I76)","v":0},null,null,null,{"$f":"E77","v":""}]
["Commentaires ou notes explicatives sur les composants majeurs critiques auscultés\n\n(¨  Notes supplémentaires et/ou photos disponibles)"]
["RELEVÉ DES COMPOSANTS ÉLECTRIQUES"]
["Composants majeurs","Année d'installation","Durée de vie utile","% Durée de vie écoulée","État constaté","Année d'évaluation","Type d'évaluation*","Valeur de remplacement ($)","Coût de l'intervention ($)","Type d'intervention**","Année d'intervention"]
["D50-Électricité",null,{"$f":"IF(B81=\"\",\"\",Données!$E$74)","v":""},{"$f":"IF(B81=\"\",\"\",(Annee_BI-B81)/C81)","v":""},null,null,null,null,null,null,null,null,{"$f":"E81","v":0}]
["D5010-Services et distribution électrique",null,{"$f":"IF(B82=\"\",\"\",Données!$E$74)","v":""},{"$f":"IF(B82=\"\",\"\",(Annee_BI-B82)/C82)","v":""}]
["D5020-Éclairage et distribution secondaire",null,{"$f":"IF(B83=\"\",\"\",Données!$E$74)","v":""},{"$f":"IF(B83=\"\",\"\",(Annee_BI-B83)/C83)","v":""}]
["D5030-Communication & sécurité ",null,{"$f":"IF(B84=\"\",\"\",Données!$E$74)","v":""},{"$f":"IF(B84=\"\",\"\",(Annee_BI-B84)/C84)","v":""}]
["D5090-Autres systèmes électriques",null,{"$f":"IF(B85=\"\",\"\",Données!$E$74)","v":""},{"$f":"IF(B85=\"\",\"\",(Annee_BI-B85)/C85)","v":""}]
["Récapitulatif des résultats (discipline)",{"$f":"IF(MIN(B81:B85)=0,\"\",MIN(B81:B85))","v":""},{"$f":"IF(MAX(C81:C85)=0,\"\",MAX(C81:C85))","v":""},{"$f":"IF(MAX(D82:D85)=0,\"\",MAX(D82:D85))","v":""},{"$f":"IF(MAX(E81:E85)=0,\"\",MAX(E81:E85))","v":""},{"$f":"IF(MAX(F81:F85)=0,\"\",MAX(F81:F85))","v":""},null,{"$f":"SUM(H81:H85)","v":0},{"$f":"SUM(I81:I85)","v":0},null,null,null,{"$f":"E86","v":""}]
["Commentaires ou notes explicatives sur les composants majeurs critiques auscultés\n\n(¨  Notes supplémentaires et/ou photos disponibles)"]

{"sheet":"Bâtiment (8)","index":8,"n_rows":87,"n_cols":13,"rows_kept":87,"cut":false,"hidden":true,"merged":[[1,1,1,5],[1,6,1,7],[1,8,1,10],[2,1,2,5],[2,6,2,7],[2,8,2,10],[10,1,10,10],[3,1,3,5],[3,6,3,7],[3,8,3,10],[4,1,4,5],[4,6,4,7],[4,8,4,10],[5,0,5,11],[6,1,6,10],[7,1,7,10],[8,1,8,10],[9,1,9,10],[50,0,50,11],[77,1,77,10],[78,0,78,11],[86,1,86,10],[11,1,11,10],[12,1,12,10],[14,0,14,11],[35,1,35,10],[36,0,36,11],[49,1,49,10]]}
["IDENTIFICATION DU BÂTIMENT",null,null,null,null,null,null,null,null,"Consulter l'aide se rapportant aux bâtiments"]
["Type d'infrastructure :",{"$f":"IF(Identification!H61=0,\"\",Identification!H61)","v":""},null,null,null,null,"Sous-type d'infrastructure :",null,{"$f":"IF(Identification!H62=0,\"\",Identification!H62)","v":""}]
["Nom commun de l'infrastructure :",{"$f":"IF(Identification!H63=0,\"\",Identification!H63)","v":""},null,null,null,null,"Nom commun du bâtiment :"]
["Année de construction :",{"$f":"Identification!H66","v":0},null,null,null,null,"Année de l'évaluation :"]
["Valeur de remplacement :",{"$f":"IF(H35+H49+H77+H86=0,\"\",H35+H49+H77+H86)","v":""},null,null,null,null,"Autres informations :"]
["CRITÈRES D'ÉVALUATION DES COMPOSANTS"]
["Cote","État constaté"]
[0,"Le composant n'a pas été ausculté."]
[1,"Le composant est récent ou remis à neuf. Son fonctionnement est adéquat."]
[2,"Le composant présente un niveau léger de dégradation ou de défectuosité. Son fonctionnement est adéquat."]
[3,"Le composant présente un niveau modéré de dégradation ou de défectuosité. Son fonctionnement est adéquat."]
[4,"Le composant présente un niveau élevé de dégradation ou de défectuosité. Son fonctionnement est inadéquat."]
[5,"Le composant présente un niveau très élevé de dégradation ou de défectuosité. Le composant est inopérant ou son fonctionnement est intolérable."]
["*Type d'évaluation : Visuelle (V), Opérateur (O), Mesure (M)",null,null,null,null,null,"**Type d'intervention : Ajout (AJ), Remplacement (RP), Réfection majeure (RFM), Expertise complémentaire (DE)"]
["RELEVÉ DES COMPOSANTS ARCHITECTURAUX"]
["Composants majeurs","Année d'installation","Durée de vie utile","% Durée de vie écoulée","État constaté","Année d'évaluation","Type d'évaluation*","Valeur de remplacement ($)","Coût de l'intervention ($)","Type d'intervention**","Année d'intervention",null,{"$f":"B16","v":"Année d'installation"}]
["B20-Enveloppe extérieure",null,{"$f":"IF(B17=\"\",\"\",Données!$E$71)","v":""},{"$f":"IF(B17=\"\",\"\",(Annee_BI-B17)/C17)","v":""},null,null,null,null,null,null,null,null,{"$f":"E17","v":0}]
["B2010-Murs extérieurs",null,{"$f":"IF(B18=\"\",\"\",Données!$E$71)","v":""},""]
["B2020-Fenêtres extérieures",null,{"$f":"IF(B19=\"\",\"\",Données!$E$71)","v":""},""]
["B2030-Portes extérieures",null,{"$f":"IF(B20=\"\",\"\",Données!$E$71)","v":""},""]
["B30-Toit",null,{"$f":"IF(B21=\"\",\"\",Données!$E$71)","v":""},"",null,null,null,null,null,null,null,null,{"$f":"E21","v":0}]
["B3010-Couverture",null,{"$f":"IF(B22=\"\",\"\",Données!$E$71)","v":""},""]
["B3020-Ouvertures du toit",null,{"$f":"IF(B23=\"\",\"\",Données!$E$71)","v":""},""]
["C10-Construction intérieure",null,{"$f":"IF(B24=\"\",\"\",Données!$E$71)","v":""},"",null,null,null,null,null,null,null,null,{"$f":"E24","v":0}]
["C1010-Cloisons",null,{"$f":"IF(B25=\"\",\"\",Données!$E$71)","v":""},""]
["C1020-Portes intérieures",null,{"$f":"IF(B26=\"\",\"\",Données!$E$71)","v":""},""]
["C1030-Accessoires intégrés",null,{"$f":"IF(B27=\"\",\"\",Données!$E$71)","v":""},""]
["C20-Escaliers",null,{"$f":"IF(B28=\"\",\"\",Données!$E$71)","v":""},"",null,null,null,null,null,null,null,null,{"$f":"E28","v":0}]
["C2010-Construction d'escaliers",null,{"$f":"IF(B29=\"\",\"\",Données!$E$71)","v":""},""]
["C2020-Finitions d'escaliers",null,{"$f":"IF(B30=\"\",\"\",Données!$E$71)","v":""},""]
["C30-Finitions intérieures",null,{"$f":"IF(B31=\"\",\"\",Données!$E$71)","v":""},"",null,null,null,null,null,null,null,null,{"$f":"E31","v":0}]
["C3010-Finitions de murs",null,{"$f":"IF(B32=\"\",\"\",Données!$E$71)","v":""},""]
["C3020-Finitions de planchers",null,{"$f":"IF(B33=\"\",\"\",Données!$E$71)","v":""},""]
["C3030-Finitions de plafonds",null,{"$f":"IF(B34=\"\",\"\",Données!$E$71)","v":""},""]
["Récapitulatif des résultats (discipline)",{"$f":"IF(MIN(B17:B34)=0,\"\",MIN(B17:B34))","v":""},{"$f":"IF(MAX(C17:C34)=0,\"\",MAX(C17:C34))","v":""},{"$f":"IF(MAX(D17,D21,D24,D28,D31)=0,\"\",MAX(D17,D21,D24,D28,D31))","v":""},{"$f":"IF(MAX(E17:E34)=0,\"\",MAX(E17:E34))","v":""},{"$f":"IF(MAX(F17:F34)=0,\"\",MAX(F17:F34))","v":""},null,{"$f":"SUM(H17:H34)","v":0},{"$f":"SUM(I17:I34)","v":0},null,null,null,{"$f":"E35","v":""}]
["Commentaires ou notes explicatives sur les composants majeurs critiques auscultés\n\n(¨  Notes supplémentaires et/ou photos disponibles)"]
["RELEVÉ DES COMPOSANTS CIVILS"]
["Composants majeurs","Année d'installation","Durée de vie utile","% Durée de vie écoulée","État constaté","Année d'évaluation","Type d'évaluation*","Valeur de remplacement ($)","Coût de l'intervention ($)","Type d'intervention**","Année d'intervention"]
["A10-Fondations",null,{"$f":"IF(B39=\"\",\"\",Données!$E$72)","v":""},{"$f":"IF(B39=\"\",\"\",(Annee_BI-B39)/C39)","v":""},null,null,null,null,null,null,null,null,{"$f":"E39","v":0}]
["A1010-Fondations standard",null,{"$f":"IF(B40=\"\",\"\",Données!$E$72)","v":""},""]
["A1020-Finitions spéciales",null,{"$f":"IF(B41=\"\",\"\",Données!$E$72)","v":""},""]
["A1030-Dalle inférieure",null,{"$f":"IF(B42=\"\",\"\",Données!$E$72)","v":""},""]
["A20-Construction du sous-sol",null,{"$f":"IF(B43=\"\",\"\",Données!$E$72)","v":""},"",null,null,null,null,null,null,null,null,{"$f":"E43","v":0}]
["A2010-Excavation du sous-sol",null,{"$f":"IF(B44=\"\",\"\",Données!$E$72)","v":""},""]
["A2020-Murs du sous-sol",null,{"$f":"IF(B45=\"\",\"\",Données!$E$72)","v":""},""]
["B10-Superstructure",null,{"$f":"IF(B46=\"\",\"\",Données!$E$72)","v":""},"",null,null,null,null,null,null,null,null,{"$f":"E46","v":0}]
["B1010-Construction de plancher",null,{"$f":"IF(B47=\"\",\"\",Données!$E$72)","v":""},""]
["B1020-Construction de toiture",null,{"$f":"IF(B48=\"\",\"\",Données!$E$72)","v":""},""]
["Récapitulatif des résultats (discipline)",{"$f":"IF(MIN(B39:B48)=0,\"\",MIN(B39:B48))","v":""},{"$f":"IF(MAX(C39:C48)=0,\"\",MAX(C39:C48))","v":""},{"$f":"IF(MAX(D39,D43,D46)=0,\"\",MAX(D39,D43,D46))","v":""},{"$f":"IF(MAX(E39:E48)=0,\"\",MAX(E39:E48))","v":""},{"$f":"IF(MAX(F39:F48)=0,\"\",MAX(F39:F48))","v":""},null,{"$f":"SUM(H39:H48)","v":0},{"$f":"SUM(I39:I48)","v":0},null,null,null,{"$f":"E49","v":""}]
["Commentaires ou notes explicatives sur les composants majeurs critiques auscultés\n\n(¨  Notes supplémentaires et/ou photos disponibles)"]
["RELEVÉ DES COMPOSANTS MÉCANIQUES"]
["Composants majeurs","Année d'installation","Durée de vie utile","% Durée de vie écoulée","État constaté","Année d'évaluation","Type d'évaluation*","Valeur de remplacement ($)","Coût de l'intervention ($)","Type d'intervention**","Année d'intervention"]
["D10-Moyens de transport",null,{"$f":"IF(B53=\"\",\"\",Données!$E$73)","v":""},{"$f":"IF(B53=\"\",\"\",(Annee_BI-B53)/C53)","v":""},null,null,null,null,null,null,null,null,{"$f":"E53","v":0}]
["D1010-Ascenseurs et monte-charge",null,{"$f":"IF(B54=\"\",\"\",Données!$E$73)","v":""},""]
["D1020-Escaliers mécaniques et trottoirs roulants",null,{"$f":"IF(B55=\"\",\"\",Données!$E$73)","v":""},""]
["D1030-Autres systèmes transporteurs",null,{"$f":"IF(B56=\"\",\"\",Données!$E$73)","v":""},""]
["D20-Plomberie",null,{"$f":"IF(B57=\"\",\"\",Données!$E$73)","v":""},"",null,null,null,null,null,null,null,null,{"$f":"E57","v":0}]
["D2010-Appareils de plomberie",null,{"$f":"IF(B58=\"\",\"\",Données!$E$73)","v":""},""]
["D2020-Réseau d'eau domestique",null,{"$f":"IF(B59=\"\",\"\",Données!$E$73)","v":""},""]
["D2030-Réseau de drainage sanitaire",null,{"$f":"IF(B60=\"\",\"\",Données!$E$73)","v":""},""]
["D2040-Réseau de drainage pluvial",null,{"$f":"IF(B61=\"\",\"\",Données!$E$73)","v":""},""]
["D2090-Autres système de plomberie",null,{"$f":"IF(B62=\"\",\"\",Données!$E$73)","v":""},""]
["D30-CVAC",null,{"$f":"IF(B63=\"\",\"\",Données!$E$73)","v":""},"",null,null,null,null,null,null,null,null,{"$f":"E63","v":0}]
["D3010-Source d'énergie",null,{"$f":"IF(B64=\"\",\"\",Données!$E$73)","v":""},""]
["D3020-Systèmes de production de chaleur",null,{"$f":"IF(B65=\"\",\"\",Données!$E$73)","v":""},""]
["D3030-Sytèmes de production de froid",null,{"$f":"IF(B66=\"\",\"\",Données!$E$73)","v":""},""]
["D3040-Distribution de CVCA",null,{"$f":"IF(B67=\"\",\"\",Données!$E$73)","v":""},""]
["D3050-Unités autonomes ou monoblocs",null,{"$f":"IF(B68=\"\",\"\",Données!$E$73)","v":""},""]
["D3060-Régulation et instrumentation",null,{"$f":"IF(B69=\"\",\"\",Données!$E$73)","v":""},""]
["D3070-Essai et réglage des systèmes",null,{"$f":"IF(B70=\"\",\"\",Données!$E$73)","v":""},""]
["D3090-Autres systèmes ou équipements de CVCA",null,{"$f":"IF(B71=\"\",\"\",Données!$E$73)","v":""},""]
["D40-Protection incendie",null,{"$f":"IF(B72=\"\",\"\",Données!$E$73)","v":""},"",null,null,null,null,null,null,null,null,{"$f":"E72","v":0}]
["D4010-Gicleurs",null,{"$f":"IF(B73=\"\",\"\",Données!$E$73)","v":""},""]
["D4020-Canalisations montantes",null,{"$f":"IF(B74=\"\",\"\",Données!$E$73)","v":""},""]
["D4030-Accessoires de protection incendie",null,{"$f":"IF(B75=\"\",\"\",Données!$E$73)","v":""},""]
["D4090-Autres systèmes de protection incendie",null,{"$f":"IF(B76=\"\",\"\",Données!$E$73)","v":""},""]
["Récapitulatif des résultats (discipline)",{"$f":"IF(MIN(B53:B76)=0,\"\",MIN(B53:B76))","v":""},{"$f":"IF(MAX(C53:C76)=0,\"\",MAX(C53:C76))","v":""},{"$f":"IF(MAX(D53,D57,D63,D72)=0,\"\",MAX(D53,D57,D63,D72))","v":""},{"$f":"IF(MAX(E53:E76)=0,\"\",MAX(E53:E76))","v":""},{"$f":"IF(MAX(F53:F76)=0,\"\",MAX(F53:F76))","v":""},null,{"$f":"SUM(H53:H76)","v":0},{"$f":"SUM(I53:I76)","v":0},null,null,null,{"$f":"E77","v":""}]
["Commentaires ou notes explicatives sur les composants majeurs critiques auscultés\n\n(¨  Notes supplémentaires et/ou photos disponibles)"]
["RELEVÉ DES COMPOSANTS ÉLECTRIQUES"]
["Composants majeurs","Année d'installation","Durée de vie utile","% Durée de vie écoulée","État constaté","Année d'évaluation","Type d'évaluation*","Valeur de remplacement ($)","Coût de l'intervention ($)","Type d'intervention**","Année d'intervention"]
["D50-Électricité",null,{"$f":"IF(B81=\"\",\"\",Données!$E$74)","v":""},{"$f":"IF(B81=\"\",\"\",(Annee_BI-B81)/C81)","v":""},null,null,null,null,null,null,null,null,{"$f":"E81","v":0}]
["D5010-Services et distribution électrique",null,{"$f":"IF(B82=\"\",\"\",Données!$E$74)","v":""},{"$f":"IF(B82=\"\",\"\",(Annee_BI-B82)/C82)","v":""}]
["D5020-Éclairage et distribution secondaire",null,{"$f":"IF(B83=\"\",\"\",Données!$E$74)","v":""},{"$f":"IF(B83=\"\",\"\",(Annee_BI-B83)/C83)","v":""}]
["D5030-Communication & sécurité ",null,{"$f":"IF(B84=\"\",\"\",Données!$E$74)","v":""},{"$f":"IF(B84=\"\",\"\",(Annee_BI-B84)/C84)","v":""}]
["D5090-Autres systèmes électriques",null,{"$f":"IF(B85=\"\",\"\",Données!$E$74)","v":""},{"$f":"IF(B85=\"\",\"\",(Annee_BI-B85)/C85)","v":""}]
["Récapitulatif des résultats (discipline)",{"$f":"IF(MIN(B81:B85)=0,\"\",MIN(B81:B85))","v":""},{"$f":"IF(MAX(C81:C85)=0,\"\",MAX(C81:C85))","v":""},{"$f":"IF(MAX(D82:D85)=0,\"\",MAX(D82:D85))","v":""},{"$f":"IF(MAX(E81:E85)=0,\"\",MAX(E81:E85))","v":""},{"$f":"IF(MAX(F81:F85)=0,\"\",MAX(F81:F85))","v":""},null,{"$f":"SUM(H81:H85)","v":0},{"$f":"SUM(I81:I85)","v":0},null,null,null,{"$f":"E86","v":""}]
["Commentaires ou notes explicatives sur les composants majeurs critiques auscultés\n\n(¨  Notes supplémentaires et/ou photos disponibles)"]

{"sheet":"Bâtiment (9)","index":9,"n_rows":87,"n_cols":13,"rows_kept":87,"cut":false,"hidden":true,"merged":[[1,1,1,5],[1,6,1,7],[1,8,1,10],[2,1,2,5],[2,6,2,7],[2,8,2,10],[10,1,10,10],[3,1,3,5],[3,6,3,7],[3,8,3,10],[4,1,4,5],[4,6,4,7],[4,8,4,10],[5,0,5,11],[6,1,6,10],[7,1,7,10],[8,1,8,10],[9,1,9,10],[50,0,50,11],[77,1,77,10],[78,0,78,11],[86,1,86,10],[11,1,11,10],[12,1,12,10],[14,0,14,11],[35,1,35,10],[36,0,36,11],[49,1,49,10]]}
["IDENTIFICATION DU BÂTIMENT",null,null,null,null,null,null,null,null,"Consulter l'aide se rapportant aux bâtiments"]
["Type d'infrastructure :",{"$f":"IF(Identification!H61=0,\"\",Identification!H61)","v":""},null,null,null,null,"Sous-type d'infrastructure :",null,{"$f":"IF(Identification!H62=0,\"\",Identification!H62)","v":""}]
["Nom commun de l'infrastructure :",{"$f":"IF(Identification!H63=0,\"\",Identification!H63)","v":""},null,null,null,null,"Nom commun du bâtiment :"]
["Année de construction :",{"$f":"Identification!H66","v":0},null,null,null,null,"Année de l'évaluation :"]
["Valeur de remplacement :",{"$f":"IF(H35+H49+H77+H86=0,\"\",H35+H49+H77+H86)","v":""},null,null,null,null,"Autres informations :"]
["CRITÈRES D'ÉVALUATION DES COMPOSANTS"]
["Cote","État constaté"]
[0,"Le composant n'a pas été ausculté."]
[1,"Le composant est récent ou remis à neuf. Son fonctionnement est adéquat."]
[2,"Le composant présente un niveau léger de dégradation ou de défectuosité. Son fonctionnement est adéquat."]
[3,"Le composant présente un niveau modéré de dégradation ou de défectuosité. Son fonctionnement est adéquat."]
[4,"Le composant présente un niveau élevé de dégradation ou de défectuosité. Son fonctionnement est inadéquat."]
[5,"Le composant présente un niveau très élevé de dégradation ou de défectuosité. Le composant est inopérant ou son fonctionnement est intolérable."]
["*Type d'évaluation : Visuelle (V), Opérateur (O), Mesure (M)",null,null,null,null,null,"**Type d'intervention : Ajout (AJ), Remplacement (RP), Réfection majeure (RFM), Expertise complémentaire (DE)"]
["RELEVÉ DES COMPOSANTS ARCHITECTURAUX"]
["Composants majeurs","Année d'installation","Durée de vie utile","% Durée de vie écoulée","État constaté","Année d'évaluation","Type d'évaluation*","Valeur de remplacement ($)","Coût de l'intervention ($)","Type d'intervention**","Année d'intervention",null,{"$f":"B16","v":"Année d'installation"}]
["B20-Enveloppe extérieure",null,{"$f":"IF(B17=\"\",\"\",Données!$E$71)","v":""},{"$f":"IF(B17=\"\",\"\",(Annee_BI-B17)/C17)","v":""},null,null,null,null,null,null,null,null,{"$f":"E17","v":0}]
["B2010-Murs extérieurs",null,{"$f":"IF(B18=\"\",\"\",Données!$E$71)","v":""},""]
["B2020-Fenêtres extérieures",null,{"$f":"IF(B19=\"\",\"\",Données!$E$71)","v":""},""]
["B2030-Portes extérieures",null,{"$f":"IF(B20=\"\",\"\",Données!$E$71)","v":""},""]
["B30-Toit",null,{"$f":"IF(B21=\"\",\"\",Données!$E$71)","v":""},"",null,null,null,null,null,null,null,null,{"$f":"E21","v":0}]
["B3010-Couverture",null,{"$f":"IF(B22=\"\",\"\",Données!$E$71)","v":""},""]
["B3020-Ouvertures du toit",null,{"$f":"IF(B23=\"\",\"\",Données!$E$71)","v":""},""]
["C10-Construction intérieure",null,{"$f":"IF(B24=\"\",\"\",Données!$E$71)","v":""},"",null,null,null,null,null,null,null,null,{"$f":"E24","v":0}]
["C1010-Cloisons",null,{"$f":"IF(B25=\"\",\"\",Données!$E$71)","v":""},""]
["C1020-Portes intérieures",null,{"$f":"IF(B26=\"\",\"\",Données!$E$71)","v":""},""]
["C1030-Accessoires intégrés",null,{"$f":"IF(B27=\"\",\"\",Données!$E$71)","v":""},""]
["C20-Escaliers",null,{"$f":"IF(B28=\"\",\"\",Données!$E$71)","v":""},"",null,null,null,null,null,null,null,null,{"$f":"E28","v":0}]
["C2010-Construction d'escaliers",null,{"$f":"IF(B29=\"\",\"\",Données!$E$71)","v":""},""]
["C2020-Finitions d'escaliers",null,{"$f":"IF(B30=\"\",\"\",Données!$E$71)","v":""},""]
["C30-Finitions intérieures",null,{"$f":"IF(B31=\"\",\"\",Données!$E$71)","v":""},"",null,null,null,null,null,null,null,null,{"$f":"E31","v":0}]
["C3010-Finitions de murs",null,{"$f":"IF(B32=\"\",\"\",Données!$E$71)","v":""},""]
["C3020-Finitions de planchers",null,{"$f":"IF(B33=\"\",\"\",Données!$E$71)","v":""},""]
["C3030-Finitions de plafonds",null,{"$f":"IF(B34=\"\",\"\",Données!$E$71)","v":""},""]
["Récapitulatif des résultats (discipline)",{"$f":"IF(MIN(B17:B34)=0,\"\",MIN(B17:B34))","v":""},{"$f":"IF(MAX(C17:C34)=0,\"\",MAX(C17:C34))","v":""},{"$f":"IF(MAX(D17,D21,D24,D28,D31)=0,\"\",MAX(D17,D21,D24,D28,D31))","v":""},{"$f":"IF(MAX(E17:E34)=0,\"\",MAX(E17:E34))","v":""},{"$f":"IF(MAX(F17:F34)=0,\"\",MAX(F17:F34))","v":""},null,{"$f":"SUM(H17:H34)","v":0},{"$f":"SUM(I17:I34)","v":0},null,null,null,{"$f":"E35","v":""}]
["Commentaires ou notes explicatives sur les composants majeurs critiques auscultés\n\n(¨  Notes supplémentaires et/ou photos disponibles)"]
["RELEVÉ DES COMPOSANTS CIVILS"]
["Composants majeurs","Année d'installation","Durée de vie utile","% Durée de vie écoulée","État constaté","Année d'évaluation","Type d'évaluation*","Valeur de remplacement ($)","Coût de l'intervention ($)","Type d'intervention**","Année d'intervention"]
["A10-Fondations",null,{"$f":"IF(B39=\"\",\"\",Données!$E$72)","v":""},{"$f":"IF(B39=\"\",\"\",(Annee_BI-B39)/C39)","v":""},null,null,null,null,null,null,null,null,{"$f":"E39","v":0}]
["A1010-Fondations standard",null,{"$f":"IF(B40=\"\",\"\",Données!$E$72)","v":""},""]
["A1020-Finitions spéciales",null,{"$f":"IF(B41=\"\",\"\",Données!$E$72)","v":""},""]
["A1030-Dalle inférieure",null,{"$f":"IF(B42=\"\",\"\",Données!$E$72)","v":""},""]
["A20-Construction du sous-sol",null,{"$f":"IF(B43=\"\",\"\",Données!$E$72)","v":""},"",null,null,null,null,null,null,null,null,{"$f":"E43","v":0}]
["A2010-Excavation du sous-sol",null,{"$f":"IF(B44=\"\",\"\",Données!$E$72)","v":""},""]
["A2020-Murs du sous-sol",null,{"$f":"IF(B45=\"\",\"\",Données!$E$72)","v":""},""]
["B10-Superstructure",null,{"$f":"IF(B46=\"\",\"\",Données!$E$72)","v":""},"",null,null,null,null,null,null,null,null,{"$f":"E46","v":0}]
["B1010-Construction de plancher",null,{"$f":"IF(B47=\"\",\"\",Données!$E$72)","v":""},""]
["B1020-Construction de toiture",null,{"$f":"IF(B48=\"\",\"\",Données!$E$72)","v":""},""]
["Récapitulatif des résultats (discipline)",{"$f":"IF(MIN(B39:B48)=0,\"\",MIN(B39:B48))","v":""},{"$f":"IF(MAX(C39:C48)=0,\"\",MAX(C39:C48))","v":""},{"$f":"IF(MAX(D39,D43,D46)=0,\"\",MAX(D39,D43,D46))","v":""},{"$f":"IF(MAX(E39:E48)=0,\"\",MAX(E39:E48))","v":""},{"$f":"IF(MAX(F39:F48)=0,\"\",MAX(F39:F48))","v":""},null,{"$f":"SUM(H39:H48)","v":0},{"$f":"SUM(I39:I48)","v":0},null,null,null,{"$f":"E49","v":""}]
["Commentaires ou notes explicatives sur les composants majeurs critiques auscultés\n\n(¨  Notes supplémentaires et/ou photos disponibles)"]
["RELEVÉ DES COMPOSANTS MÉCANIQUES"]
["Composants majeurs","Année d'installation","Durée de vie utile","% Durée de vie écoulée","État constaté","Année d'évaluation","Type d'évaluation*","Valeur de remplacement ($)","Coût de l'intervention ($)","Type d'intervention**","Année d'intervention"]
["D10-Moyens de transport",null,{"$f":"IF(B53=\"\",\"\",Données!$E$73)","v":""},{"$f":"IF(B53=\"\",\"\",(Annee_BI-B53)/C53)","v":""},null,null,null,null,null,null,null,null,{"$f":"E53","v":0}]
["D1010-Ascenseurs et monte-charge",null,{"$f":"IF(B54=\"\",\"\",Données!$E$73)","v":""},""]
["D1020-Escaliers mécaniques et trottoirs roulants",null,{"$f":"IF(B55=\"\",\"\",Données!$E$73)","v":""},""]
["D1030-Autres systèmes transporteurs",null,{"$f":"IF(B56=\"\",\"\",Données!$E$73)","v":""},""]
["D20-Plomberie",null,{"$f":"IF(B57=\"\",\"\",Données!$E$73)","v":""},"",null,null,null,null,null,null,null,null,{"$f":"E57","v":0}]
["D2010-Appareils de plomberie",null,{"$f":"IF(B58=\"\",\"\",Données!$E$73)","v":""},""]
["D2020-Réseau d'eau domestique",null,{"$f":"IF(B59=\"\",\"\",Données!$E$73)","v":""},""]
["D2030-Réseau de drainage sanitaire",null,{"$f":"IF(B60=\"\",\"\",Données!$E$73)","v":""},""]
["D2040-Réseau de drainage pluvial",null,{"$f":"IF(B61=\"\",\"\",Données!$E$73)","v":""},""]
["D2090-Autres système de plomberie",null,{"$f":"IF(B62=\"\",\"\",Données!$E$73)","v":""},""]
["D30-CVAC",null,{"$f":"IF(B63=\"\",\"\",Données!$E$73)","v":""},"",null,null,null,null,null,null,null,null,{"$f":"E63","v":0}]
["D3010-Source d'énergie",null,{"$f":"IF(B64=\"\",\"\",Données!$E$73)","v":""},""]
["D3020-Systèmes de production de chaleur",null,{"$f":"IF(B65=\"\",\"\",Données!$E$73)","v":""},""]
["D3030-Sytèmes de production de froid",null,{"$f":"IF(B66=\"\",\"\",Données!$E$73)","v":""},""]
["D3040-Distribution de CVCA",null,{"$f":"IF(B67=\"\",\"\",Données!$E$73)","v":""},""]
["D3050-Unités autonomes ou monoblocs",null,{"$f":"IF(B68=\"\",\"\",Données!$E$73)","v":""},""]
["D3060-Régulation et instrumentation",null,{"$f":"IF(B69=\"\",\"\",Données!$E$73)","v":""},""]
["D3070-Essai et réglage des systèmes",null,{"$f":"IF(B70=\"\",\"\",Données!$E$73)","v":""},""]
["D3090-Autres systèmes ou équipements de CVCA",null,{"$f":"IF(B71=\"\",\"\",Données!$E$73)","v":""},""]
["D40-Protection incendie",null,{"$f":"IF(B72=\"\",\"\",Données!$E$73)","v":""},"",null,null,null,null,null,null,null,null,{"$f":"E72","v":0}]
["D4010-Gicleurs",null,{"$f":"IF(B73=\"\",\"\",Données!$E$73)","v":""},""]
["D4020-Canalisations montantes",null,{"$f":"IF(B74=\"\",\"\",Données!$E$73)","v":""},""]
["D4030-Accessoires de protection incendie",null,{"$f":"IF(B75=\"\",\"\",Données!$E$73)","v":""},""]
["D4090-Autres systèmes de protection incendie",null,{"$f":"IF(B76=\"\",\"\",Données!$E$73)","v":""},""]
["Récapitulatif des résultats (discipline)",{"$f":"IF(MIN(B53:B76)=0,\"\",MIN(B53:B76))","v":""},{"$f":"IF(MAX(C53:C76)=0,\"\",MAX(C53:C76))","v":""},{"$f":"IF(MAX(D53,D57,D63,D72)=0,\"\",MAX(D53,D57,D63,D72))","v":""},{"$f":"IF(MAX(E53:E76)=0,\"\",MAX(E53:E76))","v":""},{"$f":"IF(MAX(F53:F76)=0,\"\",MAX(F53:F76))","v":""},null,{"$f":"SUM(H53:H76)","v":0},{"$f":"SUM(I53:I76)","v":0},null,null,null,{"$f":"E77","v":""}]
["Commentaires ou notes explicatives sur les composants majeurs critiques auscultés\n\n(¨  Notes supplémentaires et/ou photos disponibles)"]
["RELEVÉ DES COMPOSANTS ÉLECTRIQUES"]
["Composants majeurs","Année d'installation","Durée de vie utile","% Durée de vie écoulée","État constaté","Année d'évaluation","Type d'évaluation*","Valeur de remplacement ($)","Coût de l'intervention ($)","Type d'intervention**","Année d'intervention"]
["D50-Électricité",null,{"$f":"IF(B81=\"\",\"\",Données!$E$74)","v":""},{"$f":"IF(B81=\"\",\"\",(Annee_BI-B81)/C81)","v":""},null,null,null,null,null,null,null,null,{"$f":"E81","v":0}]
["D5010-Services et distribution électrique",null,{"$f":"IF(B82=\"\",\"\",Données!$E$74)","v":""},{"$f":"IF(B82=\"\",\"\",(Annee_BI-B82)/C82)","v":""}]
["D5020-Éclairage et distribution secondaire",null,{"$f":"IF(B83=\"\",\"\",Données!$E$74)","v":""},{"$f":"IF(B83=\"\",\"\",(Annee_BI-B83)/C83)","v":""}]
["D5030-Communication & sécurité ",null,{"$f":"IF(B84=\"\",\"\",Données!$E$74)","v":""},{"$f":"IF(B84=\"\",\"\",(Annee_BI-B84)/C84)","v":""}]
["D5090-Autres systèmes électriques",null,{"$f":"IF(B85=\"\",\"\",Données!$E$74)","v":""},{"$f":"IF(B85=\"\",\"\",(Annee_BI-B85)/C85)","v":""}]
["Récapitulatif des résultats (discipline)",{"$f":"IF(MIN(B81:B85)=0,\"\",MIN(B81:B85))","v":""},{"$f":"IF(MAX(C81:C85)=0,\"\",MAX(C81:C85))","v":""},{"$f":"IF(MAX(D82:D85)=0,\"\",MAX(D82:D85))","v":""},{"$f":"IF(MAX(E81:E85)=0,\"\",MAX(E81:E85))","v":""},{"$f":"IF(MAX(F81:F85)=0,\"\",MAX(F81:F85))","v":""},null,{"$f":"SUM(H81:H85)","v":0},{"$f":"SUM(I81:I85)","v":0},null,null,null,{"$f":"E86","v":""}]
["Commentaires ou notes explicatives sur les composants majeurs critiques auscultés\n\n(¨  Notes supplémentaires et/ou photos disponibles)"]

{"sheet":"Bâtiment (10)","index":10,"n_rows":87,"n_cols":13,"rows_kept":87,"cut":false,"hidden":true,"merged":[[1,1,1,5],[1,6,1,7],[1,8,1,10],[2,1,2,5],[2,6,2,7],[2,8,2,10],[10,1,10,10],[3,1,3,5],[3,6,3,7],[3,8,3,10],[4,1,4,5],[4,6,4,7],[4,8,4,10],[5,0,5,11],[6,1,6,10],[7,1,7,10],[8,1,8,10],[9,1,9,10],[50,0,50,11],[77,1,77,10],[78,0,78,11],[86,1,86,10],[11,1,11,10],[12,1,12,10],[14,0,14,11],[35,1,35,10],[36,0,36,11],[49,1,49,10]]}
["IDENTIFICATION DU BÂTIMENT",null,null,null,null,null,null,null,null,"Consulter l'aide se rapportant aux bâtiments"]
["Type d'infrastructure :",{"$f":"IF(Identification!H61=0,\"\",Identification!H61)","v":""},null,null,null,null,"Sous-type d'infrastructure :",null,{"$f":"IF(Identification!H62=0,\"\",Identification!H62)","v":""}]
["Nom commun de l'infrastructure :",{"$f":"IF(Identification!H63=0,\"\",Identification!H63)","v":""},null,null,null,null,"Nom commun du bâtiment :"]
["Année de construction :",{"$f":"Identification!H66","v":0},null,null,null,null,"Année de l'évaluation :"]
["Valeur de remplacement :",{"$f":"IF(H35+H49+H77+H86=0,\"\",H35+H49+H77+H86)","v":""},null,null,null,null,"Autres informations :"]
["CRITÈRES D'ÉVALUATION DES COMPOSANTS"]
["Cote","État constaté"]
[0,"Le composant n'a pas été ausculté."]
[1,"Le composant est récent ou remis à neuf. Son fonctionnement est adéquat."]
[2,"Le composant présente un niveau léger de dégradation ou de défectuosité. Son fonctionnement est adéquat."]
[3,"Le composant présente un niveau modéré de dégradation ou de défectuosité. Son fonctionnement est adéquat."]
[4,"Le composant présente un niveau élevé de dégradation ou de défectuosité. Son fonctionnement est inadéquat."]
[5,"Le composant présente un niveau très élevé de dégradation ou de défectuosité. Le composant est inopérant ou son fonctionnement est intolérable."]
["*Type d'évaluation : Visuelle (V), Opérateur (O), Mesure (M)",null,null,null,null,null,"**Type d'intervention : Ajout (AJ), Remplacement (RP), Réfection majeure (RFM), Expertise complémentaire (DE)"]
["RELEVÉ DES COMPOSANTS ARCHITECTURAUX"]
["Composants majeurs","Année d'installation","Durée de vie utile","% Durée de vie écoulée","État constaté","Année d'évaluation","Type d'évaluation*","Valeur de remplacement ($)","Coût de l'intervention ($)","Type d'intervention**","Année d'intervention",null,{"$f":"B16","v":"Année d'installation"}]
["B20-Enveloppe extérieure",null,{"$f":"IF(B17=\"\",\"\",Données!$E$71)","v":""},{"$f":"IF(B17=\"\",\"\",(Annee_BI-B17)/C17)","v":""},null,null,null,null,null,null,null,null,{"$f":"E17","v":0}]
["B2010-Murs extérieurs",null,{"$f":"IF(B18=\"\",\"\",Données!$E$71)","v":""},""]
["B2020-Fenêtres extérieures",null,{"$f":"IF(B19=\"\",\"\",Données!$E$71)","v":""},""]
["B2030-Portes extérieures",null,{"$f":"IF(B20=\"\",\"\",Données!$E$71)","v":""},""]
["B30-Toit",null,{"$f":"IF(B21=\"\",\"\",Données!$E$71)","v":""},"",null,null,null,null,null,null,null,null,{"$f":"E21","v":0}]
["B3010-Couverture",null,{"$f":"IF(B22=\"\",\"\",Données!$E$71)","v":""},""]
["B3020-Ouvertures du toit",null,{"$f":"IF(B23=\"\",\"\",Données!$E$71)","v":""},""]
["C10-Construction intérieure",null,{"$f":"IF(B24=\"\",\"\",Données!$E$71)","v":""},"",null,null,null,null,null,null,null,null,{"$f":"E24","v":0}]
["C1010-Cloisons",null,{"$f":"IF(B25=\"\",\"\",Données!$E$71)","v":""},""]
["C1020-Portes intérieures",null,{"$f":"IF(B26=\"\",\"\",Données!$E$71)","v":""},""]
["C1030-Accessoires intégrés",null,{"$f":"IF(B27=\"\",\"\",Données!$E$71)","v":""},""]
["C20-Escaliers",null,{"$f":"IF(B28=\"\",\"\",Données!$E$71)","v":""},"",null,null,null,null,null,null,null,null,{"$f":"E28","v":0}]
["C2010-Construction d'escaliers",null,{"$f":"IF(B29=\"\",\"\",Données!$E$71)","v":""},""]
["C2020-Finitions d'escaliers",null,{"$f":"IF(B30=\"\",\"\",Données!$E$71)","v":""},""]
["C30-Finitions intérieures",null,{"$f":"IF(B31=\"\",\"\",Données!$E$71)","v":""},"",null,null,null,null,null,null,null,null,{"$f":"E31","v":0}]
["C3010-Finitions de murs",null,{"$f":"IF(B32=\"\",\"\",Données!$E$71)","v":""},""]
["C3020-Finitions de planchers",null,{"$f":"IF(B33=\"\",\"\",Données!$E$71)","v":""},""]
["C3030-Finitions de plafonds",null,{"$f":"IF(B34=\"\",\"\",Données!$E$71)","v":""},""]
["Récapitulatif des résultats (discipline)",{"$f":"IF(MIN(B17:B34)=0,\"\",MIN(B17:B34))","v":""},{"$f":"IF(MAX(C17:C34)=0,\"\",MAX(C17:C34))","v":""},{"$f":"IF(MAX(D17,D21,D24,D28,D31)=0,\"\",MAX(D17,D21,D24,D28,D31))","v":""},{"$f":"IF(MAX(E17:E34)=0,\"\",MAX(E17:E34))","v":""},{"$f":"IF(MAX(F17:F34)=0,\"\",MAX(F17:F34))","v":""},null,{"$f":"SUM(H17:H34)","v":0},{"$f":"SUM(I17:I34)","v":0},null,null,null,{"$f":"E35","v":""}]
["Commentaires ou notes explicatives sur les composants majeurs critiques auscultés\n\n(¨  Notes supplémentaires et/ou photos disponibles)"]
["RELEVÉ DES COMPOSANTS CIVILS"]
["Composants majeurs","Année d'installation","Durée de vie utile","% Durée de vie écoulée","État constaté","Année d'évaluation","Type d'évaluation*","Valeur de remplacement ($)","Coût de l'intervention ($)","Type d'intervention**","Année d'intervention"]
["A10-Fondations",null,{"$f":"IF(B39=\"\",\"\",Données!$E$72)","v":""},{"$f":"IF(B39=\"\",\"\",(Annee_BI-B39)/C39)","v":""},null,null,null,null,null,null,null,null,{"$f":"E39","v":0}]
["A1010-Fondations standard",null,{"$f":"IF(B40=\"\",\"\",Données!$E$72)","v":""},""]
["A1020-Finitions spéciales",null,{"$f":"IF(B41=\"\",\"\",Données!$E$72)","v":""},""]
["A1030-Dalle inférieure",null,{"$f":"IF(B42=\"\",\"\",Données!$E$72)","v":""},""]
["A20-Construction du sous-sol",null,{"$f":"IF(B43=\"\",\"\",Données!$E$72)","v":""},"",null,null,null,null,null,null,null,null,{"$f":"E43","v":0}]
["A2010-Excavation du sous-sol",null,{"$f":"IF(B44=\"\",\"\",Données!$E$72)","v":""},""]
["A2020-Murs du sous-sol",null,{"$f":"IF(B45=\"\",\"\",Données!$E$72)","v":""},""]
["B10-Superstructure",null,{"$f":"IF(B46=\"\",\"\",Données!$E$72)","v":""},"",null,null,null,null,null,null,null,null,{"$f":"E46","v":0}]
["B1010-Construction de plancher",null,{"$f":"IF(B47=\"\",\"\",Données!$E$72)","v":""},""]
["B1020-Construction de toiture",null,{"$f":"IF(B48=\"\",\"\",Données!$E$72)","v":""},""]
["Récapitulatif des résultats (discipline)",{"$f":"IF(MIN(B39:B48)=0,\"\",MIN(B39:B48))","v":""},{"$f":"IF(MAX(C39:C48)=0,\"\",MAX(C39:C48))","v":""},{"$f":"IF(MAX(D39,D43,D46)=0,\"\",MAX(D39,D43,D46))","v":""},{"$f":"IF(MAX(E39:E48)=0,\"\",MAX(E39:E48))","v":""},{"$f":"IF(MAX(F39:F48)=0,\"\",MAX(F39:F48))","v":""},null,{"$f":"SUM(H39:H48)","v":0},{"$f":"SUM(I39:I48)","v":0},null,null,null,{"$f":"E49","v":""}]
["Commentaires ou notes explicatives sur les composants majeurs critiques auscultés\n\n(¨  Notes supplémentaires et/ou photos disponibles)"]
["RELEVÉ DES COMPOSANTS MÉCANIQUES"]
["Composants majeurs","Année d'installation","Durée de vie utile","% Durée de vie écoulée","État constaté","Année d'évaluation","Type d'évaluation*","Valeur de remplacement ($)","Coût de l'intervention ($)","Type d'intervention**","Année d'intervention"]
["D10-Moyens de transport",null,{"$f":"IF(B53=\"\",\"\",Données!$E$73)","v":""},{"$f":"IF(B53=\"\",\"\",(Annee_BI-B53)/C53)","v":""},null,null,null,null,null,null,null,null,{"$f":"E53","v":0}]
["D1010-Ascenseurs et monte-charge",null,{"$f":"IF(B54=\"\",\"\",Données!$E$73)","v":""},""]
["D1020-Escaliers mécaniques et trottoirs roulants",null,{"$f":"IF(B55=\"\",\"\",Données!$E$73)","v":""},""]
["D1030-Autres systèmes transporteurs",null,{"$f":"IF(B56=\"\",\"\",Données!$E$73)","v":""},""]
["D20-Plomberie",null,{"$f":"IF(B57=\"\",\"\",Données!$E$73)","v":""},"",null,null,null,null,null,null,null,null,{"$f":"E57","v":0}]
["D2010-Appareils de plomberie",null,{"$f":"IF(B58=\"\",\"\",Données!$E$73)","v":""},""]
["D2020-Réseau d'eau domestique",null,{"$f":"IF(B59=\"\",\"\",Données!$E$73)","v":""},""]
["D2030-Réseau de drainage sanitaire",null,{"$f":"IF(B60=\"\",\"\",Données!$E$73)","v":""},""]
["D2040-Réseau de drainage pluvial",null,{"$f":"IF(B61=\"\",\"\",Données!$E$73)","v":""},""]
["D2090-Autres système de plomberie",null,{"$f":"IF(B62=\"\",\"\",Données!$E$73)","v":""},""]
["D30-CVAC",null,{"$f":"IF(B63=\"\",\"\",Données!$E$73)","v":""},"",null,null,null,null,null,null,null,null,{"$f":"E63","v":0}]
["D3010-Source d'énergie",null,{"$f":"IF(B64=\"\",\"\",Données!$E$73)","v":""},""]
["D3020-Systèmes de production de chaleur",null,{"$f":"IF(B65=\"\",\"\",Données!$E$73)","v":""},""]
["D3030-Sytèmes de production de froid",null,{"$f":"IF(B66=\"\",\"\",Données!$E$73)","v":""},""]
["D3040-Distribution de CVCA",null,{"$f":"IF(B67=\"\",\"\",Données!$E$73)","v":""},""]
["D3050-Unités autonomes ou monoblocs",null,{"$f":"IF(B68=\"\",\"\",Données!$E$73)","v":""},""]
["D3060-Régulation et instrumentation",null,{"$f":"IF(B69=\"\",\"\",Données!$E$73)","v":""},""]
["D3070-Essai et réglage des systèmes",null,{"$f":"IF(B70=\"\",\"\",Données!$E$73)","v":""},""]
["D3090-Autres systèmes ou équipements de CVCA",null,{"$f":"IF(B71=\"\",\"\",Données!$E$73)","v":""},""]
["D40-Protection incendie",null,{"$f":"IF(B72=\"\",\"\",Données!$E$73)","v":""},"",null,null,null,null,null,null,null,null,{"$f":"E72","v":0}]
["D4010-Gicleurs",null,{"$f":"IF(B73=\"\",\"\",Données!$E$73)","v":""},""]
["D4020-Canalisations montantes",null,{"$f":"IF(B74=\"\",\"\",Données!$E$73)","v":""},""]
["D4030-Accessoires de protection incendie",null,{"$f":"IF(B75=\"\",\"\",Données!$E$73)","v":""},""]
["D4090-Autres systèmes de protection incendie",null,{"$f":"IF(B76=\"\",\"\",Données!$E$73)","v":""},""]
["Récapitulatif des résultats (discipline)",{"$f":"IF(MIN(B53:B76)=0,\"\",MIN(B53:B76))","v":""},{"$f":"IF(MAX(C53:C76)=0,\"\",MAX(C53:C76))","v":""},{"$f":"IF(MAX(D53,D57,D63,D72)=0,\"\",MAX(D53,D57,D63,D72))","v":""},{"$f":"IF(MAX(E53:E76)=0,\"\",MAX(E53:E76))","v":""},{"$f":"IF(MAX(F53:F76)=0,\"\",MAX(F53:F76))","v":""},null,{"$f":"SUM(H53:H76)","v":0},{"$f":"SUM(I53:I76)","v":0},null,null,null,{"$f":"E77","v":""}]
["Commentaires ou notes explicatives sur les composants majeurs critiques auscultés\n\n(¨  Notes supplémentaires et/ou photos disponibles)"]
["RELEVÉ DES COMPOSANTS ÉLECTRIQUES"]
["Composants majeurs","Année d'installation","Durée de vie utile","% Durée de vie écoulée","État constaté","Année d'évaluation","Type d'évaluation*","Valeur de remplacement ($)","Coût de l'intervention ($)","Type d'intervention**","Année d'intervention"]
["D50-Électricité",null,{"$f":"IF(B81=\"\",\"\",Données!$E$74)","v":""},{"$f":"IF(B81=\"\",\"\",(Annee_BI-B81)/C81)","v":""},null,null,null,null,null,null,null,null,{"$f":"E81","v":0}]
["D5010-Services et distribution électrique",null,{"$f":"IF(B82=\"\",\"\",Données!$E$74)","v":""},{"$f":"IF(B82=\"\",\"\",(Annee_BI-B82)/C82)","v":""}]
["D5020-Éclairage et distribution secondaire",null,{"$f":"IF(B83=\"\",\"\",Données!$E$74)","v":""},{"$f":"IF(B83=\"\",\"\",(Annee_BI-B83)/C83)","v":""}]
["D5030-Communication & sécurité ",null,{"$f":"IF(B84=\"\",\"\",Données!$E$74)","v":""},{"$f":"IF(B84=\"\",\"\",(Annee_BI-B84)/C84)","v":""}]
["D5090-Autres systèmes électriques",null,{"$f":"IF(B85=\"\",\"\",Données!$E$74)","v":""},{"$f":"IF(B85=\"\",\"\",(Annee_BI-B85)/C85)","v":""}]
["Récapitulatif des résultats (discipline)",{"$f":"IF(MIN(B81:B85)=0,\"\",MIN(B81:B85))","v":""},{"$f":"IF(MAX(C81:C85)=0,\"\",MAX(C81:C85))","v":""},{"$f":"IF(MAX(D82:D85)=0,\"\",MAX(D82:D85))","v":""},{"$f":"IF(MAX(E81:E85)=0,\"\",MAX(E81:E85))","v":""},{"$f":"IF(MAX(F81:F85)=0,\"\",MAX(F81:F85))","v":""},null,{"$f":"SUM(H81:H85)","v":0},{"$f":"SUM(I81:I85)","v":0},null,null,null,{"$f":"E86","v":""}]
["Commentaires ou notes explicatives sur les composants majeurs critiques auscultés\n\n(¨  Notes supplémentaires et/ou photos disponibles)"]

{"sheet":"Bâtiment (11)","index":11,"n_rows":87,"n_cols":13,"rows_kept":87,"cut":false,"hidden":true,"merged":[[1,1,1,5],[1,6,1,7],[1,8,1,10],[2,1,2,5],[2,6,2,7],[2,8,2,10],[10,1,10,10],[3,1,3,5],[3,6,3,7],[3,8,3,10],[4,1,4,5],[4,6,4,7],[4,8,4,10],[5,0,5,11],[6,1,6,10],[7,1,7,10],[8,1,8,10],[9,1,9,10],[50,0,50,11],[77,1,77,10],[78,0,78,11],[86,1,86,10],[11,1,11,10],[12,1,12,10],[14,0,14,11],[35,1,35,10],[36,0,36,11],[49,1,49,10]]}
["IDENTIFICATION DU BÂTIMENT",null,null,null,null,null,null,null,null,"Consulter l'aide se rapportant aux bâtiments"]
["Type d'infrastructure :",{"$f":"IF(Identification!H61=0,\"\",Identification!H61)","v":""},null,null,null,null,"Sous-type d'infrastructure :",null,{"$f":"IF(Identification!H62=0,\"\",Identification!H62)","v":""}]
["Nom commun de l'infrastructure :",{"$f":"IF(Identification!H63=0,\"\",Identification!H63)","v":""},null,null,null,null,"Nom commun du bâtiment :"]
["Année de construction :",{"$f":"Identification!H66","v":0},null,null,null,null,"Année de l'évaluation :"]
["Valeur de remplacement :",{"$f":"IF(H35+H49+H77+H86=0,\"\",H35+H49+H77+H86)","v":""},null,null,null,null,"Autres informations :"]
["CRITÈRES D'ÉVALUATION DES COMPOSANTS"]
["Cote","État constaté"]
[0,"Le composant n'a pas été ausculté."]
[1,"Le composant est récent ou remis à neuf. Son fonctionnement est adéquat."]
[2,"Le composant présente un niveau léger de dégradation ou de défectuosité. Son fonctionnement est adéquat."]
[3,"Le composant présente un niveau modéré de dégradation ou de défectuosité. Son fonctionnement est adéquat."]
[4,"Le composant présente un niveau élevé de dégradation ou de défectuosité. Son fonctionnement est inadéquat."]
[5,"Le composant présente un niveau très élevé de dégradation ou de défectuosité. Le composant est inopérant ou son fonctionnement est intolérable."]
["*Type d'évaluation : Visuelle (V), Opérateur (O), Mesure (M)",null,null,null,null,null,"**Type d'intervention : Ajout (AJ), Remplacement (RP), Réfection majeure (RFM), Expertise complémentaire (DE)"]
["RELEVÉ DES COMPOSANTS ARCHITECTURAUX"]
["Composants majeurs","Année d'installation","Durée de vie utile","% Durée de vie écoulée","État constaté","Année d'évaluation","Type d'évaluation*","Valeur de remplacement ($)","Coût de l'intervention ($)","Type d'intervention**","Année d'intervention",null,{"$f":"B16","v":"Année d'installation"}]
["B20-Enveloppe extérieure",null,{"$f":"IF(B17=\"\",\"\",Données!$E$71)","v":""},{"$f":"IF(B17=\"\",\"\",(Annee_BI-B17)/C17)","v":""},null,null,null,null,null,null,null,null,{"$f":"E17","v":0}]
["B2010-Murs extérieurs",null,{"$f":"IF(B18=\"\",\"\",Données!$E$71)","v":""},""]
["B2020-Fenêtres extérieures",null,{"$f":"IF(B19=\"\",\"\",Données!$E$71)","v":""},""]
["B2030-Portes extérieures",null,{"$f":"IF(B20=\"\",\"\",Données!$E$71)","v":""},""]
["B30-Toit",null,{"$f":"IF(B21=\"\",\"\",Données!$E$71)","v":""},"",null,null,null,null,null,null,null,null,{"$f":"E21","v":0}]
["B3010-Couverture",null,{"$f":"IF(B22=\"\",\"\",Données!$E$71)","v":""},""]
["B3020-Ouvertures du toit",null,{"$f":"IF(B23=\"\",\"\",Données!$E$71)","v":""},""]
["C10-Construction intérieure",null,{"$f":"IF(B24=\"\",\"\",Données!$E$71)","v":""},"",null,null,null,null,null,null,null,null,{"$f":"E24","v":0}]
["C1010-Cloisons",null,{"$f":"IF(B25=\"\",\"\",Données!$E$71)","v":""},""]
["C1020-Portes intérieures",null,{"$f":"IF(B26=\"\",\"\",Données!$E$71)","v":""},""]
["C1030-Accessoires intégrés",null,{"$f":"IF(B27=\"\",\"\",Données!$E$71)","v":""},""]
["C20-Escaliers",null,{"$f":"IF(B28=\"\",\"\",Données!$E$71)","v":""},"",null,null,null,null,null,null,null,null,{"$f":"E28","v":0}]
["C2010-Construction d'escaliers",null,{"$f":"IF(B29=\"\",\"\",Données!$E$71)","v":""},""]
["C2020-Finitions d'escaliers",null,{"$f":"IF(B30=\"\",\"\",Données!$E$71)","v":""},""]
["C30-Finitions intérieures",null,{"$f":"IF(B31=\"\",\"\",Données!$E$71)","v":""},"",null,null,null,null,null,null,null,null,{"$f":"E31","v":0}]
["C3010-Finitions de murs",null,{"$f":"IF(B32=\"\",\"\",Données!$E$71)","v":""},""]
["C3020-Finitions de planchers",null,{"$f":"IF(B33=\"\",\"\",Données!$E$71)","v":""},""]
["C3030-Finitions de plafonds",null,{"$f":"IF(B34=\"\",\"\",Données!$E$71)","v":""},""]
["Récapitulatif des résultats (discipline)",{"$f":"IF(MIN(B17:B34)=0,\"\",MIN(B17:B34))","v":""},{"$f":"IF(MAX(C17:C34)=0,\"\",MAX(C17:C34))","v":""},{"$f":"IF(MAX(D17,D21,D24,D28,D31)=0,\"\",MAX(D17,D21,D24,D28,D31))","v":""},{"$f":"IF(MAX(E17:E34)=0,\"\",MAX(E17:E34))","v":""},{"$f":"IF(MAX(F17:F34)=0,\"\",MAX(F17:F34))","v":""},null,{"$f":"SUM(H17:H34)","v":0},{"$f":"SUM(I17:I34)","v":0},null,null,null,{"$f":"E35","v":""}]
["Commentaires ou notes explicatives sur les composants majeurs critiques auscultés\n\n(¨  Notes supplémentaires et/ou photos disponibles)"]
["RELEVÉ DES COMPOSANTS CIVILS"]
["Composants majeurs","Année d'installation","Durée de vie utile","% Durée de vie écoulée","État constaté","Année d'évaluation","Type d'évaluation*","Valeur de remplacement ($)","Coût de l'intervention ($)","Type d'intervention**","Année d'intervention"]
["A10-Fondations",null,{"$f":"IF(B39=\"\",\"\",Données!$E$72)","v":""},{"$f":"IF(B39=\"\",\"\",(Annee_BI-B39)/C39)","v":""},null,null,null,null,null,null,null,null,{"$f":"E39","v":0}]
["A1010-Fondations standard",null,{"$f":"IF(B40=\"\",\"\",Données!$E$72)","v":""},""]
["A1020-Finitions spéciales",null,{"$f":"IF(B41=\"\",\"\",Données!$E$72)","v":""},""]
["A1030-Dalle inférieure",null,{"$f":"IF(B42=\"\",\"\",Données!$E$72)","v":""},""]
["A20-Construction du sous-sol",null,{"$f":"IF(B43=\"\",\"\",Données!$E$72)","v":""},"",null,null,null,null,null,null,null,null,{"$f":"E43","v":0}]
["A2010-Excavation du sous-sol",null,{"$f":"IF(B44=\"\",\"\",Données!$E$72)","v":""},""]
["A2020-Murs du sous-sol",null,{"$f":"IF(B45=\"\",\"\",Données!$E$72)","v":""},""]
["B10-Superstructure",null,{"$f":"IF(B46=\"\",\"\",Données!$E$72)","v":""},"",null,null,null,null,null,null,null,null,{"$f":"E46","v":0}]
["B1010-Construction de plancher",null,{"$f":"IF(B47=\"\",\"\",Données!$E$72)","v":""},""]
["B1020-Construction de toiture",null,{"$f":"IF(B48=\"\",\"\",Données!$E$72)","v":""},""]
["Récapitulatif des résultats (discipline)",{"$f":"IF(MIN(B39:B48)=0,\"\",MIN(B39:B48))","v":""},{"$f":"IF(MAX(C39:C48)=0,\"\",MAX(C39:C48))","v":""},{"$f":"IF(MAX(D39,D43,D46)=0,\"\",MAX(D39,D43,D46))","v":""},{"$f":"IF(MAX(E39:E48)=0,\"\",MAX(E39:E48))","v":""},{"$f":"IF(MAX(F39:F48)=0,\"\",MAX(F39:F48))","v":""},null,{"$f":"SUM(H39:H48)","v":0},{"$f":"SUM(I39:I48)","v":0},null,null,null,{"$f":"E49","v":""}]
["Commentaires ou notes explicatives sur les composants majeurs critiques auscultés\n\n(¨  Notes supplémentaires et/ou photos disponibles)"]
["RELEVÉ DES COMPOSANTS MÉCANIQUES"]
["Composants majeurs","Année d'installation","Durée de vie utile","% Durée de vie écoulée","État constaté","Année d'évaluation","Type d'évaluation*","Valeur de remplacement ($)","Coût de l'intervention ($)","Type d'intervention**","Année d'intervention"]
["D10-Moyens de transport",null,{"$f":"IF(B53=\"\",\"\",Données!$E$73)","v":""},{"$f":"IF(B53=\"\",\"\",(Annee_BI-B53)/C53)","v":""},null,null,null,null,null,null,null,null,{"$f":"E53","v":0}]
["D1010-Ascenseurs et monte-charge",null,{"$f":"IF(B54=\"\",\"\",Données!$E$73)","v":""},""]
["D1020-Escaliers mécaniques et trottoirs roulants",null,{"$f":"IF(B55=\"\",\"\",Données!$E$73)","v":""},""]
["D1030-Autres systèmes transporteurs",null,{"$f":"IF(B56=\"\",\"\",Données!$E$73)","v":""},""]
["D20-Plomberie",null,{"$f":"IF(B57=\"\",\"\",Données!$E$73)","v":""},"",null,null,null,null,null,null,null,null,{"$f":"E57","v":0}]
["D2010-Appareils de plomberie",null,{"$f":"IF(B58=\"\",\"\",Données!$E$73)","v":""},""]
["D2020-Réseau d'eau domestique",null,{"$f":"IF(B59=\"\",\"\",Données!$E$73)","v":""},""]
["D2030-Réseau de drainage sanitaire",null,{"$f":"IF(B60=\"\",\"\",Données!$E$73)","v":""},""]
["D2040-Réseau de drainage pluvial",null,{"$f":"IF(B61=\"\",\"\",Données!$E$73)","v":""},""]
["D2090-Autres système de plomberie",null,{"$f":"IF(B62=\"\",\"\",Données!$E$73)","v":""},""]
["D30-CVAC",null,{"$f":"IF(B63=\"\",\"\",Données!$E$73)","v":""},"",null,null,null,null,null,null,null,null,{"$f":"E63","v":0}]
["D3010-Source d'énergie",null,{"$f":"IF(B64=\"\",\"\",Données!$E$73)","v":""},""]
["D3020-Systèmes de production de chaleur",null,{"$f":"IF(B65=\"\",\"\",Données!$E$73)","v":""},""]
["D3030-Sytèmes de production de froid",null,{"$f":"IF(B66=\"\",\"\",Données!$E$73)","v":""},""]
["D3040-Distribution de CVCA",null,{"$f":"IF(B67=\"\",\"\",Données!$E$73)","v":""},""]
["D3050-Unités autonomes ou monoblocs",null,{"$f":"IF(B68=\"\",\"\",Données!$E$73)","v":""},""]
["D3060-Régulation et instrumentation",null,{"$f":"IF(B69=\"\",\"\",Données!$E$73)","v":""},""]
["D3070-Essai et réglage des systèmes",null,{"$f":"IF(B70=\"\",\"\",Données!$E$73)","v":""},""]
["D3090-Autres systèmes ou équipements de CVCA",null,{"$f":"IF(B71=\"\",\"\",Données!$E$73)","v":""},""]
["D40-Protection incendie",null,{"$f":"IF(B72=\"\",\"\",Données!$E$73)","v":""},"",null,null,null,null,null,null,null,null,{"$f":"E72","v":0}]
["D4010-Gicleurs",null,{"$f":"IF(B73=\"\",\"\",Données!$E$73)","v":""},""]
["D4020-Canalisations montantes",null,{"$f":"IF(B74=\"\",\"\",Données!$E$73)","v":""},""]
["D4030-Accessoires de protection incendie",null,{"$f":"IF(B75=\"\",\"\",Données!$E$73)","v":""},""]
["D4090-Autres systèmes de protection incendie",null,{"$f":"IF(B76=\"\",\"\",Données!$E$73)","v":""},""]
["Récapitulatif des résultats (discipline)",{"$f":"IF(MIN(B53:B76)=0,\"\",MIN(B53:B76))","v":""},{"$f":"IF(MAX(C53:C76)=0,\"\",MAX(C53:C76))","v":""},{"$f":"IF(MAX(D53,D57,D63,D72)=0,\"\",MAX(D53,D57,D63,D72))","v":""},{"$f":"IF(MAX(E53:E76)=0,\"\",MAX(E53:E76))","v":""},{"$f":"IF(MAX(F53:F76)=0,\"\",MAX(F53:F76))","v":""},null,{"$f":"SUM(H53:H76)","v":0},{"$f":"SUM(I53:I76)","v":0},null,null,null,{"$f":"E77","v":""}]
["Commentaires ou notes explicatives sur les composants majeurs critiques auscultés\n\n(¨  Notes supplémentaires et/ou photos disponibles)"]
["RELEVÉ DES COMPOSANTS ÉLECTRIQUES"]
["Composants majeurs","Année d'installation","Durée de vie utile","% Durée de vie écoulée","État constaté","Année d'évaluation","Type d'évaluation*","Valeur de remplacement ($)","Coût de l'intervention ($)","Type d'intervention**","Année d'intervention"]
["D50-Électricité",null,{"$f":"IF(B81=\"\",\"\",Données!$E$74)","v":""},{"$f":"IF(B81=\"\",\"\",(Annee_BI-B81)/C81)","v":""},null,null,null,null,null,null,null,null,{"$f":"E81","v":0}]
["D5010-Services et distribution électrique",null,{"$f":"IF(B82=\"\",\"\",Données!$E$74)","v":""},{"$f":"IF(B82=\"\",\"\",(Annee_BI-B82)/C82)","v":""}]
["D5020-Éclairage et distribution secondaire",null,{"$f":"IF(B83=\"\",\"\",Données!$E$74)","v":""},{"$f":"IF(B83=\"\",\"\",(Annee_BI-B83)/C83)","v":""}]
["D5030-Communication & sécurité ",null,{"$f":"IF(B84=\"\",\"\",Données!$E$74)","v":""},{"$f":"IF(B84=\"\",\"\",(Annee_BI-B84)/C84)","v":""}]
["D5090-Autres systèmes électriques",null,{"$f":"IF(B85=\"\",\"\",Données!$E$74)","v":""},{"$f":"IF(B85=\"\",\"\",(Annee_BI-B85)/C85)","v":""}]
["Récapitulatif des résultats (discipline)",{"$f":"IF(MIN(B81:B85)=0,\"\",MIN(B81:B85))","v":""},{"$f":"IF(MAX(C81:C85)=0,\"\",MAX(C81:C85))","v":""},{"$f":"IF(MAX(D82:D85)=0,\"\",MAX(D82:D85))","v":""},{"$f":"IF(MAX(E81:E85)=0,\"\",MAX(E81:E85))","v":""},{"$f":"IF(MAX(F81:F85)=0,\"\",MAX(F81:F85))","v":""},null,{"$f":"SUM(H81:H85)","v":0},{"$f":"SUM(I81:I85)","v":0},null,null,null,{"$f":"E86","v":""}]
["Commentaires ou notes explicatives sur les composants majeurs critiques auscultés\n\n(¨  Notes supplémentaires et/ou photos disponibles)"]

{"sheet":"Bâtiment (12)","index":12,"n_rows":87,"n_cols":13,"rows_kept":87,"cut":false,"hidden":true,"merged":[[1,1,1,5],[1,6,1,7],[1,8,1,10],[2,1,2,5],[2,6,2,7],[2,8,2,10],[10,1,10,10],[3,1,3,5],[3,6,3,7],[3,8,3,10],[4,1,4,5],[4,6,4,7],[4,8,4,10],[5,0,5,11],[6,1,6,10],[7,1,7,10],[8,1,8,10],[9,1,9,10],[50,0,50,11],[77,1,77,10],[78,0,78,11],[86,1,86,10],[11,1,11,10],[12,1,12,10],[14,0,14,11],[35,1,35,10],[36,0,36,11],[49,1,49,10]]}
["IDENTIFICATION DU BÂTIMENT",null,null,null,null,null,null,null,null,"Consulter l'aide se rapportant aux bâtiments"]
["Type d'infrastructure :",{"$f":"IF(Identification!H61=0,\"\",Identification!H61)","v":""},null,null,null,null,"Sous-type d'infrastructure :",null,{"$f":"IF(Identification!H62=0,\"\",Identification!H62)","v":""}]
["Nom commun de l'infrastructure :",{"$f":"IF(Identification!H63=0,\"\",Identification!H63)","v":""},null,null,null,null,"Nom commun du bâtiment :"]
["Année de construction :",{"$f":"Identification!H66","v":0},null,null,null,null,"Année de l'évaluation :"]
["Valeur de remplacement :",{"$f":"IF(H35+H49+H77+H86=0,\"\",H35+H49+H77+H86)","v":""},null,null,null,null,"Autres informations :"]
["CRITÈRES D'ÉVALUATION DES COMPOSANTS"]
["Cote","État constaté"]
[0,"Le composant n'a pas été ausculté."]
[1,"Le composant est récent ou remis à neuf. Son fonctionnement est adéquat."]
[2,"Le composant présente un niveau léger de dégradation ou de défectuosité. Son fonctionnement est adéquat."]
[3,"Le composant présente un niveau modéré de dégradation ou de défectuosité. Son fonctionnement est adéquat."]
[4,"Le composant présente un niveau élevé de dégradation ou de défectuosité. Son fonctionnement est inadéquat."]
[5,"Le composant présente un niveau très élevé de dégradation ou de défectuosité. Le composant est inopérant ou son fonctionnement est intolérable."]
["*Type d'évaluation : Visuelle (V), Opérateur (O), Mesure (M)",null,null,null,null,null,"**Type d'intervention : Ajout (AJ), Remplacement (RP), Réfection majeure (RFM), Expertise complémentaire (DE)"]
["RELEVÉ DES COMPOSANTS ARCHITECTURAUX"]
["Composants majeurs","Année d'installation","Durée de vie utile","% Durée de vie écoulée","État constaté","Année d'évaluation","Type d'évaluation*","Valeur de remplacement ($)","Coût de l'intervention ($)","Type d'intervention**","Année d'intervention",null,{"$f":"B16","v":"Année d'installation"}]
["B20-Enveloppe extérieure",null,{"$f":"IF(B17=\"\",\"\",Données!$E$71)","v":""},{"$f":"IF(B17=\"\",\"\",(Annee_BI-B17)/C17)","v":""},null,null,null,null,null,null,null,null,{"$f":"E17","v":0}]
["B2010-Murs extérieurs",null,{"$f":"IF(B18=\"\",\"\",Données!$E$71)","v":""},""]
["B2020-Fenêtres extérieures",null,{"$f":"IF(B19=\"\",\"\",Données!$E$71)","v":""},""]
["B2030-Portes extérieures",null,{"$f":"IF(B20=\"\",\"\",Données!$E$71)","v":""},""]
["B30-Toit",null,{"$f":"IF(B21=\"\",\"\",Données!$E$71)","v":""},"",null,null,null,null,null,null,null,null,{"$f":"E21","v":0}]
["B3010-Couverture",null,{"$f":"IF(B22=\"\",\"\",Données!$E$71)","v":""},""]
["B3020-Ouvertures du toit",null,{"$f":"IF(B23=\"\",\"\",Données!$E$71)","v":""},""]
["C10-Construction intérieure",null,{"$f":"IF(B24=\"\",\"\",Données!$E$71)","v":""},"",null,null,null,null,null,null,null,null,{"$f":"E24","v":0}]
["C1010-Cloisons",null,{"$f":"IF(B25=\"\",\"\",Données!$E$71)","v":""},""]
["C1020-Portes intérieures",null,{"$f":"IF(B26=\"\",\"\",Données!$E$71)","v":""},""]
["C1030-Accessoires intégrés",null,{"$f":"IF(B27=\"\",\"\",Données!$E$71)","v":""},""]
["C20-Escaliers",null,{"$f":"IF(B28=\"\",\"\",Données!$E$71)","v":""},"",null,null,null,null,null,null,null,null,{"$f":"E28","v":0}]
["C2010-Construction d'escaliers",null,{"$f":"IF(B29=\"\",\"\",Données!$E$71)","v":""},""]
["C2020-Finitions d'escaliers",null,{"$f":"IF(B30=\"\",\"\",Données!$E$71)","v":""},""]
["C30-Finitions intérieures",null,{"$f":"IF(B31=\"\",\"\",Données!$E$71)","v":""},"",null,null,null,null,null,null,null,null,{"$f":"E31","v":0}]
["C3010-Finitions de murs",null,{"$f":"IF(B32=\"\",\"\",Données!$E$71)","v":""},""]
["C3020-Finitions de planchers",null,{"$f":"IF(B33=\"\",\"\",Données!$E$71)","v":""},""]
["C3030-Finitions de plafonds",null,{"$f":"IF(B34=\"\",\"\",Données!$E$71)","v":""},""]
["Récapitulatif des résultats (discipline)",{"$f":"IF(MIN(B17:B34)=0,\"\",MIN(B17:B34))","v":""},{"$f":"IF(MAX(C17:C34)=0,\"\",MAX(C17:C34))","v":""},{"$f":"IF(MAX(D17,D21,D24,D28,D31)=0,\"\",MAX(D17,D21,D24,D28,D31))","v":""},{"$f":"IF(MAX(E17:E34)=0,\"\",MAX(E17:E34))","v":""},{"$f":"IF(MAX(F17:F34)=0,\"\",MAX(F17:F34))","v":""},null,{"$f":"SUM(H17:H34)","v":0},{"$f":"SUM(I17:I34)","v":0},null,null,null,{"$f":"E35","v":""}]
["Commentaires ou notes explicatives sur les composants majeurs critiques auscultés\n\n(¨  Notes supplémentaires et/ou photos disponibles)"]
["RELEVÉ DES COMPOSANTS CIVILS"]
["Composants majeurs","Année d'installation","Durée de vie utile","% Durée de vie écoulée","État constaté","Année d'évaluation","Type d'évaluation*","Valeur de remplacement ($)","Coût de l'intervention ($)","Type d'intervention**","Année d'intervention"]
["A10-Fondations",null,{"$f":"IF(B39=\"\",\"\",Données!$E$72)","v":""},{"$f":"IF(B39=\"\",\"\",(Annee_BI-B39)/C39)","v":""},null,null,null,null,null,null,null,null,{"$f":"E39","v":0}]
["A1010-Fondations standard",null,{"$f":"IF(B40=\"\",\"\",Données!$E$72)","v":""},""]
["A1020-Finitions spéciales",null,{"$f":"IF(B41=\"\",\"\",Données!$E$72)","v":""},""]
["A1030-Dalle inférieure",null,{"$f":"IF(B42=\"\",\"\",Données!$E$72)","v":""},""]
["A20-Construction du sous-sol",null,{"$f":"IF(B43=\"\",\"\",Données!$E$72)","v":""},"",null,null,null,null,null,null,null,null,{"$f":"E43","v":0}]
["A2010-Excavation du sous-sol",null,{"$f":"IF(B44=\"\",\"\",Données!$E$72)","v":""},""]
["A2020-Murs du sous-sol",null,{"$f":"IF(B45=\"\",\"\",Données!$E$72)","v":""},""]
["B10-Superstructure",null,{"$f":"IF(B46=\"\",\"\",Données!$E$72)","v":""},"",null,null,null,null,null,null,null,null,{"$f":"E46","v":0}]
["B1010-Construction de plancher",null,{"$f":"IF(B47=\"\",\"\",Données!$E$72)","v":""},""]
["B1020-Construction de toiture",null,{"$f":"IF(B48=\"\",\"\",Données!$E$72)","v":""},""]
["Récapitulatif des résultats (discipline)",{"$f":"IF(MIN(B39:B48)=0,\"\",MIN(B39:B48))","v":""},{"$f":"IF(MAX(C39:C48)=0,\"\",MAX(C39:C48))","v":""},{"$f":"IF(MAX(D39,D43,D46)=0,\"\",MAX(D39,D43,D46))","v":""},{"$f":"IF(MAX(E39:E48)=0,\"\",MAX(E39:E48))","v":""},{"$f":"IF(MAX(F39:F48)=0,\"\",MAX(F39:F48))","v":""},null,{"$f":"SUM(H39:H48)","v":0},{"$f":"SUM(I39:I48)","v":0},null,null,null,{"$f":"E49","v":""}]
["Commentaires ou notes explicatives sur les composants majeurs critiques auscultés\n\n(¨  Notes supplémentaires et/ou photos disponibles)"]
["RELEVÉ DES COMPOSANTS MÉCANIQUES"]
["Composants majeurs","Année d'installation","Durée de vie utile","% Durée de vie écoulée","État constaté","Année d'évaluation","Type d'évaluation*","Valeur de remplacement ($)","Coût de l'intervention ($)","Type d'intervention**","Année d'intervention"]
["D10-Moyens de transport",null,{"$f":"IF(B53=\"\",\"\",Données!$E$73)","v":""},{"$f":"IF(B53=\"\",\"\",(Annee_BI-B53)/C53)","v":""},null,null,null,null,null,null,null,null,{"$f":"E53","v":0}]
["D1010-Ascenseurs et monte-charge",null,{"$f":"IF(B54=\"\",\"\",Données!$E$73)","v":""},""]
["D1020-Escaliers mécaniques et trottoirs roulants",null,{"$f":"IF(B55=\"\",\"\",Données!$E$73)","v":""},""]
["D1030-Autres systèmes transporteurs",null,{"$f":"IF(B56=\"\",\"\",Données!$E$73)","v":""},""]
["D20-Plomberie",null,{"$f":"IF(B57=\"\",\"\",Données!$E$73)","v":""},"",null,null,null,null,null,null,null,null,{"$f":"E57","v":0}]
["D2010-Appareils de plomberie",null,{"$f":"IF(B58=\"\",\"\",Données!$E$73)","v":""},""]
["D2020-Réseau d'eau domestique",null,{"$f":"IF(B59=\"\",\"\",Données!$E$73)","v":""},""]
["D2030-Réseau de drainage sanitaire",null,{"$f":"IF(B60=\"\",\"\",Données!$E$73)","v":""},""]
["D2040-Réseau de drainage pluvial",null,{"$f":"IF(B61=\"\",\"\",Données!$E$73)","v":""},""]
["D2090-Autres système de plomberie",null,{"$f":"IF(B62=\"\",\"\",Données!$E$73)","v":""},""]
["D30-CVAC",null,{"$f":"IF(B63=\"\",\"\",Données!$E$73)","v":""},"",null,null,null,null,null,null,null,null,{"$f":"E63","v":0}]
["D3010-Source d'énergie",null,{"$f":"IF(B64=\"\",\"\",Données!$E$73)","v":""},""]
["D3020-Systèmes de production de chaleur",null,{"$f":"IF(B65=\"\",\"\",Données!$E$73)","v":""},""]
["D3030-Sytèmes de production de froid",null,{"$f":"IF(B66=\"\",\"\",Données!$E$73)","v":""},""]
["D3040-Distribution de CVCA",null,{"$f":"IF(B67=\"\",\"\",Données!$E$73)","v":""},""]
["D3050-Unités autonomes ou monoblocs",null,{"$f":"IF(B68=\"\",\"\",Données!$E$73)","v":""},""]
["D3060-Régulation et instrumentation",null,{"$f":"IF(B69=\"\",\"\",Données!$E$73)","v":""},""]
["D3070-Essai et réglage des systèmes",null,{"$f":"IF(B70=\"\",\"\",Données!$E$73)","v":""},""]
["D3090-Autres systèmes ou équipements de CVCA",null,{"$f":"IF(B71=\"\",\"\",Données!$E$73)","v":""},""]
["D40-Protection incendie",null,{"$f":"IF(B72=\"\",\"\",Données!$E$73)","v":""},"",null,null,null,null,null,null,null,null,{"$f":"E72","v":0}]
["D4010-Gicleurs",null,{"$f":"IF(B73=\"\",\"\",Données!$E$73)","v":""},""]
["D4020-Canalisations montantes",null,{"$f":"IF(B74=\"\",\"\",Données!$E$73)","v":""},""]
["D4030-Accessoires de protection incendie",null,{"$f":"IF(B75=\"\",\"\",Données!$E$73)","v":""},""]
["D4090-Autres systèmes de protection incendie",null,{"$f":"IF(B76=\"\",\"\",Données!$E$73)","v":""},""]
["Récapitulatif des résultats (discipline)",{"$f":"IF(MIN(B53:B76)=0,\"\",MIN(B53:B76))","v":""},{"$f":"IF(MAX(C53:C76)=0,\"\",MAX(C53:C76))","v":""},{"$f":"IF(MAX(D53,D57,D63,D72)=0,\"\",MAX(D53,D57,D63,D72))","v":""},{"$f":"IF(MAX(E53:E76)=0,\"\",MAX(E53:E76))","v":""},{"$f":"IF(MAX(F53:F76)=0,\"\",MAX(F53:F76))","v":""},null,{"$f":"SUM(H53:H76)","v":0},{"$f":"SUM(I53:I76)","v":0},null,null,null,{"$f":"E77","v":""}]
["Commentaires ou notes explicatives sur les composants majeurs critiques auscultés\n\n(¨  Notes supplémentaires et/ou photos disponibles)"]
["RELEVÉ DES COMPOSANTS ÉLECTRIQUES"]
["Composants majeurs","Année d'installation","Durée de vie utile","% Durée de vie écoulée","État constaté","Année d'évaluation","Type d'évaluation*","Valeur de remplacement ($)","Coût de l'intervention ($)","Type d'intervention**","Année d'intervention"]
["D50-Électricité",null,{"$f":"IF(B81=\"\",\"\",Données!$E$74)","v":""},{"$f":"IF(B81=\"\",\"\",(Annee_BI-B81)/C81)","v":""},null,null,null,null,null,null,null,null,{"$f":"E81","v":0}]
["D5010-Services et distribution électrique",null,{"$f":"IF(B82=\"\",\"\",Données!$E$74)","v":""},{"$f":"IF(B82=\"\",\"\",(Annee_BI-B82)/C82)","v":""}]
["D5020-Éclairage et distribution secondaire",null,{"$f":"IF(B83=\"\",\"\",Données!$E$74)","v":""},{"$f":"IF(B83=\"\",\"\",(Annee_BI-B83)/C83)","v":""}]
["D5030-Communication & sécurité ",null,{"$f":"IF(B84=\"\",\"\",Données!$E$74)","v":""},{"$f":"IF(B84=\"\",\"\",(Annee_BI-B84)/C84)","v":""}]
["D5090-Autres systèmes électriques",null,{"$f":"IF(B85=\"\",\"\",Données!$E$74)","v":""},{"$f":"IF(B85=\"\",\"\",(Annee_BI-B85)/C85)","v":""}]
["Récapitulatif des résultats (discipline)",{"$f":"IF(MIN(B81:B85)=0,\"\",MIN(B81:B85))","v":""},{"$f":"IF(MAX(C81:C85)=0,\"\",MAX(C81:C85))","v":""},{"$f":"IF(MAX(D82:D85)=0,\"\",MAX(D82:D85))","v":""},{"$f":"IF(MAX(E81:E85)=0,\"\",MAX(E81:E85))","v":""},{"$f":"IF(MAX(F81:F85)=0,\"\",MAX(F81:F85))","v":""},null,{"$f":"SUM(H81:H85)","v":0},{"$f":"SUM(I81:I85)","v":0},null,null,null,{"$f":"E86","v":""}]
["Commentaires ou notes explicatives sur les composants majeurs critiques auscultés\n\n(¨  Notes supplémentaires et/ou photos disponibles)"]

{"sheet":"Bâtiment (13)","index":13,"n_rows":87,"n_cols":13,"rows_kept":87,"cut":false,"hidden":true,"merged":[[1,1,1,5],[1,6,1,7],[1,8,1,10],[2,1,2,5],[2,6,2,7],[2,8,2,10],[10,1,10,10],[3,1,3,5],[3,6,3,7],[3,8,3,10],[4,1,4,5],[4,6,4,7],[4,8,4,10],[5,0,5,11],[6,1,6,10],[7,1,7,10],[8,1,8,10],[9,1,9,10],[50,0,50,11],[77,1,77,10],[78,0,78,11],[86,1,86,10],[11,1,11,10],[12,1,12,10],[14,0,14,11],[35,1,35,10],[36,0,36,11],[49,1,49,10]]}
["IDENTIFICATION DU BÂTIMENT",null,null,null,null,null,null,null,null,"Consulter l'aide se rapportant aux bâtiments"]
["Type d'infrastructure :",{"$f":"IF(Identification!H61=0,\"\",Identification!H61)","v":""},null,null,null,null,"Sous-type d'infrastructure :",null,{"$f":"IF(Identification!H62=0,\"\",Identification!H62)","v":""}]
["Nom commun de l'infrastructure :",{"$f":"IF(Identification!H63=0,\"\",Identification!H63)","v":""},null,null,null,null,"Nom commun du bâtiment :"]
["Année de construction :",{"$f":"Identification!H66","v":0},null,null,null,null,"Année de l'évaluation :"]
["Valeur de remplacement :",{"$f":"IF(H35+H49+H77+H86=0,\"\",H35+H49+H77+H86)","v":""},null,null,null,null,"Autres informations :"]
["CRITÈRES D'ÉVALUATION DES COMPOSANTS"]
["Cote","État constaté"]
[0,"Le composant n'a pas été ausculté."]
[1,"Le composant est récent ou remis à neuf. Son fonctionnement est adéquat."]
[2,"Le composant présente un niveau léger de dégradation ou de défectuosité. Son fonctionnement est adéquat."]
[3,"Le composant présente un niveau modéré de dégradation ou de défectuosité. Son fonctionnement est adéquat."]
[4,"Le composant présente un niveau élevé de dégradation ou de défectuosité. Son fonctionnement est inadéquat."]
[5,"Le composant présente un niveau très élevé de dégradation ou de défectuosité. Le composant est inopérant ou son fonctionnement est intolérable."]
["*Type d'évaluation : Visuelle (V), Opérateur (O), Mesure (M)",null,null,null,null,null,"**Type d'intervention : Ajout (AJ), Remplacement (RP), Réfection majeure (RFM), Expertise complémentaire (DE)"]
["RELEVÉ DES COMPOSANTS ARCHITECTURAUX"]
["Composants majeurs","Année d'installation","Durée de vie utile","% Durée de vie écoulée","État constaté","Année d'évaluation","Type d'évaluation*","Valeur de remplacement ($)","Coût de l'intervention ($)","Type d'intervention**","Année d'intervention",null,{"$f":"B16","v":"Année d'installation"}]
["B20-Enveloppe extérieure",null,{"$f":"IF(B17=\"\",\"\",Données!$E$71)","v":""},{"$f":"IF(B17=\"\",\"\",(Annee_BI-B17)/C17)","v":""},null,null,null,null,null,null,null,null,{"$f":"E17","v":0}]
["B2010-Murs extérieurs",null,{"$f":"IF(B18=\"\",\"\",Données!$E$71)","v":""},""]
["B2020-Fenêtres extérieures",null,{"$f":"IF(B19=\"\",\"\",Données!$E$71)","v":""},""]
["B2030-Portes extérieures",null,{"$f":"IF(B20=\"\",\"\",Données!$E$71)","v":""},""]
["B30-Toit",null,{"$f":"IF(B21=\"\",\"\",Données!$E$71)","v":""},"",null,null,null,null,null,null,null,null,{"$f":"E21","v":0}]
["B3010-Couverture",null,{"$f":"IF(B22=\"\",\"\",Données!$E$71)","v":""},""]
["B3020-Ouvertures du toit",null,{"$f":"IF(B23=\"\",\"\",Données!$E$71)","v":""},""]
["C10-Construction intérieure",null,{"$f":"IF(B24=\"\",\"\",Données!$E$71)","v":""},"",null,null,null,null,null,null,null,null,{"$f":"E24","v":0}]
["C1010-Cloisons",null,{"$f":"IF(B25=\"\",\"\",Données!$E$71)","v":""},""]
["C1020-Portes intérieures",null,{"$f":"IF(B26=\"\",\"\",Données!$E$71)","v":""},""]
["C1030-Accessoires intégrés",null,{"$f":"IF(B27=\"\",\"\",Données!$E$71)","v":""},""]
["C20-Escaliers",null,{"$f":"IF(B28=\"\",\"\",Données!$E$71)","v":""},"",null,null,null,null,null,null,null,null,{"$f":"E28","v":0}]
["C2010-Construction d'escaliers",null,{"$f":"IF(B29=\"\",\"\",Données!$E$71)","v":""},""]
["C2020-Finitions d'escaliers",null,{"$f":"IF(B30=\"\",\"\",Données!$E$71)","v":""},""]
["C30-Finitions intérieures",null,{"$f":"IF(B31=\"\",\"\",Données!$E$71)","v":""},"",null,null,null,null,null,null,null,null,{"$f":"E31","v":0}]
["C3010-Finitions de murs",null,{"$f":"IF(B32=\"\",\"\",Données!$E$71)","v":""},""]
["C3020-Finitions de planchers",null,{"$f":"IF(B33=\"\",\"\",Données!$E$71)","v":""},""]
["C3030-Finitions de plafonds",null,{"$f":"IF(B34=\"\",\"\",Données!$E$71)","v":""},""]
["Récapitulatif des résultats (discipline)",{"$f":"IF(MIN(B17:B34)=0,\"\",MIN(B17:B34))","v":""},{"$f":"IF(MAX(C17:C34)=0,\"\",MAX(C17:C34))","v":""},{"$f":"IF(MAX(D17,D21,D24,D28,D31)=0,\"\",MAX(D17,D21,D24,D28,D31))","v":""},{"$f":"IF(MAX(E17:E34)=0,\"\",MAX(E17:E34))","v":""},{"$f":"IF(MAX(F17:F34)=0,\"\",MAX(F17:F34))","v":""},null,{"$f":"SUM(H17:H34)","v":0},{"$f":"SUM(I17:I34)","v":0},null,null,null,{"$f":"E35","v":""}]
["Commentaires ou notes explicatives sur les composants majeurs critiques auscultés\n\n(¨  Notes supplémentaires et/ou photos disponibles)"]
["RELEVÉ DES COMPOSANTS CIVILS"]
["Composants majeurs","Année d'installation","Durée de vie utile","% Durée de vie écoulée","État constaté","Année d'évaluation","Type d'évaluation*","Valeur de remplacement ($)","Coût de l'intervention ($)","Type d'intervention**","Année d'intervention"]
["A10-Fondations",null,{"$f":"IF(B39=\"\",\"\",Données!$E$72)","v":""},{"$f":"IF(B39=\"\",\"\",(Annee_BI-B39)/C39)","v":""},null,null,null,null,null,null,null,null,{"$f":"E39","v":0}]
["A1010-Fondations standard",null,{"$f":"IF(B40=\"\",\"\",Données!$E$72)","v":""},""]
["A1020-Finitions spéciales",null,{"$f":"IF(B41=\"\",\"\",Données!$E$72)","v":""},""]
["A1030-Dalle inférieure",null,{"$f":"IF(B42=\"\",\"\",Données!$E$72)","v":""},""]
["A20-Construction du sous-sol",null,{"$f":"IF(B43=\"\",\"\",Données!$E$72)","v":""},"",null,null,null,null,null,null,null,null,{"$f":"E43","v":0}]
["A2010-Excavation du sous-sol",null,{"$f":"IF(B44=\"\",\"\",Données!$E$72)","v":""},""]
["A2020-Murs du sous-sol",null,{"$f":"IF(B45=\"\",\"\",Données!$E$72)","v":""},""]
["B10-Superstructure",null,{"$f":"IF(B46=\"\",\"\",Données!$E$72)","v":""},"",null,null,null,null,null,null,null,null,{"$f":"E46","v":0}]
["B1010-Construction de plancher",null,{"$f":"IF(B47=\"\",\"\",Données!$E$72)","v":""},""]
["B1020-Construction de toiture",null,{"$f":"IF(B48=\"\",\"\",Données!$E$72)","v":""},""]
["Récapitulatif des résultats (discipline)",{"$f":"IF(MIN(B39:B48)=0,\"\",MIN(B39:B48))","v":""},{"$f":"IF(MAX(C39:C48)=0,\"\",MAX(C39:C48))","v":""},{"$f":"IF(MAX(D39,D43,D46)=0,\"\",MAX(D39,D43,D46))","v":""},{"$f":"IF(MAX(E39:E48)=0,\"\",MAX(E39:E48))","v":""},{"$f":"IF(MAX(F39:F48)=0,\"\",MAX(F39:F48))","v":""},null,{"$f":"SUM(H39:H48)","v":0},{"$f":"SUM(I39:I48)","v":0},null,null,null,{"$f":"E49","v":""}]
["Commentaires ou notes explicatives sur les composants majeurs critiques auscultés\n\n(¨  Notes supplémentaires et/ou photos disponibles)"]
["RELEVÉ DES COMPOSANTS MÉCANIQUES"]
["Composants majeurs","Année d'installation","Durée de vie utile","% Durée de vie écoulée","État constaté","Année d'évaluation","Type d'évaluation*","Valeur de remplacement ($)","Coût de l'intervention ($)","Type d'intervention**","Année d'intervention"]
["D10-Moyens de transport",null,{"$f":"IF(B53=\"\",\"\",Données!$E$73)","v":""},{"$f":"IF(B53=\"\",\"\",(Annee_BI-B53)/C53)","v":""},null,null,null,null,null,null,null,null,{"$f":"E53","v":0}]
["D1010-Ascenseurs et monte-charge",null,{"$f":"IF(B54=\"\",\"\",Données!$E$73)","v":""},""]
["D1020-Escaliers mécaniques et trottoirs roulants",null,{"$f":"IF(B55=\"\",\"\",Données!$E$73)","v":""},""]
["D1030-Autres systèmes transporteurs",null,{"$f":"IF(B56=\"\",\"\",Données!$E$73)","v":""},""]
["D20-Plomberie",null,{"$f":"IF(B57=\"\",\"\",Données!$E$73)","v":""},"",null,null,null,null,null,null,null,null,{"$f":"E57","v":0}]
["D2010-Appareils de plomberie",null,{"$f":"IF(B58=\"\",\"\",Données!$E$73)","v":""},""]
["D2020-Réseau d'eau domestique",null,{"$f":"IF(B59=\"\",\"\",Données!$E$73)","v":""},""]
["D2030-Réseau de drainage sanitaire",null,{"$f":"IF(B60=\"\",\"\",Données!$E$73)","v":""},""]
["D2040-Réseau de drainage pluvial",null,{"$f":"IF(B61=\"\",\"\",Données!$E$73)","v":""},""]
["D2090-Autres système de plomberie",null,{"$f":"IF(B62=\"\",\"\",Données!$E$73)","v":""},""]
["D30-CVAC",null,{"$f":"IF(B63=\"\",\"\",Données!$E$73)","v":""},"",null,null,null,null,null,null,null,null,{"$f":"E63","v":0}]
["D3010-Source d'énergie",null,{"$f":"IF(B64=\"\",\"\",Données!$E$73)","v":""},""]
["D3020-Systèmes de production de chaleur",null,{"$f":"IF(B65=\"\",\"\",Données!$E$73)","v":""},""]
["D3030-Sytèmes de production de froid",null,{"$f":"IF(B66=\"\",\"\",Données!$E$73)","v":""},""]
["D3040-Distribution de CVCA",null,{"$f":"IF(B67=\"\",\"\",Données!$E$73)","v":""},""]
["D3050-Unités autonomes ou monoblocs",null,{"$f":"IF(B68=\"\",\"\",Données!$E$73)","v":""},""]
["D3060-Régulation et instrumentation",null,{"$f":"IF(B69=\"\",\"\",Données!$E$73)","v":""},""]
["D3070-Essai et réglage des systèmes",null,{"$f":"IF(B70=\"\",\"\",Données!$E$73)","v":""},""]
["D3090-Autres systèmes ou équipements de CVCA",null,{"$f":"IF(B71=\"\",\"\",Données!$E$73)","v":""},""]
["D40-Protection incendie",null,{"$f":"IF(B72=\"\",\"\",Données!$E$73)","v":""},"",null,null,null,null,null,null,null,null,{"$f":"E72","v":0}]
["D4010-Gicleurs",null,{"$f":"IF(B73=\"\",\"\",Données!$E$73)","v":""},""]
["D4020-Canalisations montantes",null,{"$f":"IF(B74=\"\",\"\",Données!$E$73)","v":""},""]
["D4030-Accessoires de protection incendie",null,{"$f":"IF(B75=\"\",\"\",Données!$E$73)","v":""},""]
["D4090-Autres systèmes de protection incendie",null,{"$f":"IF(B76=\"\",\"\",Données!$E$73)","v":""},""]
["Récapitulatif des résultats (discipline)",{"$f":"IF(MIN(B53:B76)=0,\"\",MIN(B53:B76))","v":""},{"$f":"IF(MAX(C53:C76)=0,\"\",MAX(C53:C76))","v":""},{"$f":"IF(MAX(D53,D57,D63,D72)=0,\"\",MAX(D53,D57,D63,D72))","v":""},{"$f":"IF(MAX(E53:E76)=0,\"\",MAX(E53:E76))","v":""},{"$f":"IF(MAX(F53:F76)=0,\"\",MAX(F53:F76))","v":""},null,{"$f":"SUM(H53:H76)","v":0},{"$f":"SUM(I53:I76)","v":0},null,null,null,{"$f":"E77","v":""}]
["Commentaires ou notes explicatives sur les composants majeurs critiques auscultés\n\n(¨  Notes supplémentaires et/ou photos disponibles)"]
["RELEVÉ DES COMPOSANTS ÉLECTRIQUES"]
["Composants majeurs","Année d'installation","Durée de vie utile","% Durée de vie écoulée","État constaté","Année d'évaluation","Type d'évaluation*","Valeur de remplacement ($)","Coût de l'intervention ($)","Type d'intervention**","Année d'intervention"]
["D50-Électricité",null,{"$f":"IF(B81=\"\",\"\",Données!$E$74)","v":""},{"$f":"IF(B81=\"\",\"\",(Annee_BI-B81)/C81)","v":""},null,null,null,null,null,null,null,null,{"$f":"E81","v":0}]
["D5010-Services et distribution électrique",null,{"$f":"IF(B82=\"\",\"\",Données!$E$74)","v":""},{"$f":"IF(B82=\"\",\"\",(Annee_BI-B82)/C82)","v":""}]
["D5020-Éclairage et distribution secondaire",null,{"$f":"IF(B83=\"\",\"\",Données!$E$74)","v":""},{"$f":"IF(B83=\"\",\"\",(Annee_BI-B83)/C83)","v":""}]
["D5030-Communication & sécurité ",null,{"$f":"IF(B84=\"\",\"\",Données!$E$74)","v":""},{"$f":"IF(B84=\"\",\"\",(Annee_BI-B84)/C84)","v":""}]
["D5090-Autres systèmes électriques",null,{"$f":"IF(B85=\"\",\"\",Données!$E$74)","v":""},{"$f":"IF(B85=\"\",\"\",(Annee_BI-B85)/C85)","v":""}]
["Récapitulatif des résultats (discipline)",{"$f":"IF(MIN(B81:B85)=0,\"\",MIN(B81:B85))","v":""},{"$f":"IF(MAX(C81:C85)=0,\"\",MAX(C81:C85))","v":""},{"$f":"IF(MAX(D82:D85)=0,\"\",MAX(D82:D85))","v":""},{"$f":"IF(MAX(E81:E85)=0,\"\",MAX(E81:E85))","v":""},{"$f":"IF(MAX(F81:F85)=0,\"\",MAX(F81:F85))","v":""},null,{"$f":"SUM(H81:H85)","v":0},{"$f":"SUM(I81:I85)","v":0},null,null,null,{"$f":"E86","v":""}]
["Commentaires ou notes explicatives sur les composants majeurs critiques auscultés\n\n(¨  Notes supplémentaires et/ou photos disponibles)"]

{"sheet":"Bâtiment (14)","index":14,"n_rows":87,"n_cols":13,"rows_kept":87,"cut":false,"hidden":true,"merged":[[1,1,1,5],[1,6,1,7],[1,8,1,10],[2,1,2,5],[2,6,2,7],[2,8,2,10],[10,1,10,10],[3,1,3,5],[3,6,3,7],[3,8,3,10],[4,1,4,5],[4,6,4,7],[4,8,4,10],[5,0,5,11],[6,1,6,10],[7,1,7,10],[8,1,8,10],[9,1,9,10],[50,0,50,11],[77,1,77,10],[78,0,78,11],[86,1,86,10],[11,1,11,10],[12,1,12,10],[14,0,14,11],[35,1,35,10],[36,0,36,11],[49,1,49,10]]}
["IDENTIFICATION DU BÂTIMENT",null,null,null,null,null,null,null,null,"Consulter l'aide se rapportant aux bâtiments"]
["Type d'infrastructure :",{"$f":"IF(Identification!H61=0,\"\",Identification!H61)","v":""},null,null,null,null,"Sous-type d'infrastructure :",null,{"$f":"IF(Identification!H62=0,\"\",Identification!H62)","v":""}]
["Nom commun de l'infrastructure :",{"$f":"IF(Identification!H63=0,\"\",Identification!H63)","v":""},null,null,null,null,"Nom commun du bâtiment :"]
["Année de construction :",{"$f":"Identification!H66","v":0},null,null,null,null,"Année de l'évaluation :"]
["Valeur de remplacement :",{"$f":"IF(H35+H49+H77+H86=0,\"\",H35+H49+H77+H86)","v":""},null,null,null,null,"Autres informations :"]
["CRITÈRES D'ÉVALUATION DES COMPOSANTS"]
["Cote","État constaté"]
[0,"Le composant n'a pas été ausculté."]
[1,"Le composant est récent ou remis à neuf. Son fonctionnement est adéquat."]
[2,"Le composant présente un niveau léger de dégradation ou de défectuosité. Son fonctionnement est adéquat."]
[3,"Le composant présente un niveau modéré de dégradation ou de défectuosité. Son fonctionnement est adéquat."]
[4,"Le composant présente un niveau élevé de dégradation ou de défectuosité. Son fonctionnement est inadéquat."]
[5,"Le composant présente un niveau très élevé de dégradation ou de défectuosité. Le composant est inopérant ou son fonctionnement est intolérable."]
["*Type d'évaluation : Visuelle (V), Opérateur (O), Mesure (M)",null,null,null,null,null,"**Type d'intervention : Ajout (AJ), Remplacement (RP), Réfection majeure (RFM), Expertise complémentaire (DE)"]
["RELEVÉ DES COMPOSANTS ARCHITECTURAUX"]
["Composants majeurs","Année d'installation","Durée de vie utile","% Durée de vie écoulée","État constaté","Année d'évaluation","Type d'évaluation*","Valeur de remplacement ($)","Coût de l'intervention ($)","Type d'intervention**","Année d'intervention",null,{"$f":"B16","v":"Année d'installation"}]
["B20-Enveloppe extérieure",null,{"$f":"IF(B17=\"\",\"\",Données!$E$71)","v":""},{"$f":"IF(B17=\"\",\"\",(Annee_BI-B17)/C17)","v":""},null,null,null,null,null,null,null,null,{"$f":"E17","v":0}]
["B2010-Murs extérieurs",null,{"$f":"IF(B18=\"\",\"\",Données!$E$71)","v":""},""]
["B2020-Fenêtres extérieures",null,{"$f":"IF(B19=\"\",\"\",Données!$E$71)","v":""},""]
["B2030-Portes extérieures",null,{"$f":"IF(B20=\"\",\"\",Données!$E$71)","v":""},""]
["B30-Toit",null,{"$f":"IF(B21=\"\",\"\",Données!$E$71)","v":""},"",null,null,null,null,null,null,null,null,{"$f":"E21","v":0}]
["B3010-Couverture",null,{"$f":"IF(B22=\"\",\"\",Données!$E$71)","v":""},""]
["B3020-Ouvertures du toit",null,{"$f":"IF(B23=\"\",\"\",Données!$E$71)","v":""},""]
["C10-Construction intérieure",null,{"$f":"IF(B24=\"\",\"\",Données!$E$71)","v":""},"",null,null,null,null,null,null,null,null,{"$f":"E24","v":0}]
["C1010-Cloisons",null,{"$f":"IF(B25=\"\",\"\",Données!$E$71)","v":""},""]
["C1020-Portes intérieures",null,{"$f":"IF(B26=\"\",\"\",Données!$E$71)","v":""},""]
["C1030-Accessoires intégrés",null,{"$f":"IF(B27=\"\",\"\",Données!$E$71)","v":""},""]
["C20-Escaliers",null,{"$f":"IF(B28=\"\",\"\",Données!$E$71)","v":""},"",null,null,null,null,null,null,null,null,{"$f":"E28","v":0}]
["C2010-Construction d'escaliers",null,{"$f":"IF(B29=\"\",\"\",Données!$E$71)","v":""},""]
["C2020-Finitions d'escaliers",null,{"$f":"IF(B30=\"\",\"\",Données!$E$71)","v":""},""]
["C30-Finitions intérieures",null,{"$f":"IF(B31=\"\",\"\",Données!$E$71)","v":""},"",null,null,null,null,null,null,null,null,{"$f":"E31","v":0}]
["C3010-Finitions de murs",null,{"$f":"IF(B32=\"\",\"\",Données!$E$71)","v":""},""]
["C3020-Finitions de planchers",null,{"$f":"IF(B33=\"\",\"\",Données!$E$71)","v":""},""]
["C3030-Finitions de plafonds",null,{"$f":"IF(B34=\"\",\"\",Données!$E$71)","v":""},""]
["Récapitulatif des résultats (discipline)",{"$f":"IF(MIN(B17:B34)=0,\"\",MIN(B17:B34))","v":""},{"$f":"IF(MAX(C17:C34)=0,\"\",MAX(C17:C34))","v":""},{"$f":"IF(MAX(D17,D21,D24,D28,D31)=0,\"\",MAX(D17,D21,D24,D28,D31))","v":""},{"$f":"IF(MAX(E17:E34)=0,\"\",MAX(E17:E34))","v":""},{"$f":"IF(MAX(F17:F34)=0,\"\",MAX(F17:F34))","v":""},null,{"$f":"SUM(H17:H34)","v":0},{"$f":"SUM(I17:I34)","v":0},null,null,null,{"$f":"E35","v":""}]
["Commentaires ou notes explicatives sur les composants majeurs critiques auscultés\n\n(¨  Notes supplémentaires et/ou photos disponibles)"]
["RELEVÉ DES COMPOSANTS CIVILS"]
["Composants majeurs","Année d'installation","Durée de vie utile","% Durée de vie écoulée","État constaté","Année d'évaluation","Type d'évaluation*","Valeur de remplacement ($)","Coût de l'intervention ($)","Type d'intervention**","Année d'intervention"]
["A10-Fondations",null,{"$f":"IF(B39=\"\",\"\",Données!$E$72)","v":""},{"$f":"IF(B39=\"\",\"\",(Annee_BI-B39)/C39)","v":""},null,null,null,null,null,null,null,null,{"$f":"E39","v":0}]
["A1010-Fondations standard",null,{"$f":"IF(B40=\"\",\"\",Données!$E$72)","v":""},""]
["A1020-Finitions spéciales",null,{"$f":"IF(B41=\"\",\"\",Données!$E$72)","v":""},""]
["A1030-Dalle inférieure",null,{"$f":"IF(B42=\"\",\"\",Données!$E$72)","v":""},""]
["A20-Construction du sous-sol",null,{"$f":"IF(B43=\"\",\"\",Données!$E$72)","v":""},"",null,null,null,null,null,null,null,null,{"$f":"E43","v":0}]
["A2010-Excavation du sous-sol",null,{"$f":"IF(B44=\"\",\"\",Données!$E$72)","v":""},""]
["A2020-Murs du sous-sol",null,{"$f":"IF(B45=\"\",\"\",Données!$E$72)","v":""},""]
["B10-Superstructure",null,{"$f":"IF(B46=\"\",\"\",Données!$E$72)","v":""},"",null,null,null,null,null,null,null,null,{"$f":"E46","v":0}]
["B1010-Construction de plancher",null,{"$f":"IF(B47=\"\",\"\",Données!$E$72)","v":""},""]
["B1020-Construction de toiture",null,{"$f":"IF(B48=\"\",\"\",Données!$E$72)","v":""},""]
["Récapitulatif des résultats (discipline)",{"$f":"IF(MIN(B39:B48)=0,\"\",MIN(B39:B48))","v":""},{"$f":"IF(MAX(C39:C48)=0,\"\",MAX(C39:C48))","v":""},{"$f":"IF(MAX(D39,D43,D46)=0,\"\",MAX(D39,D43,D46))","v":""},{"$f":"IF(MAX(E39:E48)=0,\"\",MAX(E39:E48))","v":""},{"$f":"IF(MAX(F39:F48)=0,\"\",MAX(F39:F48))","v":""},null,{"$f":"SUM(H39:H48)","v":0},{"$f":"SUM(I39:I48)","v":0},null,null,null,{"$f":"E49","v":""}]
["Commentaires ou notes explicatives sur les composants majeurs critiques auscultés\n\n(¨  Notes supplémentaires et/ou photos disponibles)"]
["RELEVÉ DES COMPOSANTS MÉCANIQUES"]
["Composants majeurs","Année d'installation","Durée de vie utile","% Durée de vie écoulée","État constaté","Année d'évaluation","Type d'évaluation*","Valeur de remplacement ($)","Coût de l'intervention ($)","Type d'intervention**","Année d'intervention"]
["D10-Moyens de transport",null,{"$f":"IF(B53=\"\",\"\",Données!$E$73)","v":""},{"$f":"IF(B53=\"\",\"\",(Annee_BI-B53)/C53)","v":""},null,null,null,null,null,null,null,null,{"$f":"E53","v":0}]
["D1010-Ascenseurs et monte-charge",null,{"$f":"IF(B54=\"\",\"\",Données!$E$73)","v":""},""]
["D1020-Escaliers mécaniques et trottoirs roulants",null,{"$f":"IF(B55=\"\",\"\",Données!$E$73)","v":""},""]
["D1030-Autres systèmes transporteurs",null,{"$f":"IF(B56=\"\",\"\",Données!$E$73)","v":""},""]
["D20-Plomberie",null,{"$f":"IF(B57=\"\",\"\",Données!$E$73)","v":""},"",null,null,null,null,null,null,null,null,{"$f":"E57","v":0}]
["D2010-Appareils de plomberie",null,{"$f":"IF(B58=\"\",\"\",Données!$E$73)","v":""},""]
["D2020-Réseau d'eau domestique",null,{"$f":"IF(B59=\"\",\"\",Données!$E$73)","v":""},""]
["D2030-Réseau de drainage sanitaire",null,{"$f":"IF(B60=\"\",\"\",Données!$E$73)","v":""},""]
["D2040-Réseau de drainage pluvial",null,{"$f":"IF(B61=\"\",\"\",Données!$E$73)","v":""},""]
["D2090-Autres système de plomberie",null,{"$f":"IF(B62=\"\",\"\",Données!$E$73)","v":""},""]
["D30-CVAC",null,{"$f":"IF(B63=\"\",\"\",Données!$E$73)","v":""},"",null,null,null,null,null,null,null,null,{"$f":"E63","v":0}]
["D3010-Source d'énergie",null,{"$f":"IF(B64=\"\",\"\",Données!$E$73)","v":""},""]
["D3020-Systèmes de production de chaleur",null,{"$f":"IF(B65=\"\",\"\",Données!$E$73)","v":""},""]
["D3030-Sytèmes de production de froid",null,{"$f":"IF(B66=\"\",\"\",Données!$E$73)","v":""},""]
["D3040-Distribution de CVCA",null,{"$f":"IF(B67=\"\",\"\",Données!$E$73)","v":""},""]
["D3050-Unités autonomes ou monoblocs",null,{"$f":"IF(B68=\"\",\"\",Données!$E$73)","v":""},""]
["D3060-Régulation et instrumentation",null,{"$f":"IF(B69=\"\",\"\",Données!$E$73)","v":""},""]
["D3070-Essai et réglage des systèmes",null,{"$f":"IF(B70=\"\",\"\",Données!$E$73)","v":""},""]
["D3090-Autres systèmes ou équipements de CVCA",null,{"$f":"IF(B71=\"\",\"\",Données!$E$73)","v":""},""]
["D40-Protection incendie",null,{"$f":"IF(B72=\"\",\"\",Données!$E$73)","v":""},"",null,null,null,null,null,null,null,null,{"$f":"E72","v":0}]
["D4010-Gicleurs",null,{"$f":"IF(B73=\"\",\"\",Données!$E$73)","v":""},""]
["D4020-Canalisations montantes",null,{"$f":"IF(B74=\"\",\"\",Données!$E$73)","v":""},""]
["D4030-Accessoires de protection incendie",null,{"$f":"IF(B75=\"\",\"\",Données!$E$73)","v":""},""]
["D4090-Autres systèmes de protection incendie",null,{"$f":"IF(B76=\"\",\"\",Données!$E$73)","v":""},""]
["Récapitulatif des résultats (discipline)",{"$f":"IF(MIN(B53:B76)=0,\"\",MIN(B53:B76))","v":""},{"$f":"IF(MAX(C53:C76)=0,\"\",MAX(C53:C76))","v":""},{"$f":"IF(MAX(D53,D57,D63,D72)=0,\"\",MAX(D53,D57,D63,D72))","v":""},{"$f":"IF(MAX(E53:E76)=0,\"\",MAX(E53:E76))","v":""},{"$f":"IF(MAX(F53:F76)=0,\"\",MAX(F53:F76))","v":""},null,{"$f":"SUM(H53:H76)","v":0},{"$f":"SUM(I53:I76)","v":0},null,null,null,{"$f":"E77","v":""}]
["Commentaires ou notes explicatives sur les composants majeurs critiques auscultés\n\n(¨  Notes supplémentaires et/ou photos disponibles)"]
["RELEVÉ DES COMPOSANTS ÉLECTRIQUES"]
["Composants majeurs","Année d'installation","Durée de vie utile","% Durée de vie écoulée","État constaté","Année d'évaluation","Type d'évaluation*","Valeur de remplacement ($)","Coût de l'intervention ($)","Type d'intervention**","Année d'intervention"]
["D50-Électricité",null,{"$f":"IF(B81=\"\",\"\",Données!$E$74)","v":""},{"$f":"IF(B81=\"\",\"\",(Annee_BI-B81)/C81)","v":""},null,null,null,null,null,null,null,null,{"$f":"E81","v":0}]
["D5010-Services et distribution électrique",null,{"$f":"IF(B82=\"\",\"\",Données!$E$74)","v":""},{"$f":"IF(B82=\"\",\"\",(Annee_BI-B82)/C82)","v":""}]
["D5020-Éclairage et distribution secondaire",null,{"$f":"IF(B83=\"\",\"\",Données!$E$74)","v":""},{"$f":"IF(B83=\"\",\"\",(Annee_BI-B83)/C83)","v":""}]
["D5030-Communication & sécurité ",null,{"$f":"IF(B84=\"\",\"\",Données!$E$74)","v":""},{"$f":"IF(B84=\"\",\"\",(Annee_BI-B84)/C84)","v":""}]
["D5090-Autres systèmes électriques",null,{"$f":"IF(B85=\"\",\"\",Données!$E$74)","v":""},{"$f":"IF(B85=\"\",\"\",(Annee_BI-B85)/C85)","v":""}]
["Récapitulatif des résultats (discipline)",{"$f":"IF(MIN(B81:B85)=0,\"\",MIN(B81:B85))","v":""},{"$f":"IF(MAX(C81:C85)=0,\"\",MAX(C81:C85))","v":""},{"$f":"IF(MAX(D82:D85)=0,\"\",MAX(D82:D85))","v":""},{"$f":"IF(MAX(E81:E85)=0,\"\",MAX(E81:E85))","v":""},{"$f":"IF(MAX(F81:F85)=0,\"\",MAX(F81:F85))","v":""},null,{"$f":"SUM(H81:H85)","v":0},{"$f":"SUM(I81:I85)","v":0},null,null,null,{"$f":"E86","v":""}]
["Commentaires ou notes explicatives sur les composants majeurs critiques auscultés\n\n(¨  Notes supplémentaires et/ou photos disponibles)"]

{"sheet":"Bâtiment (15)","index":15,"n_rows":87,"n_cols":13,"rows_kept":87,"cut":false,"hidden":true,"merged":[[1,1,1,5],[1,6,1,7],[1,8,1,10],[2,1,2,5],[2,6,2,7],[2,8,2,10],[10,1,10,10],[3,1,3,5],[3,6,3,7],[3,8,3,10],[4,1,4,5],[4,6,4,7],[4,8,4,10],[5,0,5,11],[6,1,6,10],[7,1,7,10],[8,1,8,10],[9,1,9,10],[50,0,50,11],[77,1,77,10],[78,0,78,11],[86,1,86,10],[11,1,11,10],[12,1,12,10],[14,0,14,11],[35,1,35,10],[36,0,36,11],[49,1,49,10]]}
["IDENTIFICATION DU BÂTIMENT",null,null,null,null,null,null,null,null,"Consulter l'aide se rapportant aux bâtiments"]
["Type d'infrastructure :",{"$f":"IF(Identification!H61=0,\"\",Identification!H61)","v":""},null,null,null,null,"Sous-type d'infrastructure :",null,{"$f":"IF(Identification!H62=0,\"\",Identification!H62)","v":""}]
["Nom commun de l'infrastructure :",{"$f":"IF(Identification!H63=0,\"\",Identification!H63)","v":""},null,null,null,null,"Nom commun du bâtiment :"]
["Année de construction :",{"$f":"Identification!H66","v":0},null,null,null,null,"Année de l'évaluation :"]
["Valeur de remplacement :",{"$f":"IF(H35+H49+H77+H86=0,\"\",H35+H49+H77+H86)","v":""},null,null,null,null,"Autres informations :"]
["CRITÈRES D'ÉVALUATION DES COMPOSANTS"]
["Cote","État constaté"]
[0,"Le composant n'a pas été ausculté."]
[1,"Le composant est récent ou remis à neuf. Son fonctionnement est adéquat."]
[2,"Le composant présente un niveau léger de dégradation ou de défectuosité. Son fonctionnement est adéquat."]
[3,"Le composant présente un niveau modéré de dégradation ou de défectuosité. Son fonctionnement est adéquat."]
[4,"Le composant présente un niveau élevé de dégradation ou de défectuosité. Son fonctionnement est inadéquat."]
[5,"Le composant présente un niveau très élevé de dégradation ou de défectuosité. Le composant est inopérant ou son fonctionnement est intolérable."]
["*Type d'évaluation : Visuelle (V), Opérateur (O), Mesure (M)",null,null,null,null,null,"**Type d'intervention : Ajout (AJ), Remplacement (RP), Réfection majeure (RFM), Expertise complémentaire (DE)"]
["RELEVÉ DES COMPOSANTS ARCHITECTURAUX"]
["Composants majeurs","Année d'installation","Durée de vie utile","% Durée de vie écoulée","État constaté","Année d'évaluation","Type d'évaluation*","Valeur de remplacement ($)","Coût de l'intervention ($)","Type d'intervention**","Année d'intervention",null,{"$f":"B16","v":"Année d'installation"}]
["B20-Enveloppe extérieure",null,{"$f":"IF(B17=\"\",\"\",Données!$E$71)","v":""},{"$f":"IF(B17=\"\",\"\",(Annee_BI-B17)/C17)","v":""},null,null,null,null,null,null,null,null,{"$f":"E17","v":0}]
["B2010-Murs extérieurs",null,{"$f":"IF(B18=\"\",\"\",Données!$E$71)","v":""},""]
["B2020-Fenêtres extérieures",null,{"$f":"IF(B19=\"\",\"\",Données!$E$71)","v":""},""]
["B2030-Portes extérieures",null,{"$f":"IF(B20=\"\",\"\",Données!$E$71)","v":""},""]
["B30-Toit",null,{"$f":"IF(B21=\"\",\"\",Données!$E$71)","v":""},"",null,null,null,null,null,null,null,null,{"$f":"E21","v":0}]
["B3010-Couverture",null,{"$f":"IF(B22=\"\",\"\",Données!$E$71)","v":""},""]
["B3020-Ouvertures du toit",null,{"$f":"IF(B23=\"\",\"\",Données!$E$71)","v":""},""]
["C10-Construction intérieure",null,{"$f":"IF(B24=\"\",\"\",Données!$E$71)","v":""},"",null,null,null,null,null,null,null,null,{"$f":"E24","v":0}]
["C1010-Cloisons",null,{"$f":"IF(B25=\"\",\"\",Données!$E$71)","v":""},""]
["C1020-Portes intérieures",null,{"$f":"IF(B26=\"\",\"\",Données!$E$71)","v":""},""]
["C1030-Accessoires intégrés",null,{"$f":"IF(B27=\"\",\"\",Données!$E$71)","v":""},""]
["C20-Escaliers",null,{"$f":"IF(B28=\"\",\"\",Données!$E$71)","v":""},"",null,null,null,null,null,null,null,null,{"$f":"E28","v":0}]
["C2010-Construction d'escaliers",null,{"$f":"IF(B29=\"\",\"\",Données!$E$71)","v":""},""]
["C2020-Finitions d'escaliers",null,{"$f":"IF(B30=\"\",\"\",Données!$E$71)","v":""},""]
["C30-Finitions intérieures",null,{"$f":"IF(B31=\"\",\"\",Données!$E$71)","v":""},"",null,null,null,null,null,null,null,null,{"$f":"E31","v":0}]
["C3010-Finitions de murs",null,{"$f":"IF(B32=\"\",\"\",Données!$E$71)","v":""},""]
["C3020-Finitions de planchers",null,{"$f":"IF(B33=\"\",\"\",Données!$E$71)","v":""},""]
["C3030-Finitions de plafonds",null,{"$f":"IF(B34=\"\",\"\",Données!$E$71)","v":""},""]
["Récapitulatif des résultats (discipline)",{"$f":"IF(MIN(B17:B34)=0,\"\",MIN(B17:B34))","v":""},{"$f":"IF(MAX(C17:C34)=0,\"\",MAX(C17:C34))","v":""},{"$f":"IF(MAX(D17,D21,D24,D28,D31)=0,\"\",MAX(D17,D21,D24,D28,D31))","v":""},{"$f":"IF(MAX(E17:E34)=0,\"\",MAX(E17:E34))","v":""},{"$f":"IF(MAX(F17:F34)=0,\"\",MAX(F17:F34))","v":""},null,{"$f":"SUM(H17:H34)","v":0},{"$f":"SUM(I17:I34)","v":0},null,null,null,{"$f":"E35","v":""}]
["Commentaires ou notes explicatives sur les composants majeurs critiques auscultés\n\n(¨  Notes supplémentaires et/ou photos disponibles)"]
["RELEVÉ DES COMPOSANTS CIVILS"]
["Composants majeurs","Année d'installation","Durée de vie utile","% Durée de vie écoulée","État constaté","Année d'évaluation","Type d'évaluation*","Valeur de remplacement ($)","Coût de l'intervention ($)","Type d'intervention**","Année d'intervention"]
["A10-Fondations",null,{"$f":"IF(B39=\"\",\"\",Données!$E$72)","v":""},{"$f":"IF(B39=\"\",\"\",(Annee_BI-B39)/C39)","v":""},null,null,null,null,null,null,null,null,{"$f":"E39","v":0}]
["A1010-Fondations standard",null,{"$f":"IF(B40=\"\",\"\",Données!$E$72)","v":""},""]
["A1020-Finitions spéciales",null,{"$f":"IF(B41=\"\",\"\",Données!$E$72)","v":""},""]
["A1030-Dalle inférieure",null,{"$f":"IF(B42=\"\",\"\",Données!$E$72)","v":""},""]
["A20-Construction du sous-sol",null,{"$f":"IF(B43=\"\",\"\",Données!$E$72)","v":""},"",null,null,null,null,null,null,null,null,{"$f":"E43","v":0}]
["A2010-Excavation du sous-sol",null,{"$f":"IF(B44=\"\",\"\",Données!$E$72)","v":""},""]
["A2020-Murs du sous-sol",null,{"$f":"IF(B45=\"\",\"\",Données!$E$72)","v":""},""]
["B10-Superstructure",null,{"$f":"IF(B46=\"\",\"\",Données!$E$72)","v":""},"",null,null,null,null,null,null,null,null,{"$f":"E46","v":0}]
["B1010-Construction de plancher",null,{"$f":"IF(B47=\"\",\"\",Données!$E$72)","v":""},""]
["B1020-Construction de toiture",null,{"$f":"IF(B48=\"\",\"\",Données!$E$72)","v":""},""]
["Récapitulatif des résultats (discipline)",{"$f":"IF(MIN(B39:B48)=0,\"\",MIN(B39:B48))","v":""},{"$f":"IF(MAX(C39:C48)=0,\"\",MAX(C39:C48))","v":""},{"$f":"IF(MAX(D39,D43,D46)=0,\"\",MAX(D39,D43,D46))","v":""},{"$f":"IF(MAX(E39:E48)=0,\"\",MAX(E39:E48))","v":""},{"$f":"IF(MAX(F39:F48)=0,\"\",MAX(F39:F48))","v":""},null,{"$f":"SUM(H39:H48)","v":0},{"$f":"SUM(I39:I48)","v":0},null,null,null,{"$f":"E49","v":""}]
["Commentaires ou notes explicatives sur les composants majeurs critiques auscultés\n\n(¨  Notes supplémentaires et/ou photos disponibles)"]
["RELEVÉ DES COMPOSANTS MÉCANIQUES"]
["Composants majeurs","Année d'installation","Durée de vie utile","% Durée de vie écoulée","État constaté","Année d'évaluation","Type d'évaluation*","Valeur de remplacement ($)","Coût de l'intervention ($)","Type d'intervention**","Année d'intervention"]
["D10-Moyens de transport",null,{"$f":"IF(B53=\"\",\"\",Données!$E$73)","v":""},{"$f":"IF(B53=\"\",\"\",(Annee_BI-B53)/C53)","v":""},null,null,null,null,null,null,null,null,{"$f":"E53","v":0}]
["D1010-Ascenseurs et monte-charge",null,{"$f":"IF(B54=\"\",\"\",Données!$E$73)","v":""},""]
["D1020-Escaliers mécaniques et trottoirs roulants",null,{"$f":"IF(B55=\"\",\"\",Données!$E$73)","v":""},""]
["D1030-Autres systèmes transporteurs",null,{"$f":"IF(B56=\"\",\"\",Données!$E$73)","v":""},""]
["D20-Plomberie",null,{"$f":"IF(B57=\"\",\"\",Données!$E$73)","v":""},"",null,null,null,null,null,null,null,null,{"$f":"E57","v":0}]
["D2010-Appareils de plomberie",null,{"$f":"IF(B58=\"\",\"\",Données!$E$73)","v":""},""]
["D2020-Réseau d'eau domestique",null,{"$f":"IF(B59=\"\",\"\",Données!$E$73)","v":""},""]
["D2030-Réseau de drainage sanitaire",null,{"$f":"IF(B60=\"\",\"\",Données!$E$73)","v":""},""]
["D2040-Réseau de drainage pluvial",null,{"$f":"IF(B61=\"\",\"\",Données!$E$73)","v":""},""]
["D2090-Autres système de plomberie",null,{"$f":"IF(B62=\"\",\"\",Données!$E$73)","v":""},""]
["D30-CVAC",null,{"$f":"IF(B63=\"\",\"\",Données!$E$73)","v":""},"",null,null,null,null,null,null,null,null,{"$f":"E63","v":0}]
["D3010-Source d'énergie",null,{"$f":"IF(B64=\"\",\"\",Données!$E$73)","v":""},""]
["D3020-Systèmes de production de chaleur",null,{"$f":"IF(B65=\"\",\"\",Données!$E$73)","v":""},""]
["D3030-Sytèmes de production de froid",null,{"$f":"IF(B66=\"\",\"\",Données!$E$73)","v":""},""]
["D3040-Distribution de CVCA",null,{"$f":"IF(B67=\"\",\"\",Données!$E$73)","v":""},""]
["D3050-Unités autonomes ou monoblocs",null,{"$f":"IF(B68=\"\",\"\",Données!$E$73)","v":""},""]
["D3060-Régulation et instrumentation",null,{"$f":"IF(B69=\"\",\"\",Données!$E$73)","v":""},""]
["D3070-Essai et réglage des systèmes",null,{"$f":"IF(B70=\"\",\"\",Données!$E$73)","v":""},""]
["D3090-Autres systèmes ou équipements de CVCA",null,{"$f":"IF(B71=\"\",\"\",Données!$E$73)","v":""},""]
["D40-Protection incendie",null,{"$f":"IF(B72=\"\",\"\",Données!$E$73)","v":""},"",null,null,null,null,null,null,null,null,{"$f":"E72","v":0}]
["D4010-Gicleurs",null,{"$f":"IF(B73=\"\",\"\",Données!$E$73)","v":""},""]
["D4020-Canalisations montantes",null,{"$f":"IF(B74=\"\",\"\",Données!$E$73)","v":""},""]
["D4030-Accessoires de protection incendie",null,{"$f":"IF(B75=\"\",\"\",Données!$E$73)","v":""},""]
["D4090-Autres systèmes de protection incendie",null,{"$f":"IF(B76=\"\",\"\",Données!$E$73)","v":""},""]
["Récapitulatif des résultats (discipline)",{"$f":"IF(MIN(B53:B76)=0,\"\",MIN(B53:B76))","v":""},{"$f":"IF(MAX(C53:C76)=0,\"\",MAX(C53:C76))","v":""},{"$f":"IF(MAX(D53,D57,D63,D72)=0,\"\",MAX(D53,D57,D63,D72))","v":""},{"$f":"IF(MAX(E53:E76)=0,\"\",MAX(E53:E76))","v":""},{"$f":"IF(MAX(F53:F76)=0,\"\",MAX(F53:F76))","v":""},null,{"$f":"SUM(H53:H76)","v":0},{"$f":"SUM(I53:I76)","v":0},null,null,null,{"$f":"E77","v":""}]
["Commentaires ou notes explicatives sur les composants majeurs critiques auscultés\n\n(¨  Notes supplémentaires et/ou photos disponibles)"]
["RELEVÉ DES COMPOSANTS ÉLECTRIQUES"]
["Composants majeurs","Année d'installation","Durée de vie utile","% Durée de vie écoulée","État constaté","Année d'évaluation","Type d'évaluation*","Valeur de remplacement ($)","Coût de l'intervention ($)","Type d'intervention**","Année d'intervention"]
["D50-Électricité",null,{"$f":"IF(B81=\"\",\"\",Données!$E$74)","v":""},{"$f":"IF(B81=\"\",\"\",(Annee_BI-B81)/C81)","v":""},null,null,null,null,null,null,null,null,{"$f":"E81","v":0}]
["D5010-Services et distribution électrique",null,{"$f":"IF(B82=\"\",\"\",Données!$E$74)","v":""},{"$f":"IF(B82=\"\",\"\",(Annee_BI-B82)/C82)","v":""}]
["D5020-Éclairage et distribution secondaire",null,{"$f":"IF(B83=\"\",\"\",Données!$E$74)","v":""},{"$f":"IF(B83=\"\",\"\",(Annee_BI-B83)/C83)","v":""}]
["D5030-Communication & sécurité ",null,{"$f":"IF(B84=\"\",\"\",Données!$E$74)","v":""},{"$f":"IF(B84=\"\",\"\",(Annee_BI-B84)/C84)","v":""}]
["D5090-Autres systèmes électriques",null,{"$f":"IF(B85=\"\",\"\",Données!$E$74)","v":""},{"$f":"IF(B85=\"\",\"\",(Annee_BI-B85)/C85)","v":""}]
["Récapitulatif des résultats (discipline)",{"$f":"IF(MIN(B81:B85)=0,\"\",MIN(B81:B85))","v":""},{"$f":"IF(MAX(C81:C85)=0,\"\",MAX(C81:C85))","v":""},{"$f":"IF(MAX(D82:D85)=0,\"\",MAX(D82:D85))","v":""},{"$f":"IF(MAX(E81:E85)=0,\"\",MAX(E81:E85))","v":""},{"$f":"IF(MAX(F81:F85)=0,\"\",MAX(F81:F85))","v":""},null,{"$f":"SUM(H81:H85)","v":0},{"$f":"SUM(I81:I85)","v":0},null,null,null,{"$f":"E86","v":""}]
["Commentaires ou notes explicatives sur les composants majeurs critiques auscultés\n\n(¨  Notes supplémentaires et/ou photos disponibles)"]

{"sheet":"EP_Captage","index":16,"n_rows":69,"n_cols":12,"rows_kept":69,"cut":false,"hidden":true,"merged":[[10,1,10,5],[10,8,10,11],[11,1,11,5],[11,8,11,11],[13,0,13,11],[10,6,10,7],[11,6,11,7],[7,1,7,5],[7,8,7,11],[8,1,8,5],[8,8,8,11],[9,1,9,5],[9,8,9,11],[7,6,7,7],[8,6,8,7],[9,6,9,7],[3,1,3,5],[3,6,3,8],[3,9,3,11],[6,1,6,5],[6,8,6,11],[5,1,5,5],[5,8,5,11],[4,0,4,11],[6,6,6,7],[5,6,5,7],[1,1,1,5],[1,6,1,8],[1,9,1,11],[2,1,2,5],[2,6,2,8],[2,9,2,11],[55,0,55,11],[68,1,68,11],[26,1,26,11],[27,0,27,11],[40,1,40,11],[41,0,41,11],[54,1,54,11]]}
["IDENTIFICATION DU SYSTÈME",null,null,null,null,null,null,null,null,"Consulter l'aide se rapportant aux procédés de l'ouvrage"]
["Type d'infrastructure :",{"$f":"IF(Identification!H61=0,\"\",Identification!H61)","v":""},null,null,null,null,"         Sous-type d'infrastructure :",null,null,{"$f":"IF(Identification!H62=0,\"\",Identification!H62)","v":""}]
["Nom de l'infrastructure :",{"$f":"IF(Identification!H63=0,\"\",Identification!H63)","v":""},null,null,null,null,"         Type de système :",null,null,"Captage/ Eau brute"]
["Année d'installation :",{"$f":"Identification!H66","v":0},null,null,null,null,"         Valeur de remplacement :",null,null,{"$f":"IF(I26+I40+I54+I68=0,\"\",I26+I40+I54+I68)","v":""}]
["CRITÈRES D'ÉVALUATION DES COMPOSANTS MAJEURS"]
["Cote","État physique",null,null,null,null,"Cote",null,"État fonctionnel"]
[0,"Le composant majeur n'a pas été ausculté",null,null,null,null,0,null,"Le composant majeur n'a pas été ausculté"]
[1,"Le composant majeur est récent ou remis à neuf",null,null,null,null,1,null,"Le fonctionnement du composant majeur est comme « neuf » et comme attendu. Le composant répond parfaitement aux normes techniques de conception ainsi qu’aux normes de santé et de sécurité en vigueur."]
[2,"Le composant majeur présente un niveau léger de dégradation ou de défectuosité",null,null,null,null,2,null,"Le fonctionnement du composant majeur est adéquat. Le composant répond adéquatement aux normes techniques de conception ainsi qu’aux normes de santé et de sécurité en vigueur."]
[3,"Le composant majeur présente un niveau modéré de dégradation ou de défectuosité",null,null,null,null,3,null,"Le fonctionnement du composant majeur est intermittent mais ne nuit pas au procédé. Le composant répond adéquatement aux normes techniques de conception ainsi qu’aux normes de santé et de sécurité en vigueur."]
[4,"Le composant majeur présente un niveau élevé de dégradation ou de défectuosité",null,null,null,null,4,null,"Le fonctionnement du composant majeur est intermittent et nuit au procédé. Le composant est très près de ne pas répondre aux normes techniques de conception mais répond aux normes de santé et de sécurité en vigueur."]
[5,"Le composant majeur présente un niveau très élevé de dégradation ou de défectuosité",null,null,null,null,5,null,"Le fonctionnement du composant majeur est déficient et empêche le procédé de s’effectuer. Le composant ne répond pas aux normes techniques de conception et/ou ne répond pas aux normes de santé et de sécurité en vigueur."]
["*Type d'évaluation : Visuelle (V), Opérateur (O), Mesure (M)",null,null,null,null,null,"**Type d'intervention : Ajout (AJ), Remplacement (RP), Réfection majeure (RFM), Expertise complémentaire (DE)"]
["RELEVÉ DES COMPOSANTS MAJEURS CIVILS"]
["Composants majeurs","Année d'installation","Durée de vie utile théorique","% Durée de vie écoulée","État physique","État fonctionnel","Année d'évaluation","Type d'évaluation*","Valeur de remplacement ($)","Coût de l'intervention ($)","Type d'intervention**","Année d'intervention"]
[null,null,{"$f":"IF(B16=\"\",\"\",Données!$E$80)","v":""},{"$f":"IF(B16=\"\",\"\",(Annee_BI-B16)/C16)","v":""}]
[null,null,{"$f":"IF(B17=\"\",\"\",Données!$E$80)","v":""},""]
[null,null,{"$f":"IF(B18=\"\",\"\",Données!$E$80)","v":""},""]
[null,null,{"$f":"IF(B19=\"\",\"\",Données!$E$80)","v":""},""]
[null,null,{"$f":"IF(B20=\"\",\"\",Données!$E$80)","v":""},""]
[null,null,{"$f":"IF(B21=\"\",\"\",Données!$E$80)","v":""},""]
[null,null,{"$f":"IF(B22=\"\",\"\",Données!$E$80)","v":""},""]
[null,null,{"$f":"IF(B23=\"\",\"\",Données!$E$80)","v":""},""]
[null,null,{"$f":"IF(B24=\"\",\"\",Données!$E$80)","v":""},""]
[null,null,{"$f":"IF(B25=\"\",\"\",Données!$E$80)","v":""},""]
["Récapitulatif des résultats (discipline)",{"$f":"IF(MIN(B16:B25)=0,\"\",MIN(B16:B25))","v":""},{"$f":"IF(MAX(C16:C25)=0,\"\",MAX(C16:C25))","v":""},{"$f":"IF(MAX(D16:D25)=0,\"\",MAX(D16:D25))","v":""},{"$f":"IF(MAX(E16:E25)=0,\"\",MAX(E16:E25))","v":""},{"$f":"IF(MAX(F16:F25)=0,\"\",MAX(F16:F25))","v":""},{"$f":"IF(MAX(G16:G25)=0,\"\",MAX(G16:G25))","v":""},null,{"$f":"SUM(I16:I25)","v":0},{"$f":"SUM(J16:J25)","v":0}]
["Commentaires ou notes explicatives sur les composants majeurs critiques auscultés\n\n(¨  Notes supplémentaires et/ou photos disponibles)","\n"]
["RELEVÉ DES COMPOSANTS MAJEURS MÉCANIQUES"]
["Composants majeurs","Année d'installation","Durée de vie utile théorique","% Durée de vie écoulée","État physique","État fonctionnel","Année d'évaluation","Type d'évaluation*","Valeur de remplacement ($)","Coût de l'intervention ($)","Type d'intervention**","Année d'intervention"]
[null,null,{"$f":"IF(B30=\"\",\"\",Données!$E$81)","v":""},{"$f":"IF(B30=\"\",\"\",(Annee_BI-B30)/C30)","v":""}]
[null,null,{"$f":"IF(B31=\"\",\"\",Données!$E$81)","v":""},""]
[null,null,{"$f":"IF(B32=\"\",\"\",Données!$E$81)","v":""},""]
[null,null,{"$f":"IF(B33=\"\",\"\",Données!$E$81)","v":""},""]
[null,null,{"$f":"IF(B34=\"\",\"\",Données!$E$81)","v":""},""]
[null,null,{"$f":"IF(B35=\"\",\"\",Données!$E$81)","v":""},""]
[null,null,{"$f":"IF(B36=\"\",\"\",Données!$E$81)","v":""},""]
[null,null,{"$f":"IF(B37=\"\",\"\",Données!$E$81)","v":""},""]
[null,null,{"$f":"IF(B38=\"\",\"\",Données!$E$81)","v":""},""]
[null,null,{"$f":"IF(B39=\"\",\"\",Données!$E$81)","v":""},""]
["Récapitulatif des résultats (discipline)",{"$f":"IF(MIN(B30:B39)=0,\"\",MIN(B30:B39))","v":""},{"$f":"IF(MAX(C30:C39)=0,\"\",MAX(C30:C39))","v":""},{"$f":"IF(MAX(D30:D39)=0,\"\",MAX(D30:D39))","v":""},{"$f":"IF(MAX(E30:E39)=0,\"\",MAX(E30:E39))","v":""},{"$f":"IF(MAX(F30:F39)=0,\"\",MAX(F30:F39))","v":""},{"$f":"IF(MAX(G30:G39)=0,\"\",MAX(G30:G39))","v":""},null,{"$f":"SUM(I30:I39)","v":0},{"$f":"SUM(J30:J39)","v":0}]
["Commentaires ou notes explicatives sur les composants majeurs critiques auscultés\n\n(¨  Notes supplémentaires et/ou photos disponibles)","\n"]
["RELEVÉ DES COMPOSANTS MAJEURS ÉLECTRIQUES"]
["Composants majeurs","Année d'installation","Durée de vie utile théorique","% Durée de vie écoulée","État physique","État fonctionnel","Année d'auscultation","Type d'évaluation*","Valeur de remplacement ($)","Coût de l'intervention ($)","Type d'intervention**","Année d'intervention"]
[null,null,{"$f":"IF(B44=\"\",\"\",Données!$E$82)","v":""},{"$f":"IF(B44=\"\",\"\",(Annee_BI-B44)/C44)","v":""}]
[null,null,{"$f":"IF(B45=\"\",\"\",Données!$E$82)","v":""},""]
[null,null,{"$f":"IF(B46=\"\",\"\",Données!$E$82)","v":""},""]
[null,null,{"$f":"IF(B47=\"\",\"\",Données!$E$82)","v":""},""]
[null,null,{"$f":"IF(B48=\"\",\"\",Données!$E$82)","v":""},""]
[null,null,{"$f":"IF(B49=\"\",\"\",Données!$E$82)","v":""},""]
[null,null,{"$f":"IF(B50=\"\",\"\",Données!$E$82)","v":""},""]
[null,null,{"$f":"IF(B51=\"\",\"\",Données!$E$82)","v":""},""]
[null,null,{"$f":"IF(B52=\"\",\"\",Données!$E$82)","v":""},""]
[null,null,{"$f":"IF(B53=\"\",\"\",Données!$E$82)","v":""},""]
["Récapitulatif des résultats (discipline)",{"$f":"IF(MIN(B44:B53)=0,\"\",MIN(B44:B53))","v":""},{"$f":"IF(MAX(C44:C53)=0,\"\",MAX(C44:C53))","v":""},{"$f":"IF(MAX(D44:D53)=0,\"\",MAX(D44:D53))","v":""},{"$f":"IF(MAX(E44:E53)=0,\"\",MAX(E44:E53))","v":""},{"$f":"IF(MAX(F44:F53)=0,\"\",MAX(F44:F53))","v":""},{"$f":"IF(MAX(G44:G53)=0,\"\",MAX(G44:G53))","v":""},null,{"$f":"SUM(I44:I53)","v":0},{"$f":"SUM(J44:J53)","v":0}]
["Commentaires ou notes explicatives sur les composants majeurs critiques auscultés\n\n(¨  Notes supplémentaires et/ou photos disponibles)"]
["RELEVÉ DES COMPOSANTS MAJEURS D'INSTRUMENTATION ET DE CONTRÔLE"]
["Composants majeurs","Année d'installation","Durée de vie utile théorique","% Durée de vie écoulée","État physique","État fonctionnel","Année d'évaluation","Type d'évaluation*","Valeur de remplacement ($)","Coût de l'intervention ($)","Type d'intervention**","Année d'intervention"]
[null,null,{"$f":"IF(B58=\"\",\"\",Données!$E$83)","v":""},{"$f":"IF(B58=\"\",\"\",(Annee_BI-B58)/C58)","v":""}]
[null,null,{"$f":"IF(B59=\"\",\"\",Données!$E$83)","v":""},""]
[null,null,{"$f":"IF(B60=\"\",\"\",Données!$E$83)","v":""},""]
[null,null,{"$f":"IF(B61=\"\",\"\",Données!$E$83)","v":""},""]
[null,null,{"$f":"IF(B62=\"\",\"\",Données!$E$83)","v":""},""]
[null,null,{"$f":"IF(B63=\"\",\"\",Données!$E$83)","v":""},""]
[null,null,{"$f":"IF(B64=\"\",\"\",Données!$E$83)","v":""},""]
[null,null,{"$f":"IF(B65=\"\",\"\",Données!$E$83)","v":""},""]
[null,null,{"$f":"IF(B66=\"\",\"\",Données!$E$83)","v":""},""]
[null,null,{"$f":"IF(B67=\"\",\"\",Données!$E$83)","v":""},""]
["Récapitulatif des résultats (discipline)",{"$f":"IF(MIN(B58:B67)=0,\"\",MIN(B58:B67))","v":""},{"$f":"IF(MAX(C58:C67)=0,\"\",MAX(C58:C67))","v":""},{"$f":"IF(MAX(D58:D67)=0,\"\",MAX(D58:D67))","v":""},{"$f":"IF(MAX(E58:E67)=0,\"\",MAX(E58:E67))","v":""},{"$f":"IF(MAX(F58:F67)=0,\"\",MAX(F58:F67))","v":""},{"$f":"IF(MAX(G58:G67)=0,\"\",MAX(G58:G67))","v":""},null,{"$f":"SUM(I58:I67)","v":0},{"$f":"SUM(J58:J67)","v":0}]
["Commentaires ou notes explicatives sur les composants majeurs critiques auscultés\n\n(¨  Notes supplémentaires et/ou photos disponibles)"]

{"sheet":"EP_Coagulation","index":17,"n_rows":69,"n_cols":12,"rows_kept":69,"cut":false,"hidden":true,"merged":[[68,1,68,11],[9,1,9,5],[9,6,9,7],[9,8,9,11],[10,1,10,5],[10,6,10,7],[10,8,10,11],[11,1,11,5],[11,6,11,7],[11,8,11,11],[13,0,13,11],[26,1,26,11],[27,0,27,11],[40,1,40,11],[8,1,8,5],[8,6,8,7],[8,8,8,11],[54,1,54,11],[55,0,55,11],[41,0,41,11],[6,6,6,7],[6,8,6,11],[7,1,7,5],[7,6,7,7],[7,8,7,11],[6,1,6,5],[1,1,1,5],[1,6,1,8],[1,9,1,11],[2,1,2,5],[2,6,2,8],[2,9,2,11],[3,1,3,5],[3,6,3,8],[3,9,3,11],[4,0,4,11],[5,1,5,5],[5,6,5,7],[5,8,5,11]]}
["IDENTIFICATION DU SYSTÈME",null,null,null,null,null,null,null,null,"Consulter l'aide se rapportant aux procédés de l'ouvrage"]
["Type d'infrastructure :",{"$f":"IF(Identification!H61=0,\"\",Identification!H61)","v":""},null,null,null,null,"         Sous-type d'infrastructure :",null,null,{"$f":"IF(Identification!H62=0,\"\",Identification!H62)","v":""}]
["Nom de l'infrastructure :",{"$f":"IF(Identification!H63=0,\"\",Identification!H63)","v":""},null,null,null,null,"         Type de système :",null,null,"Coagulation/ Floculation"]
["Année d'installation :",{"$f":"Identification!H66","v":0},null,null,null,null,"         Valeur de remplacement :",null,null,{"$f":"IF(I26+I40+I54+I68=0,\"\",I26+I40+I54+I68)","v":""}]
["CRITÈRES D'ÉVALUATION DES COMPOSANTS MAJEURS"]
["Cote","État physique",null,null,null,null,"Cote",null,"État fonctionnel"]
[0,"Le composant majeur n'a pas été ausculté",null,null,null,null,0,null,"Le composant majeur n'a pas été ausculté"]
[1,"Le composant majeur est récent ou remis à neuf",null,null,null,null,1,null,"Le fonctionnement du composant majeur est comme « neuf » et comme attendu. Le composant répond parfaitement aux normes techniques de conception ainsi qu’aux normes de santé et de sécurité en vigueur."]
[2,"Le composant majeur présente un niveau léger de dégradation ou de défectuosité",null,null,null,null,2,null,"Le fonctionnement du composant majeur est adéquat. Le composant répond adéquatement aux normes techniques de conception ainsi qu’aux normes de santé et de sécurité en vigueur."]
[3,"Le composant majeur présente un niveau modéré de dégradation ou de défectuosité",null,null,null,null,3,null,"Le fonctionnement du composant majeur est intermittent mais ne nuit pas au procédé. Le composant répond adéquatement aux normes techniques de conception ainsi qu’aux normes de santé et de sécurité en vigueur."]
[4,"Le composant majeur présente un niveau élevé de dégradation ou de défectuosité",null,null,null,null,4,null,"Le fonctionnement du composant majeur est intermittent et nuit au procédé. Le composant est très près de ne pas répondre aux normes techniques de conception mais répond aux normes de santé et de sécurité en vigueur."]
[5,"Le composant majeur présente un niveau très élevé de dégradation ou de défectuosité",null,null,null,null,5,null,"Le fonctionnement du composant majeur est déficient et empêche le procédé de s’effectuer. Le composant ne répond pas aux normes techniques de conception et/ou ne répond pas aux normes de santé et de sécurité en vigueur."]
["*Type d'évaluation : Visuelle (V), Opérateur (O), Mesure (M)",null,null,null,null,null,"**Type d'intervention : Ajout (AJ), Remplacement (RP), Réfection majeure (RFM), Expertise complémentaire (DE)"]
["RELEVÉ DES COMPOSANTS MAJEURS CIVILS"]
["Composants majeurs","Année d'installation","Durée de vie utile théorique","% Durée de vie écoulée","État physique","État fonctionnel","Année d'évaluation","Type d'évaluation*","Valeur de remplacement ($)","Coût de l'intervention ($)","Type d'intervention**","Année d'intervention"]
[null,null,{"$f":"IF(B16=\"\",\"\",Données!$E$80)","v":""},{"$f":"IF(B16=\"\",\"\",(Annee_BI-B16)/C16)","v":""}]
[null,null,{"$f":"IF(B17=\"\",\"\",Données!$E$80)","v":""},""]
[null,null,{"$f":"IF(B18=\"\",\"\",Données!$E$80)","v":""},""]
[null,null,{"$f":"IF(B19=\"\",\"\",Données!$E$80)","v":""},""]
[null,null,{"$f":"IF(B20=\"\",\"\",Données!$E$80)","v":""},""]
[null,null,{"$f":"IF(B21=\"\",\"\",Données!$E$80)","v":""},""]
[null,null,{"$f":"IF(B22=\"\",\"\",Données!$E$80)","v":""},""]
[null,null,{"$f":"IF(B23=\"\",\"\",Données!$E$80)","v":""},""]
[null,null,{"$f":"IF(B24=\"\",\"\",Données!$E$80)","v":""},""]
[null,null,{"$f":"IF(B25=\"\",\"\",Données!$E$80)","v":""},""]
["Récapitulatif des résultats (discipline)",{"$f":"IF(MIN(B16:B25)=0,\"\",MIN(B16:B25))","v":""},{"$f":"IF(MAX(C16:C25)=0,\"\",MAX(C16:C25))","v":""},{"$f":"IF(MAX(D16:D25)=0,\"\",MAX(D16:D25))","v":""},{"$f":"IF(MAX(E16:E25)=0,\"\",MAX(E16:E25))","v":""},{"$f":"IF(MAX(F16:F25)=0,\"\",MAX(F16:F25))","v":""},{"$f":"IF(MAX(G16:G25)=0,\"\",MAX(G16:G25))","v":""},null,{"$f":"SUM(I16:I25)","v":0},{"$f":"SUM(J16:J25)","v":0}]
["Commentaires ou notes explicatives sur les composants majeurs critiques auscultés\n\n(¨  Notes supplémentaires et/ou photos disponibles)","\n"]
["RELEVÉ DES COMPOSANTS MAJEURS MÉCANIQUES"]
["Composants majeurs","Année d'installation","Durée de vie utile théorique","% Durée de vie écoulée","État physique","État fonctionnel","Année d'évaluation","Type d'évaluation*","Valeur de remplacement ($)","Coût de l'intervention ($)","Type d'intervention**","Année d'intervention"]
[null,null,{"$f":"IF(B30=\"\",\"\",Données!$E$81)","v":""},{"$f":"IF(B30=\"\",\"\",(Annee_BI-B30)/C30)","v":""}]
[null,null,{"$f":"IF(B31=\"\",\"\",Données!$E$81)","v":""},""]
[null,null,{"$f":"IF(B32=\"\",\"\",Données!$E$81)","v":""},""]
[null,null,{"$f":"IF(B33=\"\",\"\",Données!$E$81)","v":""},""]
[null,null,{"$f":"IF(B34=\"\",\"\",Données!$E$81)","v":""},""]
[null,null,{"$f":"IF(B35=\"\",\"\",Données!$E$81)","v":""},""]
[null,null,{"$f":"IF(B36=\"\",\"\",Données!$E$81)","v":""},""]
[null,null,{"$f":"IF(B37=\"\",\"\",Données!$E$81)","v":""},""]
[null,null,{"$f":"IF(B38=\"\",\"\",Données!$E$81)","v":""},""]
[null,null,{"$f":"IF(B39=\"\",\"\",Données!$E$81)","v":""},""]
["Récapitulatif des résultats (discipline)",{"$f":"IF(MIN(B30:B39)=0,\"\",MIN(B30:B39))","v":""},{"$f":"IF(MAX(C30:C39)=0,\"\",MAX(C30:C39))","v":""},{"$f":"IF(MAX(D30:D39)=0,\"\",MAX(D30:D39))","v":""},{"$f":"IF(MAX(E30:E39)=0,\"\",MAX(E30:E39))","v":""},{"$f":"IF(MAX(F30:F39)=0,\"\",MAX(F30:F39))","v":""},{"$f":"IF(MAX(G30:G39)=0,\"\",MAX(G30:G39))","v":""},null,{"$f":"SUM(I30:I39)","v":0},{"$f":"SUM(J30:J39)","v":0}]
["Commentaires ou notes explicatives sur les composants majeurs critiques auscultés\n\n(¨  Notes supplémentaires et/ou photos disponibles)","\n"]
["RELEVÉ DES COMPOSANTS MAJEURS ÉLECTRIQUES"]
["Composants majeurs","Année d'installation","Durée de vie utile théorique","% Durée de vie écoulée","État physique","État fonctionnel","Année d'auscultation","Type d'évaluation*","Valeur de remplacement ($)","Coût de l'intervention ($)","Type d'intervention**","Année d'intervention"]
[null,null,{"$f":"IF(B44=\"\",\"\",Données!$E$82)","v":""},{"$f":"IF(B44=\"\",\"\",(Annee_BI-B44)/C44)","v":""}]
[null,null,{"$f":"IF(B45=\"\",\"\",Données!$E$82)","v":""},""]
[null,null,{"$f":"IF(B46=\"\",\"\",Données!$E$82)","v":""},""]
[null,null,{"$f":"IF(B47=\"\",\"\",Données!$E$82)","v":""},""]
[null,null,{"$f":"IF(B48=\"\",\"\",Données!$E$82)","v":""},""]
[null,null,{"$f":"IF(B49=\"\",\"\",Données!$E$82)","v":""},""]
[null,null,{"$f":"IF(B50=\"\",\"\",Données!$E$82)","v":""},""]
[null,null,{"$f":"IF(B51=\"\",\"\",Données!$E$82)","v":""},""]
[null,null,{"$f":"IF(B52=\"\",\"\",Données!$E$82)","v":""},""]
[null,null,{"$f":"IF(B53=\"\",\"\",Données!$E$82)","v":""},""]
["Récapitulatif des résultats (discipline)",{"$f":"IF(MIN(B44:B53)=0,\"\",MIN(B44:B53))","v":""},{"$f":"IF(MAX(C44:C53)=0,\"\",MAX(C44:C53))","v":""},{"$f":"IF(MAX(D44:D53)=0,\"\",MAX(D44:D53))","v":""},{"$f":"IF(MAX(E44:E53)=0,\"\",MAX(E44:E53))","v":""},{"$f":"IF(MAX(F44:F53)=0,\"\",MAX(F44:F53))","v":""},{"$f":"IF(MAX(G44:G53)=0,\"\",MAX(G44:G53))","v":""},null,{"$f":"SUM(I44:I53)","v":0},{"$f":"SUM(J44:J53)","v":0}]
["Commentaires ou notes explicatives sur les composants majeurs critiques auscultés\n\n(¨  Notes supplémentaires et/ou photos disponibles)"]
["RELEVÉ DES COMPOSANTS MAJEURS D'INSTRUMENTATION ET DE CONTRÔLE"]
["Composants majeurs","Année d'installation","Durée de vie utile théorique","% Durée de vie écoulée","État physique","État fonctionnel","Année d'évaluation","Type d'évaluation*","Valeur de remplacement ($)","Coût de l'intervention ($)","Type d'intervention**","Année d'intervention"]
[null,null,{"$f":"IF(B58=\"\",\"\",Données!$E$83)","v":""},{"$f":"IF(B58=\"\",\"\",(Annee_BI-B58)/C58)","v":""}]
[null,null,{"$f":"IF(B59=\"\",\"\",Données!$E$83)","v":""},""]
[null,null,{"$f":"IF(B60=\"\",\"\",Données!$E$83)","v":""},""]
[null,null,{"$f":"IF(B61=\"\",\"\",Données!$E$83)","v":""},""]
[null,null,{"$f":"IF(B62=\"\",\"\",Données!$E$83)","v":""},""]
[null,null,{"$f":"IF(B63=\"\",\"\",Données!$E$83)","v":""},""]
[null,null,{"$f":"IF(B64=\"\",\"\",Données!$E$83)","v":""},""]
[null,null,{"$f":"IF(B65=\"\",\"\",Données!$E$83)","v":""},""]
[null,null,{"$f":"IF(B66=\"\",\"\",Données!$E$83)","v":""},""]
[null,null,{"$f":"IF(B67=\"\",\"\",Données!$E$83)","v":""},""]
["Récapitulatif des résultats (discipline)",{"$f":"IF(MIN(B58:B67)=0,\"\",MIN(B58:B67))","v":""},{"$f":"IF(MAX(C58:C67)=0,\"\",MAX(C58:C67))","v":""},{"$f":"IF(MAX(D58:D67)=0,\"\",MAX(D58:D67))","v":""},{"$f":"IF(MAX(E58:E67)=0,\"\",MAX(E58:E67))","v":""},{"$f":"IF(MAX(F58:F67)=0,\"\",MAX(F58:F67))","v":""},{"$f":"IF(MAX(G58:G67)=0,\"\",MAX(G58:G67))","v":""},null,{"$f":"SUM(I58:I67)","v":0},{"$f":"SUM(J58:J67)","v":0}]
["Commentaires ou notes explicatives sur les composants majeurs critiques auscultés\n\n(¨  Notes supplémentaires et/ou photos disponibles)"]

{"sheet":"EP_Decantation","index":18,"n_rows":69,"n_cols":12,"rows_kept":69,"cut":false,"hidden":true,"merged":[[7,1,7,5],[7,6,7,7],[7,8,7,11],[8,1,8,5],[8,8,8,11],[8,6,8,7],[1,1,1,5],[1,6,1,8],[1,9,1,11],[2,1,2,5],[2,6,2,8],[2,9,2,11],[13,0,13,11],[55,0,55,11],[68,1,68,11],[26,1,26,11],[27,0,27,11],[40,1,40,11],[41,0,41,11],[54,1,54,11],[3,9,3,11],[6,1,6,5],[6,8,6,11],[5,1,5,5],[5,8,5,11],[4,0,4,11],[6,6,6,7],[5,6,5,7],[3,1,3,5],[3,6,3,8],[9,6,9,7],[10,1,10,5],[10,8,10,11],[11,1,11,5],[11,8,11,11],[10,6,10,7],[11,6,11,7],[9,1,9,5],[9,8,9,11]]}
["IDENTIFICATION DU SYSTÈME",null,null,null,null,null,null,null,null,"Consulter l'aide se rapportant aux procédés de l'ouvrage"]
["Type d'infrastructure :",{"$f":"IF(Identification!H61=0,\"\",Identification!H61)","v":""},null,null,null,null,"         Sous-type d'infrastructure :",null,null,{"$f":"IF(Identification!H62=0,\"\",Identification!H62)","v":""}]
["Nom de l'infrastructure :",{"$f":"IF(Identification!H63=0,\"\",Identification!H63)","v":""},null,null,null,null,"         Type de système :",null,null,"Décantation/ Flottation"]
["Année d'installation :",{"$f":"Identification!H66","v":0},null,null,null,null,"         Valeur de remplacement :",null,null,{"$f":"IF(I26+I40+I54+I68=0,\"\",I26+I40+I54+I68)","v":""}]
["CRITÈRES D'ÉVALUATION DES COMPOSANTS MAJEURS"]
["Cote","État physique",null,null,null,null,"Cote",null,"État fonctionnel"]
[0,"Le composant majeur n'a pas été ausculté",null,null,null,null,0,null,"Le composant majeur n'a pas été ausculté"]
[1,"Le composant majeur est récent ou remis à neuf",null,null,null,null,1,null,"Le fonctionnement du composant majeur est comme « neuf » et comme attendu. Le composant répond parfaitement aux normes techniques de conception ainsi qu’aux normes de santé et de sécurité en vigueur."]
[2,"Le composant majeur présente un niveau léger de dégradation ou de défectuosité",null,null,null,null,2,null,"Le fonctionnement du composant majeur est adéquat. Le composant répond adéquatement aux normes techniques de conception ainsi qu’aux normes de santé et de sécurité en vigueur."]
[3,"Le composant majeur présente un niveau modéré de dégradation ou de défectuosité",null,null,null,null,3,null,"Le fonctionnement du composant majeur est intermittent mais ne nuit pas au procédé. Le composant répond adéquatement aux normes techniques de conception ainsi qu’aux normes de santé et de sécurité en vigueur."]
[4,"Le composant majeur présente un niveau élevé de dégradation ou de défectuosité",null,null,null,null,4,null,"Le fonctionnement du composant majeur est intermittent et nuit au procédé. Le composant est très près de ne pas répondre aux normes techniques de conception mais répond aux normes de santé et de sécurité en vigueur."]
[5,"Le composant majeur présente un niveau très élevé de dégradation ou de défectuosité",null,null,null,null,5,null,"Le fonctionnement du composant majeur est déficient et empêche le procédé de s’effectuer. Le composant ne répond pas aux normes techniques de conception et/ou ne répond pas aux normes de santé et de sécurité en vigueur."]
["*Type d'évaluation : Visuelle (V), Opérateur (O), Mesure (M)",null,null,null,null,null,"**Type d'intervention : Ajout (AJ), Remplacement (RP), Réfection majeure (RFM), Expertise complémentaire (DE)"]
["RELEVÉ DES COMPOSANTS MAJEURS CIVILS"]
["Composants majeurs","Année d'installation","Durée de vie utile théorique","% Durée de vie écoulée","État physique","État fonctionnel","Année d'évaluation","Type d'évaluation*","Valeur de remplacement ($)","Coût de l'intervention ($)","Type d'intervention**","Année d'intervention"]
[null,null,{"$f":"IF(B16=\"\",\"\",Données!$E$80)","v":""},{"$f":"IF(B16=\"\",\"\",(Annee_BI-B16)/C16)","v":""}]
[null,null,{"$f":"IF(B17=\"\",\"\",Données!$E$80)","v":""},""]
[null,null,{"$f":"IF(B18=\"\",\"\",Données!$E$80)","v":""},""]
[null,null,{"$f":"IF(B19=\"\",\"\",Données!$E$80)","v":""},""]
[null,null,{"$f":"IF(B20=\"\",\"\",Données!$E$80)","v":""},""]
[null,null,{"$f":"IF(B21=\"\",\"\",Données!$E$80)","v":""},""]
[null,null,{"$f":"IF(B22=\"\",\"\",Données!$E$80)","v":""},""]
[null,null,{"$f":"IF(B23=\"\",\"\",Données!$E$80)","v":""},""]
[null,null,{"$f":"IF(B24=\"\",\"\",Données!$E$80)","v":""},""]
[null,null,{"$f":"IF(B25=\"\",\"\",Données!$E$80)","v":""},""]
["Récapitulatif des résultats (discipline)",{"$f":"IF(MIN(B16:B25)=0,\"\",MIN(B16:B25))","v":""},{"$f":"IF(MAX(C16:C25)=0,\"\",MAX(C16:C25))","v":""},{"$f":"IF(MAX(D16:D25)=0,\"\",MAX(D16:D25))","v":""},{"$f":"IF(MAX(E16:E25)=0,\"\",MAX(E16:E25))","v":""},{"$f":"IF(MAX(F16:F25)=0,\"\",MAX(F16:F25))","v":""},{"$f":"IF(MAX(G16:G25)=0,\"\",MAX(G16:G25))","v":""},null,{"$f":"SUM(I16:I25)","v":0},{"$f":"SUM(J16:J25)","v":0}]
["Commentaires ou notes explicatives sur les composants majeurs critiques auscultés\n\n(¨  Notes supplémentaires et/ou photos disponibles)","\n"]
["RELEVÉ DES COMPOSANTS MAJEURS MÉCANIQUES"]
["Composants majeurs","Année d'installation","Durée de vie utile théorique","% Durée de vie écoulée","État physique","État fonctionnel","Année d'évaluation","Type d'évaluation*","Valeur de remplacement ($)","Coût de l'intervention ($)","Type d'intervention**","Année d'intervention"]
[null,null,{"$f":"IF(B30=\"\",\"\",Données!$E$81)","v":""},{"$f":"IF(B30=\"\",\"\",(Annee_BI-B30)/C30)","v":""}]
[null,null,{"$f":"IF(B31=\"\",\"\",Données!$E$81)","v":""},""]
[null,null,{"$f":"IF(B32=\"\",\"\",Données!$E$81)","v":""},""]
[null,null,{"$f":"IF(B33=\"\",\"\",Données!$E$81)","v":""},""]
[null,null,{"$f":"IF(B34=\"\",\"\",Données!$E$81)","v":""},""]
[null,null,{"$f":"IF(B35=\"\",\"\",Données!$E$81)","v":""},""]
[null,null,{"$f":"IF(B36=\"\",\"\",Données!$E$81)","v":""},""]
[null,null,{"$f":"IF(B37=\"\",\"\",Données!$E$81)","v":""},""]
[null,null,{"$f":"IF(B38=\"\",\"\",Données!$E$81)","v":""},""]
[null,null,{"$f":"IF(B39=\"\",\"\",Données!$E$81)","v":""},""]
["Récapitulatif des résultats (discipline)",{"$f":"IF(MIN(B30:B39)=0,\"\",MIN(B30:B39))","v":""},{"$f":"IF(MAX(C30:C39)=0,\"\",MAX(C30:C39))","v":""},{"$f":"IF(MAX(D30:D39)=0,\"\",MAX(D30:D39))","v":""},{"$f":"IF(MAX(E30:E39)=0,\"\",MAX(E30:E39))","v":""},{"$f":"IF(MAX(F30:F39)=0,\"\",MAX(F30:F39))","v":""},{"$f":"IF(MAX(G30:G39)=0,\"\",MAX(G30:G39))","v":""},null,{"$f":"SUM(I30:I39)","v":0},{"$f":"SUM(J30:J39)","v":0}]
["Commentaires ou notes explicatives sur les composants majeurs critiques auscultés\n\n(¨  Notes supplémentaires et/ou photos disponibles)","\n"]
["RELEVÉ DES COMPOSANTS MAJEURS ÉLECTRIQUES"]
["Composants majeurs","Année d'installation","Durée de vie utile théorique","% Durée de vie écoulée","État physique","État fonctionnel","Année d'auscultation","Type d'évaluation*","Valeur de remplacement ($)","Coût de l'intervention ($)","Type d'intervention**","Année d'intervention"]
[null,null,{"$f":"IF(B44=\"\",\"\",Données!$E$82)","v":""},{"$f":"IF(B44=\"\",\"\",(Annee_BI-B44)/C44)","v":""}]
[null,null,{"$f":"IF(B45=\"\",\"\",Données!$E$82)","v":""},""]
[null,null,{"$f":"IF(B46=\"\",\"\",Données!$E$82)","v":""},""]
[null,null,{"$f":"IF(B47=\"\",\"\",Données!$E$82)","v":""},""]
[null,null,{"$f":"IF(B48=\"\",\"\",Données!$E$82)","v":""},""]
[null,null,{"$f":"IF(B49=\"\",\"\",Données!$E$82)","v":""},""]
[null,null,{"$f":"IF(B50=\"\",\"\",Données!$E$82)","v":""},""]
[null,null,{"$f":"IF(B51=\"\",\"\",Données!$E$82)","v":""},""]
[null,null,{"$f":"IF(B52=\"\",\"\",Données!$E$82)","v":""},""]
[null,null,{"$f":"IF(B53=\"\",\"\",Données!$E$82)","v":""},""]
["Récapitulatif des résultats (discipline)",{"$f":"IF(MIN(B44:B53)=0,\"\",MIN(B44:B53))","v":""},{"$f":"IF(MAX(C44:C53)=0,\"\",MAX(C44:C53))","v":""},{"$f":"IF(MAX(D44:D53)=0,\"\",MAX(D44:D53))","v":""},{"$f":"IF(MAX(E44:E53)=0,\"\",MAX(E44:E53))","v":""},{"$f":"IF(MAX(F44:F53)=0,\"\",MAX(F44:F53))","v":""},{"$f":"IF(MAX(G44:G53)=0,\"\",MAX(G44:G53))","v":""},null,{"$f":"SUM(I44:I53)","v":0},{"$f":"SUM(J44:J53)","v":0}]
["Commentaires ou notes explicatives sur les composants majeurs critiques auscultés\n\n(¨  Notes supplémentaires et/ou photos disponibles)"]
["RELEVÉ DES COMPOSANTS MAJEURS D'INSTRUMENTATION ET DE CONTRÔLE"]
["Composants majeurs","Année d'installation","Durée de vie utile théorique","% Durée de vie écoulée","État physique","État fonctionnel","Année d'évaluation","Type d'évaluation*","Valeur de remplacement ($)","Coût de l'intervention ($)","Type d'intervention**","Année d'intervention"]
[null,null,{"$f":"IF(B58=\"\",\"\",Données!$E$83)","v":""},{"$f":"IF(B58=\"\",\"\",(Annee_BI-B58)/C58)","v":""}]
[null,null,{"$f":"IF(B59=\"\",\"\",Données!$E$83)","v":""},""]
[null,null,{"$f":"IF(B60=\"\",\"\",Données!$E$83)","v":""},""]
[null,null,{"$f":"IF(B61=\"\",\"\",Données!$E$83)","v":""},""]
[null,null,{"$f":"IF(B62=\"\",\"\",Données!$E$83)","v":""},""]
[null,null,{"$f":"IF(B63=\"\",\"\",Données!$E$83)","v":""},""]
[null,null,{"$f":"IF(B64=\"\",\"\",Données!$E$83)","v":""},""]
[null,null,{"$f":"IF(B65=\"\",\"\",Données!$E$83)","v":""},""]
[null,null,{"$f":"IF(B66=\"\",\"\",Données!$E$83)","v":""},""]
[null,null,{"$f":"IF(B67=\"\",\"\",Données!$E$83)","v":""},""]
["Récapitulatif des résultats (discipline)",{"$f":"IF(MIN(B58:B67)=0,\"\",MIN(B58:B67))","v":""},{"$f":"IF(MAX(C58:C67)=0,\"\",MAX(C58:C67))","v":""},{"$f":"IF(MAX(D58:D67)=0,\"\",MAX(D58:D67))","v":""},{"$f":"IF(MAX(E58:E67)=0,\"\",MAX(E58:E67))","v":""},{"$f":"IF(MAX(F58:F67)=0,\"\",MAX(F58:F67))","v":""},{"$f":"IF(MAX(G58:G67)=0,\"\",MAX(G58:G67))","v":""},null,{"$f":"SUM(I58:I67)","v":0},{"$f":"SUM(J58:J67)","v":0}]
["Commentaires ou notes explicatives sur les composants majeurs critiques auscultés\n\n(¨  Notes supplémentaires et/ou photos disponibles)"]

{"sheet":"EP_Filtration","index":19,"n_rows":69,"n_cols":12,"rows_kept":69,"cut":false,"hidden":true,"merged":[[3,9,3,11],[6,1,6,5],[6,8,6,11],[5,1,5,5],[5,8,5,11],[4,0,4,11],[3,1,3,5],[3,6,3,8],[6,6,6,7],[5,6,5,7],[1,1,1,5],[1,6,1,8],[1,9,1,11],[2,1,2,5],[2,6,2,8],[2,9,2,11],[68,1,68,11],[26,1,26,11],[27,0,27,11],[40,1,40,11],[41,0,41,11],[54,1,54,11],[55,0,55,11],[7,1,7,5],[7,6,7,7],[7,8,7,11],[13,0,13,11],[10,6,10,7],[11,6,11,7],[11,1,11,5],[11,8,11,11],[8,6,8,7],[9,6,9,7],[10,1,10,5],[10,8,10,11],[8,1,8,5],[8,8,8,11],[9,1,9,5],[9,8,9,11]]}
["IDENTIFICATION DU SYSTÈME",null,null,null,null,null,null,null,null,"Consulter l'aide se rapportant aux procédés de l'ouvrage"]
["Type d'infrastructure :",{"$f":"IF(Identification!H61=0,\"\",Identification!H61)","v":""},null,null,null,null,"         Sous-type d'infrastructure :",null,null,{"$f":"IF(Identification!H62=0,\"\",Identification!H62)","v":""}]
["Nom de l'infrastructure :",{"$f":"IF(Identification!H63=0,\"\",Identification!H63)","v":""},null,null,null,null,"         Type de système :",null,null,"Filtration"]
["Année d'installation :",{"$f":"Identification!H66","v":0},null,null,null,null,"         Valeur de remplacement :",null,null,{"$f":"IF(I26+I40+I54+I68=0,\"\",I26+I40+I54+I68)","v":""}]
["CRITÈRES D'ÉVALUATION DES COMPOSANTS MAJEURS"]
["Cote","État physique",null,null,null,null,"Cote",null,"État fonctionnel"]
[0,"Le composant majeur n'a pas été ausculté",null,null,null,null,0,null,"Le composant majeur n'a pas été ausculté"]
[1,"Le composant majeur est récent ou remis à neuf",null,null,null,null,1,null,"Le fonctionnement du composant majeur est comme « neuf » et comme attendu. Le composant répond parfaitement aux normes techniques de conception ainsi qu’aux normes de santé et de sécurité en vigueur."]
[2,"Le composant majeur présente un niveau léger de dégradation ou de défectuosité",null,null,null,null,2,null,"Le fonctionnement du composant majeur est adéquat. Le composant répond adéquatement aux normes techniques de conception ainsi qu’aux normes de santé et de sécurité en vigueur."]
[3,"Le composant majeur présente un niveau modéré de dégradation ou de défectuosité",null,null,null,null,3,null,"Le fonctionnement du composant majeur est intermittent mais ne nuit pas au procédé. Le composant répond adéquatement aux normes techniques de conception ainsi qu’aux normes de santé et de sécurité en vigueur."]
[4,"Le composant majeur présente un niveau élevé de dégradation ou de défectuosité",null,null,null,null,4,null,"Le fonctionnement du composant majeur est intermittent et nuit au procédé. Le composant est très près de ne pas répondre aux normes techniques de conception mais répond aux normes de santé et de sécurité en vigueur."]
[5,"Le composant majeur présente un niveau très élevé de dégradation ou de défectuosité",null,null,null,null,5,null,"Le fonctionnement du composant majeur est déficient et empêche le procédé de s’effectuer. Le composant ne répond pas aux normes techniques de conception et/ou ne répond pas aux normes de santé et de sécurité en vigueur."]
["*Type d'évaluation : Visuelle (V), Opérateur (O), Mesure (M)",null,null,null,null,null,"**Type d'intervention : Ajout (AJ), Remplacement (RP), Réfection majeure (RFM), Expertise complémentaire (DE)"]
["RELEVÉ DES COMPOSANTS MAJEURS CIVILS"]
["Composants majeurs","Année d'installation","Durée de vie utile théorique","% Durée de vie écoulée","État physique","État fonctionnel","Année d'évaluation","Type d'évaluation*","Valeur de remplacement ($)","Coût de l'intervention ($)","Type d'intervention**","Année d'intervention"]
[null,null,{"$f":"IF(B16=\"\",\"\",Données!$E$80)","v":""},{"$f":"IF(B16=\"\",\"\",(Annee_BI-B16)/C16)","v":""}]
[null,null,{"$f":"IF(B17=\"\",\"\",Données!$E$80)","v":""},""]
[null,null,{"$f":"IF(B18=\"\",\"\",Données!$E$80)","v":""},""]
[null,null,{"$f":"IF(B19=\"\",\"\",Données!$E$80)","v":""},""]
[null,null,{"$f":"IF(B20=\"\",\"\",Données!$E$80)","v":""},""]
[null,null,{"$f":"IF(B21=\"\",\"\",Données!$E$80)","v":""},""]
[null,null,{"$f":"IF(B22=\"\",\"\",Données!$E$80)","v":""},""]
[null,null,{"$f":"IF(B23=\"\",\"\",Données!$E$80)","v":""},""]
[null,null,{"$f":"IF(B24=\"\",\"\",Données!$E$80)","v":""},""]
[null,null,{"$f":"IF(B25=\"\",\"\",Données!$E$80)","v":""},""]
["Récapitulatif des résultats (discipline)",{"$f":"IF(MIN(B16:B25)=0,\"\",MIN(B16:B25))","v":""},{"$f":"IF(MAX(C16:C25)=0,\"\",MAX(C16:C25))","v":""},{"$f":"IF(MAX(D16:D25)=0,\"\",MAX(D16:D25))","v":""},{"$f":"IF(MAX(E16:E25)=0,\"\",MAX(E16:E25))","v":""},{"$f":"IF(MAX(F16:F25)=0,\"\",MAX(F16:F25))","v":""},{"$f":"IF(MAX(G16:G25)=0,\"\",MAX(G16:G25))","v":""},null,{"$f":"SUM(I16:I25)","v":0},{"$f":"SUM(J16:J25)","v":0}]
["Commentaires ou notes explicatives sur les composants majeurs critiques auscultés\n\n(¨  Notes supplémentaires et/ou photos disponibles)","\n"]
["RELEVÉ DES COMPOSANTS MAJEURS MÉCANIQUES"]
["Composants majeurs","Année d'installation","Durée de vie utile théorique","% Durée de vie écoulée","État physique","État fonctionnel","Année d'évaluation","Type d'évaluation*","Valeur de remplacement ($)","Coût de l'intervention ($)","Type d'intervention**","Année d'intervention"]
[null,null,{"$f":"IF(B30=\"\",\"\",Données!$E$81)","v":""},{"$f":"IF(B30=\"\",\"\",(Annee_BI-B30)/C30)","v":""}]
[null,null,{"$f":"IF(B31=\"\",\"\",Données!$E$81)","v":""},""]
[null,null,{"$f":"IF(B32=\"\",\"\",Données!$E$81)","v":""},""]
[null,null,{"$f":"IF(B33=\"\",\"\",Données!$E$81)","v":""},""]
[null,null,{"$f":"IF(B34=\"\",\"\",Données!$E$81)","v":""},""]
[null,null,{"$f":"IF(B35=\"\",\"\",Données!$E$81)","v":""},""]
[null,null,{"$f":"IF(B36=\"\",\"\",Données!$E$81)","v":""},""]
[null,null,{"$f":"IF(B37=\"\",\"\",Données!$E$81)","v":""},""]
[null,null,{"$f":"IF(B38=\"\",\"\",Données!$E$81)","v":""},""]
[null,null,{"$f":"IF(B39=\"\",\"\",Données!$E$81)","v":""},""]
["Récapitulatif des résultats (discipline)",{"$f":"IF(MIN(B30:B39)=0,\"\",MIN(B30:B39))","v":""},{"$f":"IF(MAX(C30:C39)=0,\"\",MAX(C30:C39))","v":""},{"$f":"IF(MAX(D30:D39)=0,\"\",MAX(D30:D39))","v":""},{"$f":"IF(MAX(E30:E39)=0,\"\",MAX(E30:E39))","v":""},{"$f":"IF(MAX(F30:F39)=0,\"\",MAX(F30:F39))","v":""},{"$f":"IF(MAX(G30:G39)=0,\"\",MAX(G30:G39))","v":""},null,{"$f":"SUM(I30:I39)","v":0},{"$f":"SUM(J30:J39)","v":0}]
["Commentaires ou notes explicatives sur les composants majeurs critiques auscultés\n\n(¨  Notes supplémentaires et/ou photos disponibles)","\n"]
["RELEVÉ DES COMPOSANTS MAJEURS ÉLECTRIQUES"]
["Composants majeurs","Année d'installation","Durée de vie utile théorique","% Durée de vie écoulée","État physique","État fonctionnel","Année d'auscultation","Type d'évaluation*","Valeur de remplacement ($)","Coût de l'intervention ($)","Type d'intervention**","Année d'intervention"]
[null,null,{"$f":"IF(B44=\"\",\"\",Données!$E$82)","v":""},{"$f":"IF(B44=\"\",\"\",(Annee_BI-B44)/C44)","v":""}]
[null,null,{"$f":"IF(B45=\"\",\"\",Données!$E$82)","v":""},""]
[null,null,{"$f":"IF(B46=\"\",\"\",Données!$E$82)","v":""},""]
[null,null,{"$f":"IF(B47=\"\",\"\",Données!$E$82)","v":""},""]
[null,null,{"$f":"IF(B48=\"\",\"\",Données!$E$82)","v":""},""]
[null,null,{"$f":"IF(B49=\"\",\"\",Données!$E$82)","v":""},""]
[null,null,{"$f":"IF(B50=\"\",\"\",Données!$E$82)","v":""},""]
[null,null,{"$f":"IF(B51=\"\",\"\",Données!$E$82)","v":""},""]
[null,null,{"$f":"IF(B52=\"\",\"\",Données!$E$82)","v":""},""]
[null,null,{"$f":"IF(B53=\"\",\"\",Données!$E$82)","v":""},""]
["Récapitulatif des résultats (discipline)",{"$f":"IF(MIN(B44:B53)=0,\"\",MIN(B44:B53))","v":""},{"$f":"IF(MAX(C44:C53)=0,\"\",MAX(C44:C53))","v":""},{"$f":"IF(MAX(D44:D53)=0,\"\",MAX(D44:D53))","v":""},{"$f":"IF(MAX(E44:E53)=0,\"\",MAX(E44:E53))","v":""},{"$f":"IF(MAX(F44:F53)=0,\"\",MAX(F44:F53))","v":""},{"$f":"IF(MAX(G44:G53)=0,\"\",MAX(G44:G53))","v":""},null,{"$f":"SUM(I44:I53)","v":0},{"$f":"SUM(J44:J53)","v":0}]
["Commentaires ou notes explicatives sur les composants majeurs critiques auscultés\n\n(¨  Notes supplémentaires et/ou photos disponibles)"]
["RELEVÉ DES COMPOSANTS MAJEURS D'INSTRUMENTATION ET DE CONTRÔLE"]
["Composants majeurs","Année d'installation","Durée de vie utile théorique","% Durée de vie écoulée","État physique","État fonctionnel","Année d'évaluation","Type d'évaluation*","Valeur de remplacement ($)","Coût de l'intervention ($)","Type d'intervention**","Année d'intervention"]
[null,null,{"$f":"IF(B58=\"\",\"\",Données!$E$83)","v":""},{"$f":"IF(B58=\"\",\"\",(Annee_BI-B58)/C58)","v":""}]
[null,null,{"$f":"IF(B59=\"\",\"\",Données!$E$83)","v":""},""]
[null,null,{"$f":"IF(B60=\"\",\"\",Données!$E$83)","v":""},""]
[null,null,{"$f":"IF(B61=\"\",\"\",Données!$E$83)","v":""},""]
[null,null,{"$f":"IF(B62=\"\",\"\",Données!$E$83)","v":""},""]
[null,null,{"$f":"IF(B63=\"\",\"\",Données!$E$83)","v":""},""]
[null,null,{"$f":"IF(B64=\"\",\"\",Données!$E$83)","v":""},""]
[null,null,{"$f":"IF(B65=\"\",\"\",Données!$E$83)","v":""},""]
[null,null,{"$f":"IF(B66=\"\",\"\",Données!$E$83)","v":""},""]
[null,null,{"$f":"IF(B67=\"\",\"\",Données!$E$83)","v":""},""]
["Récapitulatif des résultats (discipline)",{"$f":"IF(MIN(B58:B67)=0,\"\",MIN(B58:B67))","v":""},{"$f":"IF(MAX(C58:C67)=0,\"\",MAX(C58:C67))","v":""},{"$f":"IF(MAX(D58:D67)=0,\"\",MAX(D58:D67))","v":""},{"$f":"IF(MAX(E58:E67)=0,\"\",MAX(E58:E67))","v":""},{"$f":"IF(MAX(F58:F67)=0,\"\",MAX(F58:F67))","v":""},{"$f":"IF(MAX(G58:G67)=0,\"\",MAX(G58:G67))","v":""},null,{"$f":"SUM(I58:I67)","v":0},{"$f":"SUM(J58:J67)","v":0}]
["Commentaires ou notes explicatives sur les composants majeurs critiques auscultés\n\n(¨  Notes supplémentaires et/ou photos disponibles)"]

{"sheet":"EP_Traitements_specifiques","index":20,"n_rows":69,"n_cols":12,"rows_kept":69,"cut":false,"hidden":true,"merged":[[68,1,68,11],[9,1,9,5],[9,6,9,7],[9,8,9,11],[10,1,10,5],[10,6,10,7],[10,8,10,11],[11,1,11,5],[11,6,11,7],[11,8,11,11],[13,0,13,11],[26,1,26,11],[27,0,27,11],[40,1,40,11],[8,1,8,5],[8,6,8,7],[8,8,8,11],[54,1,54,11],[55,0,55,11],[41,0,41,11],[6,6,6,7],[6,8,6,11],[7,1,7,5],[7,6,7,7],[7,8,7,11],[6,1,6,5],[1,1,1,5],[1,6,1,8],[1,9,1,11],[2,1,2,5],[2,6,2,8],[2,9,2,11],[3,1,3,5],[3,6,3,8],[3,9,3,11],[4,0,4,11],[5,1,5,5],[5,6,5,7],[5,8,5,11]]}
["IDENTIFICATION DU SYSTÈME",null,null,null,null,null,null,null,null,"Consulter l'aide se rapportant aux procédés de l'ouvrage"]
["Type d'infrastructure :",{"$f":"IF(Identification!H61=0,\"\",Identification!H61)","v":""},null,null,null,null,"         Sous-type d'infrastructure :",null,null,{"$f":"IF(Identification!H62=0,\"\",Identification!H62)","v":""}]
["Nom de l'infrastructure :",{"$f":"IF(Identification!H63=0,\"\",Identification!H63)","v":""},null,null,null,null,"         Type de système :",null,null,"Traitements spécifiques"]
["Année d'installation :",{"$f":"Identification!H66","v":0},null,null,null,null,"         Valeur de remplacement :",null,null,{"$f":"IF(I26+I40+I54+I68=0,\"\",I26+I40+I54+I68)","v":""}]
["CRITÈRES D'ÉVALUATION DES COMPOSANTS MAJEURS"]
["Cote","État physique",null,null,null,null,"Cote",null,"État fonctionnel"]
[0,"Le composant majeur n'a pas été ausculté",null,null,null,null,0,null,"Le composant majeur n'a pas été ausculté"]
[1,"Le composant majeur est récent ou remis à neuf",null,null,null,null,1,null,"Le fonctionnement du composant majeur est comme « neuf » et comme attendu. Le composant répond parfaitement aux normes techniques de conception ainsi qu’aux normes de santé et de sécurité en vigueur."]
[2,"Le composant majeur présente un niveau léger de dégradation ou de défectuosité",null,null,null,null,2,null,"Le fonctionnement du composant majeur est adéquat. Le composant répond adéquatement aux normes techniques de conception ainsi qu’aux normes de santé et de sécurité en vigueur."]
[3,"Le composant majeur présente un niveau modéré de dégradation ou de défectuosité",null,null,null,null,3,null,"Le fonctionnement du composant majeur est intermittent mais ne nuit pas au procédé. Le composant répond adéquatement aux normes techniques de conception ainsi qu’aux normes de santé et de sécurité en vigueur."]
[4,"Le composant majeur présente un niveau élevé de dégradation ou de défectuosité",null,null,null,null,4,null,"Le fonctionnement du composant majeur est intermittent et nuit au procédé. Le composant est très près de ne pas répondre aux normes techniques de conception mais répond aux normes de santé et de sécurité en vigueur."]
[5,"Le composant majeur présente un niveau très élevé de dégradation ou de défectuosité",null,null,null,null,5,null,"Le fonctionnement du composant majeur est déficient et empêche le procédé de s’effectuer. Le composant ne répond pas aux normes techniques de conception et/ou ne répond pas aux normes de santé et de sécurité en vigueur."]
["*Type d'évaluation : Visuelle (V), Opérateur (O), Mesure (M)",null,null,null,null,null,"**Type d'intervention : Ajout (AJ), Remplacement (RP), Réfection majeure (RFM), Expertise complémentaire (DE)"]
["RELEVÉ DES COMPOSANTS MAJEURS CIVILS"]
["Composants majeurs","Année d'installation","Durée de vie utile théorique","% Durée de vie écoulée","État physique","État fonctionnel","Année d'évaluation","Type d'évaluation*","Valeur de remplacement ($)","Coût de l'intervention ($)","Type d'intervention**","Année d'intervention"]
[null,null,{"$f":"IF(B16=\"\",\"\",Données!$E$80)","v":""},{"$f":"IF(B16=\"\",\"\",(Annee_BI-B16)/C16)","v":""}]
[null,null,{"$f":"IF(B17=\"\",\"\",Données!$E$80)","v":""},""]
[null,null,{"$f":"IF(B18=\"\",\"\",Données!$E$80)","v":""},""]
[null,null,{"$f":"IF(B19=\"\",\"\",Données!$E$80)","v":""},""]
[null,null,{"$f":"IF(B20=\"\",\"\",Données!$E$80)","v":""},""]
[null,null,{"$f":"IF(B21=\"\",\"\",Données!$E$80)","v":""},""]
[null,null,{"$f":"IF(B22=\"\",\"\",Données!$E$80)","v":""},""]
[null,null,{"$f":"IF(B23=\"\",\"\",Données!$E$80)","v":""},""]
[null,null,{"$f":"IF(B24=\"\",\"\",Données!$E$80)","v":""},""]
[null,null,{"$f":"IF(B25=\"\",\"\",Données!$E$80)","v":""},""]
["Récapitulatif des résultats (discipline)",{"$f":"IF(MIN(B16:B25)=0,\"\",MIN(B16:B25))","v":""},{"$f":"IF(MAX(C16:C25)=0,\"\",MAX(C16:C25))","v":""},{"$f":"IF(MAX(D16:D25)=0,\"\",MAX(D16:D25))","v":""},{"$f":"IF(MAX(E16:E25)=0,\"\",MAX(E16:E25))","v":""},{"$f":"IF(MAX(F16:F25)=0,\"\",MAX(F16:F25))","v":""},{"$f":"IF(MAX(G16:G25)=0,\"\",MAX(G16:G25))","v":""},null,{"$f":"SUM(I16:I25)","v":0},{"$f":"SUM(J16:J25)","v":0}]
["Commentaires ou notes explicatives sur les composants majeurs critiques auscultés\n\n(¨  Notes supplémentaires et/ou photos disponibles)","\n"]
["RELEVÉ DES COMPOSANTS MAJEURS MÉCANIQUES"]
["Composants majeurs","Année d'installation","Durée de vie utile théorique","% Durée de vie écoulée","État physique","État fonctionnel","Année d'évaluation","Type d'évaluation*","Valeur de remplacement ($)","Coût de l'intervention ($)","Type d'intervention**","Année d'intervention"]
[null,null,{"$f":"IF(B30=\"\",\"\",Données!$E$81)","v":""},{"$f":"IF(B30=\"\",\"\",(Annee_BI-B30)/C30)","v":""}]
[null,null,{"$f":"IF(B31=\"\",\"\",Données!$E$81)","v":""},""]
[null,null,{"$f":"IF(B32=\"\",\"\",Données!$E$81)","v":""},""]
[null,null,{"$f":"IF(B33=\"\",\"\",Données!$E$81)","v":""},""]
[null,null,{"$f":"IF(B34=\"\",\"\",Données!$E$81)","v":""},""]
[null,null,{"$f":"IF(B35=\"\",\"\",Données!$E$81)","v":""},""]
[null,null,{"$f":"IF(B36=\"\",\"\",Données!$E$81)","v":""},""]
[null,null,{"$f":"IF(B37=\"\",\"\",Données!$E$81)","v":""},""]
[null,null,{"$f":"IF(B38=\"\",\"\",Données!$E$81)","v":""},""]
[null,null,{"$f":"IF(B39=\"\",\"\",Données!$E$81)","v":""},""]
["Récapitulatif des résultats (discipline)",{"$f":"IF(MIN(B30:B39)=0,\"\",MIN(B30:B39))","v":""},{"$f":"IF(MAX(C30:C39)=0,\"\",MAX(C30:C39))","v":""},{"$f":"IF(MAX(D30:D39)=0,\"\",MAX(D30:D39))","v":""},{"$f":"IF(MAX(E30:E39)=0,\"\",MAX(E30:E39))","v":""},{"$f":"IF(MAX(F30:F39)=0,\"\",MAX(F30:F39))","v":""},{"$f":"IF(MAX(G30:G39)=0,\"\",MAX(G30:G39))","v":""},null,{"$f":"SUM(I30:I39)","v":0},{"$f":"SUM(J30:J39)","v":0}]
["Commentaires ou notes explicatives sur les composants majeurs critiques auscultés\n\n(¨  Notes supplémentaires et/ou photos disponibles)","\n"]
["RELEVÉ DES COMPOSANTS MAJEURS ÉLECTRIQUES"]
["Composants majeurs","Année d'installation","Durée de vie utile théorique","% Durée de vie écoulée","État physique","État fonctionnel","Année d'auscultation","Type d'évaluation*","Valeur de remplacement ($)","Coût de l'intervention ($)","Type d'intervention**","Année d'intervention"]
[null,null,{"$f":"IF(B44=\"\",\"\",Données!$E$82)","v":""},{"$f":"IF(B44=\"\",\"\",(Annee_BI-B44)/C44)","v":""}]
[null,null,{"$f":"IF(B45=\"\",\"\",Données!$E$82)","v":""},""]
[null,null,{"$f":"IF(B46=\"\",\"\",Données!$E$82)","v":""},""]
[null,null,{"$f":"IF(B47=\"\",\"\",Données!$E$82)","v":""},""]
[null,null,{"$f":"IF(B48=\"\",\"\",Données!$E$82)","v":""},""]
[null,null,{"$f":"IF(B49=\"\",\"\",Données!$E$82)","v":""},""]
[null,null,{"$f":"IF(B50=\"\",\"\",Données!$E$82)","v":""},""]
[null,null,{"$f":"IF(B51=\"\",\"\",Données!$E$82)","v":""},""]
[null,null,{"$f":"IF(B52=\"\",\"\",Données!$E$82)","v":""},""]
[null,null,{"$f":"IF(B53=\"\",\"\",Données!$E$82)","v":""},""]
["Récapitulatif des résultats (discipline)",{"$f":"IF(MIN(B44:B53)=0,\"\",MIN(B44:B53))","v":""},{"$f":"IF(MAX(C44:C53)=0,\"\",MAX(C44:C53))","v":""},{"$f":"IF(MAX(D44:D53)=0,\"\",MAX(D44:D53))","v":""},{"$f":"IF(MAX(E44:E53)=0,\"\",MAX(E44:E53))","v":""},{"$f":"IF(MAX(F44:F53)=0,\"\",MAX(F44:F53))","v":""},{"$f":"IF(MAX(G44:G53)=0,\"\",MAX(G44:G53))","v":""},null,{"$f":"SUM(I44:I53)","v":0},{"$f":"SUM(J44:J53)","v":0}]
["Commentaires ou notes explicatives sur les composants majeurs critiques auscultés\n\n(¨  Notes supplémentaires et/ou photos disponibles)"]
["RELEVÉ DES COMPOSANTS MAJEURS D'INSTRUMENTATION ET DE CONTRÔLE"]
["Composants majeurs","Année d'installation","Durée de vie utile théorique","% Durée de vie écoulée","État physique","État fonctionnel","Année d'évaluation","Type d'évaluation*","Valeur de remplacement ($)","Coût de l'intervention ($)","Type d'intervention**","Année d'intervention"]
[null,null,{"$f":"IF(B58=\"\",\"\",Données!$E$83)","v":""},{"$f":"IF(B58=\"\",\"\",(Annee_BI-B58)/C58)","v":""}]
[null,null,{"$f":"IF(B59=\"\",\"\",Données!$E$83)","v":""},""]
[null,null,{"$f":"IF(B60=\"\",\"\",Données!$E$83)","v":""},""]
[null,null,{"$f":"IF(B61=\"\",\"\",Données!$E$83)","v":""},""]
[null,null,{"$f":"IF(B62=\"\",\"\",Données!$E$83)","v":""},""]
[null,null,{"$f":"IF(B63=\"\",\"\",Données!$E$83)","v":""},""]
[null,null,{"$f":"IF(B64=\"\",\"\",Données!$E$83)","v":""},""]
[null,null,{"$f":"IF(B65=\"\",\"\",Données!$E$83)","v":""},""]
[null,null,{"$f":"IF(B66=\"\",\"\",Données!$E$83)","v":""},""]
[null,null,{"$f":"IF(B67=\"\",\"\",Données!$E$83)","v":""},""]
["Récapitulatif des résultats (discipline)",{"$f":"IF(MIN(B58:B67)=0,\"\",MIN(B58:B67))","v":""},{"$f":"IF(MAX(C58:C67)=0,\"\",MAX(C58:C67))","v":""},{"$f":"IF(MAX(D58:D67)=0,\"\",MAX(D58:D67))","v":""},{"$f":"IF(MAX(E58:E67)=0,\"\",MAX(E58:E67))","v":""},{"$f":"IF(MAX(F58:F67)=0,\"\",MAX(F58:F67))","v":""},{"$f":"IF(MAX(G58:G67)=0,\"\",MAX(G58:G67))","v":""},null,{"$f":"SUM(I58:I67)","v":0},{"$f":"SUM(J58:J67)","v":0}]
["Commentaires ou notes explicatives sur les composants majeurs critiques auscultés\n\n(¨  Notes supplémentaires et/ou photos disponibles)"]

{"sheet":"EP_Desinfection_CHLO","index":21,"n_rows":69,"n_cols":12,"rows_kept":69,"cut":false,"hidden":true,"merged":[[55,0,55,11],[68,1,68,11],[26,1,26,11],[27,0,27,11],[40,1,40,11],[41,0,41,11],[54,1,54,11],[10,8,10,11],[11,1,11,5],[11,6,11,7],[11,8,11,11],[13,0,13,11],[10,1,10,5],[10,6,10,7],[8,1,8,5],[8,6,8,7],[8,8,8,11],[9,1,9,5],[9,6,9,7],[9,8,9,11],[6,1,6,5],[6,6,6,7],[6,8,6,11],[7,1,7,5],[7,6,7,7],[7,8,7,11],[3,6,3,8],[3,9,3,11],[4,0,4,11],[5,1,5,5],[5,6,5,7],[5,8,5,11],[3,1,3,5],[1,1,1,5],[1,6,1,8],[1,9,1,11],[2,1,2,5],[2,6,2,8],[2,9,2,11]]}
["IDENTIFICATION DU SYSTÈME",null,null,null,null,null,null,null,null,"Consulter l'aide se rapportant aux procédés de l'ouvrage"]
["Type d'infrastructure :",{"$f":"IF(Identification!H61=0,\"\",Identification!H61)","v":""},null,null,null,null,"         Sous-type d'infrastructure :",null,null,{"$f":"IF(Identification!H62=0,\"\",Identification!H62)","v":""}]
["Nom de l'infrastructure :",{"$f":"IF(Identification!H63=0,\"\",Identification!H63)","v":""},null,null,null,null,"         Type de système :",null,null,"Désinfection (chloration)"]
["Année d'installation :",{"$f":"Identification!H66","v":0},null,null,null,null,"         Valeur de remplacement :",null,null,{"$f":"IF(I26+I40+I54+I68=0,\"\",I26+I40+I54+I68)","v":""}]
["CRITÈRES D'ÉVALUATION DES COMPOSANTS MAJEURS"]
["Cote","État physique",null,null,null,null,"Cote",null,"État fonctionnel"]
[0,"Le composant majeur n'a pas été ausculté",null,null,null,null,0,null,"Le composant majeur n'a pas été ausculté"]
[1,"Le composant majeur est récent ou remis à neuf",null,null,null,null,1,null,"Le fonctionnement du composant majeur est comme « neuf » et comme attendu. Le composant répond parfaitement aux normes techniques de conception ainsi qu’aux normes de santé et de sécurité en vigueur."]
[2,"Le composant majeur présente un niveau léger de dégradation ou de défectuosité",null,null,null,null,2,null,"Le fonctionnement du composant majeur est adéquat. Le composant répond adéquatement aux normes techniques de conception ainsi qu’aux normes de santé et de sécurité en vigueur."]
[3,"Le composant majeur présente un niveau modéré de dégradation ou de défectuosité",null,null,null,null,3,null,"Le fonctionnement du composant majeur est intermittent mais ne nuit pas au procédé. Le composant répond adéquatement aux normes techniques de conception ainsi qu’aux normes de santé et de sécurité en vigueur."]
[4,"Le composant majeur présente un niveau élevé de dégradation ou de défectuosité",null,null,null,null,4,null,"Le fonctionnement du composant majeur est intermittent et nuit au procédé. Le composant est très près de ne pas répondre aux normes techniques de conception mais répond aux normes de santé et de sécurité en vigueur."]
[5,"Le composant majeur présente un niveau très élevé de dégradation ou de défectuosité",null,null,null,null,5,null,"Le fonctionnement du composant majeur est déficient et empêche le procédé de s’effectuer. Le composant ne répond pas aux normes techniques de conception et/ou ne répond pas aux normes de santé et de sécurité en vigueur."]
["*Type d'évaluation : Visuelle (V), Opérateur (O), Mesure (M)",null,null,null,null,null,"**Type d'intervention : Ajout (AJ), Remplacement (RP), Réfection majeure (RFM), Expertise complémentaire (DE)"]
["RELEVÉ DES COMPOSANTS MAJEURS CIVILS"]
["Composants majeurs","Année d'installation","Durée de vie utile théorique","% Durée de vie écoulée","État physique","État fonctionnel","Année d'évaluation","Type d'évaluation*","Valeur de remplacement ($)","Coût de l'intervention ($)","Type d'intervention**","Année d'intervention"]
[null,null,{"$f":"IF(B16=\"\",\"\",Données!$E$80)","v":""},{"$f":"IF(B16=\"\",\"\",(Annee_BI-B16)/C16)","v":""}]
[null,null,{"$f":"IF(B17=\"\",\"\",Données!$E$80)","v":""},""]
[null,null,{"$f":"IF(B18=\"\",\"\",Données!$E$80)","v":""},""]
[null,null,{"$f":"IF(B19=\"\",\"\",Données!$E$80)","v":""},""]
[null,null,{"$f":"IF(B20=\"\",\"\",Données!$E$80)","v":""},""]
[null,null,{"$f":"IF(B21=\"\",\"\",Données!$E$80)","v":""},""]
[null,null,{"$f":"IF(B22=\"\",\"\",Données!$E$80)","v":""},""]
[null,null,{"$f":"IF(B23=\"\",\"\",Données!$E$80)","v":""},""]
[null,null,{"$f":"IF(B24=\"\",\"\",Données!$E$80)","v":""},""]
[null,null,{"$f":"IF(B25=\"\",\"\",Données!$E$80)","v":""},""]
["Récapitulatif des résultats (discipline)",{"$f":"IF(MIN(B16:B25)=0,\"\",MIN(B16:B25))","v":""},{"$f":"IF(MAX(C16:C25)=0,\"\",MAX(C16:C25))","v":""},{"$f":"IF(MAX(D16:D25)=0,\"\",MAX(D16:D25))","v":""},{"$f":"IF(MAX(E16:E25)=0,\"\",MAX(E16:E25))","v":""},{"$f":"IF(MAX(F16:F25)=0,\"\",MAX(F16:F25))","v":""},{"$f":"IF(MAX(G16:G25)=0,\"\",MAX(G16:G25))","v":""},null,{"$f":"SUM(I16:I25)","v":0},{"$f":"SUM(J16:J25)","v":0}]
["Commentaires ou notes explicatives sur les composants majeurs critiques auscultés\n\n(¨  Notes supplémentaires et/ou photos disponibles)","\n"]
["RELEVÉ DES COMPOSANTS MAJEURS MÉCANIQUES"]
["Composants majeurs","Année d'installation","Durée de vie utile théorique","% Durée de vie écoulée","État physique","État fonctionnel","Année d'évaluation","Type d'évaluation*","Valeur de remplacement ($)","Coût de l'intervention ($)","Type d'intervention**","Année d'intervention"]
[null,null,{"$f":"IF(B30=\"\",\"\",Données!$E$81)","v":""},{"$f":"IF(B30=\"\",\"\",(Annee_BI-B30)/C30)","v":""}]
[null,null,{"$f":"IF(B31=\"\",\"\",Données!$E$81)","v":""},""]
[null,null,{"$f":"IF(B32=\"\",\"\",Données!$E$81)","v":""},""]
[null,null,{"$f":"IF(B33=\"\",\"\",Données!$E$81)","v":""},""]
[null,null,{"$f":"IF(B34=\"\",\"\",Données!$E$81)","v":""},""]
[null,null,{"$f":"IF(B35=\"\",\"\",Données!$E$81)","v":""},""]
[null,null,{"$f":"IF(B36=\"\",\"\",Données!$E$81)","v":""},""]
[null,null,{"$f":"IF(B37=\"\",\"\",Données!$E$81)","v":""},""]
[null,null,{"$f":"IF(B38=\"\",\"\",Données!$E$81)","v":""},""]
[null,null,{"$f":"IF(B39=\"\",\"\",Données!$E$81)","v":""},""]
["Récapitulatif des résultats (discipline)",{"$f":"IF(MIN(B30:B39)=0,\"\",MIN(B30:B39))","v":""},{"$f":"IF(MAX(C30:C39)=0,\"\",MAX(C30:C39))","v":""},{"$f":"IF(MAX(D30:D39)=0,\"\",MAX(D30:D39))","v":""},{"$f":"IF(MAX(E30:E39)=0,\"\",MAX(E30:E39))","v":""},{"$f":"IF(MAX(F30:F39)=0,\"\",MAX(F30:F39))","v":""},{"$f":"IF(MAX(G30:G39)=0,\"\",MAX(G30:G39))","v":""},null,{"$f":"SUM(I30:I39)","v":0},{"$f":"SUM(J30:J39)","v":0}]
["Commentaires ou notes explicatives sur les composants majeurs critiques auscultés\n\n(¨  Notes supplémentaires et/ou photos disponibles)","\n"]
["RELEVÉ DES COMPOSANTS MAJEURS ÉLECTRIQUES"]
["Composants majeurs","Année d'installation","Durée de vie utile théorique","% Durée de vie écoulée","État physique","État fonctionnel","Année d'auscultation","Type d'évaluation*","Valeur de remplacement ($)","Coût de l'intervention ($)","Type d'intervention**","Année d'intervention"]
[null,null,{"$f":"IF(B44=\"\",\"\",Données!$E$82)","v":""},{"$f":"IF(B44=\"\",\"\",(Annee_BI-B44)/C44)","v":""}]
[null,null,{"$f":"IF(B45=\"\",\"\",Données!$E$82)","v":""},""]
[null,null,{"$f":"IF(B46=\"\",\"\",Données!$E$82)","v":""},""]
[null,null,{"$f":"IF(B47=\"\",\"\",Données!$E$82)","v":""},""]
[null,null,{"$f":"IF(B48=\"\",\"\",Données!$E$82)","v":""},""]
[null,null,{"$f":"IF(B49=\"\",\"\",Données!$E$82)","v":""},""]
[null,null,{"$f":"IF(B50=\"\",\"\",Données!$E$82)","v":""},""]
[null,null,{"$f":"IF(B51=\"\",\"\",Données!$E$82)","v":""},""]
[null,null,{"$f":"IF(B52=\"\",\"\",Données!$E$82)","v":""},""]
[null,null,{"$f":"IF(B53=\"\",\"\",Données!$E$82)","v":""},""]
["Récapitulatif des résultats (discipline)",{"$f":"IF(MIN(B44:B53)=0,\"\",MIN(B44:B53))","v":""},{"$f":"IF(MAX(C44:C53)=0,\"\",MAX(C44:C53))","v":""},{"$f":"IF(MAX(D44:D53)=0,\"\",MAX(D44:D53))","v":""},{"$f":"IF(MAX(E44:E53)=0,\"\",MAX(E44:E53))","v":""},{"$f":"IF(MAX(F44:F53)=0,\"\",MAX(F44:F53))","v":""},{"$f":"IF(MAX(G44:G53)=0,\"\",MAX(G44:G53))","v":""},null,{"$f":"SUM(I44:I53)","v":0},{"$f":"SUM(J44:J53)","v":0}]
["Commentaires ou notes explicatives sur les composants majeurs critiques auscultés\n\n(¨  Notes supplémentaires et/ou photos disponibles)"]
["RELEVÉ DES COMPOSANTS MAJEURS D'INSTRUMENTATION ET DE CONTRÔLE"]
["Composants majeurs","Année d'installation","Durée de vie utile théorique","% Durée de vie écoulée","État physique","État fonctionnel","Année d'évaluation","Type d'évaluation*","Valeur de remplacement ($)","Coût de l'intervention ($)","Type d'intervention**","Année d'intervention"]
[null,null,{"$f":"IF(B58=\"\",\"\",Données!$E$83)","v":""},{"$f":"IF(B58=\"\",\"\",(Annee_BI-B58)/C58)","v":""}]
[null,null,{"$f":"IF(B59=\"\",\"\",Données!$E$83)","v":""},""]
[null,null,{"$f":"IF(B60=\"\",\"\",Données!$E$83)","v":""},""]
[null,null,{"$f":"IF(B61=\"\",\"\",Données!$E$83)","v":""},""]
[null,null,{"$f":"IF(B62=\"\",\"\",Données!$E$83)","v":""},""]
[null,null,{"$f":"IF(B63=\"\",\"\",Données!$E$83)","v":""},""]
[null,null,{"$f":"IF(B64=\"\",\"\",Données!$E$83)","v":""},""]
[null,null,{"$f":"IF(B65=\"\",\"\",Données!$E$83)","v":""},""]
[null,null,{"$f":"IF(B66=\"\",\"\",Données!$E$83)","v":""},""]
[null,null,{"$f":"IF(B67=\"\",\"\",Données!$E$83)","v":""},""]
["Récapitulatif des résultats (discipline)",{"$f":"IF(MIN(B58:B67)=0,\"\",MIN(B58:B67))","v":""},{"$f":"IF(MAX(C58:C67)=0,\"\",MAX(C58:C67))","v":""},{"$f":"IF(MAX(D58:D67)=0,\"\",MAX(D58:D67))","v":""},{"$f":"IF(MAX(E58:E67)=0,\"\",MAX(E58:E67))","v":""},{"$f":"IF(MAX(F58:F67)=0,\"\",MAX(F58:F67))","v":""},{"$f":"IF(MAX(G58:G67)=0,\"\",MAX(G58:G67))","v":""},null,{"$f":"SUM(I58:I67)","v":0},{"$f":"SUM(J58:J67)","v":0}]
["Commentaires ou notes explicatives sur les composants majeurs critiques auscultés\n\n(¨  Notes supplémentaires et/ou photos disponibles)"]

{"sheet":"EP_OZONATION","index":22,"n_rows":69,"n_cols":12,"rows_kept":69,"cut":false,"hidden":true,"merged":[[68,1,68,11],[9,1,9,5],[9,6,9,7],[9,8,9,11],[10,1,10,5],[10,6,10,7],[10,8,10,11],[11,1,11,5],[11,6,11,7],[11,8,11,11],[13,0,13,11],[26,1,26,11],[27,0,27,11],[40,1,40,11],[8,1,8,5],[8,6,8,7],[8,8,8,11],[54,1,54,11],[55,0,55,11],[41,0,41,11],[6,6,6,7],[6,8,6,11],[7,1,7,5],[7,6,7,7],[7,8,7,11],[6,1,6,5],[1,1,1,5],[1,6,1,8],[1,9,1,11],[2,1,2,5],[2,6,2,8],[2,9,2,11],[3,1,3,5],[3,6,3,8],[3,9,3,11],[4,0,4,11],[5,1,5,5],[5,6,5,7],[5,8,5,11]]}
["IDENTIFICATION DU SYSTÈME",null,null,null,null,null,null,null,null,"Consulter l'aide se rapportant aux procédés de l'ouvrage"]
["Type d'infrastructure :",{"$f":"IF(Identification!H61=0,\"\",Identification!H61)","v":""},null,null,null,null,"         Sous-type d'infrastructure :",null,null,{"$f":"IF(Identification!H62=0,\"\",Identification!H62)","v":""}]
["Nom de l'infrastructure :",{"$f":"IF(Identification!H63=0,\"\",Identification!H63)","v":""},null,null,null,null,"         Type de système :",null,null,"Ozonation"]
["Année d'installation :",2000,null,null,null,null,"         Valeur de remplacement :",null,null,{"$f":"IF(I26+I40+I54+I68=0,\"\",I26+I40+I54+I68)","v":""}]
["CRITÈRES D'ÉVALUATION DES COMPOSANTS MAJEURS"]
["Cote","État physique",null,null,null,null,"Cote",null,"État fonctionnel"]
[0,"Le composant majeur n'a pas été ausculté",null,null,null,null,0,null,"Le composant majeur n'a pas été ausculté"]
[1,"Le composant majeur est récent ou remis à neuf",null,null,null,null,1,null,"Le fonctionnement du composant majeur est comme « neuf » et comme attendu. Le composant répond parfaitement aux normes techniques de conception ainsi qu’aux normes de santé et de sécurité en vigueur."]
[2,"Le composant majeur présente un niveau léger de dégradation ou de défectuosité",null,null,null,null,2,null,"Le fonctionnement du composant majeur est adéquat. Le composant répond adéquatement aux normes techniques de conception ainsi qu’aux normes de santé et de sécurité en vigueur."]
[3,"Le composant majeur présente un niveau modéré de dégradation ou de défectuosité",null,null,null,null,3,null,"Le fonctionnement du composant majeur est intermittent mais ne nuit pas au procédé. Le composant répond adéquatement aux normes techniques de conception ainsi qu’aux normes de santé et de sécurité en vigueur."]
[4,"Le composant majeur présente un niveau élevé de dégradation ou de défectuosité",null,null,null,null,4,null,"Le fonctionnement du composant majeur est intermittent et nuit au procédé. Le composant est très près de ne pas répondre aux normes techniques de conception mais répond aux normes de santé et de sécurité en vigueur."]
[5,"Le composant majeur présente un niveau très élevé de dégradation ou de défectuosité",null,null,null,null,5,null,"Le fonctionnement du composant majeur est déficient et empêche le procédé de s’effectuer. Le composant ne répond pas aux normes techniques de conception et/ou ne répond pas aux normes de santé et de sécurité en vigueur."]
["*Type d'évaluation : Visuelle (V), Opérateur (O), Mesure (M)",null,null,null,null,null,"**Type d'intervention : Ajout (AJ), Remplacement (RP), Réfection majeure (RFM), Expertise complémentaire (DE)"]
["RELEVÉ DES COMPOSANTS MAJEURS CIVILS"]
["Composants majeurs","Année d'installation","Durée de vie utile théorique","% Durée de vie écoulée","État physique","État fonctionnel","Année d'évaluation","Type d'évaluation*","Valeur de remplacement ($)","Coût de l'intervention ($)","Type d'intervention**","Année d'intervention"]
[null,null,{"$f":"IF(B16=\"\",\"\",Données!$E$80)","v":""},{"$f":"IF(B16=\"\",\"\",(Annee_BI-B16)/C16)","v":""}]
[null,null,{"$f":"IF(B17=\"\",\"\",Données!$E$80)","v":""},""]
[null,null,{"$f":"IF(B18=\"\",\"\",Données!$E$80)","v":""},""]
[null,null,{"$f":"IF(B19=\"\",\"\",Données!$E$80)","v":""},""]
[null,null,{"$f":"IF(B20=\"\",\"\",Données!$E$80)","v":""},""]
[null,null,{"$f":"IF(B21=\"\",\"\",Données!$E$80)","v":""},""]
[null,null,{"$f":"IF(B22=\"\",\"\",Données!$E$80)","v":""},""]
[null,null,{"$f":"IF(B23=\"\",\"\",Données!$E$80)","v":""},""]
[null,null,{"$f":"IF(B24=\"\",\"\",Données!$E$80)","v":""},""]
[null,null,{"$f":"IF(B25=\"\",\"\",Données!$E$80)","v":""},""]
["Récapitulatif des résultats (discipline)",{"$f":"IF(MIN(B16:B25)=0,\"\",MIN(B16:B25))","v":""},{"$f":"IF(MAX(C16:C25)=0,\"\",MAX(C16:C25))","v":""},{"$f":"IF(MAX(D16:D25)=0,\"\",MAX(D16:D25))","v":""},{"$f":"IF(MAX(E16:E25)=0,\"\",MAX(E16:E25))","v":""},{"$f":"IF(MAX(F16:F25)=0,\"\",MAX(F16:F25))","v":""},{"$f":"IF(MAX(G16:G25)=0,\"\",MAX(G16:G25))","v":""},null,{"$f":"SUM(I16:I25)","v":0},{"$f":"SUM(J16:J25)","v":0}]
["Commentaires ou notes explicatives sur les composants majeurs critiques auscultés\n\n(¨  Notes supplémentaires et/ou photos disponibles)","\n"]
["RELEVÉ DES COMPOSANTS MAJEURS MÉCANIQUES"]
["Composants majeurs","Année d'installation","Durée de vie utile théorique","% Durée de vie écoulée","État physique","État fonctionnel","Année d'évaluation","Type d'évaluation*","Valeur de remplacement ($)","Coût de l'intervention ($)","Type d'intervention**","Année d'intervention"]
[null,null,{"$f":"IF(B30=\"\",\"\",Données!$E$81)","v":""},{"$f":"IF(B30=\"\",\"\",(Annee_BI-B30)/C30)","v":""}]
[null,null,{"$f":"IF(B31=\"\",\"\",Données!$E$81)","v":""},""]
[null,null,{"$f":"IF(B32=\"\",\"\",Données!$E$81)","v":""},""]
[null,null,{"$f":"IF(B33=\"\",\"\",Données!$E$81)","v":""},""]
[null,null,{"$f":"IF(B34=\"\",\"\",Données!$E$81)","v":""},""]
[null,null,{"$f":"IF(B35=\"\",\"\",Données!$E$81)","v":""},""]
[null,null,{"$f":"IF(B36=\"\",\"\",Données!$E$81)","v":""},""]
[null,null,{"$f":"IF(B37=\"\",\"\",Données!$E$81)","v":""},""]
[null,null,{"$f":"IF(B38=\"\",\"\",Données!$E$81)","v":""},""]
[null,null,{"$f":"IF(B39=\"\",\"\",Données!$E$81)","v":""},""]
["Récapitulatif des résultats (discipline)",{"$f":"IF(MIN(B30:B39)=0,\"\",MIN(B30:B39))","v":""},{"$f":"IF(MAX(C30:C39)=0,\"\",MAX(C30:C39))","v":""},{"$f":"IF(MAX(D30:D39)=0,\"\",MAX(D30:D39))","v":""},{"$f":"IF(MAX(E30:E39)=0,\"\",MAX(E30:E39))","v":""},{"$f":"IF(MAX(F30:F39)=0,\"\",MAX(F30:F39))","v":""},{"$f":"IF(MAX(G30:G39)=0,\"\",MAX(G30:G39))","v":""},null,{"$f":"SUM(I30:I39)","v":0},{"$f":"SUM(J30:J39)","v":0}]
["Commentaires ou notes explicatives sur les composants majeurs critiques auscultés\n\n(¨  Notes supplémentaires et/ou photos disponibles)","\n"]
["RELEVÉ DES COMPOSANTS MAJEURS ÉLECTRIQUES"]
["Composants majeurs","Année d'installation","Durée de vie utile théorique","% Durée de vie écoulée","État physique","État fonctionnel","Année d'auscultation","Type d'évaluation*","Valeur de remplacement ($)","Coût de l'intervention ($)","Type d'intervention**","Année d'intervention"]
[null,null,{"$f":"IF(B44=\"\",\"\",Données!$E$82)","v":""},{"$f":"IF(B44=\"\",\"\",(Annee_BI-B44)/C44)","v":""}]
[null,null,{"$f":"IF(B45=\"\",\"\",Données!$E$82)","v":""},""]
[null,null,{"$f":"IF(B46=\"\",\"\",Données!$E$82)","v":""},""]
[null,null,{"$f":"IF(B47=\"\",\"\",Données!$E$82)","v":""},""]
[null,null,{"$f":"IF(B48=\"\",\"\",Données!$E$82)","v":""},""]
[null,null,{"$f":"IF(B49=\"\",\"\",Données!$E$82)","v":""},""]
[null,null,{"$f":"IF(B50=\"\",\"\",Données!$E$82)","v":""},""]
[null,null,{"$f":"IF(B51=\"\",\"\",Données!$E$82)","v":""},""]
[null,null,{"$f":"IF(B52=\"\",\"\",Données!$E$82)","v":""},""]
[null,null,{"$f":"IF(B53=\"\",\"\",Données!$E$82)","v":""},""]
["Récapitulatif des résultats (discipline)",{"$f":"IF(MIN(B44:B53)=0,\"\",MIN(B44:B53))","v":""},{"$f":"IF(MAX(C44:C53)=0,\"\",MAX(C44:C53))","v":""},{"$f":"IF(MAX(D44:D53)=0,\"\",MAX(D44:D53))","v":""},{"$f":"IF(MAX(E44:E53)=0,\"\",MAX(E44:E53))","v":""},{"$f":"IF(MAX(F44:F53)=0,\"\",MAX(F44:F53))","v":""},{"$f":"IF(MAX(G44:G53)=0,\"\",MAX(G44:G53))","v":""},null,{"$f":"SUM(I44:I53)","v":0},{"$f":"SUM(J44:J53)","v":0}]
["Commentaires ou notes explicatives sur les composants majeurs critiques auscultés\n\n(¨  Notes supplémentaires et/ou photos disponibles)"]
["RELEVÉ DES COMPOSANTS MAJEURS D'INSTRUMENTATION ET DE CONTRÔLE"]
["Composants majeurs","Année d'installation","Durée de vie utile théorique","% Durée de vie écoulée","État physique","État fonctionnel","Année d'évaluation","Type d'évaluation*","Valeur de remplacement ($)","Coût de l'intervention ($)","Type d'intervention**","Année d'intervention"]
[null,null,{"$f":"IF(B58=\"\",\"\",Données!$E$83)","v":""},{"$f":"IF(B58=\"\",\"\",(Annee_BI-B58)/C58)","v":""}]
[null,null,{"$f":"IF(B59=\"\",\"\",Données!$E$83)","v":""},""]
[null,null,{"$f":"IF(B60=\"\",\"\",Données!$E$83)","v":""},""]
[null,null,{"$f":"IF(B61=\"\",\"\",Données!$E$83)","v":""},""]
[null,null,{"$f":"IF(B62=\"\",\"\",Données!$E$83)","v":""},""]
[null,null,{"$f":"IF(B63=\"\",\"\",Données!$E$83)","v":""},""]
[null,null,{"$f":"IF(B64=\"\",\"\",Données!$E$83)","v":""},""]
[null,null,{"$f":"IF(B65=\"\",\"\",Données!$E$83)","v":""},""]
[null,null,{"$f":"IF(B66=\"\",\"\",Données!$E$83)","v":""},""]
[null,null,{"$f":"IF(B67=\"\",\"\",Données!$E$83)","v":""},""]
["Récapitulatif des résultats (discipline)",{"$f":"IF(MIN(B58:B67)=0,\"\",MIN(B58:B67))","v":""},{"$f":"IF(MAX(C58:C67)=0,\"\",MAX(C58:C67))","v":""},{"$f":"IF(MAX(D58:D67)=0,\"\",MAX(D58:D67))","v":""},{"$f":"IF(MAX(E58:E67)=0,\"\",MAX(E58:E67))","v":""},{"$f":"IF(MAX(F58:F67)=0,\"\",MAX(F58:F67))","v":""},{"$f":"IF(MAX(G58:G67)=0,\"\",MAX(G58:G67))","v":""},null,{"$f":"SUM(I58:I67)","v":0},{"$f":"SUM(J58:J67)","v":0}]
["Commentaires ou notes explicatives sur les composants majeurs critiques auscultés\n\n(¨  Notes supplémentaires et/ou photos disponibles)"]

{"sheet":"EP_Desinfection_UV","index":23,"n_rows":69,"n_cols":12,"rows_kept":69,"cut":false,"hidden":true,"merged":[[68,1,68,11],[9,1,9,5],[9,6,9,7],[9,8,9,11],[10,1,10,5],[10,6,10,7],[10,8,10,11],[11,1,11,5],[11,6,11,7],[11,8,11,11],[13,0,13,11],[26,1,26,11],[27,0,27,11],[40,1,40,11],[8,1,8,5],[8,6,8,7],[8,8,8,11],[54,1,54,11],[55,0,55,11],[41,0,41,11],[6,6,6,7],[6,8,6,11],[7,1,7,5],[7,6,7,7],[7,8,7,11],[6,1,6,5],[1,1,1,5],[1,6,1,8],[1,9,1,11],[2,1,2,5],[2,6,2,8],[2,9,2,11],[3,1,3,5],[3,6,3,8],[3,9,3,11],[4,0,4,11],[5,1,5,5],[5,6,5,7],[5,8,5,11]]}
["IDENTIFICATION DU SYSTÈME",null,null,null,null,null,null,null,null,"Consulter l'aide se rapportant aux procédés de l'ouvrage"]
["Type d'infrastructure :",{"$f":"IF(Identification!H61=0,\"\",Identification!H61)","v":""},null,null,null,null,"         Sous-type d'infrastructure :",null,null,{"$f":"IF(Identification!H62=0,\"\",Identification!H62)","v":""}]
["Nom de l'infrastructure :",{"$f":"IF(Identification!H63=0,\"\",Identification!H63)","v":""},null,null,null,null,"         Type de système :",null,null,"Désinfection (U.V.)"]
["Année d'installation :",{"$f":"Identification!H66","v":0},null,null,null,null,"         Valeur de remplacement :",null,null,{"$f":"IF(I26+I40+I54+I68=0,\"\",I26+I40+I54+I68)","v":""}]
["CRITÈRES D'ÉVALUATION DES COMPOSANTS MAJEURS"]
["Cote","État physique",null,null,null,null,"Cote",null,"État fonctionnel"]
[0,"Le composant majeur n'a pas été ausculté",null,null,null,null,0,null,"Le composant majeur n'a pas été ausculté"]
[1,"Le composant majeur est récent ou remis à neuf",null,null,null,null,1,null,"Le fonctionnement du composant majeur est comme « neuf » et comme attendu. Le composant répond parfaitement aux normes techniques de conception ainsi qu’aux normes de santé et de sécurité en vigueur."]
[2,"Le composant majeur présente un niveau léger de dégradation ou de défectuosité",null,null,null,null,2,null,"Le fonctionnement du composant majeur est adéquat. Le composant répond adéquatement aux normes techniques de conception ainsi qu’aux normes de santé et de sécurité en vigueur."]
[3,"Le composant majeur présente un niveau modéré de dégradation ou de défectuosité",null,null,null,null,3,null,"Le fonctionnement du composant majeur est intermittent mais ne nuit pas au procédé. Le composant répond adéquatement aux normes techniques de conception ainsi qu’aux normes de santé et de sécurité en vigueur."]
[4,"Le composant majeur présente un niveau élevé de dégradation ou de défectuosité",null,null,null,null,4,null,"Le fonctionnement du composant majeur est intermittent et nuit au procédé. Le composant est très près de ne pas répondre aux normes techniques de conception mais répond aux normes de santé et de sécurité en vigueur."]
[5,"Le composant majeur présente un niveau très élevé de dégradation ou de défectuosité",null,null,null,null,5,null,"Le fonctionnement du composant majeur est déficient et empêche le procédé de s’effectuer. Le composant ne répond pas aux normes techniques de conception et/ou ne répond pas aux normes de santé et de sécurité en vigueur."]
["*Type d'évaluation : Visuelle (V), Opérateur (O), Mesure (M)",null,null,null,null,null,"**Type d'intervention : Ajout (AJ), Remplacement (RP), Réfection majeure (RFM), Expertise complémentaire (DE)"]
["RELEVÉ DES COMPOSANTS MAJEURS CIVILS"]
["Composants majeurs","Année d'installation","Durée de vie utile théorique","% Durée de vie écoulée","État physique","État fonctionnel","Année d'évaluation","Type d'évaluation*","Valeur de remplacement ($)","Coût de l'intervention ($)","Type d'intervention**","Année d'intervention"]
[null,null,{"$f":"IF(B16=\"\",\"\",Données!$E$80)","v":""},{"$f":"IF(B16=\"\",\"\",(Annee_BI-B16)/C16)","v":""}]
[null,null,{"$f":"IF(B17=\"\",\"\",Données!$E$80)","v":""},""]
[null,null,{"$f":"IF(B18=\"\",\"\",Données!$E$80)","v":""},""]
[null,null,{"$f":"IF(B19=\"\",\"\",Données!$E$80)","v":""},""]
[null,null,{"$f":"IF(B20=\"\",\"\",Données!$E$80)","v":""},""]
[null,null,{"$f":"IF(B21=\"\",\"\",Données!$E$80)","v":""},""]
[null,null,{"$f":"IF(B22=\"\",\"\",Données!$E$80)","v":""},""]
[null,null,{"$f":"IF(B23=\"\",\"\",Données!$E$80)","v":""},""]
[null,null,{"$f":"IF(B24=\"\",\"\",Données!$E$80)","v":""},""]
[null,null,{"$f":"IF(B25=\"\",\"\",Données!$E$80)","v":""},""]
["Récapitulatif des résultats (discipline)",{"$f":"IF(MIN(B16:B25)=0,\"\",MIN(B16:B25))","v":""},{"$f":"IF(MAX(C16:C25)=0,\"\",MAX(C16:C25))","v":""},{"$f":"IF(MAX(D16:D25)=0,\"\",MAX(D16:D25))","v":""},{"$f":"IF(MAX(E16:E25)=0,\"\",MAX(E16:E25))","v":""},{"$f":"IF(MAX(F16:F25)=0,\"\",MAX(F16:F25))","v":""},{"$f":"IF(MAX(G16:G25)=0,\"\",MAX(G16:G25))","v":""},null,{"$f":"SUM(I16:I25)","v":0},{"$f":"SUM(J16:J25)","v":0}]
["Commentaires ou notes explicatives sur les composants majeurs critiques auscultés\n\n(¨  Notes supplémentaires et/ou photos disponibles)","\n"]
["RELEVÉ DES COMPOSANTS MAJEURS MÉCANIQUES"]
["Composants majeurs","Année d'installation","Durée de vie utile théorique","% Durée de vie écoulée","État physique","État fonctionnel","Année d'évaluation","Type d'évaluation*","Valeur de remplacement ($)","Coût de l'intervention ($)","Type d'intervention**","Année d'intervention"]
[null,null,{"$f":"IF(B30=\"\",\"\",Données!$E$81)","v":""},{"$f":"IF(B30=\"\",\"\",(Annee_BI-B30)/C30)","v":""}]
[null,null,{"$f":"IF(B31=\"\",\"\",Données!$E$81)","v":""},""]
[null,null,{"$f":"IF(B32=\"\",\"\",Données!$E$81)","v":""},""]
[null,null,{"$f":"IF(B33=\"\",\"\",Données!$E$81)","v":""},""]
[null,null,{"$f":"IF(B34=\"\",\"\",Données!$E$81)","v":""},""]
[null,null,{"$f":"IF(B35=\"\",\"\",Données!$E$81)","v":""},""]
[null,null,{"$f":"IF(B36=\"\",\"\",Données!$E$81)","v":""},""]
[null,null,{"$f":"IF(B37=\"\",\"\",Données!$E$81)","v":""},""]
[null,null,{"$f":"IF(B38=\"\",\"\",Données!$E$81)","v":""},""]
[null,null,{"$f":"IF(B39=\"\",\"\",Données!$E$81)","v":""},""]
["Récapitulatif des résultats (discipline)",{"$f":"IF(MIN(B30:B39)=0,\"\",MIN(B30:B39))","v":""},{"$f":"IF(MAX(C30:C39)=0,\"\",MAX(C30:C39))","v":""},{"$f":"IF(MAX(D30:D39)=0,\"\",MAX(D30:D39))","v":""},{"$f":"IF(MAX(E30:E39)=0,\"\",MAX(E30:E39))","v":""},{"$f":"IF(MAX(F30:F39)=0,\"\",MAX(F30:F39))","v":""},{"$f":"IF(MAX(G30:G39)=0,\"\",MAX(G30:G39))","v":""},null,{"$f":"SUM(I30:I39)","v":0},{"$f":"SUM(J30:J39)","v":0}]
["Commentaires ou notes explicatives sur les composants majeurs critiques auscultés\n\n(¨  Notes supplémentaires et/ou photos disponibles)","\n"]
["RELEVÉ DES COMPOSANTS MAJEURS ÉLECTRIQUES"]
["Composants majeurs","Année d'installation","Durée de vie utile théorique","% Durée de vie écoulée","État physique","État fonctionnel","Année d'auscultation","Type d'évaluation*","Valeur de remplacement ($)","Coût de l'intervention ($)","Type d'intervention**","Année d'intervention"]
[null,null,{"$f":"IF(B44=\"\",\"\",Données!$E$82)","v":""},{"$f":"IF(B44=\"\",\"\",(Annee_BI-B44)/C44)","v":""}]
[null,null,{"$f":"IF(B45=\"\",\"\",Données!$E$82)","v":""},""]
[null,null,{"$f":"IF(B46=\"\",\"\",Données!$E$82)","v":""},""]
[null,null,{"$f":"IF(B47=\"\",\"\",Données!$E$82)","v":""},""]
[null,null,{"$f":"IF(B48=\"\",\"\",Données!$E$82)","v":""},""]
[null,null,{"$f":"IF(B49=\"\",\"\",Données!$E$82)","v":""},""]
[null,null,{"$f":"IF(B50=\"\",\"\",Données!$E$82)","v":""},""]
[null,null,{"$f":"IF(B51=\"\",\"\",Données!$E$82)","v":""},""]
[null,null,{"$f":"IF(B52=\"\",\"\",Données!$E$82)","v":""},""]
[null,null,{"$f":"IF(B53=\"\",\"\",Données!$E$82)","v":""},""]
["Récapitulatif des résultats (discipline)",{"$f":"IF(MIN(B44:B53)=0,\"\",MIN(B44:B53))","v":""},{"$f":"IF(MAX(C44:C53)=0,\"\",MAX(C44:C53))","v":""},{"$f":"IF(MAX(D44:D53)=0,\"\",MAX(D44:D53))","v":""},{"$f":"IF(MAX(E44:E53)=0,\"\",MAX(E44:E53))","v":""},{"$f":"IF(MAX(F44:F53)=0,\"\",MAX(F44:F53))","v":""},{"$f":"IF(MAX(G44:G53)=0,\"\",MAX(G44:G53))","v":""},null,{"$f":"SUM(I44:I53)","v":0},{"$f":"SUM(J44:J53)","v":0}]
["Commentaires ou notes explicatives sur les composants majeurs critiques auscultés\n\n(¨  Notes supplémentaires et/ou photos disponibles)"]
["RELEVÉ DES COMPOSANTS MAJEURS D'INSTRUMENTATION ET DE CONTRÔLE"]
["Composants majeurs","Année d'installation","Durée de vie utile théorique","% Durée de vie écoulée","État physique","État fonctionnel","Année d'évaluation","Type d'évaluation*","Valeur de remplacement ($)","Coût de l'intervention ($)","Type d'intervention**","Année d'intervention"]
[null,null,{"$f":"IF(B58=\"\",\"\",Données!$E$83)","v":""},{"$f":"IF(B58=\"\",\"\",(Annee_BI-B58)/C58)","v":""}]
[null,null,{"$f":"IF(B59=\"\",\"\",Données!$E$83)","v":""},""]
[null,null,{"$f":"IF(B60=\"\",\"\",Données!$E$83)","v":""},""]
[null,null,{"$f":"IF(B61=\"\",\"\",Données!$E$83)","v":""},""]
[null,null,{"$f":"IF(B62=\"\",\"\",Données!$E$83)","v":""},""]
[null,null,{"$f":"IF(B63=\"\",\"\",Données!$E$83)","v":""},""]
[null,null,{"$f":"IF(B64=\"\",\"\",Données!$E$83)","v":""},""]
[null,null,{"$f":"IF(B65=\"\",\"\",Données!$E$83)","v":""},""]
[null,null,{"$f":"IF(B66=\"\",\"\",Données!$E$83)","v":""},""]
[null,null,{"$f":"IF(B67=\"\",\"\",Données!$E$83)","v":""},""]
["Récapitulatif des résultats (discipline)",{"$f":"IF(MIN(B58:B67)=0,\"\",MIN(B58:B67))","v":""},{"$f":"IF(MAX(C58:C67)=0,\"\",MAX(C58:C67))","v":""},{"$f":"IF(MAX(D58:D67)=0,\"\",MAX(D58:D67))","v":""},{"$f":"IF(MAX(E58:E67)=0,\"\",MAX(E58:E67))","v":""},{"$f":"IF(MAX(F58:F67)=0,\"\",MAX(F58:F67))","v":""},{"$f":"IF(MAX(G58:G67)=0,\"\",MAX(G58:G67))","v":""},null,{"$f":"SUM(I58:I67)","v":0},{"$f":"SUM(J58:J67)","v":0}]
["Commentaires ou notes explicatives sur les composants majeurs critiques auscultés\n\n(¨  Notes supplémentaires et/ou photos disponibles)"]

{"sheet":"EP_Reserve_eau","index":24,"n_rows":69,"n_cols":12,"rows_kept":69,"cut":false,"hidden":true,"merged":[[68,1,68,11],[9,1,9,5],[9,6,9,7],[9,8,9,11],[10,1,10,5],[10,6,10,7],[10,8,10,11],[11,1,11,5],[11,6,11,7],[11,8,11,11],[13,0,13,11],[26,1,26,11],[27,0,27,11],[40,1,40,11],[8,1,8,5],[8,6,8,7],[8,8,8,11],[54,1,54,11],[55,0,55,11],[41,0,41,11],[6,6,6,7],[6,8,6,11],[7,1,7,5],[7,6,7,7],[7,8,7,11],[6,1,6,5],[1,1,1,5],[1,6,1,8],[1,9,1,11],[2,1,2,5],[2,6,2,8],[2,9,2,11],[3,1,3,5],[3,6,3,8],[3,9,3,11],[4,0,4,11],[5,1,5,5],[5,6,5,7],[5,8,5,11]]}
["IDENTIFICATION DU SYSTÈME",null,null,null,null,null,null,null,null,"Consulter l'aide se rapportant aux procédés de l'ouvrage"]
["Type d'infrastructure :",{"$f":"IF(Identification!H61=0,\"\",Identification!H61)","v":""},null,null,null,null,"         Sous-type d'infrastructure :",null,null,{"$f":"IF(Identification!H62=0,\"\",Identification!H62)","v":""}]
["Nom de l'infrastructure :",{"$f":"IF(Identification!H63=0,\"\",Identification!H63)","v":""},null,null,null,null,"         Type de système :",null,null,"Réserve d'eau"]
["Année d'installation :",{"$f":"Identification!H66","v":0},null,null,null,null,"         Valeur de remplacement :",null,null,{"$f":"IF(I26+I40+I54+I68=0,\"\",I26+I40+I54+I68)","v":""}]
["CRITÈRES D'ÉVALUATION DES COMPOSANTS MAJEURS"]
["Cote","État physique",null,null,null,null,"Cote",null,"État fonctionnel"]
[0,"Le composant majeur n'a pas été ausculté",null,null,null,null,0,null,"Le composant majeur n'a pas été ausculté"]
[1,"Le composant majeur est récent ou remis à neuf",null,null,null,null,1,null,"Le fonctionnement du composant majeur est comme « neuf » et comme attendu. Le composant répond parfaitement aux normes techniques de conception ainsi qu’aux normes de santé et de sécurité en vigueur."]
[2,"Le composant majeur présente un niveau léger de dégradation ou de défectuosité",null,null,null,null,2,null,"Le fonctionnement du composant majeur est adéquat. Le composant répond adéquatement aux normes techniques de conception ainsi qu’aux normes de santé et de sécurité en vigueur."]
[3,"Le composant majeur présente un niveau modéré de dégradation ou de défectuosité",null,null,null,null,3,null,"Le fonctionnement du composant majeur est intermittent mais ne nuit pas au procédé. Le composant répond adéquatement aux normes techniques de conception ainsi qu’aux normes de santé et de sécurité en vigueur."]
[4,"Le composant majeur présente un niveau élevé de dégradation ou de défectuosité",null,null,null,null,4,null,"Le fonctionnement du composant majeur est intermittent et nuit au procédé. Le composant est très près de ne pas répondre aux normes techniques de conception mais répond aux normes de santé et de sécurité en vigueur."]
[5,"Le composant majeur présente un niveau très élevé de dégradation ou de défectuosité",null,null,null,null,5,null,"Le fonctionnement du composant majeur est déficient et empêche le procédé de s’effectuer. Le composant ne répond pas aux normes techniques de conception et/ou ne répond pas aux normes de santé et de sécurité en vigueur."]
["*Type d'évaluation : Visuelle (V), Opérateur (O), Mesure (M)",null,null,null,null,null,"**Type d'intervention : Ajout (AJ), Remplacement (RP), Réfection majeure (RFM), Expertise complémentaire (DE)"]
["RELEVÉ DES COMPOSANTS MAJEURS CIVILS"]
["Composants majeurs","Année d'installation","Durée de vie utile théorique","% Durée de vie écoulée","État physique","État fonctionnel","Année d'évaluation","Type d'évaluation*","Valeur de remplacement ($)","Coût de l'intervention ($)","Type d'intervention**","Année d'intervention"]
[null,null,{"$f":"IF(B16=\"\",\"\",Données!$E$80)","v":""},{"$f":"IF(B16=\"\",\"\",(Annee_BI-B16)/C16)","v":""}]
[null,null,{"$f":"IF(B17=\"\",\"\",Données!$E$80)","v":""},""]
[null,null,{"$f":"IF(B18=\"\",\"\",Données!$E$80)","v":""},""]
[null,null,{"$f":"IF(B19=\"\",\"\",Données!$E$80)","v":""},""]
[null,null,{"$f":"IF(B20=\"\",\"\",Données!$E$80)","v":""},""]
[null,null,{"$f":"IF(B21=\"\",\"\",Données!$E$80)","v":""},""]
[null,null,{"$f":"IF(B22=\"\",\"\",Données!$E$80)","v":""},""]
[null,null,{"$f":"IF(B23=\"\",\"\",Données!$E$80)","v":""},""]
[null,null,{"$f":"IF(B24=\"\",\"\",Données!$E$80)","v":""},""]
[null,null,{"$f":"IF(B25=\"\",\"\",Données!$E$80)","v":""},""]
["Récapitulatif des résultats (discipline)",{"$f":"IF(MIN(B16:B25)=0,\"\",MIN(B16:B25))","v":""},{"$f":"IF(MAX(C16:C25)=0,\"\",MAX(C16:C25))","v":""},{"$f":"IF(MAX(D16:D25)=0,\"\",MAX(D16:D25))","v":""},{"$f":"IF(MAX(E16:E25)=0,\"\",MAX(E16:E25))","v":""},{"$f":"IF(MAX(F16:F25)=0,\"\",MAX(F16:F25))","v":""},{"$f":"IF(MAX(G16:G25)=0,\"\",MAX(G16:G25))","v":""},null,{"$f":"SUM(I16:I25)","v":0},{"$f":"SUM(J16:J25)","v":0}]
["Commentaires ou notes explicatives sur les composants majeurs critiques auscultés\n\n(¨  Notes supplémentaires et/ou photos disponibles)","\n"]
["RELEVÉ DES COMPOSANTS MAJEURS MÉCANIQUES"]
["Composants majeurs","Année d'installation","Durée de vie utile théorique","% Durée de vie écoulée","État physique","État fonctionnel","Année d'évaluation","Type d'évaluation*","Valeur de remplacement ($)","Coût de l'intervention ($)","Type d'intervention**","Année d'intervention"]
[null,null,{"$f":"IF(B30=\"\",\"\",Données!$E$81)","v":""},{"$f":"IF(B30=\"\",\"\",(Annee_BI-B30)/C30)","v":""}]
[null,null,{"$f":"IF(B31=\"\",\"\",Données!$E$81)","v":""},""]
[null,null,{"$f":"IF(B32=\"\",\"\",Données!$E$81)","v":""},""]
[null,null,{"$f":"IF(B33=\"\",\"\",Données!$E$81)","v":""},""]
[null,null,{"$f":"IF(B34=\"\",\"\",Données!$E$81)","v":""},""]
[null,null,{"$f":"IF(B35=\"\",\"\",Données!$E$81)","v":""},""]
[null,null,{"$f":"IF(B36=\"\",\"\",Données!$E$81)","v":""},""]
[null,null,{"$f":"IF(B37=\"\",\"\",Données!$E$81)","v":""},""]
[null,null,{"$f":"IF(B38=\"\",\"\",Données!$E$81)","v":""},""]
[null,null,{"$f":"IF(B39=\"\",\"\",Données!$E$81)","v":""},""]
["Récapitulatif des résultats (discipline)",{"$f":"IF(MIN(B30:B39)=0,\"\",MIN(B30:B39))","v":""},{"$f":"IF(MAX(C30:C39)=0,\"\",MAX(C30:C39))","v":""},{"$f":"IF(MAX(D30:D39)=0,\"\",MAX(D30:D39))","v":""},{"$f":"IF(MAX(E30:E39)=0,\"\",MAX(E30:E39))","v":""},{"$f":"IF(MAX(F30:F39)=0,\"\",MAX(F30:F39))","v":""},{"$f":"IF(MAX(G30:G39)=0,\"\",MAX(G30:G39))","v":""},null,{"$f":"SUM(I30:I39)","v":0},{"$f":"SUM(J30:J39)","v":0}]
["Commentaires ou notes explicatives sur les composants majeurs critiques auscultés\n\n(¨  Notes supplémentaires et/ou photos disponibles)","\n"]
["RELEVÉ DES COMPOSANTS MAJEURS ÉLECTRIQUES"]
["Composants majeurs","Année d'installation","Durée de vie utile théorique","% Durée de vie écoulée","État physique","État fonctionnel","Année d'auscultation","Type d'évaluation*","Valeur de remplacement ($)","Coût de l'intervention ($)","Type d'intervention**","Année d'intervention"]
[null,null,{"$f":"IF(B44=\"\",\"\",Données!$E$82)","v":""},{"$f":"IF(B44=\"\",\"\",(Annee_BI-B44)/C44)","v":""}]
[null,null,{"$f":"IF(B45=\"\",\"\",Données!$E$82)","v":""},""]
[null,null,{"$f":"IF(B46=\"\",\"\",Données!$E$82)","v":""},""]
[null,null,{"$f":"IF(B47=\"\",\"\",Données!$E$82)","v":""},""]
[null,null,{"$f":"IF(B48=\"\",\"\",Données!$E$82)","v":""},""]
[null,null,{"$f":"IF(B49=\"\",\"\",Données!$E$82)","v":""},""]
[null,null,{"$f":"IF(B50=\"\",\"\",Données!$E$82)","v":""},""]
[null,null,{"$f":"IF(B51=\"\",\"\",Données!$E$82)","v":""},""]
[null,null,{"$f":"IF(B52=\"\",\"\",Données!$E$82)","v":""},""]
[null,null,{"$f":"IF(B53=\"\",\"\",Données!$E$82)","v":""},""]
["Récapitulatif des résultats (discipline)",{"$f":"IF(MIN(B44:B53)=0,\"\",MIN(B44:B53))","v":""},{"$f":"IF(MAX(C44:C53)=0,\"\",MAX(C44:C53))","v":""},{"$f":"IF(MAX(D44:D53)=0,\"\",MAX(D44:D53))","v":""},{"$f":"IF(MAX(E44:E53)=0,\"\",MAX(E44:E53))","v":""},{"$f":"IF(MAX(F44:F53)=0,\"\",MAX(F44:F53))","v":""},{"$f":"IF(MAX(G44:G53)=0,\"\",MAX(G44:G53))","v":""},null,{"$f":"SUM(I44:I53)","v":0},{"$f":"SUM(J44:J53)","v":0}]
["Commentaires ou notes explicatives sur les composants majeurs critiques auscultés\n\n(¨  Notes supplémentaires et/ou photos disponibles)"]
["RELEVÉ DES COMPOSANTS MAJEURS D'INSTRUMENTATION ET DE CONTRÔLE"]
["Composants majeurs","Année d'installation","Durée de vie utile théorique","% Durée de vie écoulée","État physique","État fonctionnel","Année d'évaluation","Type d'évaluation*","Valeur de remplacement ($)","Coût de l'intervention ($)","Type d'intervention**","Année d'intervention"]
[null,null,{"$f":"IF(B58=\"\",\"\",Données!$E$83)","v":""},{"$f":"IF(B58=\"\",\"\",(Annee_BI-B58)/C58)","v":""}]
[null,null,{"$f":"IF(B59=\"\",\"\",Données!$E$83)","v":""},""]
[null,null,{"$f":"IF(B60=\"\",\"\",Données!$E$83)","v":""},""]
[null,null,{"$f":"IF(B61=\"\",\"\",Données!$E$83)","v":""},""]
[null,null,{"$f":"IF(B62=\"\",\"\",Données!$E$83)","v":""},""]
[null,null,{"$f":"IF(B63=\"\",\"\",Données!$E$83)","v":""},""]
[null,null,{"$f":"IF(B64=\"\",\"\",Données!$E$83)","v":""},""]
[null,null,{"$f":"IF(B65=\"\",\"\",Données!$E$83)","v":""},""]
[null,null,{"$f":"IF(B66=\"\",\"\",Données!$E$83)","v":""},""]
[null,null,{"$f":"IF(B67=\"\",\"\",Données!$E$83)","v":""},""]
["Récapitulatif des résultats (discipline)",{"$f":"IF(MIN(B58:B67)=0,\"\",MIN(B58:B67))","v":""},{"$f":"IF(MAX(C58:C67)=0,\"\",MAX(C58:C67))","v":""},{"$f":"IF(MAX(D58:D67)=0,\"\",MAX(D58:D67))","v":""},{"$f":"IF(MAX(E58:E67)=0,\"\",MAX(E58:E67))","v":""},{"$f":"IF(MAX(F58:F67)=0,\"\",MAX(F58:F67))","v":""},{"$f":"IF(MAX(G58:G67)=0,\"\",MAX(G58:G67))","v":""},null,{"$f":"SUM(I58:I67)","v":0},{"$f":"SUM(J58:J67)","v":0}]
["Commentaires ou notes explicatives sur les composants majeurs critiques auscultés\n\n(¨  Notes supplémentaires et/ou photos disponibles)"]

{"sheet":"EP_Pompage_distribution","index":25,"n_rows":69,"n_cols":12,"rows_kept":69,"cut":false,"hidden":true,"merged":[[68,1,68,11],[9,1,9,5],[9,6,9,7],[9,8,9,11],[10,1,10,5],[10,6,10,7],[10,8,10,11],[11,1,11,5],[11,6,11,7],[11,8,11,11],[13,0,13,11],[26,1,26,11],[27,0,27,11],[40,1,40,11],[8,1,8,5],[8,6,8,7],[8,8,8,11],[54,1,54,11],[55,0,55,11],[41,0,41,11],[6,6,6,7],[6,8,6,11],[7,1,7,5],[7,6,7,7],[7,8,7,11],[6,1,6,5],[1,1,1,5],[1,6,1,8],[1,9,1,11],[2,1,2,5],[2,6,2,8],[2,9,2,11],[3,1,3,5],[3,6,3,8],[3,9,3,11],[4,0,4,11],[5,1,5,5],[5,6,5,7],[5,8,5,11]]}
["IDENTIFICATION DU SYSTÈME",null,null,null,null,null,null,null,null,"Consulter l'aide se rapportant aux procédés de l'ouvrage"]
["Type d'infrastructure :",{"$f":"IF(Identification!H61=0,\"\",Identification!H61)","v":""},null,null,null,null,"         Sous-type d'infrastructure :",null,null,{"$f":"IF(Identification!H62=0,\"\",Identification!H62)","v":""}]
["Nom de l'infrastructure :",{"$f":"IF(Identification!H63=0,\"\",Identification!H63)","v":""},null,null,null,null,"         Type de système :",null,null,"Pompage de distribution"]
["Année d'installation :",{"$f":"Identification!H66","v":0},null,null,null,null,"         Valeur de remplacement :",null,null,{"$f":"IF(I26+I40+I54+I68=0,\"\",I26+I40+I54+I68)","v":""}]
["CRITÈRES D'ÉVALUATION DES COMPOSANTS MAJEURS"]
["Cote","État physique",null,null,null,null,"Cote",null,"État fonctionnel"]
[0,"Le composant majeur n'a pas été ausculté",null,null,null,null,0,null,"Le composant majeur n'a pas été ausculté"]
[1,"Le composant majeur est récent ou remis à neuf",null,null,null,null,1,null,"Le fonctionnement du composant majeur est comme « neuf » et comme attendu. Le composant répond parfaitement aux normes techniques de conception ainsi qu’aux normes de santé et de sécurité en vigueur."]
[2,"Le composant majeur présente un niveau léger de dégradation ou de défectuosité",null,null,null,null,2,null,"Le fonctionnement du composant majeur est adéquat. Le composant répond adéquatement aux normes techniques de conception ainsi qu’aux normes de santé et de sécurité en vigueur."]
[3,"Le composant majeur présente un niveau modéré de dégradation ou de défectuosité",null,null,null,null,3,null,"Le fonctionnement du composant majeur est intermittent mais ne nuit pas au procédé. Le composant répond adéquatement aux normes techniques de conception ainsi qu’aux normes de santé et de sécurité en vigueur."]
[4,"Le composant majeur présente un niveau élevé de dégradation ou de défectuosité",null,null,null,null,4,null,"Le fonctionnement du composant majeur est intermittent et nuit au procédé. Le composant est très près de ne pas répondre aux normes techniques de conception mais répond aux normes de santé et de sécurité en vigueur."]
[5,"Le composant majeur présente un niveau très élevé de dégradation ou de défectuosité",null,null,null,null,5,null,"Le fonctionnement du composant majeur est déficient et empêche le procédé de s’effectuer. Le composant ne répond pas aux normes techniques de conception et/ou ne répond pas aux normes de santé et de sécurité en vigueur."]
["*Type d'évaluation : Visuelle (V), Opérateur (O), Mesure (M)",null,null,null,null,null,"**Type d'intervention : Ajout (AJ), Remplacement (RP), Réfection majeure (RFM), Expertise complémentaire (DE)"]
["RELEVÉ DES COMPOSANTS MAJEURS CIVILS"]
["Composants majeurs","Année d'installation","Durée de vie utile théorique","% Durée de vie écoulée","État physique","État fonctionnel","Année d'évaluation","Type d'évaluation*","Valeur de remplacement ($)","Coût de l'intervention ($)","Type d'intervention**","Année d'intervention"]
[null,null,{"$f":"IF(B16=\"\",\"\",Données!$E$80)","v":""},{"$f":"IF(B16=\"\",\"\",(Annee_BI-B16)/C16)","v":""}]
[null,null,{"$f":"IF(B17=\"\",\"\",Données!$E$80)","v":""},""]
[null,null,{"$f":"IF(B18=\"\",\"\",Données!$E$80)","v":""},""]
[null,null,{"$f":"IF(B19=\"\",\"\",Données!$E$80)","v":""},""]
[null,null,{"$f":"IF(B20=\"\",\"\",Données!$E$80)","v":""},""]
[null,null,{"$f":"IF(B21=\"\",\"\",Données!$E$80)","v":""},""]
[null,null,{"$f":"IF(B22=\"\",\"\",Données!$E$80)","v":""},""]
[null,null,{"$f":"IF(B23=\"\",\"\",Données!$E$80)","v":""},""]
[null,null,{"$f":"IF(B24=\"\",\"\",Données!$E$80)","v":""},""]
[null,null,{"$f":"IF(B25=\"\",\"\",Données!$E$80)","v":""},""]
["Récapitulatif des résultats (discipline)",{"$f":"IF(MIN(B16:B25)=0,\"\",MIN(B16:B25))","v":""},{"$f":"IF(MAX(C16:C25)=0,\"\",MAX(C16:C25))","v":""},{"$f":"IF(MAX(D16:D25)=0,\"\",MAX(D16:D25))","v":""},{"$f":"IF(MAX(E16:E25)=0,\"\",MAX(E16:E25))","v":""},{"$f":"IF(MAX(F16:F25)=0,\"\",MAX(F16:F25))","v":""},{"$f":"IF(MAX(G16:G25)=0,\"\",MAX(G16:G25))","v":""},null,{"$f":"SUM(I16:I25)","v":0},{"$f":"SUM(J16:J25)","v":0}]
["Commentaires ou notes explicatives sur les composants majeurs critiques auscultés\n\n(¨  Notes supplémentaires et/ou photos disponibles)","\n"]
["RELEVÉ DES COMPOSANTS MAJEURS MÉCANIQUES"]
["Composants majeurs","Année d'installation","Durée de vie utile théorique","% Durée de vie écoulée","État physique","État fonctionnel","Année d'évaluation","Type d'évaluation*","Valeur de remplacement ($)","Coût de l'intervention ($)","Type d'intervention**","Année d'intervention"]
[null,null,{"$f":"IF(B30=\"\",\"\",Données!$E$81)","v":""},{"$f":"IF(B30=\"\",\"\",(Annee_BI-B30)/C30)","v":""}]
[null,null,{"$f":"IF(B31=\"\",\"\",Données!$E$81)","v":""},""]
[null,null,{"$f":"IF(B32=\"\",\"\",Données!$E$81)","v":""},""]
[null,null,{"$f":"IF(B33=\"\",\"\",Données!$E$81)","v":""},""]
[null,null,{"$f":"IF(B34=\"\",\"\",Données!$E$81)","v":""},""]
[null,null,{"$f":"IF(B35=\"\",\"\",Données!$E$81)","v":""},""]
[null,null,{"$f":"IF(B36=\"\",\"\",Données!$E$81)","v":""},""]
[null,null,{"$f":"IF(B37=\"\",\"\",Données!$E$81)","v":""},""]
[null,null,{"$f":"IF(B38=\"\",\"\",Données!$E$81)","v":""},""]
[null,null,{"$f":"IF(B39=\"\",\"\",Données!$E$81)","v":""},""]
["Récapitulatif des résultats (discipline)",{"$f":"IF(MIN(B30:B39)=0,\"\",MIN(B30:B39))","v":""},{"$f":"IF(MAX(C30:C39)=0,\"\",MAX(C30:C39))","v":""},{"$f":"IF(MAX(D30:D39)=0,\"\",MAX(D30:D39))","v":""},{"$f":"IF(MAX(E30:E39)=0,\"\",MAX(E30:E39))","v":""},{"$f":"IF(MAX(F30:F39)=0,\"\",MAX(F30:F39))","v":""},{"$f":"IF(MAX(G30:G39)=0,\"\",MAX(G30:G39))","v":""},null,{"$f":"SUM(I30:I39)","v":0},{"$f":"SUM(J30:J39)","v":0}]
["Commentaires ou notes explicatives sur les composants majeurs critiques auscultés\n\n(¨  Notes supplémentaires et/ou photos disponibles)","\n"]
["RELEVÉ DES COMPOSANTS MAJEURS ÉLECTRIQUES"]
["Composants majeurs","Année d'installation","Durée de vie utile théorique","% Durée de vie écoulée","État physique","État fonctionnel","Année d'auscultation","Type d'évaluation*","Valeur de remplacement ($)","Coût de l'intervention ($)","Type d'intervention**","Année d'intervention"]
[null,null,{"$f":"IF(B44=\"\",\"\",Données!$E$82)","v":""},{"$f":"IF(B44=\"\",\"\",(Annee_BI-B44)/C44)","v":""}]
[null,null,{"$f":"IF(B45=\"\",\"\",Données!$E$82)","v":""},""]
[null,null,{"$f":"IF(B46=\"\",\"\",Données!$E$82)","v":""},""]
[null,null,{"$f":"IF(B47=\"\",\"\",Données!$E$82)","v":""},""]
[null,null,{"$f":"IF(B48=\"\",\"\",Données!$E$82)","v":""},""]
[null,null,{"$f":"IF(B49=\"\",\"\",Données!$E$82)","v":""},""]
[null,null,{"$f":"IF(B50=\"\",\"\",Données!$E$82)","v":""},""]
[null,null,{"$f":"IF(B51=\"\",\"\",Données!$E$82)","v":""},""]
[null,null,{"$f":"IF(B52=\"\",\"\",Données!$E$82)","v":""},""]
[null,null,{"$f":"IF(B53=\"\",\"\",Données!$E$82)","v":""},""]
["Récapitulatif des résultats (discipline)",{"$f":"IF(MIN(B44:B53)=0,\"\",MIN(B44:B53))","v":""},{"$f":"IF(MAX(C44:C53)=0,\"\",MAX(C44:C53))","v":""},{"$f":"IF(MAX(D44:D53)=0,\"\",MAX(D44:D53))","v":""},{"$f":"IF(MAX(E44:E53)=0,\"\",MAX(E44:E53))","v":""},{"$f":"IF(MAX(F44:F53)=0,\"\",MAX(F44:F53))","v":""},{"$f":"IF(MAX(G44:G53)=0,\"\",MAX(G44:G53))","v":""},null,{"$f":"SUM(I44:I53)","v":0},{"$f":"SUM(J44:J53)","v":0}]
["Commentaires ou notes explicatives sur les composants majeurs critiques auscultés\n\n(¨  Notes supplémentaires et/ou photos disponibles)"]
["RELEVÉ DES COMPOSANTS MAJEURS D'INSTRUMENTATION ET DE CONTRÔLE"]
["Composants majeurs","Année d'installation","Durée de vie utile théorique","% Durée de vie écoulée","État physique","État fonctionnel","Année d'évaluation","Type d'évaluation*","Valeur de remplacement ($)","Coût de l'intervention ($)","Type d'intervention**","Année d'intervention"]
[null,null,{"$f":"IF(B58=\"\",\"\",Données!$E$83)","v":""},{"$f":"IF(B58=\"\",\"\",(Annee_BI-B58)/C58)","v":""}]
[null,null,{"$f":"IF(B59=\"\",\"\",Données!$E$83)","v":""},""]
[null,null,{"$f":"IF(B60=\"\",\"\",Données!$E$83)","v":""},""]
[null,null,{"$f":"IF(B61=\"\",\"\",Données!$E$83)","v":""},""]
[null,null,{"$f":"IF(B62=\"\",\"\",Données!$E$83)","v":""},""]
[null,null,{"$f":"IF(B63=\"\",\"\",Données!$E$83)","v":""},""]
[null,null,{"$f":"IF(B64=\"\",\"\",Données!$E$83)","v":""},""]
[null,null,{"$f":"IF(B65=\"\",\"\",Données!$E$83)","v":""},""]
[null,null,{"$f":"IF(B66=\"\",\"\",Données!$E$83)","v":""},""]
[null,null,{"$f":"IF(B67=\"\",\"\",Données!$E$83)","v":""},""]
["Récapitulatif des résultats (discipline)",{"$f":"IF(MIN(B58:B67)=0,\"\",MIN(B58:B67))","v":""},{"$f":"IF(MAX(C58:C67)=0,\"\",MAX(C58:C67))","v":""},{"$f":"IF(MAX(D58:D67)=0,\"\",MAX(D58:D67))","v":""},{"$f":"IF(MAX(E58:E67)=0,\"\",MAX(E58:E67))","v":""},{"$f":"IF(MAX(F58:F67)=0,\"\",MAX(F58:F67))","v":""},{"$f":"IF(MAX(G58:G67)=0,\"\",MAX(G58:G67))","v":""},null,{"$f":"SUM(I58:I67)","v":0},{"$f":"SUM(J58:J67)","v":0}]
["Commentaires ou notes explicatives sur les composants majeurs critiques auscultés\n\n(¨  Notes supplémentaires et/ou photos disponibles)"]

{"sheet":"EP_Traitement_boues","index":26,"n_rows":69,"n_cols":12,"rows_kept":69,"cut":false,"hidden":true,"merged":[[68,1,68,11],[9,1,9,5],[9,6,9,7],[9,8,9,11],[10,1,10,5],[10,6,10,7],[10,8,10,11],[11,1,11,5],[11,6,11,7],[11,8,11,11],[13,0,13,11],[26,1,26,11],[27,0,27,11],[40,1,40,11],[8,1,8,5],[8,6,8,7],[8,8,8,11],[54,1,54,11],[55,0,55,11],[41,0,41,11],[6,6,6,7],[6,8,6,11],[7,1,7,5],[7,6,7,7],[7,8,7,11],[6,1,6,5],[1,1,1,5],[1,6,1,8],[1,9,1,11],[2,1,2,5],[2,6,2,8],[2,9,2,11],[3,1,3,5],[3,6,3,8],[3,9,3,11],[4,0,4,11],[5,1,5,5],[5,6,5,7],[5,8,5,11]]}
["IDENTIFICATION DU SYSTÈME",null,null,null,null,null,null,null,null,"Consulter l'aide se rapportant aux procédés de l'ouvrage"]
["Type d'infrastructure :",{"$f":"IF(Identification!H61=0,\"\",Identification!H61)","v":""},null,null,null,null,"         Sous-type d'infrastructure :",null,null,{"$f":"IF(Identification!H62=0,\"\",Identification!H62)","v":""}]
["Nom de l'infrastructure :",{"$f":"IF(Identification!H63=0,\"\",Identification!H63)","v":""},null,null,null,null,"         Type de système :",null,null,"Traitement des boues"]
["Année d'installation :",{"$f":"Identification!H66","v":0},null,null,null,null,"         Valeur de remplacement :",null,null,{"$f":"IF(I26+I40+I54+I68=0,\"\",I26+I40+I54+I68)","v":""}]
["CRITÈRES D'ÉVALUATION DES COMPOSANTS MAJEURS"]
["Cote","État physique",null,null,null,null,"Cote",null,"État fonctionnel"]
[0,"Le composant majeur n'a pas été ausculté",null,null,null,null,0,null,"Le composant majeur n'a pas été ausculté"]
[1,"Le composant majeur est récent ou remis à neuf",null,null,null,null,1,null,"Le fonctionnement du composant majeur est comme « neuf » et comme attendu. Le composant répond parfaitement aux normes techniques de conception ainsi qu’aux normes de santé et de sécurité en vigueur."]
[2,"Le composant majeur présente un niveau léger de dégradation ou de défectuosité",null,null,null,null,2,null,"Le fonctionnement du composant majeur est adéquat. Le composant répond adéquatement aux normes techniques de conception ainsi qu’aux normes de santé et de sécurité en vigueur."]
[3,"Le composant majeur présente un niveau modéré de dégradation ou de défectuosité",null,null,null,null,3,null,"Le fonctionnement du composant majeur est intermittent mais ne nuit pas au procédé. Le composant répond adéquatement aux normes techniques de conception ainsi qu’aux normes de santé et de sécurité en vigueur."]
[4,"Le composant majeur présente un niveau élevé de dégradation ou de défectuosité",null,null,null,null,4,null,"Le fonctionnement du composant majeur est intermittent et nuit au procédé. Le composant est très près de ne pas répondre aux normes techniques de conception mais répond aux normes de santé et de sécurité en vigueur."]
[5,"Le composant majeur présente un niveau très élevé de dégradation ou de défectuosité",null,null,null,null,5,null,"Le fonctionnement du composant majeur est déficient et empêche le procédé de s’effectuer. Le composant ne répond pas aux normes techniques de conception et/ou ne répond pas aux normes de santé et de sécurité en vigueur."]
["*Type d'évaluation : Visuelle (V), Opérateur (O), Mesure (M)",null,null,null,null,null,"**Type d'intervention : Ajout (AJ), Remplacement (RP), Réfection majeure (RFM), Expertise complémentaire (DE)"]
["RELEVÉ DES COMPOSANTS MAJEURS CIVILS"]
["Composants majeurs","Année d'installation","Durée de vie utile théorique","% Durée de vie écoulée","État physique","État fonctionnel","Année d'évaluation","Type d'évaluation*","Valeur de remplacement ($)","Coût de l'intervention ($)","Type d'intervention**","Année d'intervention"]
[null,null,{"$f":"IF(B16=\"\",\"\",Données!$E$80)","v":""},{"$f":"IF(B16=\"\",\"\",(Annee_BI-B16)/C16)","v":""}]
[null,null,{"$f":"IF(B17=\"\",\"\",Données!$E$80)","v":""},""]
[null,null,{"$f":"IF(B18=\"\",\"\",Données!$E$80)","v":""},""]
[null,null,{"$f":"IF(B19=\"\",\"\",Données!$E$80)","v":""},""]
[null,null,{"$f":"IF(B20=\"\",\"\",Données!$E$80)","v":""},""]
[null,null,{"$f":"IF(B21=\"\",\"\",Données!$E$80)","v":""},""]
[null,null,{"$f":"IF(B22=\"\",\"\",Données!$E$80)","v":""},""]
[null,null,{"$f":"IF(B23=\"\",\"\",Données!$E$80)","v":""},""]
[null,null,{"$f":"IF(B24=\"\",\"\",Données!$E$80)","v":""},""]
[null,null,{"$f":"IF(B25=\"\",\"\",Données!$E$80)","v":""},""]
["Récapitulatif des résultats (discipline)",{"$f":"IF(MIN(B16:B25)=0,\"\",MIN(B16:B25))","v":""},{"$f":"IF(MAX(C16:C25)=0,\"\",MAX(C16:C25))","v":""},{"$f":"IF(MAX(D16:D25)=0,\"\",MAX(D16:D25))","v":""},{"$f":"IF(MAX(E16:E25)=0,\"\",MAX(E16:E25))","v":""},{"$f":"IF(MAX(F16:F25)=0,\"\",MAX(F16:F25))","v":""},{"$f":"IF(MAX(G16:G25)=0,\"\",MAX(G16:G25))","v":""},null,{"$f":"SUM(I16:I25)","v":0},{"$f":"SUM(J16:J25)","v":0}]
["Commentaires ou notes explicatives sur les composants majeurs critiques auscultés\n\n(¨  Notes supplémentaires et/ou photos disponibles)","\n"]
["RELEVÉ DES COMPOSANTS MAJEURS MÉCANIQUES"]
["Composants majeurs","Année d'installation","Durée de vie utile théorique","% Durée de vie écoulée","État physique","État fonctionnel","Année d'évaluation","Type d'évaluation*","Valeur de remplacement ($)","Coût de l'intervention ($)","Type d'intervention**","Année d'intervention"]
[null,null,{"$f":"IF(B30=\"\",\"\",Données!$E$81)","v":""},{"$f":"IF(B30=\"\",\"\",(Annee_BI-B30)/C30)","v":""}]
[null,null,{"$f":"IF(B31=\"\",\"\",Données!$E$81)","v":""},""]
[null,null,{"$f":"IF(B32=\"\",\"\",Données!$E$81)","v":""},""]
[null,null,{"$f":"IF(B33=\"\",\"\",Données!$E$81)","v":""},""]
[null,null,{"$f":"IF(B34=\"\",\"\",Données!$E$81)","v":""},""]
[null,null,{"$f":"IF(B35=\"\",\"\",Données!$E$81)","v":""},""]
[null,null,{"$f":"IF(B36=\"\",\"\",Données!$E$81)","v":""},""]
[null,null,{"$f":"IF(B37=\"\",\"\",Données!$E$81)","v":""},""]
[null,null,{"$f":"IF(B38=\"\",\"\",Données!$E$81)","v":""},""]
[null,null,{"$f":"IF(B39=\"\",\"\",Données!$E$81)","v":""},""]
["Récapitulatif des résultats (discipline)",{"$f":"IF(MIN(B30:B39)=0,\"\",MIN(B30:B39))","v":""},{"$f":"IF(MAX(C30:C39)=0,\"\",MAX(C30:C39))","v":""},{"$f":"IF(MAX(D30:D39)=0,\"\",MAX(D30:D39))","v":""},{"$f":"IF(MAX(E30:E39)=0,\"\",MAX(E30:E39))","v":""},{"$f":"IF(MAX(F30:F39)=0,\"\",MAX(F30:F39))","v":""},{"$f":"IF(MAX(G30:G39)=0,\"\",MAX(G30:G39))","v":""},null,{"$f":"SUM(I30:I39)","v":0},{"$f":"SUM(J30:J39)","v":0}]
["Commentaires ou notes explicatives sur les composants majeurs critiques auscultés\n\n(¨  Notes supplémentaires et/ou photos disponibles)","\n"]
["RELEVÉ DES COMPOSANTS MAJEURS ÉLECTRIQUES"]
["Composants majeurs","Année d'installation","Durée de vie utile théorique","% Durée de vie écoulée","État physique","État fonctionnel","Année d'auscultation","Type d'évaluation*","Valeur de remplacement ($)","Coût de l'intervention ($)","Type d'intervention**","Année d'intervention"]
[null,null,{"$f":"IF(B44=\"\",\"\",Données!$E$82)","v":""},{"$f":"IF(B44=\"\",\"\",(Annee_BI-B44)/C44)","v":""}]
[null,null,{"$f":"IF(B45=\"\",\"\",Données!$E$82)","v":""},""]
[null,null,{"$f":"IF(B46=\"\",\"\",Données!$E$82)","v":""},""]
[null,null,{"$f":"IF(B47=\"\",\"\",Données!$E$82)","v":""},""]
[null,null,{"$f":"IF(B48=\"\",\"\",Données!$E$82)","v":""},""]
[null,null,{"$f":"IF(B49=\"\",\"\",Données!$E$82)","v":""},""]
[null,null,{"$f":"IF(B50=\"\",\"\",Données!$E$82)","v":""},""]
[null,null,{"$f":"IF(B51=\"\",\"\",Données!$E$82)","v":""},""]
[null,null,{"$f":"IF(B52=\"\",\"\",Données!$E$82)","v":""},""]
[null,null,{"$f":"IF(B53=\"\",\"\",Données!$E$82)","v":""},""]
["Récapitulatif des résultats (discipline)",{"$f":"IF(MIN(B44:B53)=0,\"\",MIN(B44:B53))","v":""},{"$f":"IF(MAX(C44:C53)=0,\"\",MAX(C44:C53))","v":""},{"$f":"IF(MAX(D44:D53)=0,\"\",MAX(D44:D53))","v":""},{"$f":"IF(MAX(E44:E53)=0,\"\",MAX(E44:E53))","v":""},{"$f":"IF(MAX(F44:F53)=0,\"\",MAX(F44:F53))","v":""},{"$f":"IF(MAX(G44:G53)=0,\"\",MAX(G44:G53))","v":""},null,{"$f":"SUM(I44:I53)","v":0},{"$f":"SUM(J44:J53)","v":0}]
["Commentaires ou notes explicatives sur les composants majeurs critiques auscultés\n\n(¨  Notes supplémentaires et/ou photos disponibles)"]
["RELEVÉ DES COMPOSANTS MAJEURS D'INSTRUMENTATION ET DE CONTRÔLE"]
["Composants majeurs","Année d'installation","Durée de vie utile théorique","% Durée de vie écoulée","État physique","État fonctionnel","Année d'évaluation","Type d'évaluation*","Valeur de remplacement ($)","Coût de l'intervention ($)","Type d'intervention**","Année d'intervention"]
[null,null,{"$f":"IF(B58=\"\",\"\",Données!$E$83)","v":""},{"$f":"IF(B58=\"\",\"\",(Annee_BI-B58)/C58)","v":""}]
[null,null,{"$f":"IF(B59=\"\",\"\",Données!$E$83)","v":""},""]
[null,null,{"$f":"IF(B60=\"\",\"\",Données!$E$83)","v":""},""]
[null,null,{"$f":"IF(B61=\"\",\"\",Données!$E$83)","v":""},""]
[null,null,{"$f":"IF(B62=\"\",\"\",Données!$E$83)","v":""},""]
[null,null,{"$f":"IF(B63=\"\",\"\",Données!$E$83)","v":""},""]
[null,null,{"$f":"IF(B64=\"\",\"\",Données!$E$83)","v":""},""]
[null,null,{"$f":"IF(B65=\"\",\"\",Données!$E$83)","v":""},""]
[null,null,{"$f":"IF(B66=\"\",\"\",Données!$E$83)","v":""},""]
[null,null,{"$f":"IF(B67=\"\",\"\",Données!$E$83)","v":""},""]
["Récapitulatif des résultats (discipline)",{"$f":"IF(MIN(B58:B67)=0,\"\",MIN(B58:B67))","v":""},{"$f":"IF(MAX(C58:C67)=0,\"\",MAX(C58:C67))","v":""},{"$f":"IF(MAX(D58:D67)=0,\"\",MAX(D58:D67))","v":""},{"$f":"IF(MAX(E58:E67)=0,\"\",MAX(E58:E67))","v":""},{"$f":"IF(MAX(F58:F67)=0,\"\",MAX(F58:F67))","v":""},{"$f":"IF(MAX(G58:G67)=0,\"\",MAX(G58:G67))","v":""},null,{"$f":"SUM(I58:I67)","v":0},{"$f":"SUM(J58:J67)","v":0}]
["Commentaires ou notes explicatives sur les composants majeurs critiques auscultés\n\n(¨  Notes supplémentaires et/ou photos disponibles)"]

{"sheet":"EP_Chambre","index":27,"n_rows":69,"n_cols":12,"rows_kept":69,"cut":false,"hidden":true,"merged":[[55,0,55,11],[68,1,68,11],[13,0,13,11],[26,1,26,11],[27,0,27,11],[40,1,40,11],[41,0,41,11],[54,1,54,11],[10,1,10,5],[10,6,10,7],[10,8,10,11],[11,1,11,5],[11,6,11,7],[11,8,11,11],[8,1,8,5],[8,6,8,7],[8,8,8,11],[9,1,9,5],[9,6,9,7],[9,8,9,11],[6,1,6,5],[6,6,6,7],[6,8,6,11],[7,1,7,5],[7,6,7,7],[7,8,7,11],[3,1,3,5],[3,6,3,8],[3,9,3,11],[4,0,4,11],[5,1,5,5],[5,6,5,7],[5,8,5,11],[1,1,1,5],[1,6,1,8],[1,9,1,11],[2,1,2,5],[2,6,2,8],[2,9,2,11]]}
["IDENTIFICATION DU SYSTÈME",null,null,null,null,null,null,null,null,"Consulter l'aide se rapportant aux procédés de l'ouvrage"]
["Type d'infrastructure :",{"$f":"IF(Identification!H61=0,\"\",Identification!H61)","v":""},null,null,null,null,"         Sous-type d'infrastructure :",null,null,{"$f":"IF(Identification!H62=0,\"\",Identification!H62)","v":""}]
["Nom de l'infrastructure :",{"$f":"IF(Identification!H63=0,\"\",Identification!H63)","v":""},null,null,null,null,"         Type de système :",null,null,"Chambre (EP)"]
["Année d'installation :",{"$f":"Identification!H66","v":0},null,null,null,null,"         Valeur de remplacement :",null,null,{"$f":"IF(I26+I40+I54+I68=0,\"\",I26+I40+I54+I68)","v":""}]
["CRITÈRES D'ÉVALUATION DES COMPOSANTS MAJEURS"]
["Cote","État physique",null,null,null,null,"Cote",null,"État fonctionnel"]
[0,"Le composant majeur n'a pas été ausculté",null,null,null,null,0,null,"Le composant majeur n'a pas été ausculté"]
[1,"Le composant majeur est récent ou remis à neuf",null,null,null,null,1,null,"Le fonctionnement du composant majeur est comme « neuf » et comme attendu. Le composant répond parfaitement aux normes techniques de conception ainsi qu’aux normes de santé et de sécurité en vigueur."]
[2,"Le composant majeur présente un niveau léger de dégradation ou de défectuosité",null,null,null,null,2,null,"Le fonctionnement du composant majeur est adéquat. Le composant répond adéquatement aux normes techniques de conception ainsi qu’aux normes de santé et de sécurité en vigueur."]
[3,"Le composant majeur présente un niveau modéré de dégradation ou de défectuosité",null,null,null,null,3,null,"Le fonctionnement du composant majeur est intermittent mais ne nuit pas au procédé. Le composant répond adéquatement aux normes techniques de conception ainsi qu’aux normes de santé et de sécurité en vigueur."]
[4,"Le composant majeur présente un niveau élevé de dégradation ou de défectuosité",null,null,null,null,4,null,"Le fonctionnement du composant majeur est intermittent et nuit au procédé. Le composant est très près de ne pas répondre aux normes techniques de conception mais répond aux normes de santé et de sécurité en vigueur."]
[5,"Le composant majeur présente un niveau très élevé de dégradation ou de défectuosité",null,null,null,null,5,null,"Le fonctionnement du composant majeur est déficient et empêche le procédé de s’effectuer. Le composant ne répond pas aux normes techniques de conception et/ou ne répond pas aux normes de santé et de sécurité en vigueur."]
["*Type d'évaluation : Visuelle (V), Opérateur (O), Mesure (M)",null,null,null,null,null,"**Type d'intervention : Ajout (AJ), Remplacement (RP), Réfection majeure (RFM), Expertise complémentaire (DE)"]
["RELEVÉ DES COMPOSANTS MAJEURS CIVILS"]
["Composants majeurs","Année d'installation","Durée de vie utile théorique","% Durée de vie écoulée","État physique","État fonctionnel","Année d'évaluation","Type d'évaluation*","Valeur de remplacement ($)","Coût de l'intervention ($)","Type d'intervention**","Année d'intervention"]
[null,null,{"$f":"IF(B16=\"\",\"\",Données!$E$80)","v":""},{"$f":"IF(B16=\"\",\"\",(Annee_BI-B16)/C16)","v":""}]
[null,null,{"$f":"IF(B17=\"\",\"\",Données!$E$80)","v":""},""]
[null,null,{"$f":"IF(B18=\"\",\"\",Données!$E$80)","v":""},""]
[null,null,{"$f":"IF(B19=\"\",\"\",Données!$E$80)","v":""},""]
[null,null,{"$f":"IF(B20=\"\",\"\",Données!$E$80)","v":""},""]
[null,null,{"$f":"IF(B21=\"\",\"\",Données!$E$80)","v":""},""]
[null,null,{"$f":"IF(B22=\"\",\"\",Données!$E$80)","v":""},""]
[null,null,{"$f":"IF(B23=\"\",\"\",Données!$E$80)","v":""},""]
[null,null,{"$f":"IF(B24=\"\",\"\",Données!$E$80)","v":""},""]
[null,null,{"$f":"IF(B25=\"\",\"\",Données!$E$80)","v":""},""]
["Récapitulatif des résultats (discipline)",{"$f":"IF(MIN(B16:B25)=0,\"\",MIN(B16:B25))","v":""},{"$f":"IF(MAX(C16:C25)=0,\"\",MAX(C16:C25))","v":""},{"$f":"IF(MAX(D16:D25)=0,\"\",MAX(D16:D25))","v":""},{"$f":"IF(MAX(E16:E25)=0,\"\",MAX(E16:E25))","v":""},{"$f":"IF(MAX(F16:F25)=0,\"\",MAX(F16:F25))","v":""},{"$f":"IF(MAX(G16:G25)=0,\"\",MAX(G16:G25))","v":""},null,{"$f":"SUM(I16:I25)","v":0},{"$f":"SUM(J16:J25)","v":0}]
["Commentaires ou notes explicatives sur les composants majeurs critiques auscultés\n\n(¨  Notes supplémentaires et/ou photos disponibles)","\n"]
["RELEVÉ DES COMPOSANTS MAJEURS MÉCANIQUES"]
["Composants majeurs","Année d'installation","Durée de vie utile théorique","% Durée de vie écoulée","État physique","État fonctionnel","Année d'évaluation","Type d'évaluation*","Valeur de remplacement ($)","Coût de l'intervention ($)","Type d'intervention**","Année d'intervention"]
[null,null,{"$f":"IF(B30=\"\",\"\",Données!$E$81)","v":""},{"$f":"IF(B30=\"\",\"\",(Annee_BI-B30)/C30)","v":""}]
[null,null,{"$f":"IF(B31=\"\",\"\",Données!$E$81)","v":""},""]
[null,null,{"$f":"IF(B32=\"\",\"\",Données!$E$81)","v":""},""]
[null,null,{"$f":"IF(B33=\"\",\"\",Données!$E$81)","v":""},""]
[null,null,{"$f":"IF(B34=\"\",\"\",Données!$E$81)","v":""},""]
[null,null,{"$f":"IF(B35=\"\",\"\",Données!$E$81)","v":""},""]
[null,null,{"$f":"IF(B36=\"\",\"\",Données!$E$81)","v":""},""]
[null,null,{"$f":"IF(B37=\"\",\"\",Données!$E$81)","v":""},""]
[null,null,{"$f":"IF(B38=\"\",\"\",Données!$E$81)","v":""},""]
[null,null,{"$f":"IF(B39=\"\",\"\",Données!$E$81)","v":""},""]
["Récapitulatif des résultats (discipline)",{"$f":"IF(MIN(B30:B39)=0,\"\",MIN(B30:B39))","v":""},{"$f":"IF(MAX(C30:C39)=0,\"\",MAX(C30:C39))","v":""},{"$f":"IF(MAX(D30:D39)=0,\"\",MAX(D30:D39))","v":""},{"$f":"IF(MAX(E30:E39)=0,\"\",MAX(E30:E39))","v":""},{"$f":"IF(MAX(F30:F39)=0,\"\",MAX(F30:F39))","v":""},{"$f":"IF(MAX(G30:G39)=0,\"\",MAX(G30:G39))","v":""},null,{"$f":"SUM(I30:I39)","v":0},{"$f":"SUM(J30:J39)","v":0}]
["Commentaires ou notes explicatives sur les composants majeurs critiques auscultés\n\n(¨  Notes supplémentaires et/ou photos disponibles)","\n"]
["RELEVÉ DES COMPOSANTS MAJEURS ÉLECTRIQUES"]
["Composants majeurs","Année d'installation","Durée de vie utile théorique","% Durée de vie écoulée","État physique","État fonctionnel","Année d'auscultation","Type d'évaluation*","Valeur de remplacement ($)","Coût de l'intervention ($)","Type d'intervention**","Année d'intervention"]
[null,null,{"$f":"IF(B44=\"\",\"\",Données!$E$82)","v":""},{"$f":"IF(B44=\"\",\"\",(Annee_BI-B44)/C44)","v":""}]
[null,null,{"$f":"IF(B45=\"\",\"\",Données!$E$82)","v":""},""]
[null,null,{"$f":"IF(B46=\"\",\"\",Données!$E$82)","v":""},""]
[null,null,{"$f":"IF(B47=\"\",\"\",Données!$E$82)","v":""},""]
[null,null,{"$f":"IF(B48=\"\",\"\",Données!$E$82)","v":""},""]
[null,null,{"$f":"IF(B49=\"\",\"\",Données!$E$82)","v":""},""]
[null,null,{"$f":"IF(B50=\"\",\"\",Données!$E$82)","v":""},""]
[null,null,{"$f":"IF(B51=\"\",\"\",Données!$E$82)","v":""},""]
[null,null,{"$f":"IF(B52=\"\",\"\",Données!$E$82)","v":""},""]
[null,null,{"$f":"IF(B53=\"\",\"\",Données!$E$82)","v":""},""]
["Récapitulatif des résultats (discipline)",{"$f":"IF(MIN(B44:B53)=0,\"\",MIN(B44:B53))","v":""},{"$f":"IF(MAX(C44:C53)=0,\"\",MAX(C44:C53))","v":""},{"$f":"IF(MAX(D44:D53)=0,\"\",MAX(D44:D53))","v":""},{"$f":"IF(MAX(E44:E53)=0,\"\",MAX(E44:E53))","v":""},{"$f":"IF(MAX(F44:F53)=0,\"\",MAX(F44:F53))","v":""},{"$f":"IF(MAX(G44:G53)=0,\"\",MAX(G44:G53))","v":""},null,{"$f":"SUM(I44:I53)","v":0},{"$f":"SUM(J44:J53)","v":0}]
["Commentaires ou notes explicatives sur les composants majeurs critiques auscultés\n\n(¨  Notes supplémentaires et/ou photos disponibles)"]
["RELEVÉ DES COMPOSANTS MAJEURS D'INSTRUMENTATION ET DE CONTRÔLE"]
["Composants majeurs","Année d'installation","Durée de vie utile théorique","% Durée de vie écoulée","État physique","État fonctionnel","Année d'évaluation","Type d'évaluation*","Valeur de remplacement ($)","Coût de l'intervention ($)","Type d'intervention**","Année d'intervention"]
[null,null,{"$f":"IF(B58=\"\",\"\",Données!$E$83)","v":""},{"$f":"IF(B58=\"\",\"\",(Annee_BI-B58)/C58)","v":""}]
[null,null,{"$f":"IF(B59=\"\",\"\",Données!$E$83)","v":""},""]
[null,null,{"$f":"IF(B60=\"\",\"\",Données!$E$83)","v":""},""]
[null,null,{"$f":"IF(B61=\"\",\"\",Données!$E$83)","v":""},""]
[null,null,{"$f":"IF(B62=\"\",\"\",Données!$E$83)","v":""},""]
[null,null,{"$f":"IF(B63=\"\",\"\",Données!$E$83)","v":""},""]
[null,null,{"$f":"IF(B64=\"\",\"\",Données!$E$83)","v":""},""]
[null,null,{"$f":"IF(B65=\"\",\"\",Données!$E$83)","v":""},""]
[null,null,{"$f":"IF(B66=\"\",\"\",Données!$E$83)","v":""},""]
[null,null,{"$f":"IF(B67=\"\",\"\",Données!$E$83)","v":""},""]
["Récapitulatif des résultats (discipline)",{"$f":"IF(MIN(B58:B67)=0,\"\",MIN(B58:B67))","v":""},{"$f":"IF(MAX(C58:C67)=0,\"\",MAX(C58:C67))","v":""},{"$f":"IF(MAX(D58:D67)=0,\"\",MAX(D58:D67))","v":""},{"$f":"IF(MAX(E58:E67)=0,\"\",MAX(E58:E67))","v":""},{"$f":"IF(MAX(F58:F67)=0,\"\",MAX(F58:F67))","v":""},{"$f":"IF(MAX(G58:G67)=0,\"\",MAX(G58:G67))","v":""},null,{"$f":"SUM(I58:I67)","v":0},{"$f":"SUM(J58:J67)","v":0}]
["Commentaires ou notes explicatives sur les composants majeurs critiques auscultés\n\n(¨  Notes supplémentaires et/ou photos disponibles)"]

{"sheet":"EU_Affluent","index":28,"n_rows":69,"n_cols":12,"rows_kept":69,"cut":false,"hidden":true,"merged":[[54,1,54,11],[55,0,55,11],[68,1,68,11],[8,8,8,11],[9,1,9,5],[9,6,9,7],[9,8,9,11],[10,1,10,5],[10,6,10,7],[10,8,10,11],[11,1,11,5],[11,6,11,7],[11,8,11,11],[13,0,13,11],[26,1,26,11],[27,0,27,11],[1,1,1,5],[1,6,1,8],[1,9,1,11],[2,1,2,5],[2,6,2,8],[2,9,2,11],[40,1,40,11],[41,0,41,11],[6,1,6,5],[6,6,6,7],[6,8,6,11],[7,1,7,5],[7,6,7,7],[7,8,7,11],[8,1,8,5],[8,6,8,7],[3,1,3,5],[3,6,3,8],[3,9,3,11],[4,0,4,11],[5,1,5,5],[5,6,5,7],[5,8,5,11]]}
["IDENTIFICATION DU SYSTÈME",null,null,null,null,null,null,null,null,"Consulter l'aide se rapportant aux procédés de l'ouvrage"]
["Type d'infrastructure :",{"$f":"IF(Identification!H61=0,\"\",Identification!H61)","v":""},null,null,null,null,"         Sous-type d'infrastructure :",null,null,{"$f":"IF(Identification!H62=0,\"\",Identification!H62)","v":""}]
["Nom de l'infrastructure :",{"$f":"IF(Identification!H63=0,\"\",Identification!H63)","v":""},null,null,null,null,"         Type de système :",null,null,"Affluent"]
["Année d'installation :",{"$f":"Identification!H66","v":0},null,null,null,null,"         Valeur de remplacement :",null,null,{"$f":"IF(I26+I40+I54+I68=0,\"\",I26+I40+I54+I68)","v":""}]
["CRITÈRES D'ÉVALUATION DES COMPOSANTS MAJEURS"]
["Cote","État physique",null,null,null,null,"Cote",null,"État fonctionnel"]
[0,"Le composant majeur n'a pas été ausculté",null,null,null,null,0,null,"Le composant majeur n'a pas été ausculté"]
[1,"Le composant majeur est récent ou remis à neuf",null,null,null,null,1,null,"Le fonctionnement du composant majeur est comme « neuf » et comme attendu. Le composant répond parfaitement aux normes techniques de conception ainsi qu’aux normes de santé et de sécurité en vigueur."]
[2,"Le composant majeur présente un niveau léger de dégradation ou de défectuosité",null,null,null,null,2,null,"Le fonctionnement du composant majeur est adéquat. Le composant répond adéquatement aux normes techniques de conception ainsi qu’aux normes de santé et de sécurité en vigueur."]
[3,"Le composant majeur présente un niveau modéré de dégradation ou de défectuosité",null,null,null,null,3,null,"Le fonctionnement du composant majeur est intermittent mais ne nuit pas au procédé. Le composant répond adéquatement aux normes techniques de conception ainsi qu’aux normes de santé et de sécurité en vigueur."]
[4,"Le composant majeur présente un niveau élevé de dégradation ou de défectuosité",null,null,null,null,4,null,"Le fonctionnement du composant majeur est intermittent et nuit au procédé. Le composant est très près de ne pas répondre aux normes techniques de conception mais répond aux normes de santé et de sécurité en vigueur."]
[5,"Le composant majeur présente un niveau très élevé de dégradation ou de défectuosité",null,null,null,null,5,null,"Le fonctionnement du composant majeur est déficient et empêche le procédé de s’effectuer. Le composant ne répond pas aux normes techniques de conception et/ou ne répond pas aux normes de santé et de sécurité en vigueur."]
["*Type d'évaluation : Visuelle (V), Opérateur (O), Mesure (M)",null,null,null,null,null,"**Type d'intervention : Ajout (AJ), Remplacement (RP), Réfection majeure (RFM), Expertise complémentaire (DE)"]
["RELEVÉ DES COMPOSANTS MAJEURS CIVILS"]
["Composants majeurs","Année d'installation","Durée de vie utile théorique","% Durée de vie écoulée","État physique","État fonctionnel","Année d'évaluation","Type d'évaluation*","Valeur de remplacement ($)","Coût de l'intervention ($)","Type d'intervention**","Année d'intervention"]
[null,null,{"$f":"IF(B16=\"\",\"\",Données!$E$80)","v":""},{"$f":"IF(B16=\"\",\"\",(Annee_BI-B16)/C16)","v":""}]
[null,null,{"$f":"IF(B17=\"\",\"\",Données!$E$80)","v":""},""]
[null,null,{"$f":"IF(B18=\"\",\"\",Données!$E$80)","v":""},""]
[null,null,{"$f":"IF(B19=\"\",\"\",Données!$E$80)","v":""},""]
[null,null,{"$f":"IF(B20=\"\",\"\",Données!$E$80)","v":""},""]
[null,null,{"$f":"IF(B21=\"\",\"\",Données!$E$80)","v":""},""]
[null,null,{"$f":"IF(B22=\"\",\"\",Données!$E$80)","v":""},""]
[null,null,{"$f":"IF(B23=\"\",\"\",Données!$E$80)","v":""},""]
[null,null,{"$f":"IF(B24=\"\",\"\",Données!$E$80)","v":""},""]
[null,null,{"$f":"IF(B25=\"\",\"\",Données!$E$80)","v":""},""]
["Récapitulatif des résultats (discipline)",{"$f":"IF(MIN(B16:B25)=0,\"\",MIN(B16:B25))","v":""},{"$f":"IF(MAX(C16:C25)=0,\"\",MAX(C16:C25))","v":""},{"$f":"IF(MAX(D16:D25)=0,\"\",MAX(D16:D25))","v":""},{"$f":"IF(MAX(E16:E25)=0,\"\",MAX(E16:E25))","v":""},{"$f":"IF(MAX(F16:F25)=0,\"\",MAX(F16:F25))","v":""},{"$f":"IF(MAX(G16:G25)=0,\"\",MAX(G16:G25))","v":""},null,{"$f":"SUM(I16:I25)","v":0},{"$f":"SUM(J16:J25)","v":0}]
["Commentaires ou notes explicatives sur les composants majeurs critiques auscultés\n\n(¨  Notes supplémentaires et/ou photos disponibles)","\n"]
["RELEVÉ DES COMPOSANTS MAJEURS MÉCANIQUES"]
["Composants majeurs","Année d'installation","Durée de vie utile théorique","% Durée de vie écoulée","État physique","État fonctionnel","Année d'évaluation","Type d'évaluation*","Valeur de remplacement ($)","Coût de l'intervention ($)","Type d'intervention**","Année d'intervention"]
[null,null,{"$f":"IF(B30=\"\",\"\",Données!$E$81)","v":""},{"$f":"IF(B30=\"\",\"\",(Annee_BI-B30)/C30)","v":""}]
[null,null,{"$f":"IF(B31=\"\",\"\",Données!$E$81)","v":""},""]
[null,null,{"$f":"IF(B32=\"\",\"\",Données!$E$81)","v":""},""]
[null,null,{"$f":"IF(B33=\"\",\"\",Données!$E$81)","v":""},""]
[null,null,{"$f":"IF(B34=\"\",\"\",Données!$E$81)","v":""},""]
[null,null,{"$f":"IF(B35=\"\",\"\",Données!$E$81)","v":""},""]
[null,null,{"$f":"IF(B36=\"\",\"\",Données!$E$81)","v":""},""]
[null,null,{"$f":"IF(B37=\"\",\"\",Données!$E$81)","v":""},""]
[null,null,{"$f":"IF(B38=\"\",\"\",Données!$E$81)","v":""},""]
[null,null,{"$f":"IF(B39=\"\",\"\",Données!$E$81)","v":""},""]
["Récapitulatif des résultats (discipline)",{"$f":"IF(MIN(B30:B39)=0,\"\",MIN(B30:B39))","v":""},{"$f":"IF(MAX(C30:C39)=0,\"\",MAX(C30:C39))","v":""},{"$f":"IF(MAX(D30:D39)=0,\"\",MAX(D30:D39))","v":""},{"$f":"IF(MAX(E30:E39)=0,\"\",MAX(E30:E39))","v":""},{"$f":"IF(MAX(F30:F39)=0,\"\",MAX(F30:F39))","v":""},{"$f":"IF(MAX(G30:G39)=0,\"\",MAX(G30:G39))","v":""},null,{"$f":"SUM(I30:I39)","v":0},{"$f":"SUM(J30:J39)","v":0}]
["Commentaires ou notes explicatives sur les composants majeurs critiques auscultés\n\n(¨  Notes supplémentaires et/ou photos disponibles)","\n"]
["RELEVÉ DES COMPOSANTS MAJEURS ÉLECTRIQUES"]
["Composants majeurs","Année d'installation","Durée de vie utile théorique","% Durée de vie écoulée","État physique","État fonctionnel","Année d'auscultation","Type d'évaluation*","Valeur de remplacement ($)","Coût de l'intervention ($)","Type d'intervention**","Année d'intervention"]
[null,null,{"$f":"IF(B44=\"\",\"\",Données!$E$82)","v":""},{"$f":"IF(B44=\"\",\"\",(Annee_BI-B44)/C44)","v":""}]
[null,null,{"$f":"IF(B45=\"\",\"\",Données!$E$82)","v":""},""]
[null,null,{"$f":"IF(B46=\"\",\"\",Données!$E$82)","v":""},""]
[null,null,{"$f":"IF(B47=\"\",\"\",Données!$E$82)","v":""},""]
[null,null,{"$f":"IF(B48=\"\",\"\",Données!$E$82)","v":""},""]
[null,null,{"$f":"IF(B49=\"\",\"\",Données!$E$82)","v":""},""]
[null,null,{"$f":"IF(B50=\"\",\"\",Données!$E$82)","v":""},""]
[null,null,{"$f":"IF(B51=\"\",\"\",Données!$E$82)","v":""},""]
[null,null,{"$f":"IF(B52=\"\",\"\",Données!$E$82)","v":""},""]
[null,null,{"$f":"IF(B53=\"\",\"\",Données!$E$82)","v":""},""]
["Récapitulatif des résultats (discipline)",{"$f":"IF(MIN(B44:B53)=0,\"\",MIN(B44:B53))","v":""},{"$f":"IF(MAX(C44:C53)=0,\"\",MAX(C44:C53))","v":""},{"$f":"IF(MAX(D44:D53)=0,\"\",MAX(D44:D53))","v":""},{"$f":"IF(MAX(E44:E53)=0,\"\",MAX(E44:E53))","v":""},{"$f":"IF(MAX(F44:F53)=0,\"\",MAX(F44:F53))","v":""},{"$f":"IF(MAX(G44:G53)=0,\"\",MAX(G44:G53))","v":""},null,{"$f":"SUM(I44:I53)","v":0},{"$f":"SUM(J44:J53)","v":0}]
["Commentaires ou notes explicatives sur les composants majeurs critiques auscultés\n\n(¨  Notes supplémentaires et/ou photos disponibles)"]
["RELEVÉ DES COMPOSANTS MAJEURS D'INSTRUMENTATION ET DE CONTRÔLE"]
["Composants majeurs","Année d'installation","Durée de vie utile théorique","% Durée de vie écoulée","État physique","État fonctionnel","Année d'évaluation","Type d'évaluation*","Valeur de remplacement ($)","Coût de l'intervention ($)","Type d'intervention**","Année d'intervention"]
[null,null,{"$f":"IF(B58=\"\",\"\",Données!$E$83)","v":""},{"$f":"IF(B58=\"\",\"\",(Annee_BI-B58)/C58)","v":""}]
[null,null,{"$f":"IF(B59=\"\",\"\",Données!$E$83)","v":""},""]
[null,null,{"$f":"IF(B60=\"\",\"\",Données!$E$83)","v":""},""]
[null,null,{"$f":"IF(B61=\"\",\"\",Données!$E$83)","v":""},""]
[null,null,{"$f":"IF(B62=\"\",\"\",Données!$E$83)","v":""},""]
[null,null,{"$f":"IF(B63=\"\",\"\",Données!$E$83)","v":""},""]
[null,null,{"$f":"IF(B64=\"\",\"\",Données!$E$83)","v":""},""]
[null,null,{"$f":"IF(B65=\"\",\"\",Données!$E$83)","v":""},""]
[null,null,{"$f":"IF(B66=\"\",\"\",Données!$E$83)","v":""},""]
[null,null,{"$f":"IF(B67=\"\",\"\",Données!$E$83)","v":""},""]
["Récapitulatif des résultats (discipline)",{"$f":"IF(MIN(B58:B67)=0,\"\",MIN(B58:B67))","v":""},{"$f":"IF(MAX(C58:C67)=0,\"\",MAX(C58:C67))","v":""},{"$f":"IF(MAX(D58:D67)=0,\"\",MAX(D58:D67))","v":""},{"$f":"IF(MAX(E58:E67)=0,\"\",MAX(E58:E67))","v":""},{"$f":"IF(MAX(F58:F67)=0,\"\",MAX(F58:F67))","v":""},{"$f":"IF(MAX(G58:G67)=0,\"\",MAX(G58:G67))","v":""},null,{"$f":"SUM(I58:I67)","v":0},{"$f":"SUM(J58:J67)","v":0}]
["Commentaires ou notes explicatives sur les composants majeurs critiques auscultés\n\n(¨  Notes supplémentaires et/ou photos disponibles)"]

{"sheet":"EU_Dégrillage","index":29,"n_rows":69,"n_cols":12,"rows_kept":69,"cut":false,"hidden":true,"merged":[[54,1,54,11],[55,0,55,11],[68,1,68,11],[8,8,8,11],[9,1,9,5],[9,6,9,7],[9,8,9,11],[10,1,10,5],[10,6,10,7],[10,8,10,11],[11,1,11,5],[11,6,11,7],[11,8,11,11],[13,0,13,11],[26,1,26,11],[27,0,27,11],[1,1,1,5],[1,6,1,8],[1,9,1,11],[2,1,2,5],[2,6,2,8],[2,9,2,11],[40,1,40,11],[41,0,41,11],[6,1,6,5],[6,6,6,7],[6,8,6,11],[7,1,7,5],[7,6,7,7],[7,8,7,11],[8,1,8,5],[8,6,8,7],[3,1,3,5],[3,6,3,8],[3,9,3,11],[4,0,4,11],[5,1,5,5],[5,6,5,7],[5,8,5,11]]}
["IDENTIFICATION DU SYSTÈME",null,null,null,null,null,null,null,null,"Consulter l'aide se rapportant aux procédés de l'ouvrage"]
["Type d'infrastructure :",{"$f":"IF(Identification!H61=0,\"\",Identification!H61)","v":""},null,null,null,null,"         Sous-type d'infrastructure :",null,null,{"$f":"IF(Identification!H62=0,\"\",Identification!H62)","v":""}]
["Nom de l'infrastructure :",{"$f":"IF(Identification!H63=0,\"\",Identification!H63)","v":""},null,null,null,null,"         Type de système :",null,null,"Dégrillage"]
["Année d'installation :",{"$f":"Identification!H66","v":0},null,null,null,null,"         Valeur de remplacement :",null,null,{"$f":"IF(I26+I40+I54+I68=0,\"\",I26+I40+I54+I68)","v":""}]
["CRITÈRES D'ÉVALUATION DES COMPOSANTS MAJEURS"]
["Cote","État physique",null,null,null,null,"Cote",null,"État fonctionnel"]
[0,"Le composant majeur n'a pas été ausculté",null,null,null,null,0,null,"Le composant majeur n'a pas été ausculté"]
[1,"Le composant majeur est récent ou remis à neuf",null,null,null,null,1,null,"Le fonctionnement du composant majeur est comme « neuf » et comme attendu. Le composant répond parfaitement aux normes techniques de conception ainsi qu’aux normes de santé et de sécurité en vigueur."]
[2,"Le composant majeur présente un niveau léger de dégradation ou de défectuosité",null,null,null,null,2,null,"Le fonctionnement du composant majeur est adéquat. Le composant répond adéquatement aux normes techniques de conception ainsi qu’aux normes de santé et de sécurité en vigueur."]
[3,"Le composant majeur présente un niveau modéré de dégradation ou de défectuosité",null,null,null,null,3,null,"Le fonctionnement du composant majeur est intermittent mais ne nuit pas au procédé. Le composant répond adéquatement aux normes techniques de conception ainsi qu’aux normes de santé et de sécurité en vigueur."]
[4,"Le composant majeur présente un niveau élevé de dégradation ou de défectuosité",null,null,null,null,4,null,"Le fonctionnement du composant majeur est intermittent et nuit au procédé. Le composant est très près de ne pas répondre aux normes techniques de conception mais répond aux normes de santé et de sécurité en vigueur."]
[5,"Le composant majeur présente un niveau très élevé de dégradation ou de défectuosité",null,null,null,null,5,null,"Le fonctionnement du composant majeur est déficient et empêche le procédé de s’effectuer. Le composant ne répond pas aux normes techniques de conception et/ou ne répond pas aux normes de santé et de sécurité en vigueur."]
["*Type d'évaluation : Visuelle (V), Opérateur (O), Mesure (M)",null,null,null,null,null,"**Type d'intervention : Ajout (AJ), Remplacement (RP), Réfection majeure (RFM), Expertise complémentaire (DE)"]
["RELEVÉ DES COMPOSANTS MAJEURS CIVILS"]
["Composants majeurs","Année d'installation","Durée de vie utile théorique","% Durée de vie écoulée","État physique","État fonctionnel","Année d'évaluation","Type d'évaluation*","Valeur de remplacement ($)","Coût de l'intervention ($)","Type d'intervention**","Année d'intervention"]
[null,null,{"$f":"IF(B16=\"\",\"\",Données!$E$80)","v":""},{"$f":"IF(B16=\"\",\"\",(Annee_BI-B16)/C16)","v":""}]
[null,null,{"$f":"IF(B17=\"\",\"\",Données!$E$80)","v":""},""]
[null,null,{"$f":"IF(B18=\"\",\"\",Données!$E$80)","v":""},""]
[null,null,{"$f":"IF(B19=\"\",\"\",Données!$E$80)","v":""},""]
[null,null,{"$f":"IF(B20=\"\",\"\",Données!$E$80)","v":""},""]
[null,null,{"$f":"IF(B21=\"\",\"\",Données!$E$80)","v":""},""]
[null,null,{"$f":"IF(B22=\"\",\"\",Données!$E$80)","v":""},""]
[null,null,{"$f":"IF(B23=\"\",\"\",Données!$E$80)","v":""},""]
[null,null,{"$f":"IF(B24=\"\",\"\",Données!$E$80)","v":""},""]
[null,null,{"$f":"IF(B25=\"\",\"\",Données!$E$80)","v":""},""]
["Récapitulatif des résultats (discipline)",{"$f":"IF(MIN(B16:B25)=0,\"\",MIN(B16:B25))","v":""},{"$f":"IF(MAX(C16:C25)=0,\"\",MAX(C16:C25))","v":""},{"$f":"IF(MAX(D16:D25)=0,\"\",MAX(D16:D25))","v":""},{"$f":"IF(MAX(E16:E25)=0,\"\",MAX(E16:E25))","v":""},{"$f":"IF(MAX(F16:F25)=0,\"\",MAX(F16:F25))","v":""},{"$f":"IF(MAX(G16:G25)=0,\"\",MAX(G16:G25))","v":""},null,{"$f":"SUM(I16:I25)","v":0},{"$f":"SUM(J16:J25)","v":0}]
["Commentaires ou notes explicatives sur les composants majeurs critiques auscultés\n\n(¨  Notes supplémentaires et/ou photos disponibles)","\n"]
["RELEVÉ DES COMPOSANTS MAJEURS MÉCANIQUES"]
["Composants majeurs","Année d'installation","Durée de vie utile théorique","% Durée de vie écoulée","État physique","État fonctionnel","Année d'évaluation","Type d'évaluation*","Valeur de remplacement ($)","Coût de l'intervention ($)","Type d'intervention**","Année d'intervention"]
[null,null,{"$f":"IF(B30=\"\",\"\",Données!$E$81)","v":""},{"$f":"IF(B30=\"\",\"\",(Annee_BI-B30)/C30)","v":""}]
[null,null,{"$f":"IF(B31=\"\",\"\",Données!$E$81)","v":""},""]
[null,null,{"$f":"IF(B32=\"\",\"\",Données!$E$81)","v":""},""]
[null,null,{"$f":"IF(B33=\"\",\"\",Données!$E$81)","v":""},""]
[null,null,{"$f":"IF(B34=\"\",\"\",Données!$E$81)","v":""},""]
[null,null,{"$f":"IF(B35=\"\",\"\",Données!$E$81)","v":""},""]
[null,null,{"$f":"IF(B36=\"\",\"\",Données!$E$81)","v":""},""]
[null,null,{"$f":"IF(B37=\"\",\"\",Données!$E$81)","v":""},""]
[null,null,{"$f":"IF(B38=\"\",\"\",Données!$E$81)","v":""},""]
[null,null,{"$f":"IF(B39=\"\",\"\",Données!$E$81)","v":""},""]
["Récapitulatif des résultats (discipline)",{"$f":"IF(MIN(B30:B39)=0,\"\",MIN(B30:B39))","v":""},{"$f":"IF(MAX(C30:C39)=0,\"\",MAX(C30:C39))","v":""},{"$f":"IF(MAX(D30:D39)=0,\"\",MAX(D30:D39))","v":""},{"$f":"IF(MAX(E30:E39)=0,\"\",MAX(E30:E39))","v":""},{"$f":"IF(MAX(F30:F39)=0,\"\",MAX(F30:F39))","v":""},{"$f":"IF(MAX(G30:G39)=0,\"\",MAX(G30:G39))","v":""},null,{"$f":"SUM(I30:I39)","v":0},{"$f":"SUM(J30:J39)","v":0}]
["Commentaires ou notes explicatives sur les composants majeurs critiques auscultés\n\n(¨  Notes supplémentaires et/ou photos disponibles)","\n"]
["RELEVÉ DES COMPOSANTS MAJEURS ÉLECTRIQUES"]
["Composants majeurs","Année d'installation","Durée de vie utile théorique","% Durée de vie écoulée","État physique","État fonctionnel","Année d'auscultation","Type d'évaluation*","Valeur de remplacement ($)","Coût de l'intervention ($)","Type d'intervention**","Année d'intervention"]
[null,null,{"$f":"IF(B44=\"\",\"\",Données!$E$82)","v":""},{"$f":"IF(B44=\"\",\"\",(Annee_BI-B44)/C44)","v":""}]
[null,null,{"$f":"IF(B45=\"\",\"\",Données!$E$82)","v":""},""]
[null,null,{"$f":"IF(B46=\"\",\"\",Données!$E$82)","v":""},""]
[null,null,{"$f":"IF(B47=\"\",\"\",Données!$E$82)","v":""},""]
[null,null,{"$f":"IF(B48=\"\",\"\",Données!$E$82)","v":""},""]
[null,null,{"$f":"IF(B49=\"\",\"\",Données!$E$82)","v":""},""]
[null,null,{"$f":"IF(B50=\"\",\"\",Données!$E$82)","v":""},""]
[null,null,{"$f":"IF(B51=\"\",\"\",Données!$E$82)","v":""},""]
[null,null,{"$f":"IF(B52=\"\",\"\",Données!$E$82)","v":""},""]
[null,null,{"$f":"IF(B53=\"\",\"\",Données!$E$82)","v":""},""]
["Récapitulatif des résultats (discipline)",{"$f":"IF(MIN(B44:B53)=0,\"\",MIN(B44:B53))","v":""},{"$f":"IF(MAX(C44:C53)=0,\"\",MAX(C44:C53))","v":""},{"$f":"IF(MAX(D44:D53)=0,\"\",MAX(D44:D53))","v":""},{"$f":"IF(MAX(E44:E53)=0,\"\",MAX(E44:E53))","v":""},{"$f":"IF(MAX(F44:F53)=0,\"\",MAX(F44:F53))","v":""},{"$f":"IF(MAX(G44:G53)=0,\"\",MAX(G44:G53))","v":""},null,{"$f":"SUM(I44:I53)","v":0},{"$f":"SUM(J44:J53)","v":0}]
["Commentaires ou notes explicatives sur les composants majeurs critiques auscultés\n\n(¨  Notes supplémentaires et/ou photos disponibles)"]
["RELEVÉ DES COMPOSANTS MAJEURS D'INSTRUMENTATION ET DE CONTRÔLE"]
["Composants majeurs","Année d'installation","Durée de vie utile théorique","% Durée de vie écoulée","État physique","État fonctionnel","Année d'évaluation","Type d'évaluation*","Valeur de remplacement ($)","Coût de l'intervention ($)","Type d'intervention**","Année d'intervention"]
[null,null,{"$f":"IF(B58=\"\",\"\",Données!$E$83)","v":""},{"$f":"IF(B58=\"\",\"\",(Annee_BI-B58)/C58)","v":""}]
[null,null,{"$f":"IF(B59=\"\",\"\",Données!$E$83)","v":""},""]
[null,null,{"$f":"IF(B60=\"\",\"\",Données!$E$83)","v":""},""]
[null,null,{"$f":"IF(B61=\"\",\"\",Données!$E$83)","v":""},""]
[null,null,{"$f":"IF(B62=\"\",\"\",Données!$E$83)","v":""},""]
[null,null,{"$f":"IF(B63=\"\",\"\",Données!$E$83)","v":""},""]
[null,null,{"$f":"IF(B64=\"\",\"\",Données!$E$83)","v":""},""]
[null,null,{"$f":"IF(B65=\"\",\"\",Données!$E$83)","v":""},""]
[null,null,{"$f":"IF(B66=\"\",\"\",Données!$E$83)","v":""},""]
[null,null,{"$f":"IF(B67=\"\",\"\",Données!$E$83)","v":""},""]
["Récapitulatif des résultats (discipline)",{"$f":"IF(MIN(B58:B67)=0,\"\",MIN(B58:B67))","v":""},{"$f":"IF(MAX(C58:C67)=0,\"\",MAX(C58:C67))","v":""},{"$f":"IF(MAX(D58:D67)=0,\"\",MAX(D58:D67))","v":""},{"$f":"IF(MAX(E58:E67)=0,\"\",MAX(E58:E67))","v":""},{"$f":"IF(MAX(F58:F67)=0,\"\",MAX(F58:F67))","v":""},{"$f":"IF(MAX(G58:G67)=0,\"\",MAX(G58:G67))","v":""},null,{"$f":"SUM(I58:I67)","v":0},{"$f":"SUM(J58:J67)","v":0}]
["Commentaires ou notes explicatives sur les composants majeurs critiques auscultés\n\n(¨  Notes supplémentaires et/ou photos disponibles)"]

{"sheet":"EU_Dessablage","index":30,"n_rows":69,"n_cols":12,"rows_kept":69,"cut":false,"hidden":true,"merged":[[54,1,54,11],[55,0,55,11],[68,1,68,11],[8,8,8,11],[9,1,9,5],[9,6,9,7],[9,8,9,11],[10,1,10,5],[10,6,10,7],[10,8,10,11],[11,1,11,5],[11,6,11,7],[11,8,11,11],[13,0,13,11],[26,1,26,11],[27,0,27,11],[1,1,1,5],[1,6,1,8],[1,9,1,11],[2,1,2,5],[2,6,2,8],[2,9,2,11],[40,1,40,11],[41,0,41,11],[6,1,6,5],[6,6,6,7],[6,8,6,11],[7,1,7,5],[7,6,7,7],[7,8,7,11],[8,1,8,5],[8,6,8,7],[3,1,3,5],[3,6,3,8],[3,9,3,11],[4,0,4,11],[5,1,5,5],[5,6,5,7],[5,8,5,11]]}
["IDENTIFICATION DU SYSTÈME",null,null,null,null,null,null,null,null,"Consulter l'aide se rapportant aux procédés de l'ouvrage"]
["Type d'infrastructure :",{"$f":"IF(Identification!H61=0,\"\",Identification!H61)","v":""},null,null,null,null,"         Sous-type d'infrastructure :",null,null,{"$f":"IF(Identification!H62=0,\"\",Identification!H62)","v":""}]
["Nom de l'infrastructure :",{"$f":"IF(Identification!H63=0,\"\",Identification!H63)","v":""},null,null,null,null,"         Type de système :",null,null,"Dessablage"]
["Année d'installation :",{"$f":"Identification!H66","v":0},null,null,null,null,"         Valeur de remplacement :",null,null,{"$f":"IF(I26+I40+I54+I68=0,\"\",I26+I40+I54+I68)","v":""}]
["CRITÈRES D'ÉVALUATION DES COMPOSANTS MAJEURS"]
["Cote","État physique",null,null,null,null,"Cote",null,"État fonctionnel"]
[0,"Le composant majeur n'a pas été ausculté",null,null,null,null,0,null,"Le composant majeur n'a pas été ausculté"]
[1,"Le composant majeur est récent ou remis à neuf",null,null,null,null,1,null,"Le fonctionnement du composant majeur est comme « neuf » et comme attendu. Le composant répond parfaitement aux normes techniques de conception ainsi qu’aux normes de santé et de sécurité en vigueur."]
[2,"Le composant majeur présente un niveau léger de dégradation ou de défectuosité",null,null,null,null,2,null,"Le fonctionnement du composant majeur est adéquat. Le composant répond adéquatement aux normes techniques de conception ainsi qu’aux normes de santé et de sécurité en vigueur."]
[3,"Le composant majeur présente un niveau modéré de dégradation ou de défectuosité",null,null,null,null,3,null,"Le fonctionnement du composant majeur est intermittent mais ne nuit pas au procédé. Le composant répond adéquatement aux normes techniques de conception ainsi qu’aux normes de santé et de sécurité en vigueur."]
[4,"Le composant majeur présente un niveau élevé de dégradation ou de défectuosité",null,null,null,null,4,null,"Le fonctionnement du composant majeur est intermittent et nuit au procédé. Le composant est très près de ne pas répondre aux normes techniques de conception mais répond aux normes de santé et de sécurité en vigueur."]
[5,"Le composant majeur présente un niveau très élevé de dégradation ou de défectuosité",null,null,null,null,5,null,"Le fonctionnement du composant majeur est déficient et empêche le procédé de s’effectuer. Le composant ne répond pas aux normes techniques de conception et/ou ne répond pas aux normes de santé et de sécurité en vigueur."]
["*Type d'évaluation : Visuelle (V), Opérateur (O), Mesure (M)",null,null,null,null,null,"**Type d'intervention : Ajout (AJ), Remplacement (RP), Réfection majeure (RFM), Expertise complémentaire (DE)"]
["RELEVÉ DES COMPOSANTS MAJEURS CIVILS"]
["Composants majeurs","Année d'installation","Durée de vie utile théorique","% Durée de vie écoulée","État physique","État fonctionnel","Année d'évaluation","Type d'évaluation*","Valeur de remplacement ($)","Coût de l'intervention ($)","Type d'intervention**","Année d'intervention"]
[null,null,{"$f":"IF(B16=\"\",\"\",Données!$E$80)","v":""},{"$f":"IF(B16=\"\",\"\",(Annee_BI-B16)/C16)","v":""}]
[null,null,{"$f":"IF(B17=\"\",\"\",Données!$E$80)","v":""},""]
[null,null,{"$f":"IF(B18=\"\",\"\",Données!$E$80)","v":""},""]
[null,null,{"$f":"IF(B19=\"\",\"\",Données!$E$80)","v":""},""]
[null,null,{"$f":"IF(B20=\"\",\"\",Données!$E$80)","v":""},""]
[null,null,{"$f":"IF(B21=\"\",\"\",Données!$E$80)","v":""},""]
[null,null,{"$f":"IF(B22=\"\",\"\",Données!$E$80)","v":""},""]
[null,null,{"$f":"IF(B23=\"\",\"\",Données!$E$80)","v":""},""]
[null,null,{"$f":"IF(B24=\"\",\"\",Données!$E$80)","v":""},""]
[null,null,{"$f":"IF(B25=\"\",\"\",Données!$E$80)","v":""},""]
["Récapitulatif des résultats (discipline)",{"$f":"IF(MIN(B16:B25)=0,\"\",MIN(B16:B25))","v":""},{"$f":"IF(MAX(C16:C25)=0,\"\",MAX(C16:C25))","v":""},{"$f":"IF(MAX(D16:D25)=0,\"\",MAX(D16:D25))","v":""},{"$f":"IF(MAX(E16:E25)=0,\"\",MAX(E16:E25))","v":""},{"$f":"IF(MAX(F16:F25)=0,\"\",MAX(F16:F25))","v":""},{"$f":"IF(MAX(G16:G25)=0,\"\",MAX(G16:G25))","v":""},null,{"$f":"SUM(I16:I25)","v":0},{"$f":"SUM(J16:J25)","v":0}]
["Commentaires ou notes explicatives sur les composants majeurs critiques auscultés\n\n(¨  Notes supplémentaires et/ou photos disponibles)","\n"]
["RELEVÉ DES COMPOSANTS MAJEURS MÉCANIQUES"]
["Composants majeurs","Année d'installation","Durée de vie utile théorique","% Durée de vie écoulée","État physique","État fonctionnel","Année d'évaluation","Type d'évaluation*","Valeur de remplacement ($)","Coût de l'intervention ($)","Type d'intervention**","Année d'intervention"]
[null,null,{"$f":"IF(B30=\"\",\"\",Données!$E$81)","v":""},{"$f":"IF(B30=\"\",\"\",(Annee_BI-B30)/C30)","v":""}]
[null,null,{"$f":"IF(B31=\"\",\"\",Données!$E$81)","v":""},""]
[null,null,{"$f":"IF(B32=\"\",\"\",Données!$E$81)","v":""},""]
[null,null,{"$f":"IF(B33=\"\",\"\",Données!$E$81)","v":""},""]
[null,null,{"$f":"IF(B34=\"\",\"\",Données!$E$81)","v":""},""]
[null,null,{"$f":"IF(B35=\"\",\"\",Données!$E$81)","v":""},""]
[null,null,{"$f":"IF(B36=\"\",\"\",Données!$E$81)","v":""},""]
[null,null,{"$f":"IF(B37=\"\",\"\",Données!$E$81)","v":""},""]
[null,null,{"$f":"IF(B38=\"\",\"\",Données!$E$81)","v":""},""]
[null,null,{"$f":"IF(B39=\"\",\"\",Données!$E$81)","v":""},""]
["Récapitulatif des résultats (discipline)",{"$f":"IF(MIN(B30:B39)=0,\"\",MIN(B30:B39))","v":""},{"$f":"IF(MAX(C30:C39)=0,\"\",MAX(C30:C39))","v":""},{"$f":"IF(MAX(D30:D39)=0,\"\",MAX(D30:D39))","v":""},{"$f":"IF(MAX(E30:E39)=0,\"\",MAX(E30:E39))","v":""},{"$f":"IF(MAX(F30:F39)=0,\"\",MAX(F30:F39))","v":""},{"$f":"IF(MAX(G30:G39)=0,\"\",MAX(G30:G39))","v":""},null,{"$f":"SUM(I30:I39)","v":0},{"$f":"SUM(J30:J39)","v":0}]
["Commentaires ou notes explicatives sur les composants majeurs critiques auscultés\n\n(¨  Notes supplémentaires et/ou photos disponibles)","\n"]
["RELEVÉ DES COMPOSANTS MAJEURS ÉLECTRIQUES"]
["Composants majeurs","Année d'installation","Durée de vie utile théorique","% Durée de vie écoulée","État physique","État fonctionnel","Année d'auscultation","Type d'évaluation*","Valeur de remplacement ($)","Coût de l'intervention ($)","Type d'intervention**","Année d'intervention"]
[null,null,{"$f":"IF(B44=\"\",\"\",Données!$E$82)","v":""},{"$f":"IF(B44=\"\",\"\",(Annee_BI-B44)/C44)","v":""}]
[null,null,{"$f":"IF(B45=\"\",\"\",Données!$E$82)","v":""},""]
[null,null,{"$f":"IF(B46=\"\",\"\",Données!$E$82)","v":""},""]
[null,null,{"$f":"IF(B47=\"\",\"\",Données!$E$82)","v":""},""]
[null,null,{"$f":"IF(B48=\"\",\"\",Données!$E$82)","v":""},""]
[null,null,{"$f":"IF(B49=\"\",\"\",Données!$E$82)","v":""},""]
[null,null,{"$f":"IF(B50=\"\",\"\",Données!$E$82)","v":""},""]
[null,null,{"$f":"IF(B51=\"\",\"\",Données!$E$82)","v":""},""]
[null,null,{"$f":"IF(B52=\"\",\"\",Données!$E$82)","v":""},""]
[null,null,{"$f":"IF(B53=\"\",\"\",Données!$E$82)","v":""},""]
["Récapitulatif des résultats (discipline)",{"$f":"IF(MIN(B44:B53)=0,\"\",MIN(B44:B53))","v":""},{"$f":"IF(MAX(C44:C53)=0,\"\",MAX(C44:C53))","v":""},{"$f":"IF(MAX(D44:D53)=0,\"\",MAX(D44:D53))","v":""},{"$f":"IF(MAX(E44:E53)=0,\"\",MAX(E44:E53))","v":""},{"$f":"IF(MAX(F44:F53)=0,\"\",MAX(F44:F53))","v":""},{"$f":"IF(MAX(G44:G53)=0,\"\",MAX(G44:G53))","v":""},null,{"$f":"SUM(I44:I53)","v":0},{"$f":"SUM(J44:J53)","v":0}]
["Commentaires ou notes explicatives sur les composants majeurs critiques auscultés\n\n(¨  Notes supplémentaires et/ou photos disponibles)"]
["RELEVÉ DES COMPOSANTS MAJEURS D'INSTRUMENTATION ET DE CONTRÔLE"]
["Composants majeurs","Année d'installation","Durée de vie utile théorique","% Durée de vie écoulée","État physique","État fonctionnel","Année d'évaluation","Type d'évaluation*","Valeur de remplacement ($)","Coût de l'intervention ($)","Type d'intervention**","Année d'intervention"]
[null,null,{"$f":"IF(B58=\"\",\"\",Données!$E$83)","v":""},{"$f":"IF(B58=\"\",\"\",(Annee_BI-B58)/C58)","v":""}]
[null,null,{"$f":"IF(B59=\"\",\"\",Données!$E$83)","v":""},""]
[null,null,{"$f":"IF(B60=\"\",\"\",Données!$E$83)","v":""},""]
[null,null,{"$f":"IF(B61=\"\",\"\",Données!$E$83)","v":""},""]
[null,null,{"$f":"IF(B62=\"\",\"\",Données!$E$83)","v":""},""]
[null,null,{"$f":"IF(B63=\"\",\"\",Données!$E$83)","v":""},""]
[null,null,{"$f":"IF(B64=\"\",\"\",Données!$E$83)","v":""},""]
[null,null,{"$f":"IF(B65=\"\",\"\",Données!$E$83)","v":""},""]
[null,null,{"$f":"IF(B66=\"\",\"\",Données!$E$83)","v":""},""]
[null,null,{"$f":"IF(B67=\"\",\"\",Données!$E$83)","v":""},""]
["Récapitulatif des résultats (discipline)",{"$f":"IF(MIN(B58:B67)=0,\"\",MIN(B58:B67))","v":""},{"$f":"IF(MAX(C58:C67)=0,\"\",MAX(C58:C67))","v":""},{"$f":"IF(MAX(D58:D67)=0,\"\",MAX(D58:D67))","v":""},{"$f":"IF(MAX(E58:E67)=0,\"\",MAX(E58:E67))","v":""},{"$f":"IF(MAX(F58:F67)=0,\"\",MAX(F58:F67))","v":""},{"$f":"IF(MAX(G58:G67)=0,\"\",MAX(G58:G67))","v":""},null,{"$f":"SUM(I58:I67)","v":0},{"$f":"SUM(J58:J67)","v":0}]
["Commentaires ou notes explicatives sur les composants majeurs critiques auscultés\n\n(¨  Notes supplémentaires et/ou photos disponibles)"]

{"sheet":"EU_Régulation_débit","index":31,"n_rows":69,"n_cols":12,"rows_kept":69,"cut":false,"hidden":true,"merged":[[54,1,54,11],[55,0,55,11],[68,1,68,11],[8,8,8,11],[9,1,9,5],[9,6,9,7],[9,8,9,11],[10,1,10,5],[10,6,10,7],[10,8,10,11],[11,1,11,5],[11,6,11,7],[11,8,11,11],[13,0,13,11],[26,1,26,11],[27,0,27,11],[1,1,1,5],[1,6,1,8],[1,9,1,11],[2,1,2,5],[2,6,2,8],[2,9,2,11],[40,1,40,11],[41,0,41,11],[6,1,6,5],[6,6,6,7],[6,8,6,11],[7,1,7,5],[7,6,7,7],[7,8,7,11],[8,1,8,5],[8,6,8,7],[3,1,3,5],[3,6,3,8],[3,9,3,11],[4,0,4,11],[5,1,5,5],[5,6,5,7],[5,8,5,11]]}
["IDENTIFICATION DU SYSTÈME",null,null,null,null,null,null,null,null,"Consulter l'aide se rapportant aux procédés de l'ouvrage"]
["Type d'infrastructure :",{"$f":"IF(Identification!H61=0,\"\",Identification!H61)","v":""},null,null,null,null,"         Sous-type d'infrastructure :",null,null,{"$f":"IF(Identification!H62=0,\"\",Identification!H62)","v":""}]
["Nom de l'infrastructure :",{"$f":"IF(Identification!H63=0,\"\",Identification!H63)","v":""},null,null,null,null,"         Type de système :",null,null,"Régulation de débit"]
["Année d'installation :",{"$f":"Identification!H66","v":0},null,null,null,null,"         Valeur de remplacement :",null,null,{"$f":"IF(I26+I40+I54+I68=0,\"\",I26+I40+I54+I68)","v":""}]
["CRITÈRES D'ÉVALUATION DES COMPOSANTS MAJEURS"]
["Cote","État physique",null,null,null,null,"Cote",null,"État fonctionnel"]
[0,"Le composant majeur n'a pas été ausculté",null,null,null,null,0,null,"Le composant majeur n'a pas été ausculté"]
[1,"Le composant majeur est récent ou remis à neuf",null,null,null,null,1,null,"Le fonctionnement du composant majeur est comme « neuf » et comme attendu. Le composant répond parfaitement aux normes techniques de conception ainsi qu’aux normes de santé et de sécurité en vigueur."]
[2,"Le composant majeur présente un niveau léger de dégradation ou de défectuosité",null,null,null,null,2,null,"Le fonctionnement du composant majeur est adéquat. Le composant répond adéquatement aux normes techniques de conception ainsi qu’aux normes de santé et de sécurité en vigueur."]
[3,"Le composant majeur présente un niveau modéré de dégradation ou de défectuosité",null,null,null,null,3,null,"Le fonctionnement du composant majeur est intermittent mais ne nuit pas au procédé. Le composant répond adéquatement aux normes techniques de conception ainsi qu’aux normes de santé et de sécurité en vigueur."]
[4,"Le composant majeur présente un niveau élevé de dégradation ou de défectuosité",null,null,null,null,4,null,"Le fonctionnement du composant majeur est intermittent et nuit au procédé. Le composant est très près de ne pas répondre aux normes techniques de conception mais répond aux normes de santé et de sécurité en vigueur."]
[5,"Le composant majeur présente un niveau très élevé de dégradation ou de défectuosité",null,null,null,null,5,null,"Le fonctionnement du composant majeur est déficient et empêche le procédé de s’effectuer. Le composant ne répond pas aux normes techniques de conception et/ou ne répond pas aux normes de santé et de sécurité en vigueur."]
["*Type d'évaluation : Visuelle (V), Opérateur (O), Mesure (M)",null,null,null,null,null,"**Type d'intervention : Ajout (AJ), Remplacement (RP), Réfection majeure (RFM), Expertise complémentaire (DE)"]
["RELEVÉ DES COMPOSANTS MAJEURS CIVILS"]
["Composants majeurs","Année d'installation","Durée de vie utile théorique","% Durée de vie écoulée","État physique","État fonctionnel","Année d'évaluation","Type d'évaluation*","Valeur de remplacement ($)","Coût de l'intervention ($)","Type d'intervention**","Année d'intervention"]
[null,null,{"$f":"IF(B16=\"\",\"\",Données!$E$80)","v":""},{"$f":"IF(B16=\"\",\"\",(Annee_BI-B16)/C16)","v":""}]
[null,null,{"$f":"IF(B17=\"\",\"\",Données!$E$80)","v":""},""]
[null,null,{"$f":"IF(B18=\"\",\"\",Données!$E$80)","v":""},""]
[null,null,{"$f":"IF(B19=\"\",\"\",Données!$E$80)","v":""},""]
[null,null,{"$f":"IF(B20=\"\",\"\",Données!$E$80)","v":""},""]
[null,null,{"$f":"IF(B21=\"\",\"\",Données!$E$80)","v":""},""]
[null,null,{"$f":"IF(B22=\"\",\"\",Données!$E$80)","v":""},""]
[null,null,{"$f":"IF(B23=\"\",\"\",Données!$E$80)","v":""},""]
[null,null,{"$f":"IF(B24=\"\",\"\",Données!$E$80)","v":""},""]
[null,null,{"$f":"IF(B25=\"\",\"\",Données!$E$80)","v":""},""]
["Récapitulatif des résultats (discipline)",{"$f":"IF(MIN(B16:B25)=0,\"\",MIN(B16:B25))","v":""},{"$f":"IF(MAX(C16:C25)=0,\"\",MAX(C16:C25))","v":""},{"$f":"IF(MAX(D16:D25)=0,\"\",MAX(D16:D25))","v":""},{"$f":"IF(MAX(E16:E25)=0,\"\",MAX(E16:E25))","v":""},{"$f":"IF(MAX(F16:F25)=0,\"\",MAX(F16:F25))","v":""},{"$f":"IF(MAX(G16:G25)=0,\"\",MAX(G16:G25))","v":""},null,{"$f":"SUM(I16:I25)","v":0},{"$f":"SUM(J16:J25)","v":0}]
["Commentaires ou notes explicatives sur les composants majeurs critiques auscultés\n\n(¨  Notes supplémentaires et/ou photos disponibles)","\n"]
["RELEVÉ DES COMPOSANTS MAJEURS MÉCANIQUES"]
["Composants majeurs","Année d'installation","Durée de vie utile théorique","% Durée de vie écoulée","État physique","État fonctionnel","Année d'évaluation","Type d'évaluation*","Valeur de remplacement ($)","Coût de l'intervention ($)","Type d'intervention**","Année d'intervention"]
[null,null,{"$f":"IF(B30=\"\",\"\",Données!$E$81)","v":""},{"$f":"IF(B30=\"\",\"\",(Annee_BI-B30)/C30)","v":""}]
[null,null,{"$f":"IF(B31=\"\",\"\",Données!$E$81)","v":""},""]
[null,null,{"$f":"IF(B32=\"\",\"\",Données!$E$81)","v":""},""]
[null,null,{"$f":"IF(B33=\"\",\"\",Données!$E$81)","v":""},""]
[null,null,{"$f":"IF(B34=\"\",\"\",Données!$E$81)","v":""},""]
[null,null,{"$f":"IF(B35=\"\",\"\",Données!$E$81)","v":""},""]
[null,null,{"$f":"IF(B36=\"\",\"\",Données!$E$81)","v":""},""]
[null,null,{"$f":"IF(B37=\"\",\"\",Données!$E$81)","v":""},""]
[null,null,{"$f":"IF(B38=\"\",\"\",Données!$E$81)","v":""},""]
[null,null,{"$f":"IF(B39=\"\",\"\",Données!$E$81)","v":""},""]
["Récapitulatif des résultats (discipline)",{"$f":"IF(MIN(B30:B39)=0,\"\",MIN(B30:B39))","v":""},{"$f":"IF(MAX(C30:C39)=0,\"\",MAX(C30:C39))","v":""},{"$f":"IF(MAX(D30:D39)=0,\"\",MAX(D30:D39))","v":""},{"$f":"IF(MAX(E30:E39)=0,\"\",MAX(E30:E39))","v":""},{"$f":"IF(MAX(F30:F39)=0,\"\",MAX(F30:F39))","v":""},{"$f":"IF(MAX(G30:G39)=0,\"\",MAX(G30:G39))","v":""},null,{"$f":"SUM(I30:I39)","v":0},{"$f":"SUM(J30:J39)","v":0}]
["Commentaires ou notes explicatives sur les composants majeurs critiques auscultés\n\n(¨  Notes supplémentaires et/ou photos disponibles)","\n"]
["RELEVÉ DES COMPOSANTS MAJEURS ÉLECTRIQUES"]
["Composants majeurs","Année d'installation","Durée de vie utile théorique","% Durée de vie écoulée","État physique","État fonctionnel","Année d'auscultation","Type d'évaluation*","Valeur de remplacement ($)","Coût de l'intervention ($)","Type d'intervention**","Année d'intervention"]
[null,null,{"$f":"IF(B44=\"\",\"\",Données!$E$82)","v":""},{"$f":"IF(B44=\"\",\"\",(Annee_BI-B44)/C44)","v":""}]
[null,null,{"$f":"IF(B45=\"\",\"\",Données!$E$82)","v":""},""]
[null,null,{"$f":"IF(B46=\"\",\"\",Données!$E$82)","v":""},""]
[null,null,{"$f":"IF(B47=\"\",\"\",Données!$E$82)","v":""},""]
[null,null,{"$f":"IF(B48=\"\",\"\",Données!$E$82)","v":""},""]
[null,null,{"$f":"IF(B49=\"\",\"\",Données!$E$82)","v":""},""]
[null,null,{"$f":"IF(B50=\"\",\"\",Données!$E$82)","v":""},""]
[null,null,{"$f":"IF(B51=\"\",\"\",Données!$E$82)","v":""},""]
[null,null,{"$f":"IF(B52=\"\",\"\",Données!$E$82)","v":""},""]
[null,null,{"$f":"IF(B53=\"\",\"\",Données!$E$82)","v":""},""]
["Récapitulatif des résultats (discipline)",{"$f":"IF(MIN(B44:B53)=0,\"\",MIN(B44:B53))","v":""},{"$f":"IF(MAX(C44:C53)=0,\"\",MAX(C44:C53))","v":""},{"$f":"IF(MAX(D44:D53)=0,\"\",MAX(D44:D53))","v":""},{"$f":"IF(MAX(E44:E53)=0,\"\",MAX(E44:E53))","v":""},{"$f":"IF(MAX(F44:F53)=0,\"\",MAX(F44:F53))","v":""},{"$f":"IF(MAX(G44:G53)=0,\"\",MAX(G44:G53))","v":""},null,{"$f":"SUM(I44:I53)","v":0},{"$f":"SUM(J44:J53)","v":0}]
["Commentaires ou notes explicatives sur les composants majeurs critiques auscultés\n\n(¨  Notes supplémentaires et/ou photos disponibles)"]
["RELEVÉ DES COMPOSANTS MAJEURS D'INSTRUMENTATION ET DE CONTRÔLE"]
["Composants majeurs","Année d'installation","Durée de vie utile théorique","% Durée de vie écoulée","État physique","État fonctionnel","Année d'évaluation","Type d'évaluation*","Valeur de remplacement ($)","Coût de l'intervention ($)","Type d'intervention**","Année d'intervention"]
[null,null,{"$f":"IF(B58=\"\",\"\",Données!$E$83)","v":""},{"$f":"IF(B58=\"\",\"\",(Annee_BI-B58)/C58)","v":""}]
[null,null,{"$f":"IF(B59=\"\",\"\",Données!$E$83)","v":""},""]
[null,null,{"$f":"IF(B60=\"\",\"\",Données!$E$83)","v":""},""]
[null,null,{"$f":"IF(B61=\"\",\"\",Données!$E$83)","v":""},""]
[null,null,{"$f":"IF(B62=\"\",\"\",Données!$E$83)","v":""},""]
[null,null,{"$f":"IF(B63=\"\",\"\",Données!$E$83)","v":""},""]
[null,null,{"$f":"IF(B64=\"\",\"\",Données!$E$83)","v":""},""]
[null,null,{"$f":"IF(B65=\"\",\"\",Données!$E$83)","v":""},""]
[null,null,{"$f":"IF(B66=\"\",\"\",Données!$E$83)","v":""},""]
[null,null,{"$f":"IF(B67=\"\",\"\",Données!$E$83)","v":""},""]
["Récapitulatif des résultats (discipline)",{"$f":"IF(MIN(B58:B67)=0,\"\",MIN(B58:B67))","v":""},{"$f":"IF(MAX(C58:C67)=0,\"\",MAX(C58:C67))","v":""},{"$f":"IF(MAX(D58:D67)=0,\"\",MAX(D58:D67))","v":""},{"$f":"IF(MAX(E58:E67)=0,\"\",MAX(E58:E67))","v":""},{"$f":"IF(MAX(F58:F67)=0,\"\",MAX(F58:F67))","v":""},{"$f":"IF(MAX(G58:G67)=0,\"\",MAX(G58:G67))","v":""},null,{"$f":"SUM(I58:I67)","v":0},{"$f":"SUM(J58:J67)","v":0}]
["Commentaires ou notes explicatives sur les composants majeurs critiques auscultés\n\n(¨  Notes supplémentaires et/ou photos disponibles)"]

{"sheet":"EU_Décantation_primaire","index":32,"n_rows":69,"n_cols":12,"rows_kept":69,"cut":false,"hidden":true,"merged":[[54,1,54,11],[55,0,55,11],[68,1,68,11],[8,8,8,11],[9,1,9,5],[9,6,9,7],[9,8,9,11],[10,1,10,5],[10,6,10,7],[10,8,10,11],[11,1,11,5],[11,6,11,7],[11,8,11,11],[13,0,13,11],[26,1,26,11],[27,0,27,11],[1,1,1,5],[1,6,1,8],[1,9,1,11],[2,1,2,5],[2,6,2,8],[2,9,2,11],[40,1,40,11],[41,0,41,11],[6,1,6,5],[6,6,6,7],[6,8,6,11],[7,1,7,5],[7,6,7,7],[7,8,7,11],[8,1,8,5],[8,6,8,7],[3,1,3,5],[3,6,3,8],[3,9,3,11],[4,0,4,11],[5,1,5,5],[5,6,5,7],[5,8,5,11]]}
["IDENTIFICATION DU SYSTÈME",null,null,null,null,null,null,null,null,"Consulter l'aide se rapportant aux procédés de l'ouvrage"]
["Type d'infrastructure :",{"$f":"IF(Identification!H61=0,\"\",Identification!H61)","v":""},null,null,null,null,"         Sous-type d'infrastructure :",null,null,{"$f":"IF(Identification!H62=0,\"\",Identification!H62)","v":""}]
["Nom de l'infrastructure :",{"$f":"IF(Identification!H63=0,\"\",Identification!H63)","v":""},null,null,null,null,"         Type de système :",null,null,"Décantation primaire"]
["Année d'installation :",{"$f":"Identification!H66","v":0},null,null,null,null,"         Valeur de remplacement :",null,null,{"$f":"IF(I26+I40+I54+I68=0,\"\",I26+I40+I54+I68)","v":""}]
["CRITÈRES D'ÉVALUATION DES COMPOSANTS MAJEURS"]
["Cote","État physique",null,null,null,null,"Cote",null,"État fonctionnel"]
[0,"Le composant majeur n'a pas été ausculté",null,null,null,null,0,null,"Le composant majeur n'a pas été ausculté"]
[1,"Le composant majeur est récent ou remis à neuf",null,null,null,null,1,null,"Le fonctionnement du composant majeur est comme « neuf » et comme attendu. Le composant répond parfaitement aux normes techniques de conception ainsi qu’aux normes de santé et de sécurité en vigueur."]
[2,"Le composant majeur présente un niveau léger de dégradation ou de défectuosité",null,null,null,null,2,null,"Le fonctionnement du composant majeur est adéquat. Le composant répond adéquatement aux normes techniques de conception ainsi qu’aux normes de santé et de sécurité en vigueur."]
[3,"Le composant majeur présente un niveau modéré de dégradation ou de défectuosité",null,null,null,null,3,null,"Le fonctionnement du composant majeur est intermittent mais ne nuit pas au procédé. Le composant répond adéquatement aux normes techniques de conception ainsi qu’aux normes de santé et de sécurité en vigueur."]
[4,"Le composant majeur présente un niveau élevé de dégradation ou de défectuosité",null,null,null,null,4,null,"Le fonctionnement du composant majeur est intermittent et nuit au procédé. Le composant est très près de ne pas répondre aux normes techniques de conception mais répond aux normes de santé et de sécurité en vigueur."]
[5,"Le composant majeur présente un niveau très élevé de dégradation ou de défectuosité",null,null,null,null,5,null,"Le fonctionnement du composant majeur est déficient et empêche le procédé de s’effectuer. Le composant ne répond pas aux normes techniques de conception et/ou ne répond pas aux normes de santé et de sécurité en vigueur."]
["*Type d'évaluation : Visuelle (V), Opérateur (O), Mesure (M)",null,null,null,null,null,"**Type d'intervention : Ajout (AJ), Remplacement (RP), Réfection majeure (RFM), Expertise complémentaire (DE)"]
["RELEVÉ DES COMPOSANTS MAJEURS CIVILS"]
["Composants majeurs","Année d'installation","Durée de vie utile théorique","% Durée de vie écoulée","État physique","État fonctionnel","Année d'évaluation","Type d'évaluation*","Valeur de remplacement ($)","Coût de l'intervention ($)","Type d'intervention**","Année d'intervention"]
[null,null,{"$f":"IF(B16=\"\",\"\",Données!$E$80)","v":""},{"$f":"IF(B16=\"\",\"\",(Annee_BI-B16)/C16)","v":""}]
[null,null,{"$f":"IF(B17=\"\",\"\",Données!$E$80)","v":""},""]
[null,null,{"$f":"IF(B18=\"\",\"\",Données!$E$80)","v":""},""]
[null,null,{"$f":"IF(B19=\"\",\"\",Données!$E$80)","v":""},""]
[null,null,{"$f":"IF(B20=\"\",\"\",Données!$E$80)","v":""},""]
[null,null,{"$f":"IF(B21=\"\",\"\",Données!$E$80)","v":""},""]
[null,null,{"$f":"IF(B22=\"\",\"\",Données!$E$80)","v":""},""]
[null,null,{"$f":"IF(B23=\"\",\"\",Données!$E$80)","v":""},""]
[null,null,{"$f":"IF(B24=\"\",\"\",Données!$E$80)","v":""},""]
[null,null,{"$f":"IF(B25=\"\",\"\",Données!$E$80)","v":""},""]
["Récapitulatif des résultats (discipline)",{"$f":"IF(MIN(B16:B25)=0,\"\",MIN(B16:B25))","v":""},{"$f":"IF(MAX(C16:C25)=0,\"\",MAX(C16:C25))","v":""},{"$f":"IF(MAX(D16:D25)=0,\"\",MAX(D16:D25))","v":""},{"$f":"IF(MAX(E16:E25)=0,\"\",MAX(E16:E25))","v":""},{"$f":"IF(MAX(F16:F25)=0,\"\",MAX(F16:F25))","v":""},{"$f":"IF(MAX(G16:G25)=0,\"\",MAX(G16:G25))","v":""},null,{"$f":"SUM(I16:I25)","v":0},{"$f":"SUM(J16:J25)","v":0}]
["Commentaires ou notes explicatives sur les composants majeurs critiques auscultés\n\n(¨  Notes supplémentaires et/ou photos disponibles)","\n"]
["RELEVÉ DES COMPOSANTS MAJEURS MÉCANIQUES"]
["Composants majeurs","Année d'installation","Durée de vie utile théorique","% Durée de vie écoulée","État physique","État fonctionnel","Année d'évaluation","Type d'évaluation*","Valeur de remplacement ($)","Coût de l'intervention ($)","Type d'intervention**","Année d'intervention"]
[null,null,{"$f":"IF(B30=\"\",\"\",Données!$E$81)","v":""},{"$f":"IF(B30=\"\",\"\",(Annee_BI-B30)/C30)","v":""}]
[null,null,{"$f":"IF(B31=\"\",\"\",Données!$E$81)","v":""},""]
[null,null,{"$f":"IF(B32=\"\",\"\",Données!$E$81)","v":""},""]
[null,null,{"$f":"IF(B33=\"\",\"\",Données!$E$81)","v":""},""]
[null,null,{"$f":"IF(B34=\"\",\"\",Données!$E$81)","v":""},""]
[null,null,{"$f":"IF(B35=\"\",\"\",Données!$E$81)","v":""},""]
[null,null,{"$f":"IF(B36=\"\",\"\",Données!$E$81)","v":""},""]
[null,null,{"$f":"IF(B37=\"\",\"\",Données!$E$81)","v":""},""]
[null,null,{"$f":"IF(B38=\"\",\"\",Données!$E$81)","v":""},""]
[null,null,{"$f":"IF(B39=\"\",\"\",Données!$E$81)","v":""},""]
["Récapitulatif des résultats (discipline)",{"$f":"IF(MIN(B30:B39)=0,\"\",MIN(B30:B39))","v":""},{"$f":"IF(MAX(C30:C39)=0,\"\",MAX(C30:C39))","v":""},{"$f":"IF(MAX(D30:D39)=0,\"\",MAX(D30:D39))","v":""},{"$f":"IF(MAX(E30:E39)=0,\"\",MAX(E30:E39))","v":""},{"$f":"IF(MAX(F30:F39)=0,\"\",MAX(F30:F39))","v":""},{"$f":"IF(MAX(G30:G39)=0,\"\",MAX(G30:G39))","v":""},null,{"$f":"SUM(I30:I39)","v":0},{"$f":"SUM(J30:J39)","v":0}]
["Commentaires ou notes explicatives sur les composants majeurs critiques auscultés\n\n(¨  Notes supplémentaires et/ou photos disponibles)","\n"]
["RELEVÉ DES COMPOSANTS MAJEURS ÉLECTRIQUES"]
["Composants majeurs","Année d'installation","Durée de vie utile théorique","% Durée de vie écoulée","État physique","État fonctionnel","Année d'auscultation","Type d'évaluation*","Valeur de remplacement ($)","Coût de l'intervention ($)","Type d'intervention**","Année d'intervention"]
[null,null,{"$f":"IF(B44=\"\",\"\",Données!$E$82)","v":""},{"$f":"IF(B44=\"\",\"\",(Annee_BI-B44)/C44)","v":""}]
[null,null,{"$f":"IF(B45=\"\",\"\",Données!$E$82)","v":""},""]
[null,null,{"$f":"IF(B46=\"\",\"\",Données!$E$82)","v":""},""]
[null,null,{"$f":"IF(B47=\"\",\"\",Données!$E$82)","v":""},""]
[null,null,{"$f":"IF(B48=\"\",\"\",Données!$E$82)","v":""},""]
[null,null,{"$f":"IF(B49=\"\",\"\",Données!$E$82)","v":""},""]
[null,null,{"$f":"IF(B50=\"\",\"\",Données!$E$82)","v":""},""]
[null,null,{"$f":"IF(B51=\"\",\"\",Données!$E$82)","v":""},""]
[null,null,{"$f":"IF(B52=\"\",\"\",Données!$E$82)","v":""},""]
[null,null,{"$f":"IF(B53=\"\",\"\",Données!$E$82)","v":""},""]
["Récapitulatif des résultats (discipline)",{"$f":"IF(MIN(B44:B53)=0,\"\",MIN(B44:B53))","v":""},{"$f":"IF(MAX(C44:C53)=0,\"\",MAX(C44:C53))","v":""},{"$f":"IF(MAX(D44:D53)=0,\"\",MAX(D44:D53))","v":""},{"$f":"IF(MAX(E44:E53)=0,\"\",MAX(E44:E53))","v":""},{"$f":"IF(MAX(F44:F53)=0,\"\",MAX(F44:F53))","v":""},{"$f":"IF(MAX(G44:G53)=0,\"\",MAX(G44:G53))","v":""},null,{"$f":"SUM(I44:I53)","v":0},{"$f":"SUM(J44:J53)","v":0}]
["Commentaires ou notes explicatives sur les composants majeurs critiques auscultés\n\n(¨  Notes supplémentaires et/ou photos disponibles)"]
["RELEVÉ DES COMPOSANTS MAJEURS D'INSTRUMENTATION ET DE CONTRÔLE"]
["Composants majeurs","Année d'installation","Durée de vie utile théorique","% Durée de vie écoulée","État physique","État fonctionnel","Année d'évaluation","Type d'évaluation*","Valeur de remplacement ($)","Coût de l'intervention ($)","Type d'intervention**","Année d'intervention"]
[null,null,{"$f":"IF(B58=\"\",\"\",Données!$E$83)","v":""},{"$f":"IF(B58=\"\",\"\",(Annee_BI-B58)/C58)","v":""}]
[null,null,{"$f":"IF(B59=\"\",\"\",Données!$E$83)","v":""},""]
[null,null,{"$f":"IF(B60=\"\",\"\",Données!$E$83)","v":""},""]
[null,null,{"$f":"IF(B61=\"\",\"\",Données!$E$83)","v":""},""]
[null,null,{"$f":"IF(B62=\"\",\"\",Données!$E$83)","v":""},""]
[null,null,{"$f":"IF(B63=\"\",\"\",Données!$E$83)","v":""},""]
[null,null,{"$f":"IF(B64=\"\",\"\",Données!$E$83)","v":""},""]
[null,null,{"$f":"IF(B65=\"\",\"\",Données!$E$83)","v":""},""]
[null,null,{"$f":"IF(B66=\"\",\"\",Données!$E$83)","v":""},""]
[null,null,{"$f":"IF(B67=\"\",\"\",Données!$E$83)","v":""},""]
["Récapitulatif des résultats (discipline)",{"$f":"IF(MIN(B58:B67)=0,\"\",MIN(B58:B67))","v":""},{"$f":"IF(MAX(C58:C67)=0,\"\",MAX(C58:C67))","v":""},{"$f":"IF(MAX(D58:D67)=0,\"\",MAX(D58:D67))","v":""},{"$f":"IF(MAX(E58:E67)=0,\"\",MAX(E58:E67))","v":""},{"$f":"IF(MAX(F58:F67)=0,\"\",MAX(F58:F67))","v":""},{"$f":"IF(MAX(G58:G67)=0,\"\",MAX(G58:G67))","v":""},null,{"$f":"SUM(I58:I67)","v":0},{"$f":"SUM(J58:J67)","v":0}]
["Commentaires ou notes explicatives sur les composants majeurs critiques auscultés\n\n(¨  Notes supplémentaires et/ou photos disponibles)"]

{"sheet":"EU_Traitement_secondaire","index":33,"n_rows":69,"n_cols":12,"rows_kept":69,"cut":false,"hidden":true,"merged":[[54,1,54,11],[55,0,55,11],[68,1,68,11],[8,8,8,11],[9,1,9,5],[9,6,9,7],[9,8,9,11],[10,1,10,5],[10,6,10,7],[10,8,10,11],[11,1,11,5],[11,6,11,7],[11,8,11,11],[13,0,13,11],[26,1,26,11],[27,0,27,11],[1,1,1,5],[1,6,1,8],[1,9,1,11],[2,1,2,5],[2,6,2,8],[2,9,2,11],[40,1,40,11],[41,0,41,11],[6,1,6,5],[6,6,6,7],[6,8,6,11],[7,1,7,5],[7,6,7,7],[7,8,7,11],[8,1,8,5],[8,6,8,7],[3,1,3,5],[3,6,3,8],[3,9,3,11],[4,0,4,11],[5,1,5,5],[5,6,5,7],[5,8,5,11]]}
["IDENTIFICATION DU SYSTÈME",null,null,null,null,null,null,null,null,"Consulter l'aide se rapportant aux procédés de l'ouvrage"]
["Type d'infrastructure :",{"$f":"IF(Identification!H61=0,\"\",Identification!H61)","v":""},null,null,null,null,"         Sous-type d'infrastructure :",null,null,{"$f":"IF(Identification!H62=0,\"\",Identification!H62)","v":""}]
["Nom de l'infrastructure :",{"$f":"IF(Identification!H63=0,\"\",Identification!H63)","v":""},null,null,null,null,"         Type de système :",null,null,"Traitement secondaire"]
["Année d'installation :",{"$f":"Identification!H66","v":0},null,null,null,null,"         Valeur de remplacement :",null,null,{"$f":"IF(I26+I40+I54+I68=0,\"\",I26+I40+I54+I68)","v":""}]
["CRITÈRES D'ÉVALUATION DES COMPOSANTS MAJEURS"]
["Cote","État physique",null,null,null,null,"Cote",null,"État fonctionnel"]
[0,"Le composant majeur n'a pas été ausculté",null,null,null,null,0,null,"Le composant majeur n'a pas été ausculté"]
[1,"Le composant majeur est récent ou remis à neuf",null,null,null,null,1,null,"Le fonctionnement du composant majeur est comme « neuf » et comme attendu. Le composant répond parfaitement aux normes techniques de conception ainsi qu’aux normes de santé et de sécurité en vigueur."]
[2,"Le composant majeur présente un niveau léger de dégradation ou de défectuosité",null,null,null,null,2,null,"Le fonctionnement du composant majeur est adéquat. Le composant répond adéquatement aux normes techniques de conception ainsi qu’aux normes de santé et de sécurité en vigueur."]
[3,"Le composant majeur présente un niveau modéré de dégradation ou de défectuosité",null,null,null,null,3,null,"Le fonctionnement du composant majeur est intermittent mais ne nuit pas au procédé. Le composant répond adéquatement aux normes techniques de conception ainsi qu’aux normes de santé et de sécurité en vigueur."]
[4,"Le composant majeur présente un niveau élevé de dégradation ou de défectuosité",null,null,null,null,4,null,"Le fonctionnement du composant majeur est intermittent et nuit au procédé. Le composant est très près de ne pas répondre aux normes techniques de conception mais répond aux normes de santé et de sécurité en vigueur."]
[5,"Le composant majeur présente un niveau très élevé de dégradation ou de défectuosité",null,null,null,null,5,null,"Le fonctionnement du composant majeur est déficient et empêche le procédé de s’effectuer. Le composant ne répond pas aux normes techniques de conception et/ou ne répond pas aux normes de santé et de sécurité en vigueur."]
["*Type d'évaluation : Visuelle (V), Opérateur (O), Mesure (M)",null,null,null,null,null,"**Type d'intervention : Ajout (AJ), Remplacement (RP), Réfection majeure (RFM), Expertise complémentaire (DE)"]
["RELEVÉ DES COMPOSANTS MAJEURS CIVILS"]
["Composants majeurs","Année d'installation","Durée de vie utile théorique","% Durée de vie écoulée","État physique","État fonctionnel","Année d'évaluation","Type d'évaluation*","Valeur de remplacement ($)","Coût de l'intervention ($)","Type d'intervention**","Année d'intervention"]
[null,null,{"$f":"IF(B16=\"\",\"\",Données!$E$80)","v":""},{"$f":"IF(B16=\"\",\"\",(Annee_BI-B16)/C16)","v":""}]
[null,null,{"$f":"IF(B17=\"\",\"\",Données!$E$80)","v":""},""]
[null,null,{"$f":"IF(B18=\"\",\"\",Données!$E$80)","v":""},""]
[null,null,{"$f":"IF(B19=\"\",\"\",Données!$E$80)","v":""},""]
[null,null,{"$f":"IF(B20=\"\",\"\",Données!$E$80)","v":""},""]
[null,null,{"$f":"IF(B21=\"\",\"\",Données!$E$80)","v":""},""]
[null,null,{"$f":"IF(B22=\"\",\"\",Données!$E$80)","v":""},""]
[null,null,{"$f":"IF(B23=\"\",\"\",Données!$E$80)","v":""},""]
[null,null,{"$f":"IF(B24=\"\",\"\",Données!$E$80)","v":""},""]
[null,null,{"$f":"IF(B25=\"\",\"\",Données!$E$80)","v":""},""]
["Récapitulatif des résultats (discipline)",{"$f":"IF(MIN(B16:B25)=0,\"\",MIN(B16:B25))","v":""},{"$f":"IF(MAX(C16:C25)=0,\"\",MAX(C16:C25))","v":""},{"$f":"IF(MAX(D16:D25)=0,\"\",MAX(D16:D25))","v":""},{"$f":"IF(MAX(E16:E25)=0,\"\",MAX(E16:E25))","v":""},{"$f":"IF(MAX(F16:F25)=0,\"\",MAX(F16:F25))","v":""},{"$f":"IF(MAX(G16:G25)=0,\"\",MAX(G16:G25))","v":""},null,{"$f":"SUM(I16:I25)","v":0},{"$f":"SUM(J16:J25)","v":0}]
["Commentaires ou notes explicatives sur les composants majeurs critiques auscultés\n\n(¨  Notes supplémentaires et/ou photos disponibles)","\n"]
["RELEVÉ DES COMPOSANTS MAJEURS MÉCANIQUES"]
["Composants majeurs","Année d'installation","Durée de vie utile théorique","% Durée de vie écoulée","État physique","État fonctionnel","Année d'évaluation","Type d'évaluation*","Valeur de remplacement ($)","Coût de l'intervention ($)","Type d'intervention**","Année d'intervention"]
[null,null,{"$f":"IF(B30=\"\",\"\",Données!$E$81)","v":""},{"$f":"IF(B30=\"\",\"\",(Annee_BI-B30)/C30)","v":""}]
[null,null,{"$f":"IF(B31=\"\",\"\",Données!$E$81)","v":""},""]
[null,null,{"$f":"IF(B32=\"\",\"\",Données!$E$81)","v":""},""]
[null,null,{"$f":"IF(B33=\"\",\"\",Données!$E$81)","v":""},""]
[null,null,{"$f":"IF(B34=\"\",\"\",Données!$E$81)","v":""},""]
[null,null,{"$f":"IF(B35=\"\",\"\",Données!$E$81)","v":""},""]
[null,null,{"$f":"IF(B36=\"\",\"\",Données!$E$81)","v":""},""]
[null,null,{"$f":"IF(B37=\"\",\"\",Données!$E$81)","v":""},""]
[null,null,{"$f":"IF(B38=\"\",\"\",Données!$E$81)","v":""},""]
[null,null,{"$f":"IF(B39=\"\",\"\",Données!$E$81)","v":""},""]
["Récapitulatif des résultats (discipline)",{"$f":"IF(MIN(B30:B39)=0,\"\",MIN(B30:B39))","v":""},{"$f":"IF(MAX(C30:C39)=0,\"\",MAX(C30:C39))","v":""},{"$f":"IF(MAX(D30:D39)=0,\"\",MAX(D30:D39))","v":""},{"$f":"IF(MAX(E30:E39)=0,\"\",MAX(E30:E39))","v":""},{"$f":"IF(MAX(F30:F39)=0,\"\",MAX(F30:F39))","v":""},{"$f":"IF(MAX(G30:G39)=0,\"\",MAX(G30:G39))","v":""},null,{"$f":"SUM(I30:I39)","v":0},{"$f":"SUM(J30:J39)","v":0}]
["Commentaires ou notes explicatives sur les composants majeurs critiques auscultés\n\n(¨  Notes supplémentaires et/ou photos disponibles)","\n"]
["RELEVÉ DES COMPOSANTS MAJEURS ÉLECTRIQUES"]
["Composants majeurs","Année d'installation","Durée de vie utile théorique","% Durée de vie écoulée","État physique","État fonctionnel","Année d'auscultation","Type d'évaluation*","Valeur de remplacement ($)","Coût de l'intervention ($)","Type d'intervention**","Année d'intervention"]
[null,null,{"$f":"IF(B44=\"\",\"\",Données!$E$82)","v":""},{"$f":"IF(B44=\"\",\"\",(Annee_BI-B44)/C44)","v":""}]
[null,null,{"$f":"IF(B45=\"\",\"\",Données!$E$82)","v":""},""]
[null,null,{"$f":"IF(B46=\"\",\"\",Données!$E$82)","v":""},""]
[null,null,{"$f":"IF(B47=\"\",\"\",Données!$E$82)","v":""},""]
[null,null,{"$f":"IF(B48=\"\",\"\",Données!$E$82)","v":""},""]
[null,null,{"$f":"IF(B49=\"\",\"\",Données!$E$82)","v":""},""]
[null,null,{"$f":"IF(B50=\"\",\"\",Données!$E$82)","v":""},""]
[null,null,{"$f":"IF(B51=\"\",\"\",Données!$E$82)","v":""},""]
[null,null,{"$f":"IF(B52=\"\",\"\",Données!$E$82)","v":""},""]
[null,null,{"$f":"IF(B53=\"\",\"\",Données!$E$82)","v":""},""]
["Récapitulatif des résultats (discipline)",{"$f":"IF(MIN(B44:B53)=0,\"\",MIN(B44:B53))","v":""},{"$f":"IF(MAX(C44:C53)=0,\"\",MAX(C44:C53))","v":""},{"$f":"IF(MAX(D44:D53)=0,\"\",MAX(D44:D53))","v":""},{"$f":"IF(MAX(E44:E53)=0,\"\",MAX(E44:E53))","v":""},{"$f":"IF(MAX(F44:F53)=0,\"\",MAX(F44:F53))","v":""},{"$f":"IF(MAX(G44:G53)=0,\"\",MAX(G44:G53))","v":""},null,{"$f":"SUM(I44:I53)","v":0},{"$f":"SUM(J44:J53)","v":0}]
["Commentaires ou notes explicatives sur les composants majeurs critiques auscultés\n\n(¨  Notes supplémentaires et/ou photos disponibles)"]
["RELEVÉ DES COMPOSANTS MAJEURS D'INSTRUMENTATION ET DE CONTRÔLE"]
["Composants majeurs","Année d'installation","Durée de vie utile théorique","% Durée de vie écoulée","État physique","État fonctionnel","Année d'évaluation","Type d'évaluation*","Valeur de remplacement ($)","Coût de l'intervention ($)","Type d'intervention**","Année d'intervention"]
[null,null,{"$f":"IF(B58=\"\",\"\",Données!$E$83)","v":""},{"$f":"IF(B58=\"\",\"\",(Annee_BI-B58)/C58)","v":""}]
[null,null,{"$f":"IF(B59=\"\",\"\",Données!$E$83)","v":""},""]
[null,null,{"$f":"IF(B60=\"\",\"\",Données!$E$83)","v":""},""]
[null,null,{"$f":"IF(B61=\"\",\"\",Données!$E$83)","v":""},""]
[null,null,{"$f":"IF(B62=\"\",\"\",Données!$E$83)","v":""},""]
[null,null,{"$f":"IF(B63=\"\",\"\",Données!$E$83)","v":""},""]
[null,null,{"$f":"IF(B64=\"\",\"\",Données!$E$83)","v":""},""]
[null,null,{"$f":"IF(B65=\"\",\"\",Données!$E$83)","v":""},""]
[null,null,{"$f":"IF(B66=\"\",\"\",Données!$E$83)","v":""},""]
[null,null,{"$f":"IF(B67=\"\",\"\",Données!$E$83)","v":""},""]
["Récapitulatif des résultats (discipline)",{"$f":"IF(MIN(B58:B67)=0,\"\",MIN(B58:B67))","v":""},{"$f":"IF(MAX(C58:C67)=0,\"\",MAX(C58:C67))","v":""},{"$f":"IF(MAX(D58:D67)=0,\"\",MAX(D58:D67))","v":""},{"$f":"IF(MAX(E58:E67)=0,\"\",MAX(E58:E67))","v":""},{"$f":"IF(MAX(F58:F67)=0,\"\",MAX(F58:F67))","v":""},{"$f":"IF(MAX(G58:G67)=0,\"\",MAX(G58:G67))","v":""},null,{"$f":"SUM(I58:I67)","v":0},{"$f":"SUM(J58:J67)","v":0}]
["Commentaires ou notes explicatives sur les composants majeurs critiques auscultés\n\n(¨  Notes supplémentaires et/ou photos disponibles)"]

{"sheet":"EU_Décantation_secondaire","index":34,"n_rows":69,"n_cols":12,"rows_kept":69,"cut":false,"hidden":true,"merged":[[54,1,54,11],[55,0,55,11],[68,1,68,11],[8,8,8,11],[9,1,9,5],[9,6,9,7],[9,8,9,11],[10,1,10,5],[10,6,10,7],[10,8,10,11],[11,1,11,5],[11,6,11,7],[11,8,11,11],[13,0,13,11],[26,1,26,11],[27,0,27,11],[1,1,1,5],[1,6,1,8],[1,9,1,11],[2,1,2,5],[2,6,2,8],[2,9,2,11],[40,1,40,11],[41,0,41,11],[6,1,6,5],[6,6,6,7],[6,8,6,11],[7,1,7,5],[7,6,7,7],[7,8,7,11],[8,1,8,5],[8,6,8,7],[3,1,3,5],[3,6,3,8],[3,9,3,11],[4,0,4,11],[5,1,5,5],[5,6,5,7],[5,8,5,11]]}
["IDENTIFICATION DU SYSTÈME",null,null,null,null,null,null,null,null,"Consulter l'aide se rapportant aux procédés de l'ouvrage"]
["Type d'infrastructure :",{"$f":"IF(Identification!H61=0,\"\",Identification!H61)","v":""},null,null,null,null,"         Sous-type d'infrastructure :",null,null,{"$f":"IF(Identification!H62=0,\"\",Identification!H62)","v":""}]
["Nom de l'infrastructure :",{"$f":"IF(Identification!H63=0,\"\",Identification!H63)","v":""},null,null,null,null,"         Type de système :",null,null,"Décantation secondaire"]
["Année d'installation :",{"$f":"Identification!H66","v":0},null,null,null,null,"         Valeur de remplacement :",null,null,{"$f":"IF(I26+I40+I54+I68=0,\"\",I26+I40+I54+I68)","v":""}]
["CRITÈRES D'ÉVALUATION DES COMPOSANTS MAJEURS"]
["Cote","État physique",null,null,null,null,"Cote",null,"État fonctionnel"]
[0,"Le composant majeur n'a pas été ausculté",null,null,null,null,0,null,"Le composant majeur n'a pas été ausculté"]
[1,"Le composant majeur est récent ou remis à neuf",null,null,null,null,1,null,"Le fonctionnement du composant majeur est comme « neuf » et comme attendu. Le composant répond parfaitement aux normes techniques de conception ainsi qu’aux normes de santé et de sécurité en vigueur."]
[2,"Le composant majeur présente un niveau léger de dégradation ou de défectuosité",null,null,null,null,2,null,"Le fonctionnement du composant majeur est adéquat. Le composant répond adéquatement aux normes techniques de conception ainsi qu’aux normes de santé et de sécurité en vigueur."]
[3,"Le composant majeur présente un niveau modéré de dégradation ou de défectuosité",null,null,null,null,3,null,"Le fonctionnement du composant majeur est intermittent mais ne nuit pas au procédé. Le composant répond adéquatement aux normes techniques de conception ainsi qu’aux normes de santé et de sécurité en vigueur."]
[4,"Le composant majeur présente un niveau élevé de dégradation ou de défectuosité",null,null,null,null,4,null,"Le fonctionnement du composant majeur est intermittent et nuit au procédé. Le composant est très près de ne pas répondre aux normes techniques de conception mais répond aux normes de santé et de sécurité en vigueur."]
[5,"Le composant majeur présente un niveau très élevé de dégradation ou de défectuosité",null,null,null,null,5,null,"Le fonctionnement du composant majeur est déficient et empêche le procédé de s’effectuer. Le composant ne répond pas aux normes techniques de conception et/ou ne répond pas aux normes de santé et de sécurité en vigueur."]
["*Type d'évaluation : Visuelle (V), Opérateur (O), Mesure (M)",null,null,null,null,null,"**Type d'intervention : Ajout (AJ), Remplacement (RP), Réfection majeure (RFM), Expertise complémentaire (DE)"]
["RELEVÉ DES COMPOSANTS MAJEURS CIVILS"]
["Composants majeurs","Année d'installation","Durée de vie utile théorique","% Durée de vie écoulée","État physique","État fonctionnel","Année d'évaluation","Type d'évaluation*","Valeur de remplacement ($)","Coût de l'intervention ($)","Type d'intervention**","Année d'intervention"]
[null,null,{"$f":"IF(B16=\"\",\"\",Données!$E$80)","v":""},{"$f":"IF(B16=\"\",\"\",(Annee_BI-B16)/C16)","v":""}]
[null,null,{"$f":"IF(B17=\"\",\"\",Données!$E$80)","v":""},""]
[null,null,{"$f":"IF(B18=\"\",\"\",Données!$E$80)","v":""},""]
[null,null,{"$f":"IF(B19=\"\",\"\",Données!$E$80)","v":""},""]
[null,null,{"$f":"IF(B20=\"\",\"\",Données!$E$80)","v":""},""]
[null,null,{"$f":"IF(B21=\"\",\"\",Données!$E$80)","v":""},""]
[null,null,{"$f":"IF(B22=\"\",\"\",Données!$E$80)","v":""},""]
[null,null,{"$f":"IF(B23=\"\",\"\",Données!$E$80)","v":""},""]
[null,null,{"$f":"IF(B24=\"\",\"\",Données!$E$80)","v":""},""]
[null,null,{"$f":"IF(B25=\"\",\"\",Données!$E$80)","v":""},""]
["Récapitulatif des résultats (discipline)",{"$f":"IF(MIN(B16:B25)=0,\"\",MIN(B16:B25))","v":""},{"$f":"IF(MAX(C16:C25)=0,\"\",MAX(C16:C25))","v":""},{"$f":"IF(MAX(D16:D25)=0,\"\",MAX(D16:D25))","v":""},{"$f":"IF(MAX(E16:E25)=0,\"\",MAX(E16:E25))","v":""},{"$f":"IF(MAX(F16:F25)=0,\"\",MAX(F16:F25))","v":""},{"$f":"IF(MAX(G16:G25)=0,\"\",MAX(G16:G25))","v":""},null,{"$f":"SUM(I16:I25)","v":0},{"$f":"SUM(J16:J25)","v":0}]
["Commentaires ou notes explicatives sur les composants majeurs critiques auscultés\n\n(¨  Notes supplémentaires et/ou photos disponibles)","\n"]
["RELEVÉ DES COMPOSANTS MAJEURS MÉCANIQUES"]
["Composants majeurs","Année d'installation","Durée de vie utile théorique","% Durée de vie écoulée","État physique","État fonctionnel","Année d'évaluation","Type d'évaluation*","Valeur de remplacement ($)","Coût de l'intervention ($)","Type d'intervention**","Année d'intervention"]
[null,null,{"$f":"IF(B30=\"\",\"\",Données!$E$81)","v":""},{"$f":"IF(B30=\"\",\"\",(Annee_BI-B30)/C30)","v":""}]
[null,null,{"$f":"IF(B31=\"\",\"\",Données!$E$81)","v":""},""]
[null,null,{"$f":"IF(B32=\"\",\"\",Données!$E$81)","v":""},""]
[null,null,{"$f":"IF(B33=\"\",\"\",Données!$E$81)","v":""},""]
[null,null,{"$f":"IF(B34=\"\",\"\",Données!$E$81)","v":""},""]
[null,null,{"$f":"IF(B35=\"\",\"\",Données!$E$81)","v":""},""]
[null,null,{"$f":"IF(B36=\"\",\"\",Données!$E$81)","v":""},""]
[null,null,{"$f":"IF(B37=\"\",\"\",Données!$E$81)","v":""},""]
[null,null,{"$f":"IF(B38=\"\",\"\",Données!$E$81)","v":""},""]
[null,null,{"$f":"IF(B39=\"\",\"\",Données!$E$81)","v":""},""]
["Récapitulatif des résultats (discipline)",{"$f":"IF(MIN(B30:B39)=0,\"\",MIN(B30:B39))","v":""},{"$f":"IF(MAX(C30:C39)=0,\"\",MAX(C30:C39))","v":""},{"$f":"IF(MAX(D30:D39)=0,\"\",MAX(D30:D39))","v":""},{"$f":"IF(MAX(E30:E39)=0,\"\",MAX(E30:E39))","v":""},{"$f":"IF(MAX(F30:F39)=0,\"\",MAX(F30:F39))","v":""},{"$f":"IF(MAX(G30:G39)=0,\"\",MAX(G30:G39))","v":""},null,{"$f":"SUM(I30:I39)","v":0},{"$f":"SUM(J30:J39)","v":0}]
["Commentaires ou notes explicatives sur les composants majeurs critiques auscultés\n\n(¨  Notes supplémentaires et/ou photos disponibles)","\n"]
["RELEVÉ DES COMPOSANTS MAJEURS ÉLECTRIQUES"]
["Composants majeurs","Année d'installation","Durée de vie utile théorique","% Durée de vie écoulée","État physique","État fonctionnel","Année d'auscultation","Type d'évaluation*","Valeur de remplacement ($)","Coût de l'intervention ($)","Type d'intervention**","Année d'intervention"]
[null,null,{"$f":"IF(B44=\"\",\"\",Données!$E$82)","v":""},{"$f":"IF(B44=\"\",\"\",(Annee_BI-B44)/C44)","v":""}]
[null,null,{"$f":"IF(B45=\"\",\"\",Données!$E$82)","v":""},""]
[null,null,{"$f":"IF(B46=\"\",\"\",Données!$E$82)","v":""},""]
[null,null,{"$f":"IF(B47=\"\",\"\",Données!$E$82)","v":""},""]
[null,null,{"$f":"IF(B48=\"\",\"\",Données!$E$82)","v":""},""]
[null,null,{"$f":"IF(B49=\"\",\"\",Données!$E$82)","v":""},""]
[null,null,{"$f":"IF(B50=\"\",\"\",Données!$E$82)","v":""},""]
[null,null,{"$f":"IF(B51=\"\",\"\",Données!$E$82)","v":""},""]
[null,null,{"$f":"IF(B52=\"\",\"\",Données!$E$82)","v":""},""]
[null,null,{"$f":"IF(B53=\"\",\"\",Données!$E$82)","v":""},""]
["Récapitulatif des résultats (discipline)",{"$f":"IF(MIN(B44:B53)=0,\"\",MIN(B44:B53))","v":""},{"$f":"IF(MAX(C44:C53)=0,\"\",MAX(C44:C53))","v":""},{"$f":"IF(MAX(D44:D53)=0,\"\",MAX(D44:D53))","v":""},{"$f":"IF(MAX(E44:E53)=0,\"\",MAX(E44:E53))","v":""},{"$f":"IF(MAX(F44:F53)=0,\"\",MAX(F44:F53))","v":""},{"$f":"IF(MAX(G44:G53)=0,\"\",MAX(G44:G53))","v":""},null,{"$f":"SUM(I44:I53)","v":0},{"$f":"SUM(J44:J53)","v":0}]
["Commentaires ou notes explicatives sur les composants majeurs critiques auscultés\n\n(¨  Notes supplémentaires et/ou photos disponibles)"]
["RELEVÉ DES COMPOSANTS MAJEURS D'INSTRUMENTATION ET DE CONTRÔLE"]
["Composants majeurs","Année d'installation","Durée de vie utile théorique","% Durée de vie écoulée","État physique","État fonctionnel","Année d'évaluation","Type d'évaluation*","Valeur de remplacement ($)","Coût de l'intervention ($)","Type d'intervention**","Année d'intervention"]
[null,null,{"$f":"IF(B58=\"\",\"\",Données!$E$83)","v":""},{"$f":"IF(B58=\"\",\"\",(Annee_BI-B58)/C58)","v":""}]
[null,null,{"$f":"IF(B59=\"\",\"\",Données!$E$83)","v":""},""]
[null,null,{"$f":"IF(B60=\"\",\"\",Données!$E$83)","v":""},""]
[null,null,{"$f":"IF(B61=\"\",\"\",Données!$E$83)","v":""},""]
[null,null,{"$f":"IF(B62=\"\",\"\",Données!$E$83)","v":""},""]
[null,null,{"$f":"IF(B63=\"\",\"\",Données!$E$83)","v":""},""]
[null,null,{"$f":"IF(B64=\"\",\"\",Données!$E$83)","v":""},""]
[null,null,{"$f":"IF(B65=\"\",\"\",Données!$E$83)","v":""},""]
[null,null,{"$f":"IF(B66=\"\",\"\",Données!$E$83)","v":""},""]
[null,null,{"$f":"IF(B67=\"\",\"\",Données!$E$83)","v":""},""]
["Récapitulatif des résultats (discipline)",{"$f":"IF(MIN(B58:B67)=0,\"\",MIN(B58:B67))","v":""},{"$f":"IF(MAX(C58:C67)=0,\"\",MAX(C58:C67))","v":""},{"$f":"IF(MAX(D58:D67)=0,\"\",MAX(D58:D67))","v":""},{"$f":"IF(MAX(E58:E67)=0,\"\",MAX(E58:E67))","v":""},{"$f":"IF(MAX(F58:F67)=0,\"\",MAX(F58:F67))","v":""},{"$f":"IF(MAX(G58:G67)=0,\"\",MAX(G58:G67))","v":""},null,{"$f":"SUM(I58:I67)","v":0},{"$f":"SUM(J58:J67)","v":0}]
["Commentaires ou notes explicatives sur les composants majeurs critiques auscultés\n\n(¨  Notes supplémentaires et/ou photos disponibles)"]

{"sheet":"EU_Filtration","index":35,"n_rows":69,"n_cols":12,"rows_kept":69,"cut":false,"hidden":true,"merged":[[54,1,54,11],[55,0,55,11],[68,1,68,11],[8,8,8,11],[9,1,9,5],[9,6,9,7],[9,8,9,11],[10,1,10,5],[10,6,10,7],[10,8,10,11],[11,1,11,5],[11,6,11,7],[11,8,11,11],[13,0,13,11],[26,1,26,11],[27,0,27,11],[1,1,1,5],[1,6,1,8],[1,9,1,11],[2,1,2,5],[2,6,2,8],[2,9,2,11],[40,1,40,11],[41,0,41,11],[6,1,6,5],[6,6,6,7],[6,8,6,11],[7,1,7,5],[7,6,7,7],[7,8,7,11],[8,1,8,5],[8,6,8,7],[3,1,3,5],[3,6,3,8],[3,9,3,11],[4,0,4,11],[5,1,5,5],[5,6,5,7],[5,8,5,11]]}
["IDENTIFICATION DU SYSTÈME",null,null,null,null,null,null,null,null,"Consulter l'aide se rapportant aux procédés de l'ouvrage"]
["Type d'infrastructure :",{"$f":"IF(Identification!H61=0,\"\",Identification!H61)","v":""},null,null,null,null,"         Sous-type d'infrastructure :",null,null,{"$f":"IF(Identification!H62=0,\"\",Identification!H62)","v":""}]
["Nom de l'infrastructure :",{"$f":"IF(Identification!H63=0,\"\",Identification!H63)","v":""},null,null,null,null,"         Type de système :",null,null,"Filtration"]
["Année d'installation :",{"$f":"Identification!H66","v":0},null,null,null,null,"         Valeur de remplacement :",null,null,{"$f":"IF(I26+I40+I54+I68=0,\"\",I26+I40+I54+I68)","v":""}]
["CRITÈRES D'ÉVALUATION DES COMPOSANTS MAJEURS"]
["Cote","État physique",null,null,null,null,"Cote",null,"État fonctionnel"]
[0,"Le composant majeur n'a pas été ausculté",null,null,null,null,0,null,"Le composant majeur n'a pas été ausculté"]
[1,"Le composant majeur est récent ou remis à neuf",null,null,null,null,1,null,"Le fonctionnement du composant majeur est comme « neuf » et comme attendu. Le composant répond parfaitement aux normes techniques de conception ainsi qu’aux normes de santé et de sécurité en vigueur."]
[2,"Le composant majeur présente un niveau léger de dégradation ou de défectuosité",null,null,null,null,2,null,"Le fonctionnement du composant majeur est adéquat. Le composant répond adéquatement aux normes techniques de conception ainsi qu’aux normes de santé et de sécurité en vigueur."]
[3,"Le composant majeur présente un niveau modéré de dégradation ou de défectuosité",null,null,null,null,3,null,"Le fonctionnement du composant majeur est intermittent mais ne nuit pas au procédé. Le composant répond adéquatement aux normes techniques de conception ainsi qu’aux normes de santé et de sécurité en vigueur."]
[4,"Le composant majeur présente un niveau élevé de dégradation ou de défectuosité",null,null,null,null,4,null,"Le fonctionnement du composant majeur est intermittent et nuit au procédé. Le composant est très près de ne pas répondre aux normes techniques de conception mais répond aux normes de santé et de sécurité en vigueur."]
[5,"Le composant majeur présente un niveau très élevé de dégradation ou de défectuosité",null,null,null,null,5,null,"Le fonctionnement du composant majeur est déficient et empêche le procédé de s’effectuer. Le composant ne répond pas aux normes techniques de conception et/ou ne répond pas aux normes de santé et de sécurité en vigueur."]
["*Type d'évaluation : Visuelle (V), Opérateur (O), Mesure (M)",null,null,null,null,null,"**Type d'intervention : Ajout (AJ), Remplacement (RP), Réfection majeure (RFM), Expertise complémentaire (DE)"]
["RELEVÉ DES COMPOSANTS MAJEURS CIVILS"]
["Composants majeurs","Année d'installation","Durée de vie utile théorique","% Durée de vie écoulée","État physique","État fonctionnel","Année d'évaluation","Type d'évaluation*","Valeur de remplacement ($)","Coût de l'intervention ($)","Type d'intervention**","Année d'intervention"]
[null,null,{"$f":"IF(B16=\"\",\"\",Données!$E$80)","v":""},{"$f":"IF(B16=\"\",\"\",(Annee_BI-B16)/C16)","v":""}]
[null,null,{"$f":"IF(B17=\"\",\"\",Données!$E$80)","v":""},""]
[null,null,{"$f":"IF(B18=\"\",\"\",Données!$E$80)","v":""},""]
[null,null,{"$f":"IF(B19=\"\",\"\",Données!$E$80)","v":""},""]
[null,null,{"$f":"IF(B20=\"\",\"\",Données!$E$80)","v":""},""]
[null,null,{"$f":"IF(B21=\"\",\"\",Données!$E$80)","v":""},""]
[null,null,{"$f":"IF(B22=\"\",\"\",Données!$E$80)","v":""},""]
[null,null,{"$f":"IF(B23=\"\",\"\",Données!$E$80)","v":""},""]
[null,null,{"$f":"IF(B24=\"\",\"\",Données!$E$80)","v":""},""]
[null,null,{"$f":"IF(B25=\"\",\"\",Données!$E$80)","v":""},""]
["Récapitulatif des résultats (discipline)",{"$f":"IF(MIN(B16:B25)=0,\"\",MIN(B16:B25))","v":""},{"$f":"IF(MAX(C16:C25)=0,\"\",MAX(C16:C25))","v":""},{"$f":"IF(MAX(D16:D25)=0,\"\",MAX(D16:D25))","v":""},{"$f":"IF(MAX(E16:E25)=0,\"\",MAX(E16:E25))","v":""},{"$f":"IF(MAX(F16:F25)=0,\"\",MAX(F16:F25))","v":""},{"$f":"IF(MAX(G16:G25)=0,\"\",MAX(G16:G25))","v":""},null,{"$f":"SUM(I16:I25)","v":0},{"$f":"SUM(J16:J25)","v":0}]
["Commentaires ou notes explicatives sur les composants majeurs critiques auscultés\n\n(¨  Notes supplémentaires et/ou photos disponibles)","\n"]
["RELEVÉ DES COMPOSANTS MAJEURS MÉCANIQUES"]
["Composants majeurs","Année d'installation","Durée de vie utile théorique","% Durée de vie écoulée","État physique","État fonctionnel","Année d'évaluation","Type d'évaluation*","Valeur de remplacement ($)","Coût de l'intervention ($)","Type d'intervention**","Année d'intervention"]
[null,null,{"$f":"IF(B30=\"\",\"\",Données!$E$81)","v":""},{"$f":"IF(B30=\"\",\"\",(Annee_BI-B30)/C30)","v":""}]
[null,null,{"$f":"IF(B31=\"\",\"\",Données!$E$81)","v":""},""]
[null,null,{"$f":"IF(B32=\"\",\"\",Données!$E$81)","v":""},""]
[null,null,{"$f":"IF(B33=\"\",\"\",Données!$E$81)","v":""},""]
[null,null,{"$f":"IF(B34=\"\",\"\",Données!$E$81)","v":""},""]
[null,null,{"$f":"IF(B35=\"\",\"\",Données!$E$81)","v":""},""]
[null,null,{"$f":"IF(B36=\"\",\"\",Données!$E$81)","v":""},""]
[null,null,{"$f":"IF(B37=\"\",\"\",Données!$E$81)","v":""},""]
[null,null,{"$f":"IF(B38=\"\",\"\",Données!$E$81)","v":""},""]
[null,null,{"$f":"IF(B39=\"\",\"\",Données!$E$81)","v":""},""]
["Récapitulatif des résultats (discipline)",{"$f":"IF(MIN(B30:B39)=0,\"\",MIN(B30:B39))","v":""},{"$f":"IF(MAX(C30:C39)=0,\"\",MAX(C30:C39))","v":""},{"$f":"IF(MAX(D30:D39)=0,\"\",MAX(D30:D39))","v":""},{"$f":"IF(MAX(E30:E39)=0,\"\",MAX(E30:E39))","v":""},{"$f":"IF(MAX(F30:F39)=0,\"\",MAX(F30:F39))","v":""},{"$f":"IF(MAX(G30:G39)=0,\"\",MAX(G30:G39))","v":""},null,{"$f":"SUM(I30:I39)","v":0},{"$f":"SUM(J30:J39)","v":0}]
["Commentaires ou notes explicatives sur les composants majeurs critiques auscultés\n\n(¨  Notes supplémentaires et/ou photos disponibles)","\n"]
["RELEVÉ DES COMPOSANTS MAJEURS ÉLECTRIQUES"]
["Composants majeurs","Année d'installation","Durée de vie utile théorique","% Durée de vie écoulée","État physique","État fonctionnel","Année d'auscultation","Type d'évaluation*","Valeur de remplacement ($)","Coût de l'intervention ($)","Type d'intervention**","Année d'intervention"]
[null,null,{"$f":"IF(B44=\"\",\"\",Données!$E$82)","v":""},{"$f":"IF(B44=\"\",\"\",(Annee_BI-B44)/C44)","v":""}]
[null,null,{"$f":"IF(B45=\"\",\"\",Données!$E$82)","v":""},""]
[null,null,{"$f":"IF(B46=\"\",\"\",Données!$E$82)","v":""},""]
[null,null,{"$f":"IF(B47=\"\",\"\",Données!$E$82)","v":""},""]
[null,null,{"$f":"IF(B48=\"\",\"\",Données!$E$82)","v":""},""]
[null,null,{"$f":"IF(B49=\"\",\"\",Données!$E$82)","v":""},""]
[null,null,{"$f":"IF(B50=\"\",\"\",Données!$E$82)","v":""},""]
[null,null,{"$f":"IF(B51=\"\",\"\",Données!$E$82)","v":""},""]
[null,null,{"$f":"IF(B52=\"\",\"\",Données!$E$82)","v":""},""]
[null,null,{"$f":"IF(B53=\"\",\"\",Données!$E$82)","v":""},""]
["Récapitulatif des résultats (discipline)",{"$f":"IF(MIN(B44:B53)=0,\"\",MIN(B44:B53))","v":""},{"$f":"IF(MAX(C44:C53)=0,\"\",MAX(C44:C53))","v":""},{"$f":"IF(MAX(D44:D53)=0,\"\",MAX(D44:D53))","v":""},{"$f":"IF(MAX(E44:E53)=0,\"\",MAX(E44:E53))","v":""},{"$f":"IF(MAX(F44:F53)=0,\"\",MAX(F44:F53))","v":""},{"$f":"IF(MAX(G44:G53)=0,\"\",MAX(G44:G53))","v":""},null,{"$f":"SUM(I44:I53)","v":0},{"$f":"SUM(J44:J53)","v":0}]
["Commentaires ou notes explicatives sur les composants majeurs critiques auscultés\n\n(¨  Notes supplémentaires et/ou photos disponibles)"]
["RELEVÉ DES COMPOSANTS MAJEURS D'INSTRUMENTATION ET DE CONTRÔLE"]
["Composants majeurs","Année d'installation","Durée de vie utile théorique","% Durée de vie écoulée","État physique","État fonctionnel","Année d'évaluation","Type d'évaluation*","Valeur de remplacement ($)","Coût de l'intervention ($)","Type d'intervention**","Année d'intervention"]
[null,null,{"$f":"IF(B58=\"\",\"\",Données!$E$83)","v":""},{"$f":"IF(B58=\"\",\"\",(Annee_BI-B58)/C58)","v":""}]
[null,null,{"$f":"IF(B59=\"\",\"\",Données!$E$83)","v":""},""]
[null,null,{"$f":"IF(B60=\"\",\"\",Données!$E$83)","v":""},""]
[null,null,{"$f":"IF(B61=\"\",\"\",Données!$E$83)","v":""},""]
[null,null,{"$f":"IF(B62=\"\",\"\",Données!$E$83)","v":""},""]
[null,null,{"$f":"IF(B63=\"\",\"\",Données!$E$83)","v":""},""]
[null,null,{"$f":"IF(B64=\"\",\"\",Données!$E$83)","v":""},""]
[null,null,{"$f":"IF(B65=\"\",\"\",Données!$E$83)","v":""},""]
[null,null,{"$f":"IF(B66=\"\",\"\",Données!$E$83)","v":""},""]
[null,null,{"$f":"IF(B67=\"\",\"\",Données!$E$83)","v":""},""]
["Récapitulatif des résultats (discipline)",{"$f":"IF(MIN(B58:B67)=0,\"\",MIN(B58:B67))","v":""},{"$f":"IF(MAX(C58:C67)=0,\"\",MAX(C58:C67))","v":""},{"$f":"IF(MAX(D58:D67)=0,\"\",MAX(D58:D67))","v":""},{"$f":"IF(MAX(E58:E67)=0,\"\",MAX(E58:E67))","v":""},{"$f":"IF(MAX(F58:F67)=0,\"\",MAX(F58:F67))","v":""},{"$f":"IF(MAX(G58:G67)=0,\"\",MAX(G58:G67))","v":""},null,{"$f":"SUM(I58:I67)","v":0},{"$f":"SUM(J58:J67)","v":0}]
["Commentaires ou notes explicatives sur les composants majeurs critiques auscultés\n\n(¨  Notes supplémentaires et/ou photos disponibles)"]

{"sheet":"EU_Desinfection","index":36,"n_rows":69,"n_cols":12,"rows_kept":69,"cut":false,"hidden":true,"merged":[[54,1,54,11],[55,0,55,11],[68,1,68,11],[8,8,8,11],[9,1,9,5],[9,6,9,7],[9,8,9,11],[10,1,10,5],[10,6,10,7],[10,8,10,11],[11,1,11,5],[11,6,11,7],[11,8,11,11],[13,0,13,11],[26,1,26,11],[27,0,27,11],[1,1,1,5],[1,6,1,8],[1,9,1,11],[2,1,2,5],[2,6,2,8],[2,9,2,11],[40,1,40,11],[41,0,41,11],[6,1,6,5],[6,6,6,7],[6,8,6,11],[7,1,7,5],[7,6,7,7],[7,8,7,11],[8,1,8,5],[8,6,8,7],[3,1,3,5],[3,6,3,8],[3,9,3,11],[4,0,4,11],[5,1,5,5],[5,6,5,7],[5,8,5,11]]}
["IDENTIFICATION DU SYSTÈME",null,null,null,null,null,null,null,null,"Consulter l'aide se rapportant aux procédés de l'ouvrage"]
["Type d'infrastructure :",{"$f":"IF(Identification!H61=0,\"\",Identification!H61)","v":""},null,null,null,null,"         Sous-type d'infrastructure :",null,null,{"$f":"IF(Identification!H62=0,\"\",Identification!H62)","v":""}]
["Nom de l'infrastructure :",{"$f":"IF(Identification!H63=0,\"\",Identification!H63)","v":""},null,null,null,null,"         Type de système :",null,null,"Désinfection"]
["Année d'installation :",{"$f":"Identification!H66","v":0},null,null,null,null,"         Valeur de remplacement :",null,null,{"$f":"IF(I26+I40+I54+I68=0,\"\",I26+I40+I54+I68)","v":""}]
["CRITÈRES D'ÉVALUATION DES COMPOSANTS MAJEURS"]
["Cote","État physique",null,null,null,null,"Cote",null,"État fonctionnel"]
[0,"Le composant majeur n'a pas été ausculté",null,null,null,null,0,null,"Le composant majeur n'a pas été ausculté"]
[1,"Le composant majeur est récent ou remis à neuf",null,null,null,null,1,null,"Le fonctionnement du composant majeur est comme « neuf » et comme attendu. Le composant répond parfaitement aux normes techniques de conception ainsi qu’aux normes de santé et de sécurité en vigueur."]
[2,"Le composant majeur présente un niveau léger de dégradation ou de défectuosité",null,null,null,null,2,null,"Le fonctionnement du composant majeur est adéquat. Le composant répond adéquatement aux normes techniques de conception ainsi qu’aux normes de santé et de sécurité en vigueur."]
[3,"Le composant majeur présente un niveau modéré de dégradation ou de défectuosité",null,null,null,null,3,null,"Le fonctionnement du composant majeur est intermittent mais ne nuit pas au procédé. Le composant répond adéquatement aux normes techniques de conception ainsi qu’aux normes de santé et de sécurité en vigueur."]
[4,"Le composant majeur présente un niveau élevé de dégradation ou de défectuosité",null,null,null,null,4,null,"Le fonctionnement du composant majeur est intermittent et nuit au procédé. Le composant est très près de ne pas répondre aux normes techniques de conception mais répond aux normes de santé et de sécurité en vigueur."]
[5,"Le composant majeur présente un niveau très élevé de dégradation ou de défectuosité",null,null,null,null,5,null,"Le fonctionnement du composant majeur est déficient et empêche le procédé de s’effectuer. Le composant ne répond pas aux normes techniques de conception et/ou ne répond pas aux normes de santé et de sécurité en vigueur."]
["*Type d'évaluation : Visuelle (V), Opérateur (O), Mesure (M)",null,null,null,null,null,"**Type d'intervention : Ajout (AJ), Remplacement (RP), Réfection majeure (RFM), Expertise complémentaire (DE)"]
["RELEVÉ DES COMPOSANTS MAJEURS CIVILS"]
["Composants majeurs","Année d'installation","Durée de vie utile théorique","% Durée de vie écoulée","État physique","État fonctionnel","Année d'évaluation","Type d'évaluation*","Valeur de remplacement ($)","Coût de l'intervention ($)","Type d'intervention**","Année d'intervention"]
[null,null,{"$f":"IF(B16=\"\",\"\",Données!$E$80)","v":""},{"$f":"IF(B16=\"\",\"\",(Annee_BI-B16)/C16)","v":""}]
[null,null,{"$f":"IF(B17=\"\",\"\",Données!$E$80)","v":""},""]
[null,null,{"$f":"IF(B18=\"\",\"\",Données!$E$80)","v":""},""]
[null,null,{"$f":"IF(B19=\"\",\"\",Données!$E$80)","v":""},""]
[null,null,{"$f":"IF(B20=\"\",\"\",Données!$E$80)","v":""},""]
[null,null,{"$f":"IF(B21=\"\",\"\",Données!$E$80)","v":""},""]
[null,null,{"$f":"IF(B22=\"\",\"\",Données!$E$80)","v":""},""]
[null,null,{"$f":"IF(B23=\"\",\"\",Données!$E$80)","v":""},""]
[null,null,{"$f":"IF(B24=\"\",\"\",Données!$E$80)","v":""},""]
[null,null,{"$f":"IF(B25=\"\",\"\",Données!$E$80)","v":""},""]
["Récapitulatif des résultats (discipline)",{"$f":"IF(MIN(B16:B25)=0,\"\",MIN(B16:B25))","v":""},{"$f":"IF(MAX(C16:C25)=0,\"\",MAX(C16:C25))","v":""},{"$f":"IF(MAX(D16:D25)=0,\"\",MAX(D16:D25))","v":""},{"$f":"IF(MAX(E16:E25)=0,\"\",MAX(E16:E25))","v":""},{"$f":"IF(MAX(F16:F25)=0,\"\",MAX(F16:F25))","v":""},{"$f":"IF(MAX(G16:G25)=0,\"\",MAX(G16:G25))","v":""},null,{"$f":"SUM(I16:I25)","v":0},{"$f":"SUM(J16:J25)","v":0}]
["Commentaires ou notes explicatives sur les composants majeurs critiques auscultés\n\n(¨  Notes supplémentaires et/ou photos disponibles)","\n"]
["RELEVÉ DES COMPOSANTS MAJEURS MÉCANIQUES"]
["Composants majeurs","Année d'installation","Durée de vie utile théorique","% Durée de vie écoulée","État physique","État fonctionnel","Année d'évaluation","Type d'évaluation*","Valeur de remplacement ($)","Coût de l'intervention ($)","Type d'intervention**","Année d'intervention"]
[null,null,{"$f":"IF(B30=\"\",\"\",Données!$E$81)","v":""},{"$f":"IF(B30=\"\",\"\",(Annee_BI-B30)/C30)","v":""}]
[null,null,{"$f":"IF(B31=\"\",\"\",Données!$E$81)","v":""},""]
[null,null,{"$f":"IF(B32=\"\",\"\",Données!$E$81)","v":""},""]
[null,null,{"$f":"IF(B33=\"\",\"\",Données!$E$81)","v":""},""]
[null,null,{"$f":"IF(B34=\"\",\"\",Données!$E$81)","v":""},""]
[null,null,{"$f":"IF(B35=\"\",\"\",Données!$E$81)","v":""},""]
[null,null,{"$f":"IF(B36=\"\",\"\",Données!$E$81)","v":""},""]
[null,null,{"$f":"IF(B37=\"\",\"\",Données!$E$81)","v":""},""]
[null,null,{"$f":"IF(B38=\"\",\"\",Données!$E$81)","v":""},""]
[null,null,{"$f":"IF(B39=\"\",\"\",Données!$E$81)","v":""},""]
["Récapitulatif des résultats (discipline)",{"$f":"IF(MIN(B30:B39)=0,\"\",MIN(B30:B39))","v":""},{"$f":"IF(MAX(C30:C39)=0,\"\",MAX(C30:C39))","v":""},{"$f":"IF(MAX(D30:D39)=0,\"\",MAX(D30:D39))","v":""},{"$f":"IF(MAX(E30:E39)=0,\"\",MAX(E30:E39))","v":""},{"$f":"IF(MAX(F30:F39)=0,\"\",MAX(F30:F39))","v":""},{"$f":"IF(MAX(G30:G39)=0,\"\",MAX(G30:G39))","v":""},null,{"$f":"SUM(I30:I39)","v":0},{"$f":"SUM(J30:J39)","v":0}]
["Commentaires ou notes explicatives sur les composants majeurs critiques auscultés\n\n(¨  Notes supplémentaires et/ou photos disponibles)","\n"]
["RELEVÉ DES COMPOSANTS MAJEURS ÉLECTRIQUES"]
["Composants majeurs","Année d'installation","Durée de vie utile théorique","% Durée de vie écoulée","État physique","État fonctionnel","Année d'auscultation","Type d'évaluation*","Valeur de remplacement ($)","Coût de l'intervention ($)","Type d'intervention**","Année d'intervention"]
[null,null,{"$f":"IF(B44=\"\",\"\",Données!$E$82)","v":""},{"$f":"IF(B44=\"\",\"\",(Annee_BI-B44)/C44)","v":""}]
[null,null,{"$f":"IF(B45=\"\",\"\",Données!$E$82)","v":""},""]
[null,null,{"$f":"IF(B46=\"\",\"\",Données!$E$82)","v":""},""]
[null,null,{"$f":"IF(B47=\"\",\"\",Données!$E$82)","v":""},""]
[null,null,{"$f":"IF(B48=\"\",\"\",Données!$E$82)","v":""},""]
[null,null,{"$f":"IF(B49=\"\",\"\",Données!$E$82)","v":""},""]
[null,null,{"$f":"IF(B50=\"\",\"\",Données!$E$82)","v":""},""]
[null,null,{"$f":"IF(B51=\"\",\"\",Données!$E$82)","v":""},""]
[null,null,{"$f":"IF(B52=\"\",\"\",Données!$E$82)","v":""},""]
[null,null,{"$f":"IF(B53=\"\",\"\",Données!$E$82)","v":""},""]
["Récapitulatif des résultats (discipline)",{"$f":"IF(MIN(B44:B53)=0,\"\",MIN(B44:B53))","v":""},{"$f":"IF(MAX(C44:C53)=0,\"\",MAX(C44:C53))","v":""},{"$f":"IF(MAX(D44:D53)=0,\"\",MAX(D44:D53))","v":""},{"$f":"IF(MAX(E44:E53)=0,\"\",MAX(E44:E53))","v":""},{"$f":"IF(MAX(F44:F53)=0,\"\",MAX(F44:F53))","v":""},{"$f":"IF(MAX(G44:G53)=0,\"\",MAX(G44:G53))","v":""},null,{"$f":"SUM(I44:I53)","v":0},{"$f":"SUM(J44:J53)","v":0}]
["Commentaires ou notes explicatives sur les composants majeurs critiques auscultés\n\n(¨  Notes supplémentaires et/ou photos disponibles)"]
["RELEVÉ DES COMPOSANTS MAJEURS D'INSTRUMENTATION ET DE CONTRÔLE"]
["Composants majeurs","Année d'installation","Durée de vie utile théorique","% Durée de vie écoulée","État physique","État fonctionnel","Année d'évaluation","Type d'évaluation*","Valeur de remplacement ($)","Coût de l'intervention ($)","Type d'intervention**","Année d'intervention"]
[null,null,{"$f":"IF(B58=\"\",\"\",Données!$E$83)","v":""},{"$f":"IF(B58=\"\",\"\",(Annee_BI-B58)/C58)","v":""}]
[null,null,{"$f":"IF(B59=\"\",\"\",Données!$E$83)","v":""},""]
[null,null,{"$f":"IF(B60=\"\",\"\",Données!$E$83)","v":""},""]
[null,null,{"$f":"IF(B61=\"\",\"\",Données!$E$83)","v":""},""]
[null,null,{"$f":"IF(B62=\"\",\"\",Données!$E$83)","v":""},""]
[null,null,{"$f":"IF(B63=\"\",\"\",Données!$E$83)","v":""},""]
[null,null,{"$f":"IF(B64=\"\",\"\",Données!$E$83)","v":""},""]
[null,null,{"$f":"IF(B65=\"\",\"\",Données!$E$83)","v":""},""]
[null,null,{"$f":"IF(B66=\"\",\"\",Données!$E$83)","v":""},""]
[null,null,{"$f":"IF(B67=\"\",\"\",Données!$E$83)","v":""},""]
["Récapitulatif des résultats (discipline)",{"$f":"IF(MIN(B58:B67)=0,\"\",MIN(B58:B67))","v":""},{"$f":"IF(MAX(C58:C67)=0,\"\",MAX(C58:C67))","v":""},{"$f":"IF(MAX(D58:D67)=0,\"\",MAX(D58:D67))","v":""},{"$f":"IF(MAX(E58:E67)=0,\"\",MAX(E58:E67))","v":""},{"$f":"IF(MAX(F58:F67)=0,\"\",MAX(F58:F67))","v":""},{"$f":"IF(MAX(G58:G67)=0,\"\",MAX(G58:G67))","v":""},null,{"$f":"SUM(I58:I67)","v":0},{"$f":"SUM(J58:J67)","v":0}]
["Commentaires ou notes explicatives sur les composants majeurs critiques auscultés\n\n(¨  Notes supplémentaires et/ou photos disponibles)"]

{"sheet":"EU_Effluent","index":37,"n_rows":69,"n_cols":12,"rows_kept":69,"cut":false,"hidden":true,"merged":[[54,1,54,11],[55,0,55,11],[68,1,68,11],[8,8,8,11],[9,1,9,5],[9,6,9,7],[9,8,9,11],[10,1,10,5],[10,6,10,7],[10,8,10,11],[11,1,11,5],[11,6,11,7],[11,8,11,11],[13,0,13,11],[26,1,26,11],[27,0,27,11],[1,1,1,5],[1,6,1,8],[1,9,1,11],[2,1,2,5],[2,6,2,8],[2,9,2,11],[40,1,40,11],[41,0,41,11],[6,1,6,5],[6,6,6,7],[6,8,6,11],[7,1,7,5],[7,6,7,7],[7,8,7,11],[8,1,8,5],[8,6,8,7],[3,1,3,5],[3,6,3,8],[3,9,3,11],[4,0,4,11],[5,1,5,5],[5,6,5,7],[5,8,5,11]]}
["IDENTIFICATION DU SYSTÈME",null,null,null,null,null,null,null,null,"Consulter l'aide se rapportant aux procédés de l'ouvrage"]
["Type d'infrastructure :",{"$f":"IF(Identification!H61=0,\"\",Identification!H61)","v":""},null,null,null,null,"         Sous-type d'infrastructure :",null,null,{"$f":"IF(Identification!H62=0,\"\",Identification!H62)","v":""}]
["Nom de l'infrastructure :",{"$f":"IF(Identification!H63=0,\"\",Identification!H63)","v":""},null,null,null,null,"         Type de système :",null,null,"Effluent"]
["Année d'installation :",{"$f":"Identification!H66","v":0},null,null,null,null,"         Valeur de remplacement :",null,null,{"$f":"IF(I26+I40+I54+I68=0,\"\",I26+I40+I54+I68)","v":""}]
["CRITÈRES D'ÉVALUATION DES COMPOSANTS MAJEURS"]
["Cote","État physique",null,null,null,null,"Cote",null,"État fonctionnel"]
[0,"Le composant majeur n'a pas été ausculté",null,null,null,null,0,null,"Le composant majeur n'a pas été ausculté"]
[1,"Le composant majeur est récent ou remis à neuf",null,null,null,null,1,null,"Le fonctionnement du composant majeur est comme « neuf » et comme attendu. Le composant répond parfaitement aux normes techniques de conception ainsi qu’aux normes de santé et de sécurité en vigueur."]
[2,"Le composant majeur présente un niveau léger de dégradation ou de défectuosité",null,null,null,null,2,null,"Le fonctionnement du composant majeur est adéquat. Le composant répond adéquatement aux normes techniques de conception ainsi qu’aux normes de santé et de sécurité en vigueur."]
[3,"Le composant majeur présente un niveau modéré de dégradation ou de défectuosité",null,null,null,null,3,null,"Le fonctionnement du composant majeur est intermittent mais ne nuit pas au procédé. Le composant répond adéquatement aux normes techniques de conception ainsi qu’aux normes de santé et de sécurité en vigueur."]
[4,"Le composant majeur présente un niveau élevé de dégradation ou de défectuosité",null,null,null,null,4,null,"Le fonctionnement du composant majeur est intermittent et nuit au procédé. Le composant est très près de ne pas répondre aux normes techniques de conception mais répond aux normes de santé et de sécurité en vigueur."]
[5,"Le composant majeur présente un niveau très élevé de dégradation ou de défectuosité",null,null,null,null,5,null,"Le fonctionnement du composant majeur est déficient et empêche le procédé de s’effectuer. Le composant ne répond pas aux normes techniques de conception et/ou ne répond pas aux normes de santé et de sécurité en vigueur."]
["*Type d'évaluation : Visuelle (V), Opérateur (O), Mesure (M)",null,null,null,null,null,"**Type d'intervention : Ajout (AJ), Remplacement (RP), Réfection majeure (RFM), Expertise complémentaire (DE)"]
["RELEVÉ DES COMPOSANTS MAJEURS CIVILS"]
["Composants majeurs","Année d'installation","Durée de vie utile théorique","% Durée de vie écoulée","État physique","État fonctionnel","Année d'évaluation","Type d'évaluation*","Valeur de remplacement ($)","Coût de l'intervention ($)","Type d'intervention**","Année d'intervention"]
[null,null,{"$f":"IF(B16=\"\",\"\",Données!$E$80)","v":""},{"$f":"IF(B16=\"\",\"\",(Annee_BI-B16)/C16)","v":""}]
[null,null,{"$f":"IF(B17=\"\",\"\",Données!$E$80)","v":""},""]
[null,null,{"$f":"IF(B18=\"\",\"\",Données!$E$80)","v":""},""]
[null,null,{"$f":"IF(B19=\"\",\"\",Données!$E$80)","v":""},""]
[null,null,{"$f":"IF(B20=\"\",\"\",Données!$E$80)","v":""},""]
[null,null,{"$f":"IF(B21=\"\",\"\",Données!$E$80)","v":""},""]
[null,null,{"$f":"IF(B22=\"\",\"\",Données!$E$80)","v":""},""]
[null,null,{"$f":"IF(B23=\"\",\"\",Données!$E$80)","v":""},""]
[null,null,{"$f":"IF(B24=\"\",\"\",Données!$E$80)","v":""},""]
[null,null,{"$f":"IF(B25=\"\",\"\",Données!$E$80)","v":""},""]
["Récapitulatif des résultats (discipline)",{"$f":"IF(MIN(B16:B25)=0,\"\",MIN(B16:B25))","v":""},{"$f":"IF(MAX(C16:C25)=0,\"\",MAX(C16:C25))","v":""},{"$f":"IF(MAX(D16:D25)=0,\"\",MAX(D16:D25))","v":""},{"$f":"IF(MAX(E16:E25)=0,\"\",MAX(E16:E25))","v":""},{"$f":"IF(MAX(F16:F25)=0,\"\",MAX(F16:F25))","v":""},{"$f":"IF(MAX(G16:G25)=0,\"\",MAX(G16:G25))","v":""},null,{"$f":"SUM(I16:I25)","v":0},{"$f":"SUM(J16:J25)","v":0}]
["Commentaires ou notes explicatives sur les composants majeurs critiques auscultés\n\n(¨  Notes supplémentaires et/ou photos disponibles)","\n"]
["RELEVÉ DES COMPOSANTS MAJEURS MÉCANIQUES"]
["Composants majeurs","Année d'installation","Durée de vie utile théorique","% Durée de vie écoulée","État physique","État fonctionnel","Année d'évaluation","Type d'évaluation*","Valeur de remplacement ($)","Coût de l'intervention ($)","Type d'intervention**","Année d'intervention"]
[null,null,{"$f":"IF(B30=\"\",\"\",Données!$E$81)","v":""},{"$f":"IF(B30=\"\",\"\",(Annee_BI-B30)/C30)","v":""}]
[null,null,{"$f":"IF(B31=\"\",\"\",Données!$E$81)","v":""},""]
[null,null,{"$f":"IF(B32=\"\",\"\",Données!$E$81)","v":""},""]
[null,null,{"$f":"IF(B33=\"\",\"\",Données!$E$81)","v":""},""]
[null,null,{"$f":"IF(B34=\"\",\"\",Données!$E$81)","v":""},""]
[null,null,{"$f":"IF(B35=\"\",\"\",Données!$E$81)","v":""},""]
[null,null,{"$f":"IF(B36=\"\",\"\",Données!$E$81)","v":""},""]
[null,null,{"$f":"IF(B37=\"\",\"\",Données!$E$81)","v":""},""]
[null,null,{"$f":"IF(B38=\"\",\"\",Données!$E$81)","v":""},""]
[null,null,{"$f":"IF(B39=\"\",\"\",Données!$E$81)","v":""},""]
["Récapitulatif des résultats (discipline)",{"$f":"IF(MIN(B30:B39)=0,\"\",MIN(B30:B39))","v":""},{"$f":"IF(MAX(C30:C39)=0,\"\",MAX(C30:C39))","v":""},{"$f":"IF(MAX(D30:D39)=0,\"\",MAX(D30:D39))","v":""},{"$f":"IF(MAX(E30:E39)=0,\"\",MAX(E30:E39))","v":""},{"$f":"IF(MAX(F30:F39)=0,\"\",MAX(F30:F39))","v":""},{"$f":"IF(MAX(G30:G39)=0,\"\",MAX(G30:G39))","v":""},null,{"$f":"SUM(I30:I39)","v":0},{"$f":"SUM(J30:J39)","v":0}]
["Commentaires ou notes explicatives sur les composants majeurs critiques auscultés\n\n(¨  Notes supplémentaires et/ou photos disponibles)","\n"]
["RELEVÉ DES COMPOSANTS MAJEURS ÉLECTRIQUES"]
["Composants majeurs","Année d'installation","Durée de vie utile théorique","% Durée de vie écoulée","État physique","État fonctionnel","Année d'auscultation","Type d'évaluation*","Valeur de remplacement ($)","Coût de l'intervention ($)","Type d'intervention**","Année d'intervention"]
[null,null,{"$f":"IF(B44=\"\",\"\",Données!$E$82)","v":""},{"$f":"IF(B44=\"\",\"\",(Annee_BI-B44)/C44)","v":""}]
[null,null,{"$f":"IF(B45=\"\",\"\",Données!$E$82)","v":""},""]
[null,null,{"$f":"IF(B46=\"\",\"\",Données!$E$82)","v":""},""]
[null,null,{"$f":"IF(B47=\"\",\"\",Données!$E$82)","v":""},""]
[null,null,{"$f":"IF(B48=\"\",\"\",Données!$E$82)","v":""},""]
[null,null,{"$f":"IF(B49=\"\",\"\",Données!$E$82)","v":""},""]
[null,null,{"$f":"IF(B50=\"\",\"\",Données!$E$82)","v":""},""]
[null,null,{"$f":"IF(B51=\"\",\"\",Données!$E$82)","v":""},""]
[null,null,{"$f":"IF(B52=\"\",\"\",Données!$E$82)","v":""},""]
[null,null,{"$f":"IF(B53=\"\",\"\",Données!$E$82)","v":""},""]
["Récapitulatif des résultats (discipline)",{"$f":"IF(MIN(B44:B53)=0,\"\",MIN(B44:B53))","v":""},{"$f":"IF(MAX(C44:C53)=0,\"\",MAX(C44:C53))","v":""},{"$f":"IF(MAX(D44:D53)=0,\"\",MAX(D44:D53))","v":""},{"$f":"IF(MAX(E44:E53)=0,\"\",MAX(E44:E53))","v":""},{"$f":"IF(MAX(F44:F53)=0,\"\",MAX(F44:F53))","v":""},{"$f":"IF(MAX(G44:G53)=0,\"\",MAX(G44:G53))","v":""},null,{"$f":"SUM(I44:I53)","v":0},{"$f":"SUM(J44:J53)","v":0}]
["Commentaires ou notes explicatives sur les composants majeurs critiques auscultés\n\n(¨  Notes supplémentaires et/ou photos disponibles)"]
["RELEVÉ DES COMPOSANTS MAJEURS D'INSTRUMENTATION ET DE CONTRÔLE"]
["Composants majeurs","Année d'installation","Durée de vie utile théorique","% Durée de vie écoulée","État physique","État fonctionnel","Année d'évaluation","Type d'évaluation*","Valeur de remplacement ($)","Coût de l'intervention ($)","Type d'intervention**","Année d'intervention"]
[null,null,{"$f":"IF(B58=\"\",\"\",Données!$E$83)","v":""},{"$f":"IF(B58=\"\",\"\",(Annee_BI-B58)/C58)","v":""}]
[null,null,{"$f":"IF(B59=\"\",\"\",Données!$E$83)","v":""},""]
[null,null,{"$f":"IF(B60=\"\",\"\",Données!$E$83)","v":""},""]
[null,null,{"$f":"IF(B61=\"\",\"\",Données!$E$83)","v":""},""]
[null,null,{"$f":"IF(B62=\"\",\"\",Données!$E$83)","v":""},""]
[null,null,{"$f":"IF(B63=\"\",\"\",Données!$E$83)","v":""},""]
[null,null,{"$f":"IF(B64=\"\",\"\",Données!$E$83)","v":""},""]
[null,null,{"$f":"IF(B65=\"\",\"\",Données!$E$83)","v":""},""]
[null,null,{"$f":"IF(B66=\"\",\"\",Données!$E$83)","v":""},""]
[null,null,{"$f":"IF(B67=\"\",\"\",Données!$E$83)","v":""},""]
["Récapitulatif des résultats (discipline)",{"$f":"IF(MIN(B58:B67)=0,\"\",MIN(B58:B67))","v":""},{"$f":"IF(MAX(C58:C67)=0,\"\",MAX(C58:C67))","v":""},{"$f":"IF(MAX(D58:D67)=0,\"\",MAX(D58:D67))","v":""},{"$f":"IF(MAX(E58:E67)=0,\"\",MAX(E58:E67))","v":""},{"$f":"IF(MAX(F58:F67)=0,\"\",MAX(F58:F67))","v":""},{"$f":"IF(MAX(G58:G67)=0,\"\",MAX(G58:G67))","v":""},null,{"$f":"SUM(I58:I67)","v":0},{"$f":"SUM(J58:J67)","v":0}]
["Commentaires ou notes explicatives sur les composants majeurs critiques auscultés\n\n(¨  Notes supplémentaires et/ou photos disponibles)"]

{"sheet":"EU_Epaississement","index":38,"n_rows":69,"n_cols":12,"rows_kept":69,"cut":false,"hidden":true,"merged":[[54,1,54,11],[55,0,55,11],[68,1,68,11],[8,8,8,11],[9,1,9,5],[9,6,9,7],[9,8,9,11],[10,1,10,5],[10,6,10,7],[10,8,10,11],[11,1,11,5],[11,6,11,7],[11,8,11,11],[13,0,13,11],[26,1,26,11],[27,0,27,11],[1,1,1,5],[1,6,1,8],[1,9,1,11],[2,1,2,5],[2,6,2,8],[2,9,2,11],[40,1,40,11],[41,0,41,11],[6,1,6,5],[6,6,6,7],[6,8,6,11],[7,1,7,5],[7,6,7,7],[7,8,7,11],[8,1,8,5],[8,6,8,7],[3,1,3,5],[3,6,3,8],[3,9,3,11],[4,0,4,11],[5,1,5,5],[5,6,5,7],[5,8,5,11]]}
["IDENTIFICATION DU SYSTÈME",null,null,null,null,null,null,null,null,"Consulter l'aide se rapportant aux procédés de l'ouvrage"]
["Type d'infrastructure :",{"$f":"IF(Identification!H61=0,\"\",Identification!H61)","v":""},null,null,null,null,"         Sous-type d'infrastructure :",null,null,{"$f":"IF(Identification!H62=0,\"\",Identification!H62)","v":""}]
["Nom de l'infrastructure :",{"$f":"IF(Identification!H63=0,\"\",Identification!H63)","v":""},null,null,null,null,"         Type de système :",null,null,"Épaississement des boues"]
["Année d'installation :",{"$f":"Identification!H66","v":0},null,null,null,null,"         Valeur de remplacement :",null,null,{"$f":"IF(I26+I40+I54+I68=0,\"\",I26+I40+I54+I68)","v":""}]
["CRITÈRES D'ÉVALUATION DES COMPOSANTS MAJEURS"]
["Cote","État physique",null,null,null,null,"Cote",null,"État fonctionnel"]
[0,"Le composant majeur n'a pas été ausculté",null,null,null,null,0,null,"Le composant majeur n'a pas été ausculté"]
[1,"Le composant majeur est récent ou remis à neuf",null,null,null,null,1,null,"Le fonctionnement du composant majeur est comme « neuf » et comme attendu. Le composant répond parfaitement aux normes techniques de conception ainsi qu’aux normes de santé et de sécurité en vigueur."]
[2,"Le composant majeur présente un niveau léger de dégradation ou de défectuosité",null,null,null,null,2,null,"Le fonctionnement du composant majeur est adéquat. Le composant répond adéquatement aux normes techniques de conception ainsi qu’aux normes de santé et de sécurité en vigueur."]
[3,"Le composant majeur présente un niveau modéré de dégradation ou de défectuosité",null,null,null,null,3,null,"Le fonctionnement du composant majeur est intermittent mais ne nuit pas au procédé. Le composant répond adéquatement aux normes techniques de conception ainsi qu’aux normes de santé et de sécurité en vigueur."]
[4,"Le composant majeur présente un niveau élevé de dégradation ou de défectuosité",null,null,null,null,4,null,"Le fonctionnement du composant majeur est intermittent et nuit au procédé. Le composant est très près de ne pas répondre aux normes techniques de conception mais répond aux normes de santé et de sécurité en vigueur."]
[5,"Le composant majeur présente un niveau très élevé de dégradation ou de défectuosité",null,null,null,null,5,null,"Le fonctionnement du composant majeur est déficient et empêche le procédé de s’effectuer. Le composant ne répond pas aux normes techniques de conception et/ou ne répond pas aux normes de santé et de sécurité en vigueur."]
["*Type d'évaluation : Visuelle (V), Opérateur (O), Mesure (M)",null,null,null,null,null,"**Type d'intervention : Ajout (AJ), Remplacement (RP), Réfection majeure (RFM), Expertise complémentaire (DE)"]
["RELEVÉ DES COMPOSANTS MAJEURS CIVILS"]
["Composants majeurs","Année d'installation","Durée de vie utile théorique","% Durée de vie écoulée","État physique","État fonctionnel","Année d'évaluation","Type d'évaluation*","Valeur de remplacement ($)","Coût de l'intervention ($)","Type d'intervention**","Année d'intervention"]
[null,null,{"$f":"IF(B16=\"\",\"\",Données!$E$80)","v":""},{"$f":"IF(B16=\"\",\"\",(Annee_BI-B16)/C16)","v":""}]
[null,null,{"$f":"IF(B17=\"\",\"\",Données!$E$80)","v":""},""]
[null,null,{"$f":"IF(B18=\"\",\"\",Données!$E$80)","v":""},""]
[null,null,{"$f":"IF(B19=\"\",\"\",Données!$E$80)","v":""},""]
[null,null,{"$f":"IF(B20=\"\",\"\",Données!$E$80)","v":""},""]
[null,null,{"$f":"IF(B21=\"\",\"\",Données!$E$80)","v":""},""]
[null,null,{"$f":"IF(B22=\"\",\"\",Données!$E$80)","v":""},""]
[null,null,{"$f":"IF(B23=\"\",\"\",Données!$E$80)","v":""},""]
[null,null,{"$f":"IF(B24=\"\",\"\",Données!$E$80)","v":""},""]
[null,null,{"$f":"IF(B25=\"\",\"\",Données!$E$80)","v":""},""]
["Récapitulatif des résultats (discipline)",{"$f":"IF(MIN(B16:B25)=0,\"\",MIN(B16:B25))","v":""},{"$f":"IF(MAX(C16:C25)=0,\"\",MAX(C16:C25))","v":""},{"$f":"IF(MAX(D16:D25)=0,\"\",MAX(D16:D25))","v":""},{"$f":"IF(MAX(E16:E25)=0,\"\",MAX(E16:E25))","v":""},{"$f":"IF(MAX(F16:F25)=0,\"\",MAX(F16:F25))","v":""},{"$f":"IF(MAX(G16:G25)=0,\"\",MAX(G16:G25))","v":""},null,{"$f":"SUM(I16:I25)","v":0},{"$f":"SUM(J16:J25)","v":0}]
["Commentaires ou notes explicatives sur les composants majeurs critiques auscultés\n\n(¨  Notes supplémentaires et/ou photos disponibles)","\n"]
["RELEVÉ DES COMPOSANTS MAJEURS MÉCANIQUES"]
["Composants majeurs","Année d'installation","Durée de vie utile théorique","% Durée de vie écoulée","État physique","État fonctionnel","Année d'évaluation","Type d'évaluation*","Valeur de remplacement ($)","Coût de l'intervention ($)","Type d'intervention**","Année d'intervention"]
[null,null,{"$f":"IF(B30=\"\",\"\",Données!$E$81)","v":""},{"$f":"IF(B30=\"\",\"\",(Annee_BI-B30)/C30)","v":""}]
[null,null,{"$f":"IF(B31=\"\",\"\",Données!$E$81)","v":""},""]
[null,null,{"$f":"IF(B32=\"\",\"\",Données!$E$81)","v":""},""]
[null,null,{"$f":"IF(B33=\"\",\"\",Données!$E$81)","v":""},""]
[null,null,{"$f":"IF(B34=\"\",\"\",Données!$E$81)","v":""},""]
[null,null,{"$f":"IF(B35=\"\",\"\",Données!$E$81)","v":""},""]
[null,null,{"$f":"IF(B36=\"\",\"\",Données!$E$81)","v":""},""]
[null,null,{"$f":"IF(B37=\"\",\"\",Données!$E$81)","v":""},""]
[null,null,{"$f":"IF(B38=\"\",\"\",Données!$E$81)","v":""},""]
[null,null,{"$f":"IF(B39=\"\",\"\",Données!$E$81)","v":""},""]
["Récapitulatif des résultats (discipline)",{"$f":"IF(MIN(B30:B39)=0,\"\",MIN(B30:B39))","v":""},{"$f":"IF(MAX(C30:C39)=0,\"\",MAX(C30:C39))","v":""},{"$f":"IF(MAX(D30:D39)=0,\"\",MAX(D30:D39))","v":""},{"$f":"IF(MAX(E30:E39)=0,\"\",MAX(E30:E39))","v":""},{"$f":"IF(MAX(F30:F39)=0,\"\",MAX(F30:F39))","v":""},{"$f":"IF(MAX(G30:G39)=0,\"\",MAX(G30:G39))","v":""},null,{"$f":"SUM(I30:I39)","v":0},{"$f":"SUM(J30:J39)","v":0}]
["Commentaires ou notes explicatives sur les composants majeurs critiques auscultés\n\n(¨  Notes supplémentaires et/ou photos disponibles)","\n"]
["RELEVÉ DES COMPOSANTS MAJEURS ÉLECTRIQUES"]
["Composants majeurs","Année d'installation","Durée de vie utile théorique","% Durée de vie écoulée","État physique","État fonctionnel","Année d'auscultation","Type d'évaluation*","Valeur de remplacement ($)","Coût de l'intervention ($)","Type d'intervention**","Année d'intervention"]
[null,null,{"$f":"IF(B44=\"\",\"\",Données!$E$82)","v":""},{"$f":"IF(B44=\"\",\"\",(Annee_BI-B44)/C44)","v":""}]
[null,null,{"$f":"IF(B45=\"\",\"\",Données!$E$82)","v":""},""]
[null,null,{"$f":"IF(B46=\"\",\"\",Données!$E$82)","v":""},""]
[null,null,{"$f":"IF(B47=\"\",\"\",Données!$E$82)","v":""},""]
[null,null,{"$f":"IF(B48=\"\",\"\",Données!$E$82)","v":""},""]
[null,null,{"$f":"IF(B49=\"\",\"\",Données!$E$82)","v":""},""]
[null,null,{"$f":"IF(B50=\"\",\"\",Données!$E$82)","v":""},""]
[null,null,{"$f":"IF(B51=\"\",\"\",Données!$E$82)","v":""},""]
[null,null,{"$f":"IF(B52=\"\",\"\",Données!$E$82)","v":""},""]
[null,null,{"$f":"IF(B53=\"\",\"\",Données!$E$82)","v":""},""]
["Récapitulatif des résultats (discipline)",{"$f":"IF(MIN(B44:B53)=0,\"\",MIN(B44:B53))","v":""},{"$f":"IF(MAX(C44:C53)=0,\"\",MAX(C44:C53))","v":""},{"$f":"IF(MAX(D44:D53)=0,\"\",MAX(D44:D53))","v":""},{"$f":"IF(MAX(E44:E53)=0,\"\",MAX(E44:E53))","v":""},{"$f":"IF(MAX(F44:F53)=0,\"\",MAX(F44:F53))","v":""},{"$f":"IF(MAX(G44:G53)=0,\"\",MAX(G44:G53))","v":""},null,{"$f":"SUM(I44:I53)","v":0},{"$f":"SUM(J44:J53)","v":0}]
["Commentaires ou notes explicatives sur les composants majeurs critiques auscultés\n\n(¨  Notes supplémentaires et/ou photos disponibles)"]
["RELEVÉ DES COMPOSANTS MAJEURS D'INSTRUMENTATION ET DE CONTRÔLE"]
["Composants majeurs","Année d'installation","Durée de vie utile théorique","% Durée de vie écoulée","État physique","État fonctionnel","Année d'évaluation","Type d'évaluation*","Valeur de remplacement ($)","Coût de l'intervention ($)","Type d'intervention**","Année d'intervention"]
[null,null,{"$f":"IF(B58=\"\",\"\",Données!$E$83)","v":""},{"$f":"IF(B58=\"\",\"\",(Annee_BI-B58)/C58)","v":""}]
[null,null,{"$f":"IF(B59=\"\",\"\",Données!$E$83)","v":""},""]
[null,null,{"$f":"IF(B60=\"\",\"\",Données!$E$83)","v":""},""]
[null,null,{"$f":"IF(B61=\"\",\"\",Données!$E$83)","v":""},""]
[null,null,{"$f":"IF(B62=\"\",\"\",Données!$E$83)","v":""},""]
[null,null,{"$f":"IF(B63=\"\",\"\",Données!$E$83)","v":""},""]
[null,null,{"$f":"IF(B64=\"\",\"\",Données!$E$83)","v":""},""]
[null,null,{"$f":"IF(B65=\"\",\"\",Données!$E$83)","v":""},""]
[null,null,{"$f":"IF(B66=\"\",\"\",Données!$E$83)","v":""},""]
[null,null,{"$f":"IF(B67=\"\",\"\",Données!$E$83)","v":""},""]
["Récapitulatif des résultats (discipline)",{"$f":"IF(MIN(B58:B67)=0,\"\",MIN(B58:B67))","v":""},{"$f":"IF(MAX(C58:C67)=0,\"\",MAX(C58:C67))","v":""},{"$f":"IF(MAX(D58:D67)=0,\"\",MAX(D58:D67))","v":""},{"$f":"IF(MAX(E58:E67)=0,\"\",MAX(E58:E67))","v":""},{"$f":"IF(MAX(F58:F67)=0,\"\",MAX(F58:F67))","v":""},{"$f":"IF(MAX(G58:G67)=0,\"\",MAX(G58:G67))","v":""},null,{"$f":"SUM(I58:I67)","v":0},{"$f":"SUM(J58:J67)","v":0}]
["Commentaires ou notes explicatives sur les composants majeurs critiques auscultés\n\n(¨  Notes supplémentaires et/ou photos disponibles)"]

{"sheet":"EU_Stabilisation","index":39,"n_rows":69,"n_cols":12,"rows_kept":69,"cut":false,"hidden":true,"merged":[[54,1,54,11],[55,0,55,11],[68,1,68,11],[8,8,8,11],[9,1,9,5],[9,6,9,7],[9,8,9,11],[10,1,10,5],[10,6,10,7],[10,8,10,11],[11,1,11,5],[11,6,11,7],[11,8,11,11],[13,0,13,11],[26,1,26,11],[27,0,27,11],[1,1,1,5],[1,6,1,8],[1,9,1,11],[2,1,2,5],[2,6,2,8],[2,9,2,11],[40,1,40,11],[41,0,41,11],[6,1,6,5],[6,6,6,7],[6,8,6,11],[7,1,7,5],[7,6,7,7],[7,8,7,11],[8,1,8,5],[8,6,8,7],[3,1,3,5],[3,6,3,8],[3,9,3,11],[4,0,4,11],[5,1,5,5],[5,6,5,7],[5,8,5,11]]}
["IDENTIFICATION DU SYSTÈME",null,null,null,null,null,null,null,null,"Consulter l'aide se rapportant aux procédés de l'ouvrage"]
["Type d'infrastructure :",{"$f":"IF(Identification!H61=0,\"\",Identification!H61)","v":""},null,null,null,null,"         Sous-type d'infrastructure :",null,null,{"$f":"IF(Identification!H62=0,\"\",Identification!H62)","v":""}]
["Nom de l'infrastructure :",{"$f":"IF(Identification!H63=0,\"\",Identification!H63)","v":""},null,null,null,null,"         Type de système :",null,null,"Stabilisation des boues"]
["Année d'installation :",{"$f":"Identification!H66","v":0},null,null,null,null,"         Valeur de remplacement :",null,null,{"$f":"IF(I26+I40+I54+I68=0,\"\",I26+I40+I54+I68)","v":""}]
["CRITÈRES D'ÉVALUATION DES COMPOSANTS MAJEURS"]
["Cote","État physique",null,null,null,null,"Cote",null,"État fonctionnel"]
[0,"Le composant majeur n'a pas été ausculté",null,null,null,null,0,null,"Le composant majeur n'a pas été ausculté"]
[1,"Le composant majeur est récent ou remis à neuf",null,null,null,null,1,null,"Le fonctionnement du composant majeur est comme « neuf » et comme attendu. Le composant répond parfaitement aux normes techniques de conception ainsi qu’aux normes de santé et de sécurité en vigueur."]
[2,"Le composant majeur présente un niveau léger de dégradation ou de défectuosité",null,null,null,null,2,null,"Le fonctionnement du composant majeur est adéquat. Le composant répond adéquatement aux normes techniques de conception ainsi qu’aux normes de santé et de sécurité en vigueur."]
[3,"Le composant majeur présente un niveau modéré de dégradation ou de défectuosité",null,null,null,null,3,null,"Le fonctionnement du composant majeur est intermittent mais ne nuit pas au procédé. Le composant répond adéquatement aux normes techniques de conception ainsi qu’aux normes de santé et de sécurité en vigueur."]
[4,"Le composant majeur présente un niveau élevé de dégradation ou de défectuosité",null,null,null,null,4,null,"Le fonctionnement du composant majeur est intermittent et nuit au procédé. Le composant est très près de ne pas répondre aux normes techniques de conception mais répond aux normes de santé et de sécurité en vigueur."]
[5,"Le composant majeur présente un niveau très élevé de dégradation ou de défectuosité",null,null,null,null,5,null,"Le fonctionnement du composant majeur est déficient et empêche le procédé de s’effectuer. Le composant ne répond pas aux normes techniques de conception et/ou ne répond pas aux normes de santé et de sécurité en vigueur."]
["*Type d'évaluation : Visuelle (V), Opérateur (O), Mesure (M)",null,null,null,null,null,"**Type d'intervention : Ajout (AJ), Remplacement (RP), Réfection majeure (RFM), Expertise complémentaire (DE)"]
["RELEVÉ DES COMPOSANTS MAJEURS CIVILS"]
["Composants majeurs","Année d'installation","Durée de vie utile théorique","% Durée de vie écoulée","État physique","État fonctionnel","Année d'évaluation","Type d'évaluation*","Valeur de remplacement ($)","Coût de l'intervention ($)","Type d'intervention**","Année d'intervention"]
[null,null,{"$f":"IF(B16=\"\",\"\",Données!$E$80)","v":""},{"$f":"IF(B16=\"\",\"\",(Annee_BI-B16)/C16)","v":""}]
[null,null,{"$f":"IF(B17=\"\",\"\",Données!$E$80)","v":""},""]
[null,null,{"$f":"IF(B18=\"\",\"\",Données!$E$80)","v":""},""]
[null,null,{"$f":"IF(B19=\"\",\"\",Données!$E$80)","v":""},""]
[null,null,{"$f":"IF(B20=\"\",\"\",Données!$E$80)","v":""},""]
[null,null,{"$f":"IF(B21=\"\",\"\",Données!$E$80)","v":""},""]
[null,null,{"$f":"IF(B22=\"\",\"\",Données!$E$80)","v":""},""]
[null,null,{"$f":"IF(B23=\"\",\"\",Données!$E$80)","v":""},""]
[null,null,{"$f":"IF(B24=\"\",\"\",Données!$E$80)","v":""},""]
[null,null,{"$f":"IF(B25=\"\",\"\",Données!$E$80)","v":""},""]
["Récapitulatif des résultats (discipline)",{"$f":"IF(MIN(B16:B25)=0,\"\",MIN(B16:B25))","v":""},{"$f":"IF(MAX(C16:C25)=0,\"\",MAX(C16:C25))","v":""},{"$f":"IF(MAX(D16:D25)=0,\"\",MAX(D16:D25))","v":""},{"$f":"IF(MAX(E16:E25)=0,\"\",MAX(E16:E25))","v":""},{"$f":"IF(MAX(F16:F25)=0,\"\",MAX(F16:F25))","v":""},{"$f":"IF(MAX(G16:G25)=0,\"\",MAX(G16:G25))","v":""},null,{"$f":"SUM(I16:I25)","v":0},{"$f":"SUM(J16:J25)","v":0}]
["Commentaires ou notes explicatives sur les composants majeurs critiques auscultés\n\n(¨  Notes supplémentaires et/ou photos disponibles)","\n"]
["RELEVÉ DES COMPOSANTS MAJEURS MÉCANIQUES"]
["Composants majeurs","Année d'installation","Durée de vie utile théorique","% Durée de vie écoulée","État physique","État fonctionnel","Année d'évaluation","Type d'évaluation*","Valeur de remplacement ($)","Coût de l'intervention ($)","Type d'intervention**","Année d'intervention"]
[null,null,{"$f":"IF(B30=\"\",\"\",Données!$E$81)","v":""},{"$f":"IF(B30=\"\",\"\",(Annee_BI-B30)/C30)","v":""}]
[null,null,{"$f":"IF(B31=\"\",\"\",Données!$E$81)","v":""},""]
[null,null,{"$f":"IF(B32=\"\",\"\",Données!$E$81)","v":""},""]
[null,null,{"$f":"IF(B33=\"\",\"\",Données!$E$81)","v":""},""]
[null,null,{"$f":"IF(B34=\"\",\"\",Données!$E$81)","v":""},""]
[null,null,{"$f":"IF(B35=\"\",\"\",Données!$E$81)","v":""},""]
[null,null,{"$f":"IF(B36=\"\",\"\",Données!$E$81)","v":""},""]
[null,null,{"$f":"IF(B37=\"\",\"\",Données!$E$81)","v":""},""]
[null,null,{"$f":"IF(B38=\"\",\"\",Données!$E$81)","v":""},""]
[null,null,{"$f":"IF(B39=\"\",\"\",Données!$E$81)","v":""},""]
["Récapitulatif des résultats (discipline)",{"$f":"IF(MIN(B30:B39)=0,\"\",MIN(B30:B39))","v":""},{"$f":"IF(MAX(C30:C39)=0,\"\",MAX(C30:C39))","v":""},{"$f":"IF(MAX(D30:D39)=0,\"\",MAX(D30:D39))","v":""},{"$f":"IF(MAX(E30:E39)=0,\"\",MAX(E30:E39))","v":""},{"$f":"IF(MAX(F30:F39)=0,\"\",MAX(F30:F39))","v":""},{"$f":"IF(MAX(G30:G39)=0,\"\",MAX(G30:G39))","v":""},null,{"$f":"SUM(I30:I39)","v":0},{"$f":"SUM(J30:J39)","v":0}]
["Commentaires ou notes explicatives sur les composants majeurs critiques auscultés\n\n(¨  Notes supplémentaires et/ou photos disponibles)","\n"]
["RELEVÉ DES COMPOSANTS MAJEURS ÉLECTRIQUES"]
["Composants majeurs","Année d'installation","Durée de vie utile théorique","% Durée de vie écoulée","État physique","État fonctionnel","Année d'auscultation","Type d'évaluation*","Valeur de remplacement ($)","Coût de l'intervention ($)","Type d'intervention**","Année d'intervention"]
[null,null,{"$f":"IF(B44=\"\",\"\",Données!$E$82)","v":""},{"$f":"IF(B44=\"\",\"\",(Annee_BI-B44)/C44)","v":""}]
[null,null,{"$f":"IF(B45=\"\",\"\",Données!$E$82)","v":""},""]
[null,null,{"$f":"IF(B46=\"\",\"\",Données!$E$82)","v":""},""]
[null,null,{"$f":"IF(B47=\"\",\"\",Données!$E$82)","v":""},""]
[null,null,{"$f":"IF(B48=\"\",\"\",Données!$E$82)","v":""},""]
[null,null,{"$f":"IF(B49=\"\",\"\",Données!$E$82)","v":""},""]
[null,null,{"$f":"IF(B50=\"\",\"\",Données!$E$82)","v":""},""]
[null,null,{"$f":"IF(B51=\"\",\"\",Données!$E$82)","v":""},""]
[null,null,{"$f":"IF(B52=\"\",\"\",Données!$E$82)","v":""},""]
[null,null,{"$f":"IF(B53=\"\",\"\",Données!$E$82)","v":""},""]
["Récapitulatif des résultats (discipline)",{"$f":"IF(MIN(B44:B53)=0,\"\",MIN(B44:B53))","v":""},{"$f":"IF(MAX(C44:C53)=0,\"\",MAX(C44:C53))","v":""},{"$f":"IF(MAX(D44:D53)=0,\"\",MAX(D44:D53))","v":""},{"$f":"IF(MAX(E44:E53)=0,\"\",MAX(E44:E53))","v":""},{"$f":"IF(MAX(F44:F53)=0,\"\",MAX(F44:F53))","v":""},{"$f":"IF(MAX(G44:G53)=0,\"\",MAX(G44:G53))","v":""},null,{"$f":"SUM(I44:I53)","v":0},{"$f":"SUM(J44:J53)","v":0}]
["Commentaires ou notes explicatives sur les composants majeurs critiques auscultés\n\n(¨  Notes supplémentaires et/ou photos disponibles)"]
["RELEVÉ DES COMPOSANTS MAJEURS D'INSTRUMENTATION ET DE CONTRÔLE"]
["Composants majeurs","Année d'installation","Durée de vie utile théorique","% Durée de vie écoulée","État physique","État fonctionnel","Année d'évaluation","Type d'évaluation*","Valeur de remplacement ($)","Coût de l'intervention ($)","Type d'intervention**","Année d'intervention"]
[null,null,{"$f":"IF(B58=\"\",\"\",Données!$E$83)","v":""},{"$f":"IF(B58=\"\",\"\",(Annee_BI-B58)/C58)","v":""}]
[null,null,{"$f":"IF(B59=\"\",\"\",Données!$E$83)","v":""},""]
[null,null,{"$f":"IF(B60=\"\",\"\",Données!$E$83)","v":""},""]
[null,null,{"$f":"IF(B61=\"\",\"\",Données!$E$83)","v":""},""]
[null,null,{"$f":"IF(B62=\"\",\"\",Données!$E$83)","v":""},""]
[null,null,{"$f":"IF(B63=\"\",\"\",Données!$E$83)","v":""},""]
[null,null,{"$f":"IF(B64=\"\",\"\",Données!$E$83)","v":""},""]
[null,null,{"$f":"IF(B65=\"\",\"\",Données!$E$83)","v":""},""]
[null,null,{"$f":"IF(B66=\"\",\"\",Données!$E$83)","v":""},""]
[null,null,{"$f":"IF(B67=\"\",\"\",Données!$E$83)","v":""},""]
["Récapitulatif des résultats (discipline)",{"$f":"IF(MIN(B58:B67)=0,\"\",MIN(B58:B67))","v":""},{"$f":"IF(MAX(C58:C67)=0,\"\",MAX(C58:C67))","v":""},{"$f":"IF(MAX(D58:D67)=0,\"\",MAX(D58:D67))","v":""},{"$f":"IF(MAX(E58:E67)=0,\"\",MAX(E58:E67))","v":""},{"$f":"IF(MAX(F58:F67)=0,\"\",MAX(F58:F67))","v":""},{"$f":"IF(MAX(G58:G67)=0,\"\",MAX(G58:G67))","v":""},null,{"$f":"SUM(I58:I67)","v":0},{"$f":"SUM(J58:J67)","v":0}]
["Commentaires ou notes explicatives sur les composants majeurs critiques auscultés\n\n(¨  Notes supplémentaires et/ou photos disponibles)"]

{"sheet":"EU_Déshydratation_Séchage","index":40,"n_rows":69,"n_cols":12,"rows_kept":69,"cut":false,"hidden":true,"merged":[[54,1,54,11],[55,0,55,11],[68,1,68,11],[8,8,8,11],[9,1,9,5],[9,6,9,7],[9,8,9,11],[10,1,10,5],[10,6,10,7],[10,8,10,11],[11,1,11,5],[11,6,11,7],[11,8,11,11],[13,0,13,11],[26,1,26,11],[27,0,27,11],[1,1,1,5],[1,6,1,8],[1,9,1,11],[2,1,2,5],[2,6,2,8],[2,9,2,11],[40,1,40,11],[41,0,41,11],[6,1,6,5],[6,6,6,7],[6,8,6,11],[7,1,7,5],[7,6,7,7],[7,8,7,11],[8,1,8,5],[8,6,8,7],[3,1,3,5],[3,6,3,8],[3,9,3,11],[4,0,4,11],[5,1,5,5],[5,6,5,7],[5,8,5,11]]}
["IDENTIFICATION DU SYSTÈME",null,null,null,null,null,null,null,null,"Consulter l'aide se rapportant aux procédés de l'ouvrage"]
["Type d'infrastructure :",{"$f":"IF(Identification!H61=0,\"\",Identification!H61)","v":""},null,null,null,null,"         Sous-type d'infrastructure :",null,null,{"$f":"IF(Identification!H62=0,\"\",Identification!H62)","v":""}]
["Nom de l'infrastructure :",{"$f":"IF(Identification!H63=0,\"\",Identification!H63)","v":""},null,null,null,null,"         Type de système :",null,null,"Déshydratation/Séchage des boues"]
["Année d'installation :",{"$f":"Identification!H66","v":0},null,null,null,null,"         Valeur de remplacement :",null,null,{"$f":"IF(I26+I40+I54+I68=0,\"\",I26+I40+I54+I68)","v":""}]
["CRITÈRES D'ÉVALUATION DES COMPOSANTS MAJEURS"]
["Cote","État physique",null,null,null,null,"Cote",null,"État fonctionnel"]
[0,"Le composant majeur n'a pas été ausculté",null,null,null,null,0,null,"Le composant majeur n'a pas été ausculté"]
[1,"Le composant majeur est récent ou remis à neuf",null,null,null,null,1,null,"Le fonctionnement du composant majeur est comme « neuf » et comme attendu. Le composant répond parfaitement aux normes techniques de conception ainsi qu’aux normes de santé et de sécurité en vigueur."]
[2,"Le composant majeur présente un niveau léger de dégradation ou de défectuosité",null,null,null,null,2,null,"Le fonctionnement du composant majeur est adéquat. Le composant répond adéquatement aux normes techniques de conception ainsi qu’aux normes de santé et de sécurité en vigueur."]
[3,"Le composant majeur présente un niveau modéré de dégradation ou de défectuosité",null,null,null,null,3,null,"Le fonctionnement du composant majeur est intermittent mais ne nuit pas au procédé. Le composant répond adéquatement aux normes techniques de conception ainsi qu’aux normes de santé et de sécurité en vigueur."]
[4,"Le composant majeur présente un niveau élevé de dégradation ou de défectuosité",null,null,null,null,4,null,"Le fonctionnement du composant majeur est intermittent et nuit au procédé. Le composant est très près de ne pas répondre aux normes techniques de conception mais répond aux normes de santé et de sécurité en vigueur."]
[5,"Le composant majeur présente un niveau très élevé de dégradation ou de défectuosité",null,null,null,null,5,null,"Le fonctionnement du composant majeur est déficient et empêche le procédé de s’effectuer. Le composant ne répond pas aux normes techniques de conception et/ou ne répond pas aux normes de santé et de sécurité en vigueur."]
["*Type d'évaluation : Visuelle (V), Opérateur (O), Mesure (M)",null,null,null,null,null,"**Type d'intervention : Ajout (AJ), Remplacement (RP), Réfection majeure (RFM), Expertise complémentaire (DE)"]
["RELEVÉ DES COMPOSANTS MAJEURS CIVILS"]
["Composants majeurs","Année d'installation","Durée de vie utile théorique","% Durée de vie écoulée","État physique","État fonctionnel","Année d'évaluation","Type d'évaluation*","Valeur de remplacement ($)","Coût de l'intervention ($)","Type d'intervention**","Année d'intervention"]
[null,null,{"$f":"IF(B16=\"\",\"\",Données!$E$80)","v":""},{"$f":"IF(B16=\"\",\"\",(Annee_BI-B16)/C16)","v":""}]
[null,null,{"$f":"IF(B17=\"\",\"\",Données!$E$80)","v":""},""]
[null,null,{"$f":"IF(B18=\"\",\"\",Données!$E$80)","v":""},""]
[null,null,{"$f":"IF(B19=\"\",\"\",Données!$E$80)","v":""},""]
[null,null,{"$f":"IF(B20=\"\",\"\",Données!$E$80)","v":""},""]
[null,null,{"$f":"IF(B21=\"\",\"\",Données!$E$80)","v":""},""]
[null,null,{"$f":"IF(B22=\"\",\"\",Données!$E$80)","v":""},""]
[null,null,{"$f":"IF(B23=\"\",\"\",Données!$E$80)","v":""},""]
[null,null,{"$f":"IF(B24=\"\",\"\",Données!$E$80)","v":""},""]
[null,null,{"$f":"IF(B25=\"\",\"\",Données!$E$80)","v":""},""]
["Récapitulatif des résultats (discipline)",{"$f":"IF(MIN(B16:B25)=0,\"\",MIN(B16:B25))","v":""},{"$f":"IF(MAX(C16:C25)=0,\"\",MAX(C16:C25))","v":""},{"$f":"IF(MAX(D16:D25)=0,\"\",MAX(D16:D25))","v":""},{"$f":"IF(MAX(E16:E25)=0,\"\",MAX(E16:E25))","v":""},{"$f":"IF(MAX(F16:F25)=0,\"\",MAX(F16:F25))","v":""},{"$f":"IF(MAX(G16:G25)=0,\"\",MAX(G16:G25))","v":""},null,{"$f":"SUM(I16:I25)","v":0},{"$f":"SUM(J16:J25)","v":0}]
["Commentaires ou notes explicatives sur les composants majeurs critiques auscultés\n\n(¨  Notes supplémentaires et/ou photos disponibles)","\n"]
["RELEVÉ DES COMPOSANTS MAJEURS MÉCANIQUES"]
["Composants majeurs","Année d'installation","Durée de vie utile théorique","% Durée de vie écoulée","État physique","État fonctionnel","Année d'évaluation","Type d'évaluation*","Valeur de remplacement ($)","Coût de l'intervention ($)","Type d'intervention**","Année d'intervention"]
[null,null,{"$f":"IF(B30=\"\",\"\",Données!$E$81)","v":""},{"$f":"IF(B30=\"\",\"\",(Annee_BI-B30)/C30)","v":""}]
[null,null,{"$f":"IF(B31=\"\",\"\",Données!$E$81)","v":""},""]
[null,null,{"$f":"IF(B32=\"\",\"\",Données!$E$81)","v":""},""]
[null,null,{"$f":"IF(B33=\"\",\"\",Données!$E$81)","v":""},""]
[null,null,{"$f":"IF(B34=\"\",\"\",Données!$E$81)","v":""},""]
[null,null,{"$f":"IF(B35=\"\",\"\",Données!$E$81)","v":""},""]
[null,null,{"$f":"IF(B36=\"\",\"\",Données!$E$81)","v":""},""]
[null,null,{"$f":"IF(B37=\"\",\"\",Données!$E$81)","v":""},""]
[null,null,{"$f":"IF(B38=\"\",\"\",Données!$E$81)","v":""},""]
[null,null,{"$f":"IF(B39=\"\",\"\",Données!$E$81)","v":""},""]
["Récapitulatif des résultats (discipline)",{"$f":"IF(MIN(B30:B39)=0,\"\",MIN(B30:B39))","v":""},{"$f":"IF(MAX(C30:C39)=0,\"\",MAX(C30:C39))","v":""},{"$f":"IF(MAX(D30:D39)=0,\"\",MAX(D30:D39))","v":""},{"$f":"IF(MAX(E30:E39)=0,\"\",MAX(E30:E39))","v":""},{"$f":"IF(MAX(F30:F39)=0,\"\",MAX(F30:F39))","v":""},{"$f":"IF(MAX(G30:G39)=0,\"\",MAX(G30:G39))","v":""},null,{"$f":"SUM(I30:I39)","v":0},{"$f":"SUM(J30:J39)","v":0}]
["Commentaires ou notes explicatives sur les composants majeurs critiques auscultés\n\n(¨  Notes supplémentaires et/ou photos disponibles)","\n"]
["RELEVÉ DES COMPOSANTS MAJEURS ÉLECTRIQUES"]
["Composants majeurs","Année d'installation","Durée de vie utile théorique","% Durée de vie écoulée","État physique","État fonctionnel","Année d'auscultation","Type d'évaluation*","Valeur de remplacement ($)","Coût de l'intervention ($)","Type d'intervention**","Année d'intervention"]
[null,null,{"$f":"IF(B44=\"\",\"\",Données!$E$82)","v":""},{"$f":"IF(B44=\"\",\"\",(Annee_BI-B44)/C44)","v":""}]
[null,null,{"$f":"IF(B45=\"\",\"\",Données!$E$82)","v":""},""]
[null,null,{"$f":"IF(B46=\"\",\"\",Données!$E$82)","v":""},""]
[null,null,{"$f":"IF(B47=\"\",\"\",Données!$E$82)","v":""},""]
[null,null,{"$f":"IF(B48=\"\",\"\",Données!$E$82)","v":""},""]
[null,null,{"$f":"IF(B49=\"\",\"\",Données!$E$82)","v":""},""]
[null,null,{"$f":"IF(B50=\"\",\"\",Données!$E$82)","v":""},""]
[null,null,{"$f":"IF(B51=\"\",\"\",Données!$E$82)","v":""},""]
[null,null,{"$f":"IF(B52=\"\",\"\",Données!$E$82)","v":""},""]
[null,null,{"$f":"IF(B53=\"\",\"\",Données!$E$82)","v":""},""]
["Récapitulatif des résultats (discipline)",{"$f":"IF(MIN(B44:B53)=0,\"\",MIN(B44:B53))","v":""},{"$f":"IF(MAX(C44:C53)=0,\"\",MAX(C44:C53))","v":""},{"$f":"IF(MAX(D44:D53)=0,\"\",MAX(D44:D53))","v":""},{"$f":"IF(MAX(E44:E53)=0,\"\",MAX(E44:E53))","v":""},{"$f":"IF(MAX(F44:F53)=0,\"\",MAX(F44:F53))","v":""},{"$f":"IF(MAX(G44:G53)=0,\"\",MAX(G44:G53))","v":""},null,{"$f":"SUM(I44:I53)","v":0},{"$f":"SUM(J44:J53)","v":0}]
["Commentaires ou notes explicatives sur les composants majeurs critiques auscultés\n\n(¨  Notes supplémentaires et/ou photos disponibles)"]
["RELEVÉ DES COMPOSANTS MAJEURS D'INSTRUMENTATION ET DE CONTRÔLE"]
["Composants majeurs","Année d'installation","Durée de vie utile théorique","% Durée de vie écoulée","État physique","État fonctionnel","Année d'évaluation","Type d'évaluation*","Valeur de remplacement ($)","Coût de l'intervention ($)","Type d'intervention**","Année d'intervention"]
[null,null,{"$f":"IF(B58=\"\",\"\",Données!$E$83)","v":""},{"$f":"IF(B58=\"\",\"\",(Annee_BI-B58)/C58)","v":""}]
[null,null,{"$f":"IF(B59=\"\",\"\",Données!$E$83)","v":""},""]
[null,null,{"$f":"IF(B60=\"\",\"\",Données!$E$83)","v":""},""]
[null,null,{"$f":"IF(B61=\"\",\"\",Données!$E$83)","v":""},""]
[null,null,{"$f":"IF(B62=\"\",\"\",Données!$E$83)","v":""},""]
[null,null,{"$f":"IF(B63=\"\",\"\",Données!$E$83)","v":""},""]
[null,null,{"$f":"IF(B64=\"\",\"\",Données!$E$83)","v":""},""]
[null,null,{"$f":"IF(B65=\"\",\"\",Données!$E$83)","v":""},""]
[null,null,{"$f":"IF(B66=\"\",\"\",Données!$E$83)","v":""},""]
[null,null,{"$f":"IF(B67=\"\",\"\",Données!$E$83)","v":""},""]
["Récapitulatif des résultats (discipline)",{"$f":"IF(MIN(B58:B67)=0,\"\",MIN(B58:B67))","v":""},{"$f":"IF(MAX(C58:C67)=0,\"\",MAX(C58:C67))","v":""},{"$f":"IF(MAX(D58:D67)=0,\"\",MAX(D58:D67))","v":""},{"$f":"IF(MAX(E58:E67)=0,\"\",MAX(E58:E67))","v":""},{"$f":"IF(MAX(F58:F67)=0,\"\",MAX(F58:F67))","v":""},{"$f":"IF(MAX(G58:G67)=0,\"\",MAX(G58:G67))","v":""},null,{"$f":"SUM(I58:I67)","v":0},{"$f":"SUM(J58:J67)","v":0}]
["Commentaires ou notes explicatives sur les composants majeurs critiques auscultés\n\n(¨  Notes supplémentaires et/ou photos disponibles)"]

{"sheet":"EU_Incinération","index":41,"n_rows":69,"n_cols":12,"rows_kept":69,"cut":false,"hidden":true,"merged":[[54,1,54,11],[55,0,55,11],[68,1,68,11],[8,8,8,11],[9,1,9,5],[9,6,9,7],[9,8,9,11],[10,1,10,5],[10,6,10,7],[10,8,10,11],[11,1,11,5],[11,6,11,7],[11,8,11,11],[13,0,13,11],[26,1,26,11],[27,0,27,11],[1,1,1,5],[1,6,1,8],[1,9,1,11],[2,1,2,5],[2,6,2,8],[2,9,2,11],[40,1,40,11],[41,0,41,11],[6,1,6,5],[6,6,6,7],[6,8,6,11],[7,1,7,5],[7,6,7,7],[7,8,7,11],[8,1,8,5],[8,6,8,7],[3,1,3,5],[3,6,3,8],[3,9,3,11],[4,0,4,11],[5,1,5,5],[5,6,5,7],[5,8,5,11]]}
["IDENTIFICATION DU SYSTÈME",null,null,null,null,null,null,null,null,"Consulter l'aide se rapportant aux procédés de l'ouvrage"]
["Type d'infrastructure :",{"$f":"IF(Identification!H61=0,\"\",Identification!H61)","v":""},null,null,null,null,"         Sous-type d'infrastructure :",null,null,{"$f":"IF(Identification!H62=0,\"\",Identification!H62)","v":""}]
["Nom de l'infrastructure :",{"$f":"IF(Identification!H63=0,\"\",Identification!H63)","v":""},null,null,null,null,"         Type de système :",null,null,"Incinération des boues"]
["Année d'installation :",{"$f":"Identification!H66","v":0},null,null,null,null,"         Valeur de remplacement :",null,null,{"$f":"IF(I26+I40+I54+I68=0,\"\",I26+I40+I54+I68)","v":""}]
["CRITÈRES D'ÉVALUATION DES COMPOSANTS MAJEURS"]
["Cote","État physique",null,null,null,null,"Cote",null,"État fonctionnel"]
[0,"Le composant majeur n'a pas été ausculté",null,null,null,null,0,null,"Le composant majeur n'a pas été ausculté"]
[1,"Le composant majeur est récent ou remis à neuf",null,null,null,null,1,null,"Le fonctionnement du composant majeur est comme « neuf » et comme attendu. Le composant répond parfaitement aux normes techniques de conception ainsi qu’aux normes de santé et de sécurité en vigueur."]
[2,"Le composant majeur présente un niveau léger de dégradation ou de défectuosité",null,null,null,null,2,null,"Le fonctionnement du composant majeur est adéquat. Le composant répond adéquatement aux normes techniques de conception ainsi qu’aux normes de santé et de sécurité en vigueur."]
[3,"Le composant majeur présente un niveau modéré de dégradation ou de défectuosité",null,null,null,null,3,null,"Le fonctionnement du composant majeur est intermittent mais ne nuit pas au procédé. Le composant répond adéquatement aux normes techniques de conception ainsi qu’aux normes de santé et de sécurité en vigueur."]
[4,"Le composant majeur présente un niveau élevé de dégradation ou de défectuosité",null,null,null,null,4,null,"Le fonctionnement du composant majeur est intermittent et nuit au procédé. Le composant est très près de ne pas répondre aux normes techniques de conception mais répond aux normes de santé et de sécurité en vigueur."]
[5,"Le composant majeur présente un niveau très élevé de dégradation ou de défectuosité",null,null,null,null,5,null,"Le fonctionnement du composant majeur est déficient et empêche le procédé de s’effectuer. Le composant ne répond pas aux normes techniques de conception et/ou ne répond pas aux normes de santé et de sécurité en vigueur."]
["*Type d'évaluation : Visuelle (V), Opérateur (O), Mesure (M)",null,null,null,null,null,"**Type d'intervention : Ajout (AJ), Remplacement (RP), Réfection majeure (RFM), Expertise complémentaire (DE)"]
["RELEVÉ DES COMPOSANTS MAJEURS CIVILS"]
["Composants majeurs","Année d'installation","Durée de vie utile théorique","% Durée de vie écoulée","État physique","État fonctionnel","Année d'évaluation","Type d'évaluation*","Valeur de remplacement ($)","Coût de l'intervention ($)","Type d'intervention**","Année d'intervention"]
[null,null,{"$f":"IF(B16=\"\",\"\",Données!$E$80)","v":""},{"$f":"IF(B16=\"\",\"\",(Annee_BI-B16)/C16)","v":""}]
[null,null,{"$f":"IF(B17=\"\",\"\",Données!$E$80)","v":""},""]
[null,null,{"$f":"IF(B18=\"\",\"\",Données!$E$80)","v":""},""]
[null,null,{"$f":"IF(B19=\"\",\"\",Données!$E$80)","v":""},""]
[null,null,{"$f":"IF(B20=\"\",\"\",Données!$E$80)","v":""},""]
[null,null,{"$f":"IF(B21=\"\",\"\",Données!$E$80)","v":""},""]
[null,null,{"$f":"IF(B22=\"\",\"\",Données!$E$80)","v":""},""]
[null,null,{"$f":"IF(B23=\"\",\"\",Données!$E$80)","v":""},""]
[null,null,{"$f":"IF(B24=\"\",\"\",Données!$E$80)","v":""},""]
[null,null,{"$f":"IF(B25=\"\",\"\",Données!$E$80)","v":""},""]
["Récapitulatif des résultats (discipline)",{"$f":"IF(MIN(B16:B25)=0,\"\",MIN(B16:B25))","v":""},{"$f":"IF(MAX(C16:C25)=0,\"\",MAX(C16:C25))","v":""},{"$f":"IF(MAX(D16:D25)=0,\"\",MAX(D16:D25))","v":""},{"$f":"IF(MAX(E16:E25)=0,\"\",MAX(E16:E25))","v":""},{"$f":"IF(MAX(F16:F25)=0,\"\",MAX(F16:F25))","v":""},{"$f":"IF(MAX(G16:G25)=0,\"\",MAX(G16:G25))","v":""},null,{"$f":"SUM(I16:I25)","v":0},{"$f":"SUM(J16:J25)","v":0}]
["Commentaires ou notes explicatives sur les composants majeurs critiques auscultés\n\n(¨  Notes supplémentaires et/ou photos disponibles)","\n"]
["RELEVÉ DES COMPOSANTS MAJEURS MÉCANIQUES"]
["Composants majeurs","Année d'installation","Durée de vie utile théorique","% Durée de vie écoulée","État physique","État fonctionnel","Année d'évaluation","Type d'évaluation*","Valeur de remplacement ($)","Coût de l'intervention ($)","Type d'intervention**","Année d'intervention"]
[null,null,{"$f":"IF(B30=\"\",\"\",Données!$E$81)","v":""},{"$f":"IF(B30=\"\",\"\",(Annee_BI-B30)/C30)","v":""}]
[null,null,{"$f":"IF(B31=\"\",\"\",Données!$E$81)","v":""},""]
[null,null,{"$f":"IF(B32=\"\",\"\",Données!$E$81)","v":""},""]
[null,null,{"$f":"IF(B33=\"\",\"\",Données!$E$81)","v":""},""]
[null,null,{"$f":"IF(B34=\"\",\"\",Données!$E$81)","v":""},""]
[null,null,{"$f":"IF(B35=\"\",\"\",Données!$E$81)","v":""},""]
[null,null,{"$f":"IF(B36=\"\",\"\",Données!$E$81)","v":""},""]
[null,null,{"$f":"IF(B37=\"\",\"\",Données!$E$81)","v":""},""]
[null,null,{"$f":"IF(B38=\"\",\"\",Données!$E$81)","v":""},""]
[null,null,{"$f":"IF(B39=\"\",\"\",Données!$E$81)","v":""},""]
["Récapitulatif des résultats (discipline)",{"$f":"IF(MIN(B30:B39)=0,\"\",MIN(B30:B39))","v":""},{"$f":"IF(MAX(C30:C39)=0,\"\",MAX(C30:C39))","v":""},{"$f":"IF(MAX(D30:D39)=0,\"\",MAX(D30:D39))","v":""},{"$f":"IF(MAX(E30:E39)=0,\"\",MAX(E30:E39))","v":""},{"$f":"IF(MAX(F30:F39)=0,\"\",MAX(F30:F39))","v":""},{"$f":"IF(MAX(G30:G39)=0,\"\",MAX(G30:G39))","v":""},null,{"$f":"SUM(I30:I39)","v":0},{"$f":"SUM(J30:J39)","v":0}]
["Commentaires ou notes explicatives sur les composants majeurs critiques auscultés\n\n(¨  Notes supplémentaires et/ou photos disponibles)","\n"]
["RELEVÉ DES COMPOSANTS MAJEURS ÉLECTRIQUES"]
["Composants majeurs","Année d'installation","Durée de vie utile théorique","% Durée de vie écoulée","État physique","État fonctionnel","Année d'auscultation","Type d'évaluation*","Valeur de remplacement ($)","Coût de l'intervention ($)","Type d'intervention**","Année d'intervention"]
[null,null,{"$f":"IF(B44=\"\",\"\",Données!$E$82)","v":""},{"$f":"IF(B44=\"\",\"\",(Annee_BI-B44)/C44)","v":""}]
[null,null,{"$f":"IF(B45=\"\",\"\",Données!$E$82)","v":""},""]
[null,null,{"$f":"IF(B46=\"\",\"\",Données!$E$82)","v":""},""]
[null,null,{"$f":"IF(B47=\"\",\"\",Données!$E$82)","v":""},""]
[null,null,{"$f":"IF(B48=\"\",\"\",Données!$E$82)","v":""},""]
[null,null,{"$f":"IF(B49=\"\",\"\",Données!$E$82)","v":""},""]
[null,null,{"$f":"IF(B50=\"\",\"\",Données!$E$82)","v":""},""]
[null,null,{"$f":"IF(B51=\"\",\"\",Données!$E$82)","v":""},""]
[null,null,{"$f":"IF(B52=\"\",\"\",Données!$E$82)","v":""},""]
[null,null,{"$f":"IF(B53=\"\",\"\",Données!$E$82)","v":""},""]
["Récapitulatif des résultats (discipline)",{"$f":"IF(MIN(B44:B53)=0,\"\",MIN(B44:B53))","v":""},{"$f":"IF(MAX(C44:C53)=0,\"\",MAX(C44:C53))","v":""},{"$f":"IF(MAX(D44:D53)=0,\"\",MAX(D44:D53))","v":""},{"$f":"IF(MAX(E44:E53)=0,\"\",MAX(E44:E53))","v":""},{"$f":"IF(MAX(F44:F53)=0,\"\",MAX(F44:F53))","v":""},{"$f":"IF(MAX(G44:G53)=0,\"\",MAX(G44:G53))","v":""},null,{"$f":"SUM(I44:I53)","v":0},{"$f":"SUM(J44:J53)","v":0}]
["Commentaires ou notes explicatives sur les composants majeurs critiques auscultés\n\n(¨  Notes supplémentaires et/ou photos disponibles)"]
["RELEVÉ DES COMPOSANTS MAJEURS D'INSTRUMENTATION ET DE CONTRÔLE"]
["Composants majeurs","Année d'installation","Durée de vie utile théorique","% Durée de vie écoulée","État physique","État fonctionnel","Année d'évaluation","Type d'évaluation*","Valeur de remplacement ($)","Coût de l'intervention ($)","Type d'intervention**","Année d'intervention"]
[null,null,{"$f":"IF(B58=\"\",\"\",Données!$E$83)","v":""},{"$f":"IF(B58=\"\",\"\",(Annee_BI-B58)/C58)","v":""}]
[null,null,{"$f":"IF(B59=\"\",\"\",Données!$E$83)","v":""},""]
[null,null,{"$f":"IF(B60=\"\",\"\",Données!$E$83)","v":""},""]
[null,null,{"$f":"IF(B61=\"\",\"\",Données!$E$83)","v":""},""]
[null,null,{"$f":"IF(B62=\"\",\"\",Données!$E$83)","v":""},""]
[null,null,{"$f":"IF(B63=\"\",\"\",Données!$E$83)","v":""},""]
[null,null,{"$f":"IF(B64=\"\",\"\",Données!$E$83)","v":""},""]
[null,null,{"$f":"IF(B65=\"\",\"\",Données!$E$83)","v":""},""]
[null,null,{"$f":"IF(B66=\"\",\"\",Données!$E$83)","v":""},""]
[null,null,{"$f":"IF(B67=\"\",\"\",Données!$E$83)","v":""},""]
["Récapitulatif des résultats (discipline)",{"$f":"IF(MIN(B58:B67)=0,\"\",MIN(B58:B67))","v":""},{"$f":"IF(MAX(C58:C67)=0,\"\",MAX(C58:C67))","v":""},{"$f":"IF(MAX(D58:D67)=0,\"\",MAX(D58:D67))","v":""},{"$f":"IF(MAX(E58:E67)=0,\"\",MAX(E58:E67))","v":""},{"$f":"IF(MAX(F58:F67)=0,\"\",MAX(F58:F67))","v":""},{"$f":"IF(MAX(G58:G67)=0,\"\",MAX(G58:G67))","v":""},null,{"$f":"SUM(I58:I67)","v":0},{"$f":"SUM(J58:J67)","v":0}]
["Commentaires ou notes explicatives sur les composants majeurs critiques auscultés\n\n(¨  Notes supplémentaires et/ou photos disponibles)"]

{"sheet":"EU_Traitement_odeurs","index":42,"n_rows":69,"n_cols":12,"rows_kept":69,"cut":false,"hidden":true,"merged":[[54,1,54,11],[55,0,55,11],[68,1,68,11],[8,8,8,11],[9,1,9,5],[9,6,9,7],[9,8,9,11],[10,1,10,5],[10,6,10,7],[10,8,10,11],[11,1,11,5],[11,6,11,7],[11,8,11,11],[13,0,13,11],[26,1,26,11],[27,0,27,11],[1,1,1,5],[1,6,1,8],[1,9,1,11],[2,1,2,5],[2,6,2,8],[2,9,2,11],[40,1,40,11],[41,0,41,11],[6,1,6,5],[6,6,6,7],[6,8,6,11],[7,1,7,5],[7,6,7,7],[7,8,7,11],[8,1,8,5],[8,6,8,7],[3,1,3,5],[3,6,3,8],[3,9,3,11],[4,0,4,11],[5,1,5,5],[5,6,5,7],[5,8,5,11]]}
["IDENTIFICATION DU SYSTÈME",null,null,null,null,null,null,null,null,"Consulter l'aide se rapportant aux procédés de l'ouvrage"]
["Type d'infrastructure :",{"$f":"IF(Identification!H61=0,\"\",Identification!H61)","v":""},null,null,null,null,"         Sous-type d'infrastructure :",null,null,{"$f":"IF(Identification!H62=0,\"\",Identification!H62)","v":""}]
["Nom de l'infrastructure :",{"$f":"IF(Identification!H63=0,\"\",Identification!H63)","v":""},null,null,null,null,"         Type de système :",null,null,"Traitement des odeurs"]
["Année d'installation :",{"$f":"Identification!H66","v":0},null,null,null,null,"         Valeur de remplacement :",null,null,{"$f":"IF(I26+I40+I54+I68=0,\"\",I26+I40+I54+I68)","v":""}]
["CRITÈRES D'ÉVALUATION DES COMPOSANTS MAJEURS"]
["Cote","État physique",null,null,null,null,"Cote",null,"État fonctionnel"]
[0,"Le composant majeur n'a pas été ausculté",null,null,null,null,0,null,"Le composant majeur n'a pas été ausculté"]
[1,"Le composant majeur est récent ou remis à neuf",null,null,null,null,1,null,"Le fonctionnement du composant majeur est comme « neuf » et comme attendu. Le composant répond parfaitement aux normes techniques de conception ainsi qu’aux normes de santé et de sécurité en vigueur."]
[2,"Le composant majeur présente un niveau léger de dégradation ou de défectuosité",null,null,null,null,2,null,"Le fonctionnement du composant majeur est adéquat. Le composant répond adéquatement aux normes techniques de conception ainsi qu’aux normes de santé et de sécurité en vigueur."]
[3,"Le composant majeur présente un niveau modéré de dégradation ou de défectuosité",null,null,null,null,3,null,"Le fonctionnement du composant majeur est intermittent mais ne nuit pas au procédé. Le composant répond adéquatement aux normes techniques de conception ainsi qu’aux normes de santé et de sécurité en vigueur."]
[4,"Le composant majeur présente un niveau élevé de dégradation ou de défectuosité",null,null,null,null,4,null,"Le fonctionnement du composant majeur est intermittent et nuit au procédé. Le composant est très près de ne pas répondre aux normes techniques de conception mais répond aux normes de santé et de sécurité en vigueur."]
[5,"Le composant majeur présente un niveau très élevé de dégradation ou de défectuosité",null,null,null,null,5,null,"Le fonctionnement du composant majeur est déficient et empêche le procédé de s’effectuer. Le composant ne répond pas aux normes techniques de conception et/ou ne répond pas aux normes de santé et de sécurité en vigueur."]
["*Type d'évaluation : Visuelle (V), Opérateur (O), Mesure (M)",null,null,null,null,null,"**Type d'intervention : Ajout (AJ), Remplacement (RP), Réfection majeure (RFM), Expertise complémentaire (DE)"]
["RELEVÉ DES COMPOSANTS MAJEURS CIVILS"]
["Composants majeurs","Année d'installation","Durée de vie utile théorique","% Durée de vie écoulée","État physique","État fonctionnel","Année d'évaluation","Type d'évaluation*","Valeur de remplacement ($)","Coût de l'intervention ($)","Type d'intervention**","Année d'intervention"]
[null,null,{"$f":"IF(B16=\"\",\"\",Données!$E$80)","v":""},{"$f":"IF(B16=\"\",\"\",(Annee_BI-B16)/C16)","v":""}]
[null,null,{"$f":"IF(B17=\"\",\"\",Données!$E$80)","v":""},""]
[null,null,{"$f":"IF(B18=\"\",\"\",Données!$E$80)","v":""},""]
[null,null,{"$f":"IF(B19=\"\",\"\",Données!$E$80)","v":""},""]
[null,null,{"$f":"IF(B20=\"\",\"\",Données!$E$80)","v":""},""]
[null,null,{"$f":"IF(B21=\"\",\"\",Données!$E$80)","v":""},""]
[null,null,{"$f":"IF(B22=\"\",\"\",Données!$E$80)","v":""},""]
[null,null,{"$f":"IF(B23=\"\",\"\",Données!$E$80)","v":""},""]
[null,null,{"$f":"IF(B24=\"\",\"\",Données!$E$80)","v":""},""]
[null,null,{"$f":"IF(B25=\"\",\"\",Données!$E$80)","v":""},""]
["Récapitulatif des résultats (discipline)",{"$f":"IF(MIN(B16:B25)=0,\"\",MIN(B16:B25))","v":""},{"$f":"IF(MAX(C16:C25)=0,\"\",MAX(C16:C25))","v":""},{"$f":"IF(MAX(D16:D25)=0,\"\",MAX(D16:D25))","v":""},{"$f":"IF(MAX(E16:E25)=0,\"\",MAX(E16:E25))","v":""},{"$f":"IF(MAX(F16:F25)=0,\"\",MAX(F16:F25))","v":""},{"$f":"IF(MAX(G16:G25)=0,\"\",MAX(G16:G25))","v":""},null,{"$f":"SUM(I16:I25)","v":0},{"$f":"SUM(J16:J25)","v":0}]
["Commentaires ou notes explicatives sur les composants majeurs critiques auscultés\n\n(¨  Notes supplémentaires et/ou photos disponibles)","\n"]
["RELEVÉ DES COMPOSANTS MAJEURS MÉCANIQUES"]
["Composants majeurs","Année d'installation","Durée de vie utile théorique","% Durée de vie écoulée","État physique","État fonctionnel","Année d'évaluation","Type d'évaluation*","Valeur de remplacement ($)","Coût de l'intervention ($)","Type d'intervention**","Année d'intervention"]
[null,null,{"$f":"IF(B30=\"\",\"\",Données!$E$81)","v":""},{"$f":"IF(B30=\"\",\"\",(Annee_BI-B30)/C30)","v":""}]
[null,null,{"$f":"IF(B31=\"\",\"\",Données!$E$81)","v":""},""]
[null,null,{"$f":"IF(B32=\"\",\"\",Données!$E$81)","v":""},""]
[null,null,{"$f":"IF(B33=\"\",\"\",Données!$E$81)","v":""},""]
[null,null,{"$f":"IF(B34=\"\",\"\",Données!$E$81)","v":""},""]
[null,null,{"$f":"IF(B35=\"\",\"\",Données!$E$81)","v":""},""]
[null,null,{"$f":"IF(B36=\"\",\"\",Données!$E$81)","v":""},""]
[null,null,{"$f":"IF(B37=\"\",\"\",Données!$E$81)","v":""},""]
[null,null,{"$f":"IF(B38=\"\",\"\",Données!$E$81)","v":""},""]
[null,null,{"$f":"IF(B39=\"\",\"\",Données!$E$81)","v":""},""]
["Récapitulatif des résultats (discipline)",{"$f":"IF(MIN(B30:B39)=0,\"\",MIN(B30:B39))","v":""},{"$f":"IF(MAX(C30:C39)=0,\"\",MAX(C30:C39))","v":""},{"$f":"IF(MAX(D30:D39)=0,\"\",MAX(D30:D39))","v":""},{"$f":"IF(MAX(E30:E39)=0,\"\",MAX(E30:E39))","v":""},{"$f":"IF(MAX(F30:F39)=0,\"\",MAX(F30:F39))","v":""},{"$f":"IF(MAX(G30:G39)=0,\"\",MAX(G30:G39))","v":""},null,{"$f":"SUM(I30:I39)","v":0},{"$f":"SUM(J30:J39)","v":0}]
["Commentaires ou notes explicatives sur les composants majeurs critiques auscultés\n\n(¨  Notes supplémentaires et/ou photos disponibles)","\n"]
["RELEVÉ DES COMPOSANTS MAJEURS ÉLECTRIQUES"]
["Composants majeurs","Année d'installation","Durée de vie utile théorique","% Durée de vie écoulée","État physique","État fonctionnel","Année d'auscultation","Type d'évaluation*","Valeur de remplacement ($)","Coût de l'intervention ($)","Type d'intervention**","Année d'intervention"]
[null,null,{"$f":"IF(B44=\"\",\"\",Données!$E$82)","v":""},{"$f":"IF(B44=\"\",\"\",(Annee_BI-B44)/C44)","v":""}]
[null,null,{"$f":"IF(B45=\"\",\"\",Données!$E$82)","v":""},""]
[null,null,{"$f":"IF(B46=\"\",\"\",Données!$E$82)","v":""},""]
[null,null,{"$f":"IF(B47=\"\",\"\",Données!$E$82)","v":""},""]
[null,null,{"$f":"IF(B48=\"\",\"\",Données!$E$82)","v":""},""]
[null,null,{"$f":"IF(B49=\"\",\"\",Données!$E$82)","v":""},""]
[null,null,{"$f":"IF(B50=\"\",\"\",Données!$E$82)","v":""},""]
[null,null,{"$f":"IF(B51=\"\",\"\",Données!$E$82)","v":""},""]
[null,null,{"$f":"IF(B52=\"\",\"\",Données!$E$82)","v":""},""]
[null,null,{"$f":"IF(B53=\"\",\"\",Données!$E$82)","v":""},""]
["Récapitulatif des résultats (discipline)",{"$f":"IF(MIN(B44:B53)=0,\"\",MIN(B44:B53))","v":""},{"$f":"IF(MAX(C44:C53)=0,\"\",MAX(C44:C53))","v":""},{"$f":"IF(MAX(D44:D53)=0,\"\",MAX(D44:D53))","v":""},{"$f":"IF(MAX(E44:E53)=0,\"\",MAX(E44:E53))","v":""},{"$f":"IF(MAX(F44:F53)=0,\"\",MAX(F44:F53))","v":""},{"$f":"IF(MAX(G44:G53)=0,\"\",MAX(G44:G53))","v":""},null,{"$f":"SUM(I44:I53)","v":0},{"$f":"SUM(J44:J53)","v":0}]
["Commentaires ou notes explicatives sur les composants majeurs critiques auscultés\n\n(¨  Notes supplémentaires et/ou photos disponibles)"]
["RELEVÉ DES COMPOSANTS MAJEURS D'INSTRUMENTATION ET DE CONTRÔLE"]
["Composants majeurs","Année d'installation","Durée de vie utile théorique","% Durée de vie écoulée","État physique","État fonctionnel","Année d'évaluation","Type d'évaluation*","Valeur de remplacement ($)","Coût de l'intervention ($)","Type d'intervention**","Année d'intervention"]
[null,null,{"$f":"IF(B58=\"\",\"\",Données!$E$83)","v":""},{"$f":"IF(B58=\"\",\"\",(Annee_BI-B58)/C58)","v":""}]
[null,null,{"$f":"IF(B59=\"\",\"\",Données!$E$83)","v":""},""]
[null,null,{"$f":"IF(B60=\"\",\"\",Données!$E$83)","v":""},""]
[null,null,{"$f":"IF(B61=\"\",\"\",Données!$E$83)","v":""},""]
[null,null,{"$f":"IF(B62=\"\",\"\",Données!$E$83)","v":""},""]
[null,null,{"$f":"IF(B63=\"\",\"\",Données!$E$83)","v":""},""]
[null,null,{"$f":"IF(B64=\"\",\"\",Données!$E$83)","v":""},""]
[null,null,{"$f":"IF(B65=\"\",\"\",Données!$E$83)","v":""},""]
[null,null,{"$f":"IF(B66=\"\",\"\",Données!$E$83)","v":""},""]
[null,null,{"$f":"IF(B67=\"\",\"\",Données!$E$83)","v":""},""]
["Récapitulatif des résultats (discipline)",{"$f":"IF(MIN(B58:B67)=0,\"\",MIN(B58:B67))","v":""},{"$f":"IF(MAX(C58:C67)=0,\"\",MAX(C58:C67))","v":""},{"$f":"IF(MAX(D58:D67)=0,\"\",MAX(D58:D67))","v":""},{"$f":"IF(MAX(E58:E67)=0,\"\",MAX(E58:E67))","v":""},{"$f":"IF(MAX(F58:F67)=0,\"\",MAX(F58:F67))","v":""},{"$f":"IF(MAX(G58:G67)=0,\"\",MAX(G58:G67))","v":""},null,{"$f":"SUM(I58:I67)","v":0},{"$f":"SUM(J58:J67)","v":0}]
["Commentaires ou notes explicatives sur les composants majeurs critiques auscultés\n\n(¨  Notes supplémentaires et/ou photos disponibles)"]

{"sheet":"EU_Stockage","index":43,"n_rows":69,"n_cols":12,"rows_kept":69,"cut":false,"hidden":true,"merged":[[54,1,54,11],[55,0,55,11],[68,1,68,11],[8,8,8,11],[9,1,9,5],[9,6,9,7],[9,8,9,11],[10,1,10,5],[10,6,10,7],[10,8,10,11],[11,1,11,5],[11,6,11,7],[11,8,11,11],[13,0,13,11],[26,1,26,11],[27,0,27,11],[1,1,1,5],[1,6,1,8],[1,9,1,11],[2,1,2,5],[2,6,2,8],[2,9,2,11],[40,1,40,11],[41,0,41,11],[6,1,6,5],[6,6,6,7],[6,8,6,11],[7,1,7,5],[7,6,7,7],[7,8,7,11],[8,1,8,5],[8,6,8,7],[3,1,3,5],[3,6,3,8],[3,9,3,11],[4,0,4,11],[5,1,5,5],[5,6,5,7],[5,8,5,11]]}
["IDENTIFICATION DU SYSTÈME",null,null,null,null,null,null,null,null,"Consulter l'aide se rapportant aux procédés de l'ouvrage"]
["Type d'infrastructure :",{"$f":"IF(Identification!H61=0,\"\",Identification!H61)","v":""},null,null,null,null,"         Sous-type d'infrastructure :",null,null,{"$f":"IF(Identification!H62=0,\"\",Identification!H62)","v":""}]
["Nom de l'infrastructure :",{"$f":"IF(Identification!H63=0,\"\",Identification!H63)","v":""},null,null,null,null,"         Type de système :",null,null,"Stockage"]
["Année d'installation :",{"$f":"Identification!H66","v":0},null,null,null,null,"         Valeur de remplacement :",null,null,{"$f":"IF(I26+I40+I54+I68=0,\"\",I26+I40+I54+I68)","v":""}]
["CRITÈRES D'ÉVALUATION DES COMPOSANTS MAJEURS"]
["Cote","État physique",null,null,null,null,"Cote",null,"État fonctionnel"]
[0,"Le composant majeur n'a pas été ausculté",null,null,null,null,0,null,"Le composant majeur n'a pas été ausculté"]
[1,"Le composant majeur est récent ou remis à neuf",null,null,null,null,1,null,"Le fonctionnement du composant majeur est comme « neuf » et comme attendu. Le composant répond parfaitement aux normes techniques de conception ainsi qu’aux normes de santé et de sécurité en vigueur."]
[2,"Le composant majeur présente un niveau léger de dégradation ou de défectuosité",null,null,null,null,2,null,"Le fonctionnement du composant majeur est adéquat. Le composant répond adéquatement aux normes techniques de conception ainsi qu’aux normes de santé et de sécurité en vigueur."]
[3,"Le composant majeur présente un niveau modéré de dégradation ou de défectuosité",null,null,null,null,3,null,"Le fonctionnement du composant majeur est intermittent mais ne nuit pas au procédé. Le composant répond adéquatement aux normes techniques de conception ainsi qu’aux normes de santé et de sécurité en vigueur."]
[4,"Le composant majeur présente un niveau élevé de dégradation ou de défectuosité",null,null,null,null,4,null,"Le fonctionnement du composant majeur est intermittent et nuit au procédé. Le composant est très près de ne pas répondre aux normes techniques de conception mais répond aux normes de santé et de sécurité en vigueur."]
[5,"Le composant majeur présente un niveau très élevé de dégradation ou de défectuosité",null,null,null,null,5,null,"Le fonctionnement du composant majeur est déficient et empêche le procédé de s’effectuer. Le composant ne répond pas aux normes techniques de conception et/ou ne répond pas aux normes de santé et de sécurité en vigueur."]
["*Type d'évaluation : Visuelle (V), Opérateur (O), Mesure (M)",null,null,null,null,null,"**Type d'intervention : Ajout (AJ), Remplacement (RP), Réfection majeure (RFM), Expertise complémentaire (DE)"]
["RELEVÉ DES COMPOSANTS MAJEURS CIVILS"]
["Composants majeurs","Année d'installation","Durée de vie utile théorique","% Durée de vie écoulée","État physique","État fonctionnel","Année d'évaluation","Type d'évaluation*","Valeur de remplacement ($)","Coût de l'intervention ($)","Type d'intervention**","Année d'intervention"]
[null,null,{"$f":"IF(B16=\"\",\"\",Données!$E$80)","v":""},{"$f":"IF(B16=\"\",\"\",(Annee_BI-B16)/C16)","v":""}]
[null,null,{"$f":"IF(B17=\"\",\"\",Données!$E$80)","v":""},""]
[null,null,{"$f":"IF(B18=\"\",\"\",Données!$E$80)","v":""},""]
[null,null,{"$f":"IF(B19=\"\",\"\",Données!$E$80)","v":""},""]
[null,null,{"$f":"IF(B20=\"\",\"\",Données!$E$80)","v":""},""]
[null,null,{"$f":"IF(B21=\"\",\"\",Données!$E$80)","v":""},""]
[null,null,{"$f":"IF(B22=\"\",\"\",Données!$E$80)","v":""},""]
[null,null,{"$f":"IF(B23=\"\",\"\",Données!$E$80)","v":""},""]
[null,null,{"$f":"IF(B24=\"\",\"\",Données!$E$80)","v":""},""]
[null,null,{"$f":"IF(B25=\"\",\"\",Données!$E$80)","v":""},""]
["Récapitulatif des résultats (discipline)",{"$f":"IF(MIN(B16:B25)=0,\"\",MIN(B16:B25))","v":""},{"$f":"IF(MAX(C16:C25)=0,\"\",MAX(C16:C25))","v":""},{"$f":"IF(MAX(D16:D25)=0,\"\",MAX(D16:D25))","v":""},{"$f":"IF(MAX(E16:E25)=0,\"\",MAX(E16:E25))","v":""},{"$f":"IF(MAX(F16:F25)=0,\"\",MAX(F16:F25))","v":""},{"$f":"IF(MAX(G16:G25)=0,\"\",MAX(G16:G25))","v":""},null,{"$f":"SUM(I16:I25)","v":0},{"$f":"SUM(J16:J25)","v":0}]
["Commentaires ou notes explicatives sur les composants majeurs critiques auscultés\n\n(¨  Notes supplémentaires et/ou photos disponibles)","\n"]
["RELEVÉ DES COMPOSANTS MAJEURS MÉCANIQUES"]
["Composants majeurs","Année d'installation","Durée de vie utile théorique","% Durée de vie écoulée","État physique","État fonctionnel","Année d'évaluation","Type d'évaluation*","Valeur de remplacement ($)","Coût de l'intervention ($)","Type d'intervention**","Année d'intervention"]
[null,null,{"$f":"IF(B30=\"\",\"\",Données!$E$81)","v":""},{"$f":"IF(B30=\"\",\"\",(Annee_BI-B30)/C30)","v":""}]
[null,null,{"$f":"IF(B31=\"\",\"\",Données!$E$81)","v":""},""]
[null,null,{"$f":"IF(B32=\"\",\"\",Données!$E$81)","v":""},""]
[null,null,{"$f":"IF(B33=\"\",\"\",Données!$E$81)","v":""},""]
[null,null,{"$f":"IF(B34=\"\",\"\",Données!$E$81)","v":""},""]
[null,null,{"$f":"IF(B35=\"\",\"\",Données!$E$81)","v":""},""]
[null,null,{"$f":"IF(B36=\"\",\"\",Données!$E$81)","v":""},""]
[null,null,{"$f":"IF(B37=\"\",\"\",Données!$E$81)","v":""},""]
[null,null,{"$f":"IF(B38=\"\",\"\",Données!$E$81)","v":""},""]
[null,null,{"$f":"IF(B39=\"\",\"\",Données!$E$81)","v":""},""]
["Récapitulatif des résultats (discipline)",{"$f":"IF(MIN(B30:B39)=0,\"\",MIN(B30:B39))","v":""},{"$f":"IF(MAX(C30:C39)=0,\"\",MAX(C30:C39))","v":""},{"$f":"IF(MAX(D30:D39)=0,\"\",MAX(D30:D39))","v":""},{"$f":"IF(MAX(E30:E39)=0,\"\",MAX(E30:E39))","v":""},{"$f":"IF(MAX(F30:F39)=0,\"\",MAX(F30:F39))","v":""},{"$f":"IF(MAX(G30:G39)=0,\"\",MAX(G30:G39))","v":""},null,{"$f":"SUM(I30:I39)","v":0},{"$f":"SUM(J30:J39)","v":0}]
["Commentaires ou notes explicatives sur les composants majeurs critiques auscultés\n\n(¨  Notes supplémentaires et/ou photos disponibles)","\n"]
["RELEVÉ DES COMPOSANTS MAJEURS ÉLECTRIQUES"]
["Composants majeurs","Année d'installation","Durée de vie utile théorique","% Durée de vie écoulée","État physique","État fonctionnel","Année d'auscultation","Type d'évaluation*","Valeur de remplacement ($)","Coût de l'intervention ($)","Type d'intervention**","Année d'intervention"]
[null,null,{"$f":"IF(B44=\"\",\"\",Données!$E$82)","v":""},{"$f":"IF(B44=\"\",\"\",(Annee_BI-B44)/C44)","v":""}]
[null,null,{"$f":"IF(B45=\"\",\"\",Données!$E$82)","v":""},""]
[null,null,{"$f":"IF(B46=\"\",\"\",Données!$E$82)","v":""},""]
[null,null,{"$f":"IF(B47=\"\",\"\",Données!$E$82)","v":""},""]
[null,null,{"$f":"IF(B48=\"\",\"\",Données!$E$82)","v":""},""]
[null,null,{"$f":"IF(B49=\"\",\"\",Données!$E$82)","v":""},""]
[null,null,{"$f":"IF(B50=\"\",\"\",Données!$E$82)","v":""},""]
[null,null,{"$f":"IF(B51=\"\",\"\",Données!$E$82)","v":""},""]
[null,null,{"$f":"IF(B52=\"\",\"\",Données!$E$82)","v":""},""]
[null,null,{"$f":"IF(B53=\"\",\"\",Données!$E$82)","v":""},""]
["Récapitulatif des résultats (discipline)",{"$f":"IF(MIN(B44:B53)=0,\"\",MIN(B44:B53))","v":""},{"$f":"IF(MAX(C44:C53)=0,\"\",MAX(C44:C53))","v":""},{"$f":"IF(MAX(D44:D53)=0,\"\",MAX(D44:D53))","v":""},{"$f":"IF(MAX(E44:E53)=0,\"\",MAX(E44:E53))","v":""},{"$f":"IF(MAX(F44:F53)=0,\"\",MAX(F44:F53))","v":""},{"$f":"IF(MAX(G44:G53)=0,\"\",MAX(G44:G53))","v":""},null,{"$f":"SUM(I44:I53)","v":0},{"$f":"SUM(J44:J53)","v":0}]
["Commentaires ou notes explicatives sur les composants majeurs critiques auscultés\n\n(¨  Notes supplémentaires et/ou photos disponibles)"]
["RELEVÉ DES COMPOSANTS MAJEURS D'INSTRUMENTATION ET DE CONTRÔLE"]
["Composants majeurs","Année d'installation","Durée de vie utile théorique","% Durée de vie écoulée","État physique","État fonctionnel","Année d'évaluation","Type d'évaluation*","Valeur de remplacement ($)","Coût de l'intervention ($)","Type d'intervention**","Année d'intervention"]
[null,null,{"$f":"IF(B58=\"\",\"\",Données!$E$83)","v":""},{"$f":"IF(B58=\"\",\"\",(Annee_BI-B58)/C58)","v":""}]
[null,null,{"$f":"IF(B59=\"\",\"\",Données!$E$83)","v":""},""]
[null,null,{"$f":"IF(B60=\"\",\"\",Données!$E$83)","v":""},""]
[null,null,{"$f":"IF(B61=\"\",\"\",Données!$E$83)","v":""},""]
[null,null,{"$f":"IF(B62=\"\",\"\",Données!$E$83)","v":""},""]
[null,null,{"$f":"IF(B63=\"\",\"\",Données!$E$83)","v":""},""]
[null,null,{"$f":"IF(B64=\"\",\"\",Données!$E$83)","v":""},""]
[null,null,{"$f":"IF(B65=\"\",\"\",Données!$E$83)","v":""},""]
[null,null,{"$f":"IF(B66=\"\",\"\",Données!$E$83)","v":""},""]
[null,null,{"$f":"IF(B67=\"\",\"\",Données!$E$83)","v":""},""]
["Récapitulatif des résultats (discipline)",{"$f":"IF(MIN(B58:B67)=0,\"\",MIN(B58:B67))","v":""},{"$f":"IF(MAX(C58:C67)=0,\"\",MAX(C58:C67))","v":""},{"$f":"IF(MAX(D58:D67)=0,\"\",MAX(D58:D67))","v":""},{"$f":"IF(MAX(E58:E67)=0,\"\",MAX(E58:E67))","v":""},{"$f":"IF(MAX(F58:F67)=0,\"\",MAX(F58:F67))","v":""},{"$f":"IF(MAX(G58:G67)=0,\"\",MAX(G58:G67))","v":""},null,{"$f":"SUM(I58:I67)","v":0},{"$f":"SUM(J58:J67)","v":0}]
["Commentaires ou notes explicatives sur les composants majeurs critiques auscultés\n\n(¨  Notes supplémentaires et/ou photos disponibles)"]

{"sheet":"EU_Pompage","index":44,"n_rows":69,"n_cols":12,"rows_kept":69,"cut":false,"hidden":true,"merged":[[54,1,54,11],[55,0,55,11],[68,1,68,11],[8,8,8,11],[9,1,9,5],[9,6,9,7],[9,8,9,11],[10,1,10,5],[10,6,10,7],[10,8,10,11],[11,1,11,5],[11,6,11,7],[11,8,11,11],[13,0,13,11],[26,1,26,11],[27,0,27,11],[1,1,1,5],[1,6,1,8],[1,9,1,11],[2,1,2,5],[2,6,2,8],[2,9,2,11],[40,1,40,11],[41,0,41,11],[6,1,6,5],[6,6,6,7],[6,8,6,11],[7,1,7,5],[7,6,7,7],[7,8,7,11],[8,1,8,5],[8,6,8,7],[3,1,3,5],[3,6,3,8],[3,9,3,11],[4,0,4,11],[5,1,5,5],[5,6,5,7],[5,8,5,11]]}
["IDENTIFICATION DU SYSTÈME",null,null,null,null,null,null,null,null,"Consulter l'aide se rapportant aux procédés de l'ouvrage"]
["Type d'infrastructure :",{"$f":"IF(Identification!H61=0,\"\",Identification!H61)","v":""},null,null,null,null,"         Sous-type d'infrastructure :",null,null,{"$f":"IF(Identification!H62=0,\"\",Identification!H62)","v":""}]
["Nom de l'infrastructure :",{"$f":"IF(Identification!H63=0,\"\",Identification!H63)","v":""},null,null,null,null,"         Type de système :",null,null,"Pompage"]
["Année d'installation :",{"$f":"Identification!H66","v":0},null,null,null,null,"         Valeur de remplacement :",null,null,{"$f":"IF(I26+I40+I54+I68=0,\"\",I26+I40+I54+I68)","v":""}]
["CRITÈRES D'ÉVALUATION DES COMPOSANTS MAJEURS"]
["Cote","État physique",null,null,null,null,"Cote",null,"État fonctionnel"]
[0,"Le composant majeur n'a pas été ausculté",null,null,null,null,0,null,"Le composant majeur n'a pas été ausculté"]
[1,"Le composant majeur est récent ou remis à neuf",null,null,null,null,1,null,"Le fonctionnement du composant majeur est comme « neuf » et comme attendu. Le composant répond parfaitement aux normes techniques de conception ainsi qu’aux normes de santé et de sécurité en vigueur."]
[2,"Le composant majeur présente un niveau léger de dégradation ou de défectuosité",null,null,null,null,2,null,"Le fonctionnement du composant majeur est adéquat. Le composant répond adéquatement aux normes techniques de conception ainsi qu’aux normes de santé et de sécurité en vigueur."]
[3,"Le composant majeur présente un niveau modéré de dégradation ou de défectuosité",null,null,null,null,3,null,"Le fonctionnement du composant majeur est intermittent mais ne nuit pas au procédé. Le composant répond adéquatement aux normes techniques de conception ainsi qu’aux normes de santé et de sécurité en vigueur."]
[4,"Le composant majeur présente un niveau élevé de dégradation ou de défectuosité",null,null,null,null,4,null,"Le fonctionnement du composant majeur est intermittent et nuit au procédé. Le composant est très près de ne pas répondre aux normes techniques de conception mais répond aux normes de santé et de sécurité en vigueur."]
[5,"Le composant majeur présente un niveau très élevé de dégradation ou de défectuosité",null,null,null,null,5,null,"Le fonctionnement du composant majeur est déficient et empêche le procédé de s’effectuer. Le composant ne répond pas aux normes techniques de conception et/ou ne répond pas aux normes de santé et de sécurité en vigueur."]
["*Type d'évaluation : Visuelle (V), Opérateur (O), Mesure (M)",null,null,null,null,null,"**Type d'intervention : Ajout (AJ), Remplacement (RP), Réfection majeure (RFM), Expertise complémentaire (DE)"]
["RELEVÉ DES COMPOSANTS MAJEURS CIVILS"]
["Composants majeurs","Année d'installation","Durée de vie utile théorique","% Durée de vie écoulée","État physique","État fonctionnel","Année d'évaluation","Type d'évaluation*","Valeur de remplacement ($)","Coût de l'intervention ($)","Type d'intervention**","Année d'intervention"]
[null,null,{"$f":"IF(B16=\"\",\"\",Données!$E$80)","v":""},{"$f":"IF(B16=\"\",\"\",(Annee_BI-B16)/C16)","v":""}]
[null,null,{"$f":"IF(B17=\"\",\"\",Données!$E$80)","v":""},""]
[null,null,{"$f":"IF(B18=\"\",\"\",Données!$E$80)","v":""},""]
[null,null,{"$f":"IF(B19=\"\",\"\",Données!$E$80)","v":""},""]
[null,null,{"$f":"IF(B20=\"\",\"\",Données!$E$80)","v":""},""]
[null,null,{"$f":"IF(B21=\"\",\"\",Données!$E$80)","v":""},""]
[null,null,{"$f":"IF(B22=\"\",\"\",Données!$E$80)","v":""},""]
[null,null,{"$f":"IF(B23=\"\",\"\",Données!$E$80)","v":""},""]
[null,null,{"$f":"IF(B24=\"\",\"\",Données!$E$80)","v":""},""]
[null,null,{"$f":"IF(B25=\"\",\"\",Données!$E$80)","v":""},""]
["Récapitulatif des résultats (discipline)",{"$f":"IF(MIN(B16:B25)=0,\"\",MIN(B16:B25))","v":""},{"$f":"IF(MAX(C16:C25)=0,\"\",MAX(C16:C25))","v":""},{"$f":"IF(MAX(D16:D25)=0,\"\",MAX(D16:D25))","v":""},{"$f":"IF(MAX(E16:E25)=0,\"\",MAX(E16:E25))","v":""},{"$f":"IF(MAX(F16:F25)=0,\"\",MAX(F16:F25))","v":""},{"$f":"IF(MAX(G16:G25)=0,\"\",MAX(G16:G25))","v":""},null,{"$f":"SUM(I16:I25)","v":0},{"$f":"SUM(J16:J25)","v":0}]
["Commentaires ou notes explicatives sur les composants majeurs critiques auscultés\n\n(¨  Notes supplémentaires et/ou photos disponibles)","\n"]
["RELEVÉ DES COMPOSANTS MAJEURS MÉCANIQUES"]
["Composants majeurs","Année d'installation","Durée de vie utile théorique","% Durée de vie écoulée","État physique","État fonctionnel","Année d'évaluation","Type d'évaluation*","Valeur de remplacement ($)","Coût de l'intervention ($)","Type d'intervention**","Année d'intervention"]
[null,null,{"$f":"IF(B30=\"\",\"\",Données!$E$81)","v":""},{"$f":"IF(B30=\"\",\"\",(Annee_BI-B30)/C30)","v":""}]
[null,null,{"$f":"IF(B31=\"\",\"\",Données!$E$81)","v":""},""]
[null,null,{"$f":"IF(B32=\"\",\"\",Données!$E$81)","v":""},""]
[null,null,{"$f":"IF(B33=\"\",\"\",Données!$E$81)","v":""},""]
[null,null,{"$f":"IF(B34=\"\",\"\",Données!$E$81)","v":""},""]
[null,null,{"$f":"IF(B35=\"\",\"\",Données!$E$81)","v":""},""]
[null,null,{"$f":"IF(B36=\"\",\"\",Données!$E$81)","v":""},""]
[null,null,{"$f":"IF(B37=\"\",\"\",Données!$E$81)","v":""},""]
[null,null,{"$f":"IF(B38=\"\",\"\",Données!$E$81)","v":""},""]
[null,null,{"$f":"IF(B39=\"\",\"\",Données!$E$81)","v":""},""]
["Récapitulatif des résultats (discipline)",{"$f":"IF(MIN(B30:B39)=0,\"\",MIN(B30:B39))","v":""},{"$f":"IF(MAX(C30:C39)=0,\"\",MAX(C30:C39))","v":""},{"$f":"IF(MAX(D30:D39)=0,\"\",MAX(D30:D39))","v":""},{"$f":"IF(MAX(E30:E39)=0,\"\",MAX(E30:E39))","v":""},{"$f":"IF(MAX(F30:F39)=0,\"\",MAX(F30:F39))","v":""},{"$f":"IF(MAX(G30:G39)=0,\"\",MAX(G30:G39))","v":""},null,{"$f":"SUM(I30:I39)","v":0},{"$f":"SUM(J30:J39)","v":0}]
["Commentaires ou notes explicatives sur les composants majeurs critiques auscultés\n\n(¨  Notes supplémentaires et/ou photos disponibles)","\n"]
["RELEVÉ DES COMPOSANTS MAJEURS ÉLECTRIQUES"]
["Composants majeurs","Année d'installation","Durée de vie utile théorique","% Durée de vie écoulée","État physique","État fonctionnel","Année d'auscultation","Type d'évaluation*","Valeur de remplacement ($)","Coût de l'intervention ($)","Type d'intervention**","Année d'intervention"]
[null,null,{"$f":"IF(B44=\"\",\"\",Données!$E$82)","v":""},{"$f":"IF(B44=\"\",\"\",(Annee_BI-B44)/C44)","v":""}]
[null,null,{"$f":"IF(B45=\"\",\"\",Données!$E$82)","v":""},""]
[null,null,{"$f":"IF(B46=\"\",\"\",Données!$E$82)","v":""},""]
[null,null,{"$f":"IF(B47=\"\",\"\",Données!$E$82)","v":""},""]
[null,null,{"$f":"IF(B48=\"\",\"\",Données!$E$82)","v":""},""]
[null,null,{"$f":"IF(B49=\"\",\"\",Données!$E$82)","v":""},""]
[null,null,{"$f":"IF(B50=\"\",\"\",Données!$E$82)","v":""},""]
[null,null,{"$f":"IF(B51=\"\",\"\",Données!$E$82)","v":""},""]
[null,null,{"$f":"IF(B52=\"\",\"\",Données!$E$82)","v":""},""]
[null,null,{"$f":"IF(B53=\"\",\"\",Données!$E$82)","v":""},""]
["Récapitulatif des résultats (discipline)",{"$f":"IF(MIN(B44:B53)=0,\"\",MIN(B44:B53))","v":""},{"$f":"IF(MAX(C44:C53)=0,\"\",MAX(C44:C53))","v":""},{"$f":"IF(MAX(D44:D53)=0,\"\",MAX(D44:D53))","v":""},{"$f":"IF(MAX(E44:E53)=0,\"\",MAX(E44:E53))","v":""},{"$f":"IF(MAX(F44:F53)=0,\"\",MAX(F44:F53))","v":""},{"$f":"IF(MAX(G44:G53)=0,\"\",MAX(G44:G53))","v":""},null,{"$f":"SUM(I44:I53)","v":0},{"$f":"SUM(J44:J53)","v":0}]
["Commentaires ou notes explicatives sur les composants majeurs critiques auscultés\n\n(¨  Notes supplémentaires et/ou photos disponibles)"]
["RELEVÉ DES COMPOSANTS MAJEURS D'INSTRUMENTATION ET DE CONTRÔLE"]
["Composants majeurs","Année d'installation","Durée de vie utile théorique","% Durée de vie écoulée","État physique","État fonctionnel","Année d'évaluation","Type d'évaluation*","Valeur de remplacement ($)","Coût de l'intervention ($)","Type d'intervention**","Année d'intervention"]
[null,null,{"$f":"IF(B58=\"\",\"\",Données!$E$83)","v":""},{"$f":"IF(B58=\"\",\"\",(Annee_BI-B58)/C58)","v":""}]
[null,null,{"$f":"IF(B59=\"\",\"\",Données!$E$83)","v":""},""]
[null,null,{"$f":"IF(B60=\"\",\"\",Données!$E$83)","v":""},""]
[null,null,{"$f":"IF(B61=\"\",\"\",Données!$E$83)","v":""},""]
[null,null,{"$f":"IF(B62=\"\",\"\",Données!$E$83)","v":""},""]
[null,null,{"$f":"IF(B63=\"\",\"\",Données!$E$83)","v":""},""]
[null,null,{"$f":"IF(B64=\"\",\"\",Données!$E$83)","v":""},""]
[null,null,{"$f":"IF(B65=\"\",\"\",Données!$E$83)","v":""},""]
[null,null,{"$f":"IF(B66=\"\",\"\",Données!$E$83)","v":""},""]
[null,null,{"$f":"IF(B67=\"\",\"\",Données!$E$83)","v":""},""]
["Récapitulatif des résultats (discipline)",{"$f":"IF(MIN(B58:B67)=0,\"\",MIN(B58:B67))","v":""},{"$f":"IF(MAX(C58:C67)=0,\"\",MAX(C58:C67))","v":""},{"$f":"IF(MAX(D58:D67)=0,\"\",MAX(D58:D67))","v":""},{"$f":"IF(MAX(E58:E67)=0,\"\",MAX(E58:E67))","v":""},{"$f":"IF(MAX(F58:F67)=0,\"\",MAX(F58:F67))","v":""},{"$f":"IF(MAX(G58:G67)=0,\"\",MAX(G58:G67))","v":""},null,{"$f":"SUM(I58:I67)","v":0},{"$f":"SUM(J58:J67)","v":0}]
["Commentaires ou notes explicatives sur les composants majeurs critiques auscultés\n\n(¨  Notes supplémentaires et/ou photos disponibles)"]

{"sheet":"EU_Chambre","index":45,"n_rows":69,"n_cols":12,"rows_kept":69,"cut":false,"hidden":true,"merged":[[54,1,54,11],[55,0,55,11],[68,1,68,11],[8,8,8,11],[9,1,9,5],[9,6,9,7],[9,8,9,11],[10,1,10,5],[10,6,10,7],[10,8,10,11],[11,1,11,5],[11,6,11,7],[11,8,11,11],[13,0,13,11],[26,1,26,11],[27,0,27,11],[1,1,1,5],[1,6,1,8],[1,9,1,11],[2,1,2,5],[2,6,2,8],[2,9,2,11],[40,1,40,11],[41,0,41,11],[6,1,6,5],[6,6,6,7],[6,8,6,11],[7,1,7,5],[7,6,7,7],[7,8,7,11],[8,1,8,5],[8,6,8,7],[3,1,3,5],[3,6,3,8],[3,9,3,11],[4,0,4,11],[5,1,5,5],[5,6,5,7],[5,8,5,11]]}
["IDENTIFICATION DU SYSTÈME",null,null,null,null,null,null,null,null,"Consulter l'aide se rapportant aux procédés de l'ouvrage"]
["Type d'infrastructure :",{"$f":"IF(Identification!H61=0,\"\",Identification!H61)","v":""},null,null,null,null,"         Sous-type d'infrastructure :",null,null,{"$f":"IF(Identification!H62=0,\"\",Identification!H62)","v":""}]
["Nom de l'infrastructure :",{"$f":"IF(Identification!H63=0,\"\",Identification!H63)","v":""},null,null,null,null,"         Type de système :",null,null,"Chambre (EU)"]
["Année d'installation :",{"$f":"Identification!H66","v":0},null,null,null,null,"         Valeur de remplacement :",null,null,{"$f":"IF(I26+I40+I54+I68=0,\"\",I26+I40+I54+I68)","v":""}]
["CRITÈRES D'ÉVALUATION DES COMPOSANTS MAJEURS"]
["Cote","État physique",null,null,null,null,"Cote",null,"État fonctionnel"]
[0,"Le composant majeur n'a pas été ausculté",null,null,null,null,0,null,"Le composant majeur n'a pas été ausculté"]
[1,"Le composant majeur est récent ou remis à neuf",null,null,null,null,1,null,"Le fonctionnement du composant majeur est comme « neuf » et comme attendu. Le composant répond parfaitement aux normes techniques de conception ainsi qu’aux normes de santé et de sécurité en vigueur."]
[2,"Le composant majeur présente un niveau léger de dégradation ou de défectuosité",null,null,null,null,2,null,"Le fonctionnement du composant majeur est adéquat. Le composant répond adéquatement aux normes techniques de conception ainsi qu’aux normes de santé et de sécurité en vigueur."]
[3,"Le composant majeur présente un niveau modéré de dégradation ou de défectuosité",null,null,null,null,3,null,"Le fonctionnement du composant majeur est intermittent mais ne nuit pas au procédé. Le composant répond adéquatement aux normes techniques de conception ainsi qu’aux normes de santé et de sécurité en vigueur."]
[4,"Le composant majeur présente un niveau élevé de dégradation ou de défectuosité",null,null,null,null,4,null,"Le fonctionnement du composant majeur est intermittent et nuit au procédé. Le composant est très près de ne pas répondre aux normes techniques de conception mais répond aux normes de santé et de sécurité en vigueur."]
[5,"Le composant majeur présente un niveau très élevé de dégradation ou de défectuosité",null,null,null,null,5,null,"Le fonctionnement du composant majeur est déficient et empêche le procédé de s’effectuer. Le composant ne répond pas aux normes techniques de conception et/ou ne répond pas aux normes de santé et de sécurité en vigueur."]
["*Type d'évaluation : Visuelle (V), Opérateur (O), Mesure (M)",null,null,null,null,null,"**Type d'intervention : Ajout (AJ), Remplacement (RP), Réfection majeure (RFM), Expertise complémentaire (DE)"]
["RELEVÉ DES COMPOSANTS MAJEURS CIVILS"]
["Composants majeurs","Année d'installation","Durée de vie utile théorique","% Durée de vie écoulée","État physique","État fonctionnel","Année d'évaluation","Type d'évaluation*","Valeur de remplacement ($)","Coût de l'intervention ($)","Type d'intervention**","Année d'intervention"]
[null,null,{"$f":"IF(B16=\"\",\"\",Données!$E$80)","v":""},{"$f":"IF(B16=\"\",\"\",(Annee_BI-B16)/C16)","v":""}]
[null,null,{"$f":"IF(B17=\"\",\"\",Données!$E$80)","v":""},""]
[null,null,{"$f":"IF(B18=\"\",\"\",Données!$E$80)","v":""},""]
[null,null,{"$f":"IF(B19=\"\",\"\",Données!$E$80)","v":""},""]
[null,null,{"$f":"IF(B20=\"\",\"\",Données!$E$80)","v":""},""]
[null,null,{"$f":"IF(B21=\"\",\"\",Données!$E$80)","v":""},""]
[null,null,{"$f":"IF(B22=\"\",\"\",Données!$E$80)","v":""},""]
[null,null,{"$f":"IF(B23=\"\",\"\",Données!$E$80)","v":""},""]
[null,null,{"$f":"IF(B24=\"\",\"\",Données!$E$80)","v":""},""]
[null,null,{"$f":"IF(B25=\"\",\"\",Données!$E$80)","v":""},""]
["Récapitulatif des résultats (discipline)",{"$f":"IF(MIN(B16:B25)=0,\"\",MIN(B16:B25))","v":""},{"$f":"IF(MAX(C16:C25)=0,\"\",MAX(C16:C25))","v":""},{"$f":"IF(MAX(D16:D25)=0,\"\",MAX(D16:D25))","v":""},{"$f":"IF(MAX(E16:E25)=0,\"\",MAX(E16:E25))","v":""},{"$f":"IF(MAX(F16:F25)=0,\"\",MAX(F16:F25))","v":""},{"$f":"IF(MAX(G16:G25)=0,\"\",MAX(G16:G25))","v":""},null,{"$f":"SUM(I16:I25)","v":0},{"$f":"SUM(J16:J25)","v":0}]
["Commentaires ou notes explicatives sur les composants majeurs critiques auscultés\n\n(¨  Notes supplémentaires et/ou photos disponibles)","\n"]
["RELEVÉ DES COMPOSANTS MAJEURS MÉCANIQUES"]
["Composants majeurs","Année d'installation","Durée de vie utile théorique","% Durée de vie écoulée","État physique","État fonctionnel","Année d'évaluation","Type d'évaluation*","Valeur de remplacement ($)","Coût de l'intervention ($)","Type d'intervention**","Année d'intervention"]
[null,null,{"$f":"IF(B30=\"\",\"\",Données!$E$81)","v":""},{"$f":"IF(B30=\"\",\"\",(Annee_BI-B30)/C30)","v":""}]
[null,null,{"$f":"IF(B31=\"\",\"\",Données!$E$81)","v":""},""]
[null,null,{"$f":"IF(B32=\"\",\"\",Données!$E$81)","v":""},""]
[null,null,{"$f":"IF(B33=\"\",\"\",Données!$E$81)","v":""},""]
[null,null,{"$f":"IF(B34=\"\",\"\",Données!$E$81)","v":""},""]
[null,null,{"$f":"IF(B35=\"\",\"\",Données!$E$81)","v":""},""]
[null,null,{"$f":"IF(B36=\"\",\"\",Données!$E$81)","v":""},""]
[null,null,{"$f":"IF(B37=\"\",\"\",Données!$E$81)","v":""},""]
[null,null,{"$f":"IF(B38=\"\",\"\",Données!$E$81)","v":""},""]
[null,null,{"$f":"IF(B39=\"\",\"\",Données!$E$81)","v":""},""]
["Récapitulatif des résultats (discipline)",{"$f":"IF(MIN(B30:B39)=0,\"\",MIN(B30:B39))","v":""},{"$f":"IF(MAX(C30:C39)=0,\"\",MAX(C30:C39))","v":""},{"$f":"IF(MAX(D30:D39)=0,\"\",MAX(D30:D39))","v":""},{"$f":"IF(MAX(E30:E39)=0,\"\",MAX(E30:E39))","v":""},{"$f":"IF(MAX(F30:F39)=0,\"\",MAX(F30:F39))","v":""},{"$f":"IF(MAX(G30:G39)=0,\"\",MAX(G30:G39))","v":""},null,{"$f":"SUM(I30:I39)","v":0},{"$f":"SUM(J30:J39)","v":0}]
["Commentaires ou notes explicatives sur les composants majeurs critiques auscultés\n\n(¨  Notes supplémentaires et/ou photos disponibles)","\n"]
["RELEVÉ DES COMPOSANTS MAJEURS ÉLECTRIQUES"]
["Composants majeurs","Année d'installation","Durée de vie utile théorique","% Durée de vie écoulée","État physique","État fonctionnel","Année d'auscultation","Type d'évaluation*","Valeur de remplacement ($)","Coût de l'intervention ($)","Type d'intervention**","Année d'intervention"]
[null,null,{"$f":"IF(B44=\"\",\"\",Données!$E$82)","v":""},{"$f":"IF(B44=\"\",\"\",(Annee_BI-B44)/C44)","v":""}]
[null,null,{"$f":"IF(B45=\"\",\"\",Données!$E$82)","v":""},""]
[null,null,{"$f":"IF(B46=\"\",\"\",Données!$E$82)","v":""},""]
[null,null,{"$f":"IF(B47=\"\",\"\",Données!$E$82)","v":""},""]
[null,null,{"$f":"IF(B48=\"\",\"\",Données!$E$82)","v":""},""]
[null,null,{"$f":"IF(B49=\"\",\"\",Données!$E$82)","v":""},""]
[null,null,{"$f":"IF(B50=\"\",\"\",Données!$E$82)","v":""},""]
[null,null,{"$f":"IF(B51=\"\",\"\",Données!$E$82)","v":""},""]
[null,null,{"$f":"IF(B52=\"\",\"\",Données!$E$82)","v":""},""]
[null,null,{"$f":"IF(B53=\"\",\"\",Données!$E$82)","v":""},""]
["Récapitulatif des résultats (discipline)",{"$f":"IF(MIN(B44:B53)=0,\"\",MIN(B44:B53))","v":""},{"$f":"IF(MAX(C44:C53)=0,\"\",MAX(C44:C53))","v":""},{"$f":"IF(MAX(D44:D53)=0,\"\",MAX(D44:D53))","v":""},{"$f":"IF(MAX(E44:E53)=0,\"\",MAX(E44:E53))","v":""},{"$f":"IF(MAX(F44:F53)=0,\"\",MAX(F44:F53))","v":""},{"$f":"IF(MAX(G44:G53)=0,\"\",MAX(G44:G53))","v":""},null,{"$f":"SUM(I44:I53)","v":0},{"$f":"SUM(J44:J53)","v":0}]
["Commentaires ou notes explicatives sur les composants majeurs critiques auscultés\n\n(¨  Notes supplémentaires et/ou photos disponibles)"]
["RELEVÉ DES COMPOSANTS MAJEURS D'INSTRUMENTATION ET DE CONTRÔLE"]
["Composants majeurs","Année d'installation","Durée de vie utile théorique","% Durée de vie écoulée","État physique","État fonctionnel","Année d'évaluation","Type d'évaluation*","Valeur de remplacement ($)","Coût de l'intervention ($)","Type d'intervention**","Année d'intervention"]
[null,null,{"$f":"IF(B58=\"\",\"\",Données!$E$83)","v":""},{"$f":"IF(B58=\"\",\"\",(Annee_BI-B58)/C58)","v":""}]
[null,null,{"$f":"IF(B59=\"\",\"\",Données!$E$83)","v":""},""]
[null,null,{"$f":"IF(B60=\"\",\"\",Données!$E$83)","v":""},""]
[null,null,{"$f":"IF(B61=\"\",\"\",Données!$E$83)","v":""},""]
[null,null,{"$f":"IF(B62=\"\",\"\",Données!$E$83)","v":""},""]
[null,null,{"$f":"IF(B63=\"\",\"\",Données!$E$83)","v":""},""]
[null,null,{"$f":"IF(B64=\"\",\"\",Données!$E$83)","v":""},""]
[null,null,{"$f":"IF(B65=\"\",\"\",Données!$E$83)","v":""},""]
[null,null,{"$f":"IF(B66=\"\",\"\",Données!$E$83)","v":""},""]
[null,null,{"$f":"IF(B67=\"\",\"\",Données!$E$83)","v":""},""]
["Récapitulatif des résultats (discipline)",{"$f":"IF(MIN(B58:B67)=0,\"\",MIN(B58:B67))","v":""},{"$f":"IF(MAX(C58:C67)=0,\"\",MAX(C58:C67))","v":""},{"$f":"IF(MAX(D58:D67)=0,\"\",MAX(D58:D67))","v":""},{"$f":"IF(MAX(E58:E67)=0,\"\",MAX(E58:E67))","v":""},{"$f":"IF(MAX(F58:F67)=0,\"\",MAX(F58:F67))","v":""},{"$f":"IF(MAX(G58:G67)=0,\"\",MAX(G58:G67))","v":""},null,{"$f":"SUM(I58:I67)","v":0},{"$f":"SUM(J58:J67)","v":0}]
["Commentaires ou notes explicatives sur les composants majeurs critiques auscultés\n\n(¨  Notes supplémentaires et/ou photos disponibles)"]

{"sheet":"EPL_Pompage","index":46,"n_rows":69,"n_cols":12,"rows_kept":69,"cut":false,"hidden":true,"merged":[[54,1,54,11],[55,0,55,11],[68,1,68,11],[8,8,8,11],[9,1,9,5],[9,6,9,7],[9,8,9,11],[10,1,10,5],[10,6,10,7],[10,8,10,11],[11,1,11,5],[11,6,11,7],[11,8,11,11],[13,0,13,11],[26,1,26,11],[27,0,27,11],[1,1,1,5],[1,6,1,8],[1,9,1,11],[2,1,2,5],[2,6,2,8],[2,9,2,11],[40,1,40,11],[41,0,41,11],[6,1,6,5],[6,6,6,7],[6,8,6,11],[7,1,7,5],[7,6,7,7],[7,8,7,11],[8,1,8,5],[8,6,8,7],[3,1,3,5],[3,6,3,8],[3,9,3,11],[4,0,4,11],[5,1,5,5],[5,6,5,7],[5,8,5,11]]}
["IDENTIFICATION DU SYSTÈME",null,null,null,null,null,null,null,null,"Consulter l'aide se rapportant aux procédés de l'ouvrage"]
["Type d'infrastructure :",{"$f":"IF(Identification!H61=0,\"\",Identification!H61)","v":""},null,null,null,null,"         Sous-type d'infrastructure :",null,null,{"$f":"IF(Identification!H62=0,\"\",Identification!H62)","v":""}]
["Nom de l'infrastructure :",{"$f":"IF(Identification!H63=0,\"\",Identification!H63)","v":""},null,null,null,null,"         Type de système :",null,null,"Pompage"]
["Année d'installation :",{"$f":"Identification!H66","v":0},null,null,null,null,"         Valeur de remplacement :",null,null,{"$f":"IF(I26+I40+I54+I68=0,\"\",I26+I40+I54+I68)","v":""}]
["CRITÈRES D'ÉVALUATION DES COMPOSANTS MAJEURS"]
["Cote","État physique",null,null,null,null,"Cote",null,"État fonctionnel"]
[0,"Le composant majeur n'a pas été ausculté",null,null,null,null,0,null,"Le composant majeur n'a pas été ausculté"]
[1,"Le composant majeur est récent ou remis à neuf",null,null,null,null,1,null,"Le fonctionnement du composant majeur est comme « neuf » et comme attendu. Le composant répond parfaitement aux normes techniques de conception ainsi qu’aux normes de santé et de sécurité en vigueur."]
[2,"Le composant majeur présente un niveau léger de dégradation ou de défectuosité",null,null,null,null,2,null,"Le fonctionnement du composant majeur est adéquat. Le composant répond adéquatement aux normes techniques de conception ainsi qu’aux normes de santé et de sécurité en vigueur."]
[3,"Le composant majeur présente un niveau modéré de dégradation ou de défectuosité",null,null,null,null,3,null,"Le fonctionnement du composant majeur est intermittent mais ne nuit pas au procédé. Le composant répond adéquatement aux normes techniques de conception ainsi qu’aux normes de santé et de sécurité en vigueur."]
[4,"Le composant majeur présente un niveau élevé de dégradation ou de défectuosité",null,null,null,null,4,null,"Le fonctionnement du composant majeur est intermittent et nuit au procédé. Le composant est très près de ne pas répondre aux normes techniques de conception mais répond aux normes de santé et de sécurité en vigueur."]
[5,"Le composant majeur présente un niveau très élevé de dégradation ou de défectuosité",null,null,null,null,5,null,"Le fonctionnement du composant majeur est déficient et empêche le procédé de s’effectuer. Le composant ne répond pas aux normes techniques de conception et/ou ne répond pas aux normes de santé et de sécurité en vigueur."]
["*Type d'évaluation : Visuelle (V), Opérateur (O), Mesure (M)",null,null,null,null,null,"**Type d'intervention : Ajout (AJ), Remplacement (RP), Réfection majeure (RFM), Expertise complémentaire (DE)"]
["RELEVÉ DES COMPOSANTS MAJEURS CIVILS"]
["Composants majeurs","Année d'installation","Durée de vie utile théorique","% Durée de vie écoulée","État physique","État fonctionnel","Année d'évaluation","Type d'évaluation*","Valeur de remplacement ($)","Coût de l'intervention ($)","Type d'intervention**","Année d'intervention"]
[null,null,{"$f":"IF(B16=\"\",\"\",Données!$E$80)","v":""},{"$f":"IF(B16=\"\",\"\",(Annee_BI-B16)/C16)","v":""}]
[null,null,{"$f":"IF(B17=\"\",\"\",Données!$E$80)","v":""},""]
[null,null,{"$f":"IF(B18=\"\",\"\",Données!$E$80)","v":""},""]
[null,null,{"$f":"IF(B19=\"\",\"\",Données!$E$80)","v":""},""]
[null,null,{"$f":"IF(B20=\"\",\"\",Données!$E$80)","v":""},""]
[null,null,{"$f":"IF(B21=\"\",\"\",Données!$E$80)","v":""},""]
[null,null,{"$f":"IF(B22=\"\",\"\",Données!$E$80)","v":""},""]
[null,null,{"$f":"IF(B23=\"\",\"\",Données!$E$80)","v":""},""]
[null,null,{"$f":"IF(B24=\"\",\"\",Données!$E$80)","v":""},""]
[null,null,{"$f":"IF(B25=\"\",\"\",Données!$E$80)","v":""},""]
["Récapitulatif des résultats (discipline)",{"$f":"IF(MIN(B16:B25)=0,\"\",MIN(B16:B25))","v":""},{"$f":"IF(MAX(C16:C25)=0,\"\",MAX(C16:C25))","v":""},{"$f":"IF(MAX(D16:D25)=0,\"\",MAX(D16:D25))","v":""},{"$f":"IF(MAX(E16:E25)=0,\"\",MAX(E16:E25))","v":""},{"$f":"IF(MAX(F16:F25)=0,\"\",MAX(F16:F25))","v":""},{"$f":"IF(MAX(G16:G25)=0,\"\",MAX(G16:G25))","v":""},null,{"$f":"SUM(I16:I25)","v":0},{"$f":"SUM(J16:J25)","v":0}]
["Commentaires ou notes explicatives sur les composants majeurs critiques auscultés\n\n(¨  Notes supplémentaires et/ou photos disponibles)","\n"]
["RELEVÉ DES COMPOSANTS MAJEURS MÉCANIQUES"]
["Composants majeurs","Année d'installation","Durée de vie utile théorique","% Durée de vie écoulée","État physique","État fonctionnel","Année d'évaluation","Type d'évaluation*","Valeur de remplacement ($)","Coût de l'intervention ($)","Type d'intervention**","Année d'intervention"]
[null,null,{"$f":"IF(B30=\"\",\"\",Données!$E$81)","v":""},{"$f":"IF(B30=\"\",\"\",(Annee_BI-B30)/C30)","v":""}]
[null,null,{"$f":"IF(B31=\"\",\"\",Données!$E$81)","v":""},""]
[null,null,{"$f":"IF(B32=\"\",\"\",Données!$E$81)","v":""},""]
[null,null,{"$f":"IF(B33=\"\",\"\",Données!$E$81)","v":""},""]
[null,null,{"$f":"IF(B34=\"\",\"\",Données!$E$81)","v":""},""]
[null,null,{"$f":"IF(B35=\"\",\"\",Données!$E$81)","v":""},""]
[null,null,{"$f":"IF(B36=\"\",\"\",Données!$E$81)","v":""},""]
[null,null,{"$f":"IF(B37=\"\",\"\",Données!$E$81)","v":""},""]
[null,null,{"$f":"IF(B38=\"\",\"\",Données!$E$81)","v":""},""]
[null,null,{"$f":"IF(B39=\"\",\"\",Données!$E$81)","v":""},""]
["Récapitulatif des résultats (discipline)",{"$f":"IF(MIN(B30:B39)=0,\"\",MIN(B30:B39))","v":""},{"$f":"IF(MAX(C30:C39)=0,\"\",MAX(C30:C39))","v":""},{"$f":"IF(MAX(D30:D39)=0,\"\",MAX(D30:D39))","v":""},{"$f":"IF(MAX(E30:E39)=0,\"\",MAX(E30:E39))","v":""},{"$f":"IF(MAX(F30:F39)=0,\"\",MAX(F30:F39))","v":""},{"$f":"IF(MAX(G30:G39)=0,\"\",MAX(G30:G39))","v":""},null,{"$f":"SUM(I30:I39)","v":0},{"$f":"SUM(J30:J39)","v":0}]
["Commentaires ou notes explicatives sur les composants majeurs critiques auscultés\n\n(¨  Notes supplémentaires et/ou photos disponibles)","\n"]
["RELEVÉ DES COMPOSANTS MAJEURS ÉLECTRIQUES"]
["Composants majeurs","Année d'installation","Durée de vie utile théorique","% Durée de vie écoulée","État physique","État fonctionnel","Année d'auscultation","Type d'évaluation*","Valeur de remplacement ($)","Coût de l'intervention ($)","Type d'intervention**","Année d'intervention"]
[null,null,{"$f":"IF(B44=\"\",\"\",Données!$E$82)","v":""},{"$f":"IF(B44=\"\",\"\",(Annee_BI-B44)/C44)","v":""}]
[null,null,{"$f":"IF(B45=\"\",\"\",Données!$E$82)","v":""},""]
[null,null,{"$f":"IF(B46=\"\",\"\",Données!$E$82)","v":""},""]
[null,null,{"$f":"IF(B47=\"\",\"\",Données!$E$82)","v":""},""]
[null,null,{"$f":"IF(B48=\"\",\"\",Données!$E$82)","v":""},""]
[null,null,{"$f":"IF(B49=\"\",\"\",Données!$E$82)","v":""},""]
[null,null,{"$f":"IF(B50=\"\",\"\",Données!$E$82)","v":""},""]
[null,null,{"$f":"IF(B51=\"\",\"\",Données!$E$82)","v":""},""]
[null,null,{"$f":"IF(B52=\"\",\"\",Données!$E$82)","v":""},""]
[null,null,{"$f":"IF(B53=\"\",\"\",Données!$E$82)","v":""},""]
["Récapitulatif des résultats (discipline)",{"$f":"IF(MIN(B44:B53)=0,\"\",MIN(B44:B53))","v":""},{"$f":"IF(MAX(C44:C53)=0,\"\",MAX(C44:C53))","v":""},{"$f":"IF(MAX(D44:D53)=0,\"\",MAX(D44:D53))","v":""},{"$f":"IF(MAX(E44:E53)=0,\"\",MAX(E44:E53))","v":""},{"$f":"IF(MAX(F44:F53)=0,\"\",MAX(F44:F53))","v":""},{"$f":"IF(MAX(G44:G53)=0,\"\",MAX(G44:G53))","v":""},null,{"$f":"SUM(I44:I53)","v":0},{"$f":"SUM(J44:J53)","v":0}]
["Commentaires ou notes explicatives sur les composants majeurs critiques auscultés\n\n(¨  Notes supplémentaires et/ou photos disponibles)"]
["RELEVÉ DES COMPOSANTS MAJEURS D'INSTRUMENTATION ET DE CONTRÔLE"]
["Composants majeurs","Année d'installation","Durée de vie utile théorique","% Durée de vie écoulée","État physique","État fonctionnel","Année d'évaluation","Type d'évaluation*","Valeur de remplacement ($)","Coût de l'intervention ($)","Type d'intervention**","Année d'intervention"]
[null,null,{"$f":"IF(B58=\"\",\"\",Données!$E$83)","v":""},{"$f":"IF(B58=\"\",\"\",(Annee_BI-B58)/C58)","v":""}]
[null,null,{"$f":"IF(B59=\"\",\"\",Données!$E$83)","v":""},""]
[null,null,{"$f":"IF(B60=\"\",\"\",Données!$E$83)","v":""},""]
[null,null,{"$f":"IF(B61=\"\",\"\",Données!$E$83)","v":""},""]
[null,null,{"$f":"IF(B62=\"\",\"\",Données!$E$83)","v":""},""]
[null,null,{"$f":"IF(B63=\"\",\"\",Données!$E$83)","v":""},""]
[null,null,{"$f":"IF(B64=\"\",\"\",Données!$E$83)","v":""},""]
[null,null,{"$f":"IF(B65=\"\",\"\",Données!$E$83)","v":""},""]
[null,null,{"$f":"IF(B66=\"\",\"\",Données!$E$83)","v":""},""]
[null,null,{"$f":"IF(B67=\"\",\"\",Données!$E$83)","v":""},""]
["Récapitulatif des résultats (discipline)",{"$f":"IF(MIN(B58:B67)=0,\"\",MIN(B58:B67))","v":""},{"$f":"IF(MAX(C58:C67)=0,\"\",MAX(C58:C67))","v":""},{"$f":"IF(MAX(D58:D67)=0,\"\",MAX(D58:D67))","v":""},{"$f":"IF(MAX(E58:E67)=0,\"\",MAX(E58:E67))","v":""},{"$f":"IF(MAX(F58:F67)=0,\"\",MAX(F58:F67))","v":""},{"$f":"IF(MAX(G58:G67)=0,\"\",MAX(G58:G67))","v":""},null,{"$f":"SUM(I58:I67)","v":0},{"$f":"SUM(J58:J67)","v":0}]
["Commentaires ou notes explicatives sur les composants majeurs critiques auscultés\n\n(¨  Notes supplémentaires et/ou photos disponibles)"]

{"sheet":"EPL_Stockage","index":47,"n_rows":69,"n_cols":12,"rows_kept":69,"cut":false,"hidden":true,"merged":[[54,1,54,11],[55,0,55,11],[68,1,68,11],[8,8,8,11],[9,1,9,5],[9,6,9,7],[9,8,9,11],[10,1,10,5],[10,6,10,7],[10,8,10,11],[11,1,11,5],[11,6,11,7],[11,8,11,11],[13,0,13,11],[26,1,26,11],[27,0,27,11],[1,1,1,5],[1,6,1,8],[1,9,1,11],[2,1,2,5],[2,6,2,8],[2,9,2,11],[40,1,40,11],[41,0,41,11],[6,1,6,5],[6,6,6,7],[6,8,6,11],[7,1,7,5],[7,6,7,7],[7,8,7,11],[8,1,8,5],[8,6,8,7],[3,1,3,5],[3,6,3,8],[3,9,3,11],[4,0,4,11],[5,1,5,5],[5,6,5,7],[5,8,5,11]]}
["IDENTIFICATION DU SYSTÈME",null,null,null,null,null,null,null,null,"Consulter l'aide se rapportant aux procédés de l'ouvrage"]
["Type d'infrastructure :",{"$f":"IF(Identification!H61=0,\"\",Identification!H61)","v":""},null,null,null,null,"         Sous-type d'infrastructure :",null,null,{"$f":"IF(Identification!H62=0,\"\",Identification!H62)","v":""}]
["Nom de l'infrastructure :",{"$f":"IF(Identification!H63=0,\"\",Identification!H63)","v":""},null,null,null,null,"         Type de système :",null,null,"Stockage/Traitement"]
["Année d'installation :",{"$f":"Identification!H66","v":0},null,null,null,null,"         Valeur de remplacement :",null,null,{"$f":"IF(I26+I40+I54+I68=0,\"\",I26+I40+I54+I68)","v":""}]
["CRITÈRES D'ÉVALUATION DES COMPOSANTS MAJEURS"]
["Cote","État physique",null,null,null,null,"Cote",null,"État fonctionnel"]
[0,"Le composant majeur n'a pas été ausculté",null,null,null,null,0,null,"Le composant majeur n'a pas été ausculté"]
[1,"Le composant majeur est récent ou remis à neuf",null,null,null,null,1,null,"Le fonctionnement du composant majeur est comme « neuf » et comme attendu. Le composant répond parfaitement aux normes techniques de conception ainsi qu’aux normes de santé et de sécurité en vigueur."]
[2,"Le composant majeur présente un niveau léger de dégradation ou de défectuosité",null,null,null,null,2,null,"Le fonctionnement du composant majeur est adéquat. Le composant répond adéquatement aux normes techniques de conception ainsi qu’aux normes de santé et de sécurité en vigueur."]
[3,"Le composant majeur présente un niveau modéré de dégradation ou de défectuosité",null,null,null,null,3,null,"Le fonctionnement du composant majeur est intermittent mais ne nuit pas au procédé. Le composant répond adéquatement aux normes techniques de conception ainsi qu’aux normes de santé et de sécurité en vigueur."]
[4,"Le composant majeur présente un niveau élevé de dégradation ou de défectuosité",null,null,null,null,4,null,"Le fonctionnement du composant majeur est intermittent et nuit au procédé. Le composant est très près de ne pas répondre aux normes techniques de conception mais répond aux normes de santé et de sécurité en vigueur."]
[5,"Le composant majeur présente un niveau très élevé de dégradation ou de défectuosité",null,null,null,null,5,null,"Le fonctionnement du composant majeur est déficient et empêche le procédé de s’effectuer. Le composant ne répond pas aux normes techniques de conception et/ou ne répond pas aux normes de santé et de sécurité en vigueur."]
["*Type d'évaluation : Visuelle (V), Opérateur (O), Mesure (M)",null,null,null,null,null,"**Type d'intervention : Ajout (AJ), Remplacement (RP), Réfection majeure (RFM), Expertise complémentaire (DE)"]
["RELEVÉ DES COMPOSANTS MAJEURS CIVILS"]
["Composants majeurs","Année d'installation","Durée de vie utile théorique","% Durée de vie écoulée","État physique","État fonctionnel","Année d'évaluation","Type d'évaluation*","Valeur de remplacement ($)","Coût de l'intervention ($)","Type d'intervention**","Année d'intervention"]
[null,null,{"$f":"IF(B16=\"\",\"\",Données!$E$80)","v":""},{"$f":"IF(B16=\"\",\"\",(Annee_BI-B16)/C16)","v":""}]
[null,null,{"$f":"IF(B17=\"\",\"\",Données!$E$80)","v":""},""]
[null,null,{"$f":"IF(B18=\"\",\"\",Données!$E$80)","v":""},""]
[null,null,{"$f":"IF(B19=\"\",\"\",Données!$E$80)","v":""},""]
[null,null,{"$f":"IF(B20=\"\",\"\",Données!$E$80)","v":""},""]
[null,null,{"$f":"IF(B21=\"\",\"\",Données!$E$80)","v":""},""]
[null,null,{"$f":"IF(B22=\"\",\"\",Données!$E$80)","v":""},""]
[null,null,{"$f":"IF(B23=\"\",\"\",Données!$E$80)","v":""},""]
[null,null,{"$f":"IF(B24=\"\",\"\",Données!$E$80)","v":""},""]
[null,null,{"$f":"IF(B25=\"\",\"\",Données!$E$80)","v":""},""]
["Récapitulatif des résultats (discipline)",{"$f":"IF(MIN(B16:B25)=0,\"\",MIN(B16:B25))","v":""},{"$f":"IF(MAX(C16:C25)=0,\"\",MAX(C16:C25))","v":""},{"$f":"IF(MAX(D16:D25)=0,\"\",MAX(D16:D25))","v":""},{"$f":"IF(MAX(E16:E25)=0,\"\",MAX(E16:E25))","v":""},{"$f":"IF(MAX(F16:F25)=0,\"\",MAX(F16:F25))","v":""},{"$f":"IF(MAX(G16:G25)=0,\"\",MAX(G16:G25))","v":""},null,{"$f":"SUM(I16:I25)","v":0},{"$f":"SUM(J16:J25)","v":0}]
["Commentaires ou notes explicatives sur les composants majeurs critiques auscultés\n\n(¨  Notes supplémentaires et/ou photos disponibles)","\n"]
["RELEVÉ DES COMPOSANTS MAJEURS MÉCANIQUES"]
["Composants majeurs","Année d'installation","Durée de vie utile théorique","% Durée de vie écoulée","État physique","État fonctionnel","Année d'évaluation","Type d'évaluation*","Valeur de remplacement ($)","Coût de l'intervention ($)","Type d'intervention**","Année d'intervention"]
[null,null,{"$f":"IF(B30=\"\",\"\",Données!$E$81)","v":""},{"$f":"IF(B30=\"\",\"\",(Annee_BI-B30)/C30)","v":""}]
[null,null,{"$f":"IF(B31=\"\",\"\",Données!$E$81)","v":""},""]
[null,null,{"$f":"IF(B32=\"\",\"\",Données!$E$81)","v":""},""]
[null,null,{"$f":"IF(B33=\"\",\"\",Données!$E$81)","v":""},""]
[null,null,{"$f":"IF(B34=\"\",\"\",Données!$E$81)","v":""},""]
[null,null,{"$f":"IF(B35=\"\",\"\",Données!$E$81)","v":""},""]
[null,null,{"$f":"IF(B36=\"\",\"\",Données!$E$81)","v":""},""]
[null,null,{"$f":"IF(B37=\"\",\"\",Données!$E$81)","v":""},""]
[null,null,{"$f":"IF(B38=\"\",\"\",Données!$E$81)","v":""},""]
[null,null,{"$f":"IF(B39=\"\",\"\",Données!$E$81)","v":""},""]
["Récapitulatif des résultats (discipline)",{"$f":"IF(MIN(B30:B39)=0,\"\",MIN(B30:B39))","v":""},{"$f":"IF(MAX(C30:C39)=0,\"\",MAX(C30:C39))","v":""},{"$f":"IF(MAX(D30:D39)=0,\"\",MAX(D30:D39))","v":""},{"$f":"IF(MAX(E30:E39)=0,\"\",MAX(E30:E39))","v":""},{"$f":"IF(MAX(F30:F39)=0,\"\",MAX(F30:F39))","v":""},{"$f":"IF(MAX(G30:G39)=0,\"\",MAX(G30:G39))","v":""},null,{"$f":"SUM(I30:I39)","v":0},{"$f":"SUM(J30:J39)","v":0}]
["Commentaires ou notes explicatives sur les composants majeurs critiques auscultés\n\n(¨  Notes supplémentaires et/ou photos disponibles)","\n"]
["RELEVÉ DES COMPOSANTS MAJEURS ÉLECTRIQUES"]
["Composants majeurs","Année d'installation","Durée de vie utile théorique","% Durée de vie écoulée","État physique","État fonctionnel","Année d'auscultation","Type d'évaluation*","Valeur de remplacement ($)","Coût de l'intervention ($)","Type d'intervention**","Année d'intervention"]
[null,null,{"$f":"IF(B44=\"\",\"\",Données!$E$82)","v":""},{"$f":"IF(B44=\"\",\"\",(Annee_BI-B44)/C44)","v":""}]
[null,null,{"$f":"IF(B45=\"\",\"\",Données!$E$82)","v":""},""]
[null,null,{"$f":"IF(B46=\"\",\"\",Données!$E$82)","v":""},""]
[null,null,{"$f":"IF(B47=\"\",\"\",Données!$E$82)","v":""},""]
[null,null,{"$f":"IF(B48=\"\",\"\",Données!$E$82)","v":""},""]
[null,null,{"$f":"IF(B49=\"\",\"\",Données!$E$82)","v":""},""]
[null,null,{"$f":"IF(B50=\"\",\"\",Données!$E$82)","v":""},""]
[null,null,{"$f":"IF(B51=\"\",\"\",Données!$E$82)","v":""},""]
[null,null,{"$f":"IF(B52=\"\",\"\",Données!$E$82)","v":""},""]
[null,null,{"$f":"IF(B53=\"\",\"\",Données!$E$82)","v":""},""]
["Récapitulatif des résultats (discipline)",{"$f":"IF(MIN(B44:B53)=0,\"\",MIN(B44:B53))","v":""},{"$f":"IF(MAX(C44:C53)=0,\"\",MAX(C44:C53))","v":""},{"$f":"IF(MAX(D44:D53)=0,\"\",MAX(D44:D53))","v":""},{"$f":"IF(MAX(E44:E53)=0,\"\",MAX(E44:E53))","v":""},{"$f":"IF(MAX(F44:F53)=0,\"\",MAX(F44:F53))","v":""},{"$f":"IF(MAX(G44:G53)=0,\"\",MAX(G44:G53))","v":""},null,{"$f":"SUM(I44:I53)","v":0},{"$f":"SUM(J44:J53)","v":0}]
["Commentaires ou notes explicatives sur les composants majeurs critiques auscultés\n\n(¨  Notes supplémentaires et/ou photos disponibles)"]
["RELEVÉ DES COMPOSANTS MAJEURS D'INSTRUMENTATION ET DE CONTRÔLE"]
["Composants majeurs","Année d'installation","Durée de vie utile théorique","% Durée de vie écoulée","État physique","État fonctionnel","Année d'évaluation","Type d'évaluation*","Valeur de remplacement ($)","Coût de l'intervention ($)","Type d'intervention**","Année d'intervention"]
[null,null,{"$f":"IF(B58=\"\",\"\",Données!$E$83)","v":""},{"$f":"IF(B58=\"\",\"\",(Annee_BI-B58)/C58)","v":""}]
[null,null,{"$f":"IF(B59=\"\",\"\",Données!$E$83)","v":""},""]
[null,null,{"$f":"IF(B60=\"\",\"\",Données!$E$83)","v":""},""]
[null,null,{"$f":"IF(B61=\"\",\"\",Données!$E$83)","v":""},""]
[null,null,{"$f":"IF(B62=\"\",\"\",Données!$E$83)","v":""},""]
[null,null,{"$f":"IF(B63=\"\",\"\",Données!$E$83)","v":""},""]
[null,null,{"$f":"IF(B64=\"\",\"\",Données!$E$83)","v":""},""]
[null,null,{"$f":"IF(B65=\"\",\"\",Données!$E$83)","v":""},""]
[null,null,{"$f":"IF(B66=\"\",\"\",Données!$E$83)","v":""},""]
[null,null,{"$f":"IF(B67=\"\",\"\",Données!$E$83)","v":""},""]
["Récapitulatif des résultats (discipline)",{"$f":"IF(MIN(B58:B67)=0,\"\",MIN(B58:B67))","v":""},{"$f":"IF(MAX(C58:C67)=0,\"\",MAX(C58:C67))","v":""},{"$f":"IF(MAX(D58:D67)=0,\"\",MAX(D58:D67))","v":""},{"$f":"IF(MAX(E58:E67)=0,\"\",MAX(E58:E67))","v":""},{"$f":"IF(MAX(F58:F67)=0,\"\",MAX(F58:F67))","v":""},{"$f":"IF(MAX(G58:G67)=0,\"\",MAX(G58:G67))","v":""},null,{"$f":"SUM(I58:I67)","v":0},{"$f":"SUM(J58:J67)","v":0}]
["Commentaires ou notes explicatives sur les composants majeurs critiques auscultés\n\n(¨  Notes supplémentaires et/ou photos disponibles)"]

{"sheet":"EPL_Régulation_débit","index":48,"n_rows":69,"n_cols":12,"rows_kept":69,"cut":false,"hidden":true,"merged":[[54,1,54,11],[55,0,55,11],[68,1,68,11],[8,8,8,11],[9,1,9,5],[9,6,9,7],[9,8,9,11],[10,1,10,5],[10,6,10,7],[10,8,10,11],[11,1,11,5],[11,6,11,7],[11,8,11,11],[13,0,13,11],[26,1,26,11],[27,0,27,11],[1,1,1,5],[1,6,1,8],[1,9,1,11],[2,1,2,5],[2,6,2,8],[2,9,2,11],[40,1,40,11],[41,0,41,11],[6,1,6,5],[6,6,6,7],[6,8,6,11],[7,1,7,5],[7,6,7,7],[7,8,7,11],[8,1,8,5],[8,6,8,7],[3,1,3,5],[3,6,3,8],[3,9,3,11],[4,0,4,11],[5,1,5,5],[5,6,5,7],[5,8,5,11]]}
["IDENTIFICATION DU SYSTÈME",null,null,null,null,null,null,null,null,"Consulter l'aide se rapportant aux procédés de l'ouvrage"]
["Type d'infrastructure :",{"$f":"IF(Identification!H61=0,\"\",Identification!H61)","v":""},null,null,null,null,"         Sous-type d'infrastructure :",null,null,{"$f":"IF(Identification!H62=0,\"\",Identification!H62)","v":""}]
["Nom de l'infrastructure :",{"$f":"IF(Identification!H63=0,\"\",Identification!H63)","v":""},null,null,null,null,"         Type de système :",null,null,"Régulation de débit"]
["Année d'installation :",{"$f":"Identification!H66","v":0},null,null,null,null,"         Valeur de remplacement :",null,null,{"$f":"IF(I26+I40+I54+I68=0,\"\",I26+I40+I54+I68)","v":""}]
["CRITÈRES D'ÉVALUATION DES COMPOSANTS MAJEURS"]
["Cote","État physique",null,null,null,null,"Cote",null,"État fonctionnel"]
[0,"Le composant majeur n'a pas été ausculté",null,null,null,null,0,null,"Le composant majeur n'a pas été ausculté"]
[1,"Le composant majeur est récent ou remis à neuf",null,null,null,null,1,null,"Le fonctionnement du composant majeur est comme « neuf » et comme attendu. Le composant répond parfaitement aux normes techniques de conception ainsi qu’aux normes de santé et de sécurité en vigueur."]
[2,"Le composant majeur présente un niveau léger de dégradation ou de défectuosité",null,null,null,null,2,null,"Le fonctionnement du composant majeur est adéquat. Le composant répond adéquatement aux normes techniques de conception ainsi qu’aux normes de santé et de sécurité en vigueur."]
[3,"Le composant majeur présente un niveau modéré de dégradation ou de défectuosité",null,null,null,null,3,null,"Le fonctionnement du composant majeur est intermittent mais ne nuit pas au procédé. Le composant répond adéquatement aux normes techniques de conception ainsi qu’aux normes de santé et de sécurité en vigueur."]
[4,"Le composant majeur présente un niveau élevé de dégradation ou de défectuosité",null,null,null,null,4,null,"Le fonctionnement du composant majeur est intermittent et nuit au procédé. Le composant est très près de ne pas répondre aux normes techniques de conception mais répond aux normes de santé et de sécurité en vigueur."]
[5,"Le composant majeur présente un niveau très élevé de dégradation ou de défectuosité",null,null,null,null,5,null,"Le fonctionnement du composant majeur est déficient et empêche le procédé de s’effectuer. Le composant ne répond pas aux normes techniques de conception et/ou ne répond pas aux normes de santé et de sécurité en vigueur."]
["*Type d'évaluation : Visuelle (V), Opérateur (O), Mesure (M)",null,null,null,null,null,"**Type d'intervention : Ajout (AJ), Remplacement (RP), Réfection majeure (RFM), Expertise complémentaire (DE)"]
["RELEVÉ DES COMPOSANTS MAJEURS CIVILS"]
["Composants majeurs","Année d'installation","Durée de vie utile théorique","% Durée de vie écoulée","État physique","État fonctionnel","Année d'évaluation","Type d'évaluation*","Valeur de remplacement ($)","Coût de l'intervention ($)","Type d'intervention**","Année d'intervention"]
[null,null,{"$f":"IF(B16=\"\",\"\",Données!$E$80)","v":""},{"$f":"IF(B16=\"\",\"\",(Annee_BI-B16)/C16)","v":""}]
[null,null,{"$f":"IF(B17=\"\",\"\",Données!$E$80)","v":""},""]
[null,null,{"$f":"IF(B18=\"\",\"\",Données!$E$80)","v":""},""]
[null,null,{"$f":"IF(B19=\"\",\"\",Données!$E$80)","v":""},""]
[null,null,{"$f":"IF(B20=\"\",\"\",Données!$E$80)","v":""},""]
[null,null,{"$f":"IF(B21=\"\",\"\",Données!$E$80)","v":""},""]
[null,null,{"$f":"IF(B22=\"\",\"\",Données!$E$80)","v":""},""]
[null,null,{"$f":"IF(B23=\"\",\"\",Données!$E$80)","v":""},""]
[null,null,{"$f":"IF(B24=\"\",\"\",Données!$E$80)","v":""},""]
[null,null,{"$f":"IF(B25=\"\",\"\",Données!$E$80)","v":""},""]
["Récapitulatif des résultats (discipline)",{"$f":"IF(MIN(B16:B25)=0,\"\",MIN(B16:B25))","v":""},{"$f":"IF(MAX(C16:C25)=0,\"\",MAX(C16:C25))","v":""},{"$f":"IF(MAX(D16:D25)=0,\"\",MAX(D16:D25))","v":""},{"$f":"IF(MAX(E16:E25)=0,\"\",MAX(E16:E25))","v":""},{"$f":"IF(MAX(F16:F25)=0,\"\",MAX(F16:F25))","v":""},{"$f":"IF(MAX(G16:G25)=0,\"\",MAX(G16:G25))","v":""},null,{"$f":"SUM(I16:I25)","v":0},{"$f":"SUM(J16:J25)","v":0}]
["Commentaires ou notes explicatives sur les composants majeurs critiques auscultés\n\n(¨  Notes supplémentaires et/ou photos disponibles)","\n"]
["RELEVÉ DES COMPOSANTS MAJEURS MÉCANIQUES"]
["Composants majeurs","Année d'installation","Durée de vie utile théorique","% Durée de vie écoulée","État physique","État fonctionnel","Année d'évaluation","Type d'évaluation*","Valeur de remplacement ($)","Coût de l'intervention ($)","Type d'intervention**","Année d'intervention"]
[null,null,{"$f":"IF(B30=\"\",\"\",Données!$E$81)","v":""},{"$f":"IF(B30=\"\",\"\",(Annee_BI-B30)/C30)","v":""}]
[null,null,{"$f":"IF(B31=\"\",\"\",Données!$E$81)","v":""},""]
[null,null,{"$f":"IF(B32=\"\",\"\",Données!$E$81)","v":""},""]
[null,null,{"$f":"IF(B33=\"\",\"\",Données!$E$81)","v":""},""]
[null,null,{"$f":"IF(B34=\"\",\"\",Données!$E$81)","v":""},""]
[null,null,{"$f":"IF(B35=\"\",\"\",Données!$E$81)","v":""},""]
[null,null,{"$f":"IF(B36=\"\",\"\",Données!$E$81)","v":""},""]
[null,null,{"$f":"IF(B37=\"\",\"\",Données!$E$81)","v":""},""]
[null,null,{"$f":"IF(B38=\"\",\"\",Données!$E$81)","v":""},""]
[null,null,{"$f":"IF(B39=\"\",\"\",Données!$E$81)","v":""},""]
["Récapitulatif des résultats (discipline)",{"$f":"IF(MIN(B30:B39)=0,\"\",MIN(B30:B39))","v":""},{"$f":"IF(MAX(C30:C39)=0,\"\",MAX(C30:C39))","v":""},{"$f":"IF(MAX(D30:D39)=0,\"\",MAX(D30:D39))","v":""},{"$f":"IF(MAX(E30:E39)=0,\"\",MAX(E30:E39))","v":""},{"$f":"IF(MAX(F30:F39)=0,\"\",MAX(F30:F39))","v":""},{"$f":"IF(MAX(G30:G39)=0,\"\",MAX(G30:G39))","v":""},null,{"$f":"SUM(I30:I39)","v":0},{"$f":"SUM(J30:J39)","v":0}]
["Commentaires ou notes explicatives sur les composants majeurs critiques auscultés\n\n(¨  Notes supplémentaires et/ou photos disponibles)","\n"]
["RELEVÉ DES COMPOSANTS MAJEURS ÉLECTRIQUES"]
["Composants majeurs","Année d'installation","Durée de vie utile théorique","% Durée de vie écoulée","État physique","État fonctionnel","Année d'auscultation","Type d'évaluation*","Valeur de remplacement ($)","Coût de l'intervention ($)","Type d'intervention**","Année d'intervention"]
[null,null,{"$f":"IF(B44=\"\",\"\",Données!$E$82)","v":""},{"$f":"IF(B44=\"\",\"\",(Annee_BI-B44)/C44)","v":""}]
[null,null,{"$f":"IF(B45=\"\",\"\",Données!$E$82)","v":""},""]
[null,null,{"$f":"IF(B46=\"\",\"\",Données!$E$82)","v":""},""]
[null,null,{"$f":"IF(B47=\"\",\"\",Données!$E$82)","v":""},""]
[null,null,{"$f":"IF(B48=\"\",\"\",Données!$E$82)","v":""},""]
[null,null,{"$f":"IF(B49=\"\",\"\",Données!$E$82)","v":""},""]
[null,null,{"$f":"IF(B50=\"\",\"\",Données!$E$82)","v":""},""]
[null,null,{"$f":"IF(B51=\"\",\"\",Données!$E$82)","v":""},""]
[null,null,{"$f":"IF(B52=\"\",\"\",Données!$E$82)","v":""},""]
[null,null,{"$f":"IF(B53=\"\",\"\",Données!$E$82)","v":""},""]
["Récapitulatif des résultats (discipline)",{"$f":"IF(MIN(B44:B53)=0,\"\",MIN(B44:B53))","v":""},{"$f":"IF(MAX(C44:C53)=0,\"\",MAX(C44:C53))","v":""},{"$f":"IF(MAX(D44:D53)=0,\"\",MAX(D44:D53))","v":""},{"$f":"IF(MAX(E44:E53)=0,\"\",MAX(E44:E53))","v":""},{"$f":"IF(MAX(F44:F53)=0,\"\",MAX(F44:F53))","v":""},{"$f":"IF(MAX(G44:G53)=0,\"\",MAX(G44:G53))","v":""},null,{"$f":"SUM(I44:I53)","v":0},{"$f":"SUM(J44:J53)","v":0}]
["Commentaires ou notes explicatives sur les composants majeurs critiques auscultés\n\n(¨  Notes supplémentaires et/ou photos disponibles)"]
["RELEVÉ DES COMPOSANTS MAJEURS D'INSTRUMENTATION ET DE CONTRÔLE"]
["Composants majeurs","Année d'installation","Durée de vie utile théorique","% Durée de vie écoulée","État physique","État fonctionnel","Année d'évaluation","Type d'évaluation*","Valeur de remplacement ($)","Coût de l'intervention ($)","Type d'intervention**","Année d'intervention"]
[null,null,{"$f":"IF(B58=\"\",\"\",Données!$E$83)","v":""},{"$f":"IF(B58=\"\",\"\",(Annee_BI-B58)/C58)","v":""}]
[null,null,{"$f":"IF(B59=\"\",\"\",Données!$E$83)","v":""},""]
[null,null,{"$f":"IF(B60=\"\",\"\",Données!$E$83)","v":""},""]
[null,null,{"$f":"IF(B61=\"\",\"\",Données!$E$83)","v":""},""]
[null,null,{"$f":"IF(B62=\"\",\"\",Données!$E$83)","v":""},""]
[null,null,{"$f":"IF(B63=\"\",\"\",Données!$E$83)","v":""},""]
[null,null,{"$f":"IF(B64=\"\",\"\",Données!$E$83)","v":""},""]
[null,null,{"$f":"IF(B65=\"\",\"\",Données!$E$83)","v":""},""]
[null,null,{"$f":"IF(B66=\"\",\"\",Données!$E$83)","v":""},""]
[null,null,{"$f":"IF(B67=\"\",\"\",Données!$E$83)","v":""},""]
["Récapitulatif des résultats (discipline)",{"$f":"IF(MIN(B58:B67)=0,\"\",MIN(B58:B67))","v":""},{"$f":"IF(MAX(C58:C67)=0,\"\",MAX(C58:C67))","v":""},{"$f":"IF(MAX(D58:D67)=0,\"\",MAX(D58:D67))","v":""},{"$f":"IF(MAX(E58:E67)=0,\"\",MAX(E58:E67))","v":""},{"$f":"IF(MAX(F58:F67)=0,\"\",MAX(F58:F67))","v":""},{"$f":"IF(MAX(G58:G67)=0,\"\",MAX(G58:G67))","v":""},null,{"$f":"SUM(I58:I67)","v":0},{"$f":"SUM(J58:J67)","v":0}]
["Commentaires ou notes explicatives sur les composants majeurs critiques auscultés\n\n(¨  Notes supplémentaires et/ou photos disponibles)"]

{"sheet":"EPL_Chambre","index":49,"n_rows":69,"n_cols":12,"rows_kept":69,"cut":false,"hidden":true,"merged":[[54,1,54,11],[55,0,55,11],[68,1,68,11],[8,8,8,11],[9,1,9,5],[9,6,9,7],[9,8,9,11],[10,1,10,5],[10,6,10,7],[10,8,10,11],[11,1,11,5],[11,6,11,7],[11,8,11,11],[13,0,13,11],[26,1,26,11],[27,0,27,11],[1,1,1,5],[1,6,1,8],[1,9,1,11],[2,1,2,5],[2,6,2,8],[2,9,2,11],[40,1,40,11],[41,0,41,11],[6,1,6,5],[6,6,6,7],[6,8,6,11],[7,1,7,5],[7,6,7,7],[7,8,7,11],[8,1,8,5],[8,6,8,7],[3,1,3,5],[3,6,3,8],[3,9,3,11],[4,0,4,11],[5,1,5,5],[5,6,5,7],[5,8,5,11]]}
["IDENTIFICATION DU SYSTÈME",null,null,null,null,null,null,null,null,"Consulter l'aide se rapportant aux procédés de l'ouvrage"]
["Type d'infrastructure :",{"$f":"IF(Identification!H61=0,\"\",Identification!H61)","v":""},null,null,null,null,"         Sous-type d'infrastructure :",null,null,{"$f":"IF(Identification!H62=0,\"\",Identification!H62)","v":""}]
["Nom de l'infrastructure :",{"$f":"IF(Identification!H63=0,\"\",Identification!H63)","v":""},null,null,null,null,"         Type de système :",null,null,"Chambre (EPL)"]
["Année d'installation :",{"$f":"Identification!H66","v":0},null,null,null,null,"         Valeur de remplacement :",null,null,{"$f":"IF(I26+I40+I54+I68=0,\"\",I26+I40+I54+I68)","v":""}]
["CRITÈRES D'ÉVALUATION DES COMPOSANTS MAJEURS"]
["Cote","État physique",null,null,null,null,"Cote",null,"État fonctionnel"]
[0,"Le composant majeur n'a pas été ausculté",null,null,null,null,0,null,"Le composant majeur n'a pas été ausculté"]
[1,"Le composant majeur est récent ou remis à neuf",null,null,null,null,1,null,"Le fonctionnement du composant majeur est comme « neuf » et comme attendu. Le composant répond parfaitement aux normes techniques de conception ainsi qu’aux normes de santé et de sécurité en vigueur."]
[2,"Le composant majeur présente un niveau léger de dégradation ou de défectuosité",null,null,null,null,2,null,"Le fonctionnement du composant majeur est adéquat. Le composant répond adéquatement aux normes techniques de conception ainsi qu’aux normes de santé et de sécurité en vigueur."]
[3,"Le composant majeur présente un niveau modéré de dégradation ou de défectuosité",null,null,null,null,3,null,"Le fonctionnement du composant majeur est intermittent mais ne nuit pas au procédé. Le composant répond adéquatement aux normes techniques de conception ainsi qu’aux normes de santé et de sécurité en vigueur."]
[4,"Le composant majeur présente un niveau élevé de dégradation ou de défectuosité",null,null,null,null,4,null,"Le fonctionnement du composant majeur est intermittent et nuit au procédé. Le composant est très près de ne pas répondre aux normes techniques de conception mais répond aux normes de santé et de sécurité en vigueur."]
[5,"Le composant majeur présente un niveau très élevé de dégradation ou de défectuosité",null,null,null,null,5,null,"Le fonctionnement du composant majeur est déficient et empêche le procédé de s’effectuer. Le composant ne répond pas aux normes techniques de conception et/ou ne répond pas aux normes de santé et de sécurité en vigueur."]
["*Type d'évaluation : Visuelle (V), Opérateur (O), Mesure (M)",null,null,null,null,null,"**Type d'intervention : Ajout (AJ), Remplacement (RP), Réfection majeure (RFM), Expertise complémentaire (DE)"]
["RELEVÉ DES COMPOSANTS MAJEURS CIVILS"]
["Composants majeurs","Année d'installation","Durée de vie utile théorique","% Durée de vie écoulée","État physique","État fonctionnel","Année d'évaluation","Type d'évaluation*","Valeur de remplacement ($)","Coût de l'intervention ($)","Type d'intervention**","Année d'intervention"]
[null,null,{"$f":"IF(B16=\"\",\"\",Données!$E$80)","v":""},{"$f":"IF(B16=\"\",\"\",(Annee_BI-B16)/C16)","v":""}]
[null,null,{"$f":"IF(B17=\"\",\"\",Données!$E$80)","v":""},""]
[null,null,{"$f":"IF(B18=\"\",\"\",Données!$E$80)","v":""},""]
[null,null,{"$f":"IF(B19=\"\",\"\",Données!$E$80)","v":""},""]
[null,null,{"$f":"IF(B20=\"\",\"\",Données!$E$80)","v":""},""]
[null,null,{"$f":"IF(B21=\"\",\"\",Données!$E$80)","v":""},""]
[null,null,{"$f":"IF(B22=\"\",\"\",Données!$E$80)","v":""},""]
[null,null,{"$f":"IF(B23=\"\",\"\",Données!$E$80)","v":""},""]
[null,null,{"$f":"IF(B24=\"\",\"\",Données!$E$80)","v":""},""]
[null,null,{"$f":"IF(B25=\"\",\"\",Données!$E$80)","v":""},""]
["Récapitulatif des résultats (discipline)",{"$f":"IF(MIN(B16:B25)=0,\"\",MIN(B16:B25))","v":""},{"$f":"IF(MAX(C16:C25)=0,\"\",MAX(C16:C25))","v":""},{"$f":"IF(MAX(D16:D25)=0,\"\",MAX(D16:D25))","v":""},{"$f":"IF(MAX(E16:E25)=0,\"\",MAX(E16:E25))","v":""},{"$f":"IF(MAX(F16:F25)=0,\"\",MAX(F16:F25))","v":""},{"$f":"IF(MAX(G16:G25)=0,\"\",MAX(G16:G25))","v":""},null,{"$f":"SUM(I16:I25)","v":0},{"$f":"SUM(J16:J25)","v":0}]
["Commentaires ou notes explicatives sur les composants majeurs critiques auscultés\n\n(¨  Notes supplémentaires et/ou photos disponibles)","\n"]
["RELEVÉ DES COMPOSANTS MAJEURS MÉCANIQUES"]
["Composants majeurs","Année d'installation","Durée de vie utile théorique","% Durée de vie écoulée","État physique","État fonctionnel","Année d'évaluation","Type d'évaluation*","Valeur de remplacement ($)","Coût de l'intervention ($)","Type d'intervention**","Année d'intervention"]
[null,null,{"$f":"IF(B30=\"\",\"\",Données!$E$81)","v":""},{"$f":"IF(B30=\"\",\"\",(Annee_BI-B30)/C30)","v":""}]
[null,null,{"$f":"IF(B31=\"\",\"\",Données!$E$81)","v":""},""]
[null,null,{"$f":"IF(B32=\"\",\"\",Données!$E$81)","v":""},""]
[null,null,{"$f":"IF(B33=\"\",\"\",Données!$E$81)","v":""},""]
[null,null,{"$f":"IF(B34=\"\",\"\",Données!$E$81)","v":""},""]
[null,null,{"$f":"IF(B35=\"\",\"\",Données!$E$81)","v":""},""]
[null,null,{"$f":"IF(B36=\"\",\"\",Données!$E$81)","v":""},""]
[null,null,{"$f":"IF(B37=\"\",\"\",Données!$E$81)","v":""},""]
[null,null,{"$f":"IF(B38=\"\",\"\",Données!$E$81)","v":""},""]
[null,null,{"$f":"IF(B39=\"\",\"\",Données!$E$81)","v":""},""]
["Récapitulatif des résultats (discipline)",{"$f":"IF(MIN(B30:B39)=0,\"\",MIN(B30:B39))","v":""},{"$f":"IF(MAX(C30:C39)=0,\"\",MAX(C30:C39))","v":""},{"$f":"IF(MAX(D30:D39)=0,\"\",MAX(D30:D39))","v":""},{"$f":"IF(MAX(E30:E39)=0,\"\",MAX(E30:E39))","v":""},{"$f":"IF(MAX(F30:F39)=0,\"\",MAX(F30:F39))","v":""},{"$f":"IF(MAX(G30:G39)=0,\"\",MAX(G30:G39))","v":""},null,{"$f":"SUM(I30:I39)","v":0},{"$f":"SUM(J30:J39)","v":0}]
["Commentaires ou notes explicatives sur les composants majeurs critiques auscultés\n\n(¨  Notes supplémentaires et/ou photos disponibles)","\n"]
["RELEVÉ DES COMPOSANTS MAJEURS ÉLECTRIQUES"]
["Composants majeurs","Année d'installation","Durée de vie utile théorique","% Durée de vie écoulée","État physique","État fonctionnel","Année d'auscultation","Type d'évaluation*","Valeur de remplacement ($)","Coût de l'intervention ($)","Type d'intervention**","Année d'intervention"]
[null,null,{"$f":"IF(B44=\"\",\"\",Données!$E$82)","v":""},{"$f":"IF(B44=\"\",\"\",(Annee_BI-B44)/C44)","v":""}]
[null,null,{"$f":"IF(B45=\"\",\"\",Données!$E$82)","v":""},""]
[null,null,{"$f":"IF(B46=\"\",\"\",Données!$E$82)","v":""},""]
[null,null,{"$f":"IF(B47=\"\",\"\",Données!$E$82)","v":""},""]
[null,null,{"$f":"IF(B48=\"\",\"\",Données!$E$82)","v":""},""]
[null,null,{"$f":"IF(B49=\"\",\"\",Données!$E$82)","v":""},""]
[null,null,{"$f":"IF(B50=\"\",\"\",Données!$E$82)","v":""},""]
[null,null,{"$f":"IF(B51=\"\",\"\",Données!$E$82)","v":""},""]
[null,null,{"$f":"IF(B52=\"\",\"\",Données!$E$82)","v":""},""]
[null,null,{"$f":"IF(B53=\"\",\"\",Données!$E$82)","v":""},""]
["Récapitulatif des résultats (discipline)",{"$f":"IF(MIN(B44:B53)=0,\"\",MIN(B44:B53))","v":""},{"$f":"IF(MAX(C44:C53)=0,\"\",MAX(C44:C53))","v":""},{"$f":"IF(MAX(D44:D53)=0,\"\",MAX(D44:D53))","v":""},{"$f":"IF(MAX(E44:E53)=0,\"\",MAX(E44:E53))","v":""},{"$f":"IF(MAX(F44:F53)=0,\"\",MAX(F44:F53))","v":""},{"$f":"IF(MAX(G44:G53)=0,\"\",MAX(G44:G53))","v":""},null,{"$f":"SUM(I44:I53)","v":0},{"$f":"SUM(J44:J53)","v":0}]
["Commentaires ou notes explicatives sur les composants majeurs critiques auscultés\n\n(¨  Notes supplémentaires et/ou photos disponibles)"]
["RELEVÉ DES COMPOSANTS MAJEURS D'INSTRUMENTATION ET DE CONTRÔLE"]
["Composants majeurs","Année d'installation","Durée de vie utile théorique","% Durée de vie écoulée","État physique","État fonctionnel","Année d'évaluation","Type d'évaluation*","Valeur de remplacement ($)","Coût de l'intervention ($)","Type d'intervention**","Année d'intervention"]
[null,null,{"$f":"IF(B58=\"\",\"\",Données!$E$83)","v":""},{"$f":"IF(B58=\"\",\"\",(Annee_BI-B58)/C58)","v":""}]
[null,null,{"$f":"IF(B59=\"\",\"\",Données!$E$83)","v":""},""]
[null,null,{"$f":"IF(B60=\"\",\"\",Données!$E$83)","v":""},""]
[null,null,{"$f":"IF(B61=\"\",\"\",Données!$E$83)","v":""},""]
[null,null,{"$f":"IF(B62=\"\",\"\",Données!$E$83)","v":""},""]
[null,null,{"$f":"IF(B63=\"\",\"\",Données!$E$83)","v":""},""]
[null,null,{"$f":"IF(B64=\"\",\"\",Données!$E$83)","v":""},""]
[null,null,{"$f":"IF(B65=\"\",\"\",Données!$E$83)","v":""},""]
[null,null,{"$f":"IF(B66=\"\",\"\",Données!$E$83)","v":""},""]
[null,null,{"$f":"IF(B67=\"\",\"\",Données!$E$83)","v":""},""]
["Récapitulatif des résultats (discipline)",{"$f":"IF(MIN(B58:B67)=0,\"\",MIN(B58:B67))","v":""},{"$f":"IF(MAX(C58:C67)=0,\"\",MAX(C58:C67))","v":""},{"$f":"IF(MAX(D58:D67)=0,\"\",MAX(D58:D67))","v":""},{"$f":"IF(MAX(E58:E67)=0,\"\",MAX(E58:E67))","v":""},{"$f":"IF(MAX(F58:F67)=0,\"\",MAX(F58:F67))","v":""},{"$f":"IF(MAX(G58:G67)=0,\"\",MAX(G58:G67))","v":""},null,{"$f":"SUM(I58:I67)","v":0},{"$f":"SUM(J58:J67)","v":0}]
["Commentaires ou notes explicatives sur les composants majeurs critiques auscultés\n\n(¨  Notes supplémentaires et/ou photos disponibles)"]

{"sheet":"EP_Regulation_pression","index":50,"n_rows":69,"n_cols":12,"rows_kept":69,"cut":false,"hidden":true,"merged":[[55,0,55,11],[68,1,68,11],[13,0,13,11],[26,1,26,11],[27,0,27,11],[40,1,40,11],[41,0,41,11],[54,1,54,11],[10,1,10,5],[10,6,10,7],[10,8,10,11],[11,1,11,5],[11,6,11,7],[11,8,11,11],[8,1,8,5],[8,6,8,7],[8,8,8,11],[9,1,9,5],[9,6,9,7],[9,8,9,11],[6,1,6,5],[6,6,6,7],[6,8,6,11],[7,1,7,5],[7,6,7,7],[7,8,7,11],[3,1,3,5],[3,6,3,8],[3,9,3,11],[4,0,4,11],[5,1,5,5],[5,6,5,7],[5,8,5,11],[1,1,1,5],[1,6,1,8],[1,9,1,11],[2,1,2,5],[2,6,2,8],[2,9,2,11]]}
["IDENTIFICATION DU SYSTÈME",null,null,null,null,null,null,null,null,"Consulter l'aide se rapportant aux procédés de l'ouvrage"]
["Type d'infrastructure :",{"$f":"IF(Identification!H61=0,\"\",Identification!H61)","v":""},null,null,null,null,"         Sous-type d'infrastructure :",null,null,{"$f":"IF(Identification!H62=0,\"\",Identification!H62)","v":""}]
["Nom de l'infrastructure :",{"$f":"IF(Identification!H63=0,\"\",Identification!H63)","v":""},null,null,null,null,"         Type de système :",null,null,"Régulation de pression"]
["Année d'installation :",{"$f":"Identification!H66","v":0},null,null,null,null,"         Valeur de remplacement :",null,null,{"$f":"IF(I26+I40+I54+I68=0,\"\",I26+I40+I54+I68)","v":""}]
["CRITÈRES D'ÉVALUATION DES COMPOSANTS MAJEURS"]
["Cote","État physique",null,null,null,null,"Cote",null,"État fonctionnel"]
[0,"Le composant majeur n'a pas été ausculté",null,null,null,null,0,null,"Le composant majeur n'a pas été ausculté"]
[1,"Le composant majeur est récent ou remis à neuf",null,null,null,null,1,null,"Le fonctionnement du composant majeur est comme « neuf » et comme attendu. Le composant répond parfaitement aux normes techniques de conception ainsi qu’aux normes de santé et de sécurité en vigueur."]
[2,"Le composant majeur présente un niveau léger de dégradation ou de défectuosité",null,null,null,null,2,null,"Le fonctionnement du composant majeur est adéquat. Le composant répond adéquatement aux normes techniques de conception ainsi qu’aux normes de santé et de sécurité en vigueur."]
[3,"Le composant majeur présente un niveau modéré de dégradation ou de défectuosité",null,null,null,null,3,null,"Le fonctionnement du composant majeur est intermittent mais ne nuit pas au procédé. Le composant répond adéquatement aux normes techniques de conception ainsi qu’aux normes de santé et de sécurité en vigueur."]
[4,"Le composant majeur présente un niveau élevé de dégradation ou de défectuosité",null,null,null,null,4,null,"Le fonctionnement du composant majeur est intermittent et nuit au procédé. Le composant est très près de ne pas répondre aux normes techniques de conception mais répond aux normes de santé et de sécurité en vigueur."]
[5,"Le composant majeur présente un niveau très élevé de dégradation ou de défectuosité",null,null,null,null,5,null,"Le fonctionnement du composant majeur est déficient et empêche le procédé de s’effectuer. Le composant ne répond pas aux normes techniques de conception et/ou ne répond pas aux normes de santé et de sécurité en vigueur."]
["*Type d'évaluation : Visuelle (V), Opérateur (O), Mesure (M)",null,null,null,null,null,"**Type d'intervention : Ajout (AJ), Remplacement (RP), Réfection majeure (RFM), Expertise complémentaire (DE)"]
["RELEVÉ DES COMPOSANTS MAJEURS CIVILS"]
["Composants majeurs","Année d'installation","Durée de vie utile théorique","% Durée de vie écoulée","État physique","État fonctionnel","Année d'évaluation","Type d'évaluation*","Valeur de remplacement ($)","Coût de l'intervention ($)","Type d'intervention**","Année d'intervention"]
[null,null,{"$f":"IF(B16=\"\",\"\",Données!$E$80)","v":""},{"$f":"IF(B16=\"\",\"\",(Annee_BI-B16)/C16)","v":""}]
[null,null,{"$f":"IF(B17=\"\",\"\",Données!$E$80)","v":""},""]
[null,null,{"$f":"IF(B18=\"\",\"\",Données!$E$80)","v":""},""]
[null,null,{"$f":"IF(B19=\"\",\"\",Données!$E$80)","v":""},""]
[null,null,{"$f":"IF(B20=\"\",\"\",Données!$E$80)","v":""},""]
[null,null,{"$f":"IF(B21=\"\",\"\",Données!$E$80)","v":""},""]
[null,null,{"$f":"IF(B22=\"\",\"\",Données!$E$80)","v":""},""]
[null,null,{"$f":"IF(B23=\"\",\"\",Données!$E$80)","v":""},""]
[null,null,{"$f":"IF(B24=\"\",\"\",Données!$E$80)","v":""},""]
[null,null,{"$f":"IF(B25=\"\",\"\",Données!$E$80)","v":""},""]
["Récapitulatif des résultats (discipline)",{"$f":"IF(MIN(B16:B25)=0,\"\",MIN(B16:B25))","v":""},{"$f":"IF(MAX(C16:C25)=0,\"\",MAX(C16:C25))","v":""},{"$f":"IF(MAX(D16:D25)=0,\"\",MAX(D16:D25))","v":""},{"$f":"IF(MAX(E16:E25)=0,\"\",MAX(E16:E25))","v":""},{"$f":"IF(MAX(F16:F25)=0,\"\",MAX(F16:F25))","v":""},{"$f":"IF(MAX(G16:G25)=0,\"\",MAX(G16:G25))","v":""},null,{"$f":"SUM(I16:I25)","v":0},{"$f":"SUM(J16:J25)","v":0}]
["Commentaires ou notes explicatives sur les composants majeurs critiques auscultés\n\n(¨  Notes supplémentaires et/ou photos disponibles)","\n"]
["RELEVÉ DES COMPOSANTS MAJEURS MÉCANIQUES"]
["Composants majeurs","Année d'installation","Durée de vie utile théorique","% Durée de vie écoulée","État physique","État fonctionnel","Année d'évaluation","Type d'évaluation*","Valeur de remplacement ($)","Coût de l'intervention ($)","Type d'intervention**","Année d'intervention"]
[null,null,{"$f":"IF(B30=\"\",\"\",Données!$E$81)","v":""},{"$f":"IF(B30=\"\",\"\",(Annee_BI-B30)/C30)","v":""}]
[null,null,{"$f":"IF(B31=\"\",\"\",Données!$E$81)","v":""},""]
[null,null,{"$f":"IF(B32=\"\",\"\",Données!$E$81)","v":""},""]
[null,null,{"$f":"IF(B33=\"\",\"\",Données!$E$81)","v":""},""]
[null,null,{"$f":"IF(B34=\"\",\"\",Données!$E$81)","v":""},""]
[null,null,{"$f":"IF(B35=\"\",\"\",Données!$E$81)","v":""},""]
[null,null,{"$f":"IF(B36=\"\",\"\",Données!$E$81)","v":""},""]
[null,null,{"$f":"IF(B37=\"\",\"\",Données!$E$81)","v":""},""]
[null,null,{"$f":"IF(B38=\"\",\"\",Données!$E$81)","v":""},""]
[null,null,{"$f":"IF(B39=\"\",\"\",Données!$E$81)","v":""},""]
["Récapitulatif des résultats (discipline)",{"$f":"IF(MIN(B30:B39)=0,\"\",MIN(B30:B39))","v":""},{"$f":"IF(MAX(C30:C39)=0,\"\",MAX(C30:C39))","v":""},{"$f":"IF(MAX(D30:D39)=0,\"\",MAX(D30:D39))","v":""},{"$f":"IF(MAX(E30:E39)=0,\"\",MAX(E30:E39))","v":""},{"$f":"IF(MAX(F30:F39)=0,\"\",MAX(F30:F39))","v":""},{"$f":"IF(MAX(G30:G39)=0,\"\",MAX(G30:G39))","v":""},null,{"$f":"SUM(I30:I39)","v":0},{"$f":"SUM(J30:J39)","v":0}]
["Commentaires ou notes explicatives sur les composants majeurs critiques auscultés\n\n(¨  Notes supplémentaires et/ou photos disponibles)","\n"]
["RELEVÉ DES COMPOSANTS MAJEURS ÉLECTRIQUES"]
["Composants majeurs","Année d'installation","Durée de vie utile théorique","% Durée de vie écoulée","État physique","État fonctionnel","Année d'auscultation","Type d'évaluation*","Valeur de remplacement ($)","Coût de l'intervention ($)","Type d'intervention**","Année d'intervention"]
[null,null,{"$f":"IF(B44=\"\",\"\",Données!$E$82)","v":""},{"$f":"IF(B44=\"\",\"\",(Annee_BI-B44)/C44)","v":""}]
[null,null,{"$f":"IF(B45=\"\",\"\",Données!$E$82)","v":""},""]
[null,null,{"$f":"IF(B46=\"\",\"\",Données!$E$82)","v":""},""]
[null,null,{"$f":"IF(B47=\"\",\"\",Données!$E$82)","v":""},""]
[null,null,{"$f":"IF(B48=\"\",\"\",Données!$E$82)","v":""},""]
[null,null,{"$f":"IF(B49=\"\",\"\",Données!$E$82)","v":""},""]
[null,null,{"$f":"IF(B50=\"\",\"\",Données!$E$82)","v":""},""]
[null,null,{"$f":"IF(B51=\"\",\"\",Données!$E$82)","v":""},""]
[null,null,{"$f":"IF(B52=\"\",\"\",Données!$E$82)","v":""},""]
[null,null,{"$f":"IF(B53=\"\",\"\",Données!$E$82)","v":""},""]
["Récapitulatif des résultats (discipline)",{"$f":"IF(MIN(B44:B53)=0,\"\",MIN(B44:B53))","v":""},{"$f":"IF(MAX(C44:C53)=0,\"\",MAX(C44:C53))","v":""},{"$f":"IF(MAX(D44:D53)=0,\"\",MAX(D44:D53))","v":""},{"$f":"IF(MAX(E44:E53)=0,\"\",MAX(E44:E53))","v":""},{"$f":"IF(MAX(F44:F53)=0,\"\",MAX(F44:F53))","v":""},{"$f":"IF(MAX(G44:G53)=0,\"\",MAX(G44:G53))","v":""},null,{"$f":"SUM(I44:I53)","v":0},{"$f":"SUM(J44:J53)","v":0}]
["Commentaires ou notes explicatives sur les composants majeurs critiques auscultés\n\n(¨  Notes supplémentaires et/ou photos disponibles)"]
["RELEVÉ DES COMPOSANTS MAJEURS D'INSTRUMENTATION ET DE CONTRÔLE"]
["Composants majeurs","Année d'installation","Durée de vie utile théorique","% Durée de vie écoulée","État physique","État fonctionnel","Année d'évaluation","Type d'évaluation*","Valeur de remplacement ($)","Coût de l'intervention ($)","Type d'intervention**","Année d'intervention"]
[null,null,{"$f":"IF(B58=\"\",\"\",Données!$E$83)","v":""},{"$f":"IF(B58=\"\",\"\",(Annee_BI-B58)/C58)","v":""}]
[null,null,{"$f":"IF(B59=\"\",\"\",Données!$E$83)","v":""},""]
[null,null,{"$f":"IF(B60=\"\",\"\",Données!$E$83)","v":""},""]
[null,null,{"$f":"IF(B61=\"\",\"\",Données!$E$83)","v":""},""]
[null,null,{"$f":"IF(B62=\"\",\"\",Données!$E$83)","v":""},""]
[null,null,{"$f":"IF(B63=\"\",\"\",Données!$E$83)","v":""},""]
[null,null,{"$f":"IF(B64=\"\",\"\",Données!$E$83)","v":""},""]
[null,null,{"$f":"IF(B65=\"\",\"\",Données!$E$83)","v":""},""]
[null,null,{"$f":"IF(B66=\"\",\"\",Données!$E$83)","v":""},""]
[null,null,{"$f":"IF(B67=\"\",\"\",Données!$E$83)","v":""},""]
["Récapitulatif des résultats (discipline)",{"$f":"IF(MIN(B58:B67)=0,\"\",MIN(B58:B67))","v":""},{"$f":"IF(MAX(C58:C67)=0,\"\",MAX(C58:C67))","v":""},{"$f":"IF(MAX(D58:D67)=0,\"\",MAX(D58:D67))","v":""},{"$f":"IF(MAX(E58:E67)=0,\"\",MAX(E58:E67))","v":""},{"$f":"IF(MAX(F58:F67)=0,\"\",MAX(F58:F67))","v":""},{"$f":"IF(MAX(G58:G67)=0,\"\",MAX(G58:G67))","v":""},null,{"$f":"SUM(I58:I67)","v":0},{"$f":"SUM(J58:J67)","v":0}]
["Commentaires ou notes explicatives sur les composants majeurs critiques auscultés\n\n(¨  Notes supplémentaires et/ou photos disponibles)"]

{"sheet":"EP_Barrage","index":51,"n_rows":69,"n_cols":12,"rows_kept":69,"cut":false,"hidden":true,"merged":[[55,0,55,11],[68,1,68,11],[13,0,13,11],[26,1,26,11],[27,0,27,11],[40,1,40,11],[41,0,41,11],[54,1,54,11],[10,1,10,5],[10,6,10,7],[10,8,10,11],[11,1,11,5],[11,6,11,7],[11,8,11,11],[8,1,8,5],[8,6,8,7],[8,8,8,11],[9,1,9,5],[9,6,9,7],[9,8,9,11],[6,1,6,5],[6,6,6,7],[6,8,6,11],[7,1,7,5],[7,6,7,7],[7,8,7,11],[3,1,3,5],[3,6,3,8],[3,9,3,11],[4,0,4,11],[5,1,5,5],[5,6,5,7],[5,8,5,11],[1,1,1,5],[1,6,1,8],[1,9,1,11],[2,1,2,5],[2,6,2,8],[2,9,2,11]]}
["IDENTIFICATION DU SYSTÈME",null,null,null,null,null,null,null,null,"Consulter l'aide se rapportant aux procédés de l'ouvrage"]
["Type d'infrastructure :",{"$f":"IF(Identification!H61=0,\"\",Identification!H61)","v":""},null,null,null,null,"         Sous-type d'infrastructure :",null,null,{"$f":"IF(Identification!H62=0,\"\",Identification!H62)","v":""}]
["Nom de l'infrastructure :",{"$f":"IF(Identification!H63=0,\"\",Identification!H63)","v":""},null,null,null,null,"         Type de système :",null,null,"Barrage"]
["Année d'installation :",{"$f":"Identification!H66","v":0},null,null,null,null,"         Valeur de remplacement :",null,null,{"$f":"IF(I26+I40+I54+I68=0,\"\",I26+I40+I54+I68)","v":""}]
["CRITÈRES D'ÉVALUATION DES COMPOSANTS MAJEURS"]
["Cote","État physique",null,null,null,null,"Cote",null,"État fonctionnel"]
[0,"Le composant majeur n'a pas été ausculté",null,null,null,null,0,null,"Le composant majeur n'a pas été ausculté"]
[1,"Le composant majeur est récent ou remis à neuf",null,null,null,null,1,null,"Le fonctionnement du composant majeur est comme « neuf » et comme attendu. Le composant répond parfaitement aux normes techniques de conception ainsi qu’aux normes de santé et de sécurité en vigueur."]
[2,"Le composant majeur présente un niveau léger de dégradation ou de défectuosité",null,null,null,null,2,null,"Le fonctionnement du composant majeur est adéquat. Le composant répond adéquatement aux normes techniques de conception ainsi qu’aux normes de santé et de sécurité en vigueur."]
[3,"Le composant majeur présente un niveau modéré de dégradation ou de défectuosité",null,null,null,null,3,null,"Le fonctionnement du composant majeur est intermittent mais ne nuit pas au procédé. Le composant répond adéquatement aux normes techniques de conception ainsi qu’aux normes de santé et de sécurité en vigueur."]
[4,"Le composant majeur présente un niveau élevé de dégradation ou de défectuosité",null,null,null,null,4,null,"Le fonctionnement du composant majeur est intermittent et nuit au procédé. Le composant est très près de ne pas répondre aux normes techniques de conception mais répond aux normes de santé et de sécurité en vigueur."]
[5,"Le composant majeur présente un niveau très élevé de dégradation ou de défectuosité",null,null,null,null,5,null,"Le fonctionnement du composant majeur est déficient et empêche le procédé de s’effectuer. Le composant ne répond pas aux normes techniques de conception et/ou ne répond pas aux normes de santé et de sécurité en vigueur."]
["*Type d'évaluation : Visuelle (V), Opérateur (O), Mesure (M)",null,null,null,null,null,"**Type d'intervention : Ajout (AJ), Remplacement (RP), Réfection majeure (RFM), Expertise complémentaire (DE)"]
["RELEVÉ DES COMPOSANTS MAJEURS CIVILS"]
["Composants majeurs","Année d'installation","Durée de vie utile théorique","% Durée de vie écoulée","État physique","État fonctionnel","Année d'évaluation","Type d'évaluation*","Valeur de remplacement ($)","Coût de l'intervention ($)","Type d'intervention**","Année d'intervention"]
[null,null,{"$f":"IF(B16=\"\",\"\",Données!$E$80)","v":""},{"$f":"IF(B16=\"\",\"\",(Annee_BI-B16)/C16)","v":""}]
[null,null,{"$f":"IF(B17=\"\",\"\",Données!$E$80)","v":""},""]
[null,null,{"$f":"IF(B18=\"\",\"\",Données!$E$80)","v":""},""]
[null,null,{"$f":"IF(B19=\"\",\"\",Données!$E$80)","v":""},""]
[null,null,{"$f":"IF(B20=\"\",\"\",Données!$E$80)","v":""},""]
[null,null,{"$f":"IF(B21=\"\",\"\",Données!$E$80)","v":""},""]
[null,null,{"$f":"IF(B22=\"\",\"\",Données!$E$80)","v":""},""]
[null,null,{"$f":"IF(B23=\"\",\"\",Données!$E$80)","v":""},""]
[null,null,{"$f":"IF(B24=\"\",\"\",Données!$E$80)","v":""},""]
[null,null,{"$f":"IF(B25=\"\",\"\",Données!$E$80)","v":""},""]
["Récapitulatif des résultats (discipline)",{"$f":"IF(MIN(B16:B25)=0,\"\",MIN(B16:B25))","v":""},{"$f":"IF(MAX(C16:C25)=0,\"\",MAX(C16:C25))","v":""},{"$f":"IF(MAX(D16:D25)=0,\"\",MAX(D16:D25))","v":""},{"$f":"IF(MAX(E16:E25)=0,\"\",MAX(E16:E25))","v":""},{"$f":"IF(MAX(F16:F25)=0,\"\",MAX(F16:F25))","v":""},{"$f":"IF(MAX(G16:G25)=0,\"\",MAX(G16:G25))","v":""},null,{"$f":"SUM(I16:I25)","v":0},{"$f":"SUM(J16:J25)","v":0}]
["Commentaires ou notes explicatives sur les composants majeurs critiques auscultés\n\n(¨  Notes supplémentaires et/ou photos disponibles)","\n"]
["RELEVÉ DES COMPOSANTS MAJEURS MÉCANIQUES"]
["Composants majeurs","Année d'installation","Durée de vie utile théorique","% Durée de vie écoulée","État physique","État fonctionnel","Année d'évaluation","Type d'évaluation*","Valeur de remplacement ($)","Coût de l'intervention ($)","Type d'intervention**","Année d'intervention"]
[null,null,{"$f":"IF(B30=\"\",\"\",Données!$E$81)","v":""},{"$f":"IF(B30=\"\",\"\",(Annee_BI-B30)/C30)","v":""}]
[null,null,{"$f":"IF(B31=\"\",\"\",Données!$E$81)","v":""},""]
[null,null,{"$f":"IF(B32=\"\",\"\",Données!$E$81)","v":""},""]
[null,null,{"$f":"IF(B33=\"\",\"\",Données!$E$81)","v":""},""]
[null,null,{"$f":"IF(B34=\"\",\"\",Données!$E$81)","v":""},""]
[null,null,{"$f":"IF(B35=\"\",\"\",Données!$E$81)","v":""},""]
[null,null,{"$f":"IF(B36=\"\",\"\",Données!$E$81)","v":""},""]
[null,null,{"$f":"IF(B37=\"\",\"\",Données!$E$81)","v":""},""]
[null,null,{"$f":"IF(B38=\"\",\"\",Données!$E$81)","v":""},""]
[null,null,{"$f":"IF(B39=\"\",\"\",Données!$E$81)","v":""},""]
["Récapitulatif des résultats (discipline)",{"$f":"IF(MIN(B30:B39)=0,\"\",MIN(B30:B39))","v":""},{"$f":"IF(MAX(C30:C39)=0,\"\",MAX(C30:C39))","v":""},{"$f":"IF(MAX(D30:D39)=0,\"\",MAX(D30:D39))","v":""},{"$f":"IF(MAX(E30:E39)=0,\"\",MAX(E30:E39))","v":""},{"$f":"IF(MAX(F30:F39)=0,\"\",MAX(F30:F39))","v":""},{"$f":"IF(MAX(G30:G39)=0,\"\",MAX(G30:G39))","v":""},null,{"$f":"SUM(I30:I39)","v":0},{"$f":"SUM(J30:J39)","v":0}]
["Commentaires ou notes explicatives sur les composants majeurs critiques auscultés\n\n(¨  Notes supplémentaires et/ou photos disponibles)","\n"]
["RELEVÉ DES COMPOSANTS MAJEURS ÉLECTRIQUES"]
["Composants majeurs","Année d'installation","Durée de vie utile théorique","% Durée de vie écoulée","État physique","État fonctionnel","Année d'auscultation","Type d'évaluation*","Valeur de remplacement ($)","Coût de l'intervention ($)","Type d'intervention**","Année d'intervention"]
[null,null,{"$f":"IF(B44=\"\",\"\",Données!$E$82)","v":""},{"$f":"IF(B44=\"\",\"\",(Annee_BI-B44)/C44)","v":""}]
[null,null,{"$f":"IF(B45=\"\",\"\",Données!$E$82)","v":""},""]
[null,null,{"$f":"IF(B46=\"\",\"\",Données!$E$82)","v":""},""]
[null,null,{"$f":"IF(B47=\"\",\"\",Données!$E$82)","v":""},""]
[null,null,{"$f":"IF(B48=\"\",\"\",Données!$E$82)","v":""},""]
[null,null,{"$f":"IF(B49=\"\",\"\",Données!$E$82)","v":""},""]
[null,null,{"$f":"IF(B50=\"\",\"\",Données!$E$82)","v":""},""]
[null,null,{"$f":"IF(B51=\"\",\"\",Données!$E$82)","v":""},""]
[null,null,{"$f":"IF(B52=\"\",\"\",Données!$E$82)","v":""},""]
[null,null,{"$f":"IF(B53=\"\",\"\",Données!$E$82)","v":""},""]
["Récapitulatif des résultats (discipline)",{"$f":"IF(MIN(B44:B53)=0,\"\",MIN(B44:B53))","v":""},{"$f":"IF(MAX(C44:C53)=0,\"\",MAX(C44:C53))","v":""},{"$f":"IF(MAX(D44:D53)=0,\"\",MAX(D44:D53))","v":""},{"$f":"IF(MAX(E44:E53)=0,\"\",MAX(E44:E53))","v":""},{"$f":"IF(MAX(F44:F53)=0,\"\",MAX(F44:F53))","v":""},{"$f":"IF(MAX(G44:G53)=0,\"\",MAX(G44:G53))","v":""},null,{"$f":"SUM(I44:I53)","v":0},{"$f":"SUM(J44:J53)","v":0}]
["Commentaires ou notes explicatives sur les composants majeurs critiques auscultés\n\n(¨  Notes supplémentaires et/ou photos disponibles)"]
["RELEVÉ DES COMPOSANTS MAJEURS D'INSTRUMENTATION ET DE CONTRÔLE"]
["Composants majeurs","Année d'installation","Durée de vie utile théorique","% Durée de vie écoulée","État physique","État fonctionnel","Année d'évaluation","Type d'évaluation*","Valeur de remplacement ($)","Coût de l'intervention ($)","Type d'intervention**","Année d'intervention"]
[null,null,{"$f":"IF(B58=\"\",\"\",Données!$E$83)","v":""},{"$f":"IF(B58=\"\",\"\",(Annee_BI-B58)/C58)","v":""}]
[null,null,{"$f":"IF(B59=\"\",\"\",Données!$E$83)","v":""},""]
[null,null,{"$f":"IF(B60=\"\",\"\",Données!$E$83)","v":""},""]
[null,null,{"$f":"IF(B61=\"\",\"\",Données!$E$83)","v":""},""]
[null,null,{"$f":"IF(B62=\"\",\"\",Données!$E$83)","v":""},""]
[null,null,{"$f":"IF(B63=\"\",\"\",Données!$E$83)","v":""},""]
[null,null,{"$f":"IF(B64=\"\",\"\",Données!$E$83)","v":""},""]
[null,null,{"$f":"IF(B65=\"\",\"\",Données!$E$83)","v":""},""]
[null,null,{"$f":"IF(B66=\"\",\"\",Données!$E$83)","v":""},""]
[null,null,{"$f":"IF(B67=\"\",\"\",Données!$E$83)","v":""},""]
["Récapitulatif des résultats (discipline)",{"$f":"IF(MIN(B58:B67)=0,\"\",MIN(B58:B67))","v":""},{"$f":"IF(MAX(C58:C67)=0,\"\",MAX(C58:C67))","v":""},{"$f":"IF(MAX(D58:D67)=0,\"\",MAX(D58:D67))","v":""},{"$f":"IF(MAX(E58:E67)=0,\"\",MAX(E58:E67))","v":""},{"$f":"IF(MAX(F58:F67)=0,\"\",MAX(F58:F67))","v":""},{"$f":"IF(MAX(G58:G67)=0,\"\",MAX(G58:G67))","v":""},null,{"$f":"SUM(I58:I67)","v":0},{"$f":"SUM(J58:J67)","v":0}]
["Commentaires ou notes explicatives sur les composants majeurs critiques auscultés\n\n(¨  Notes supplémentaires et/ou photos disponibles)"]

{"sheet":"Systèmes_communs","index":52,"n_rows":69,"n_cols":12,"rows_kept":69,"cut":false,"hidden":true,"merged":[[54,1,54,11],[55,0,55,11],[68,1,68,11],[8,8,8,11],[9,1,9,5],[9,6,9,7],[9,8,9,11],[10,1,10,5],[10,6,10,7],[10,8,10,11],[11,1,11,5],[11,6,11,7],[11,8,11,11],[13,0,13,11],[26,1,26,11],[27,0,27,11],[1,1,1,5],[1,6,1,8],[1,9,1,11],[2,1,2,5],[2,6,2,8],[2,9,2,11],[40,1,40,11],[41,0,41,11],[6,1,6,5],[6,6,6,7],[6,8,6,11],[7,1,7,5],[7,6,7,7],[7,8,7,11],[8,1,8,5],[8,6,8,7],[3,1,3,5],[3,6,3,8],[3,9,3,11],[4,0,4,11],[5,1,5,5],[5,6,5,7],[5,8,5,11]]}
["IDENTIFICATION DU SYSTÈME",null,null,null,null,null,null,null,null,"Consulter l'aide se rapportant aux systèmes communs"]
["Type d'infrastructure :",{"$f":"IF(Identification!H61=0,\"\",Identification!H61)","v":""},null,null,null,null,"         Sous-type d'infrastructure :",null,null,{"$f":"IF(Identification!H62=0,\"\",Identification!H62)","v":""}]
["Nom de l'infrastructure :",{"$f":"IF(Identification!H63=0,\"\",Identification!H63)","v":""},null,null,null,null,"         Type de système :",null,null,"Systèmes communs"]
["Année d'installation :",{"$f":"Identification!H66","v":0},null,null,null,null,"         Valeur de remplacement :",null,null,{"$f":"IF(I26+I40+I54+I68=0,\"\",I26+I40+I54+I68)","v":""}]
["CRITÈRES D'ÉVALUATION DES COMPOSANTS MAJEURS"]
["Cote","État physique",null,null,null,null,"Cote",null,"État fonctionnel"]
[0,"Le composant majeur n'a pas été ausculté",null,null,null,null,0,null,"Le composant majeur n'a pas été ausculté"]
[1,"Le composant majeur est récent ou remis à neuf",null,null,null,null,1,null,"Le fonctionnement du composant majeur est comme « neuf » et comme attendu. Le composant répond parfaitement aux normes techniques de conception ainsi qu’aux normes de santé et de sécurité en vigueur."]
[2,"Le composant majeur présente un niveau léger de dégradation ou de défectuosité",null,null,null,null,2,null,"Le fonctionnement du composant majeur est adéquat. Le composant répond adéquatement aux normes techniques de conception ainsi qu’aux normes de santé et de sécurité en vigueur."]
[3,"Le composant majeur présente un niveau modéré de dégradation ou de défectuosité",null,null,null,null,3,null,"Le fonctionnement du composant majeur est intermittent mais ne nuit pas au procédé. Le composant répond adéquatement aux normes techniques de conception ainsi qu’aux normes de santé et de sécurité en vigueur."]
[4,"Le composant majeur présente un niveau élevé de dégradation ou de défectuosité",null,null,null,null,4,null,"Le fonctionnement du composant majeur est intermittent et nuit au procédé. Le composant est très près de ne pas répondre aux normes techniques de conception mais répond aux normes de santé et de sécurité en vigueur."]
[5,"Le composant majeur présente un niveau très élevé de dégradation ou de défectuosité",null,null,null,null,5,null,"Le fonctionnement du composant majeur est déficient et empêche le procédé de s’effectuer. Le composant ne répond pas aux normes techniques de conception et/ou ne répond pas aux normes de santé et de sécurité en vigueur."]
["*Type d'évaluation : Visuelle (V), Opérateur (O), Mesure (M)",null,null,null,null,null,"**Type d'intervention : Ajout (AJ), Remplacement (RP), Réfection majeure (RFM), Expertise complémentaire (DE)"]
["RELEVÉ DES COMPOSANTS MAJEURS CIVILS"]
["Composants majeurs","Année d'installation","Durée de vie utile théorique","% Durée de vie écoulée","État physique","État fonctionnel","Année d'évaluation","Type d'évaluation*","Valeur de remplacement ($)","Coût de l'intervention ($)","Type d'intervention**","Année d'intervention"]
[null,null,{"$f":"IF(B16=\"\",\"\",Données!$E$80)","v":""},{"$f":"IF(B16=\"\",\"\",(Annee_BI-B16)/C16)","v":""}]
[null,null,{"$f":"IF(B17=\"\",\"\",Données!$E$80)","v":""},""]
[null,null,{"$f":"IF(B18=\"\",\"\",Données!$E$80)","v":""},""]
[null,null,{"$f":"IF(B19=\"\",\"\",Données!$E$80)","v":""},""]
[null,null,{"$f":"IF(B20=\"\",\"\",Données!$E$80)","v":""},""]
[null,null,{"$f":"IF(B21=\"\",\"\",Données!$E$80)","v":""},""]
[null,null,{"$f":"IF(B22=\"\",\"\",Données!$E$80)","v":""},""]
[null,null,{"$f":"IF(B23=\"\",\"\",Données!$E$80)","v":""},""]
[null,null,{"$f":"IF(B24=\"\",\"\",Données!$E$80)","v":""},""]
[null,null,{"$f":"IF(B25=\"\",\"\",Données!$E$80)","v":""},""]
["Récapitulatif des résultats (discipline)",{"$f":"IF(MIN(B16:B25)=0,\"\",MIN(B16:B25))","v":""},{"$f":"IF(MAX(C16:C25)=0,\"\",MAX(C16:C25))","v":""},{"$f":"IF(MAX(D16:D25)=0,\"\",MAX(D16:D25))","v":""},{"$f":"IF(MAX(E16:E25)=0,\"\",MAX(E16:E25))","v":""},{"$f":"IF(MAX(F16:F25)=0,\"\",MAX(F16:F25))","v":""},{"$f":"IF(MAX(G16:G25)=0,\"\",MAX(G16:G25))","v":""},null,{"$f":"SUM(I16:I25)","v":0},{"$f":"SUM(J16:J25)","v":0}]
["Commentaires ou notes explicatives sur les composants majeurs critiques auscultés\n\n(¨  Notes supplémentaires et/ou photos disponibles)","\n"]
["RELEVÉ DES COMPOSANTS MAJEURS MÉCANIQUES"]
["Composants majeurs","Année d'installation","Durée de vie utile théorique","% Durée de vie écoulée","État physique","État fonctionnel","Année d'évaluation","Type d'évaluation*","Valeur de remplacement ($)","Coût de l'intervention ($)","Type d'intervention**","Année d'intervention"]
[null,null,{"$f":"IF(B30=\"\",\"\",Données!$E$81)","v":""},{"$f":"IF(B30=\"\",\"\",(Annee_BI-B30)/C30)","v":""}]
[null,null,{"$f":"IF(B31=\"\",\"\",Données!$E$81)","v":""},""]
[null,null,{"$f":"IF(B32=\"\",\"\",Données!$E$81)","v":""},""]
[null,null,{"$f":"IF(B33=\"\",\"\",Données!$E$81)","v":""},""]
[null,null,{"$f":"IF(B34=\"\",\"\",Données!$E$81)","v":""},""]
[null,null,{"$f":"IF(B35=\"\",\"\",Données!$E$81)","v":""},""]
[null,null,{"$f":"IF(B36=\"\",\"\",Données!$E$81)","v":""},""]
[null,null,{"$f":"IF(B37=\"\",\"\",Données!$E$81)","v":""},""]
[null,null,{"$f":"IF(B38=\"\",\"\",Données!$E$81)","v":""},""]
[null,null,{"$f":"IF(B39=\"\",\"\",Données!$E$81)","v":""},""]
["Récapitulatif des résultats (discipline)",{"$f":"IF(MIN(B30:B39)=0,\"\",MIN(B30:B39))","v":""},{"$f":"IF(MAX(C30:C39)=0,\"\",MAX(C30:C39))","v":""},{"$f":"IF(MAX(D30:D39)=0,\"\",MAX(D30:D39))","v":""},{"$f":"IF(MAX(E30:E39)=0,\"\",MAX(E30:E39))","v":""},{"$f":"IF(MAX(F30:F39)=0,\"\",MAX(F30:F39))","v":""},{"$f":"IF(MAX(G30:G39)=0,\"\",MAX(G30:G39))","v":""},null,{"$f":"SUM(I30:I39)","v":0},{"$f":"SUM(J30:J39)","v":0}]
["Commentaires ou notes explicatives sur les composants majeurs critiques auscultés\n\n(¨  Notes supplémentaires et/ou photos disponibles)","\n"]
["RELEVÉ DES COMPOSANTS MAJEURS ÉLECTRIQUES"]
["Composants majeurs","Année d'installation","Durée de vie utile théorique","% Durée de vie écoulée","État physique","État fonctionnel","Année d'auscultation","Type d'évaluation*","Valeur de remplacement ($)","Coût de l'intervention ($)","Type d'intervention**","Année d'intervention"]
[null,null,{"$f":"IF(B44=\"\",\"\",Données!$E$82)","v":""},{"$f":"IF(B44=\"\",\"\",(Annee_BI-B44)/C44)","v":""}]
[null,null,{"$f":"IF(B45=\"\",\"\",Données!$E$82)","v":""},""]
[null,null,{"$f":"IF(B46=\"\",\"\",Données!$E$82)","v":""},""]
[null,null,{"$f":"IF(B47=\"\",\"\",Données!$E$82)","v":""},""]
[null,null,{"$f":"IF(B48=\"\",\"\",Données!$E$82)","v":""},""]
[null,null,{"$f":"IF(B49=\"\",\"\",Données!$E$82)","v":""},""]
[null,null,{"$f":"IF(B50=\"\",\"\",Données!$E$82)","v":""},""]
[null,null,{"$f":"IF(B51=\"\",\"\",Données!$E$82)","v":""},""]
[null,null,{"$f":"IF(B52=\"\",\"\",Données!$E$82)","v":""},""]
[null,null,{"$f":"IF(B53=\"\",\"\",Données!$E$82)","v":""},""]
["Récapitulatif des résultats (discipline)",{"$f":"IF(MIN(B44:B53)=0,\"\",MIN(B44:B53))","v":""},{"$f":"IF(MAX(C44:C53)=0,\"\",MAX(C44:C53))","v":""},{"$f":"IF(MAX(D44:D53)=0,\"\",MAX(D44:D53))","v":""},{"$f":"IF(MAX(E44:E53)=0,\"\",MAX(E44:E53))","v":""},{"$f":"IF(MAX(F44:F53)=0,\"\",MAX(F44:F53))","v":""},{"$f":"IF(MAX(G44:G53)=0,\"\",MAX(G44:G53))","v":""},null,{"$f":"SUM(I44:I53)","v":0},{"$f":"SUM(J44:J53)","v":0}]
["Commentaires ou notes explicatives sur les composants majeurs critiques auscultés\n\n(¨  Notes supplémentaires et/ou photos disponibles)"]
["RELEVÉ DES COMPOSANTS MAJEURS D'INSTRUMENTATION ET DE CONTRÔLE"]
["Composants majeurs","Année d'installation","Durée de vie utile théorique","% Durée de vie écoulée","État physique","État fonctionnel","Année d'évaluation","Type d'évaluation*","Valeur de remplacement ($)","Coût de l'intervention ($)","Type d'intervention**","Année d'intervention"]
[null,null,{"$f":"IF(B58=\"\",\"\",Données!$E$83)","v":""},{"$f":"IF(B58=\"\",\"\",(Annee_BI-B58)/C58)","v":""}]
[null,null,{"$f":"IF(B59=\"\",\"\",Données!$E$83)","v":""},""]
[null,null,{"$f":"IF(B60=\"\",\"\",Données!$E$83)","v":""},""]
[null,null,{"$f":"IF(B61=\"\",\"\",Données!$E$83)","v":""},""]
[null,null,{"$f":"IF(B62=\"\",\"\",Données!$E$83)","v":""},""]
[null,null,{"$f":"IF(B63=\"\",\"\",Données!$E$83)","v":""},""]
[null,null,{"$f":"IF(B64=\"\",\"\",Données!$E$83)","v":""},""]
[null,null,{"$f":"IF(B65=\"\",\"\",Données!$E$83)","v":""},""]
[null,null,{"$f":"IF(B66=\"\",\"\",Données!$E$83)","v":""},""]
[null,null,{"$f":"IF(B67=\"\",\"\",Données!$E$83)","v":""},""]
["Récapitulatif des résultats (discipline)",{"$f":"IF(MIN(B58:B67)=0,\"\",MIN(B58:B67))","v":""},{"$f":"IF(MAX(C58:C67)=0,\"\",MAX(C58:C67))","v":""},{"$f":"IF(MAX(D58:D67)=0,\"\",MAX(D58:D67))","v":""},{"$f":"IF(MAX(E58:E67)=0,\"\",MAX(E58:E67))","v":""},{"$f":"IF(MAX(F58:F67)=0,\"\",MAX(F58:F67))","v":""},{"$f":"IF(MAX(G58:G67)=0,\"\",MAX(G58:G67))","v":""},null,{"$f":"SUM(I58:I67)","v":0},{"$f":"SUM(J58:J67)","v":0}]
["Commentaires ou notes explicatives sur les composants majeurs critiques auscultés\n\n(¨  Notes supplémentaires et/ou photos disponibles)"]

{"sheet":"Synthèse_Bâtiments","index":53,"n_rows":67,"n_cols":20,"rows_kept":67,"cut":false,"hidden":true,"merged":[[66,6,66,7]]}
["ID","Service d'eau","Type d'ouvrage","Sous-type d'ouvrage","Nom de l'ouvrage","Nom du bâtiment ","Discipline","Année d'installation ou de dernière intervention majeure","Présence de la discipline","%Valeur du batiment","Valeur de remplacement","Année d'évaluation","État constaté","Coût estimé des travaux en rattrapage \n(0-5 ans)","Cout estimé des travaux en maintien d'actifs régulier \n(0-5 ans)","Année debut","Année fin","Cout estimé en maintien de l'offre de service \n(5-10 ans)","Année debut","Année fin"]
[1,{"$f":"IF(serviceau=\"\",\"\",serviceau)","v":""},{"$f":"IF(typeinfra=\"\",\"\",typeinfra)","v":""},{"$f":"IF(stypeinfra=\"\",\"\",stypeinfra)","v":""},{"$f":"IF(Identification!$H$63=\"\",\"\",Identification!$H$63)","v":""},{"$f":"IF('Bâtiment (1)'!$I$3=0,\"\",'Bâtiment (1)'!$I$3)","v":""},"Architecture",{"$f":"'Bâtiment (1)'!$B$35","v":""},{"$f":"IF(H2<>\"\",1,0)","v":0},{"$f":"IFERROR(K2/SUM($K2:$K5),0)","v":0},{"$f":"'Bâtiment (1)'!$H$35","v":0},{"$f":"'Bâtiment (1)'!$F$35","v":""},{"$f":"'Bâtiment (1)'!$E$35","v":""},{"$f":"'Bâtiment (1)'!$I$35- (SUMIFS('Bâtiment (1)'!$I$17:$I$34,'Bâtiment (1)'!$E$17:$E$34,\"<4\"))","v":0},{"$f":"SUMIFS('Bâtiment (1)'!$I$17:$I$34,'Bâtiment (1)'!$E$17:$E$34,\"<4\",'Bâtiment (1)'!$K$17:$K$34,\">=\"&Annee_BI,'Bâtiment (1)'!$K$17:$K$34,\"<=\"&Annee_BI+4)","v":0},{"$f":"MIN(IF('Bâtiment (1)'!$K$17:$K$34>=Annee_BI,IF('Bâtiment (1)'!$K$17:$K$34<=Annee_BI+4,'Bâtiment (1)'!$K$17:$K$34)))","v":0},{"$f":"MAX(IF('Bâtiment (1)'!$K$17:$K$34>=Annee_BI,IF('Bâtiment (1)'!$K$17:$K$34<=Annee_BI+4,'Bâtiment (1)'!$K$17:$K$34)))","v":0},{"$f":"SUMIFS('Bâtiment (1)'!$I$17:$I$34,'Bâtiment (1)'!$E$17:$E$34,\"<4\",'Bâtiment (1)'!$K$17:$K$34,\">=\"&Annee_BI+5,'Bâtiment (1)'!$K$17:$K$34,\"<=\"&Annee_BI+9)","v":0},{"$f":"MIN(IF('Bâtiment (1)'!$K$17:$K$34>=Annee_BI+5,IF('Bâtiment (1)'!$K$17:$K$34<=Annee_BI+9,'Bâtiment (1)'!$K$17:$K$34)))","v":0},{"$f":"MAX(IF('Bâtiment (1)'!$K$17:$K$34>=Annee_BI+5,IF('Bâtiment (1)'!$K$17:$K$34<=Annee_BI+9,'Bâtiment (1)'!$K$17:$K$34)))","v":0}]
[{"$f":"A2+1","v":2},"","","",{"$f":"IF(Identification!$H$63=\"\",\"\",Identification!$H$63)","v":""},{"$f":"IF('Bâtiment (1)'!$I$3=0,\"\",'Bâtiment (1)'!$I$3)","v":""},"Civil",{"$f":"'Bâtiment (1)'!$B$49","v":""},{"$f":"IF(H3<>\"\",1,0)","v":0},{"$f":"IFERROR(K3/SUM($K2:$K5),0)","v":0},{"$f":"'Bâtiment (1)'!$H$49","v":0},{"$f":"'Bâtiment (1)'!$F$49","v":""},{"$f":"'Bâtiment (1)'!$E$49","v":""},{"$f":"'Bâtiment (1)'!$I$49- (SUMIFS('Bâtiment (1)'!$I$39:$I$48,'Bâtiment (1)'!$E$39:$E$48,\"<4\"))","v":0},{"$f":"SUMIFS('Bâtiment (1)'!$I$39:$I$48,'Bâtiment (1)'!$E$39:$E$48,\"<4\",'Bâtiment (1)'!$K$39:$K$48,\">=\"&Annee_BI,'Bâtiment (1)'!$K$39:$K$48,\"<=\"&Annee_BI+4)","v":0},{"$f":"MIN(IF('Bâtiment (1)'!$K$39:$K$48>=Annee_BI,IF('Bâtiment (1)'!$K$39:$K$48<=Annee_BI+4,'Bâtiment (1)'!$K$39:$K$48)))","v":0},{"$f":"MAX(IF('Bâtiment (1)'!$K$39:$K$48>=Annee_BI,IF('Bâtiment (1)'!$K$39:$K$48<=Annee_BI+4,'Bâtiment (1)'!$K$39:$K$48)))","v":0},{"$f":"SUMIFS('Bâtiment (1)'!$I$39:$I$48,'Bâtiment (1)'!$E$39:$E$48,\"<4\",'Bâtiment (1)'!$K$39:$K$48,\">=\"&Annee_BI+5,'Bâtiment (1)'!$K$39:$K$48,\"<=\"&Annee_BI+9)","v":0},{"$f":"MIN(IF('Bâtiment (1)'!$K$39:$K$48>=Annee_BI+5,IF('Bâtiment (1)'!$K$39:$K$48<=Annee_BI+9,'Bâtiment (1)'!$K$39:$K$48)))","v":0},{"$f":"MAX(IF('Bâtiment (1)'!$K$39:$K$48>=Annee_BI+5,IF('Bâtiment (1)'!$K$39:$K$48<=Annee_BI+9,'Bâtiment (1)'!$K$39:$K$48)))","v":0}]
[{"$f":"A3+1","v":3},"","","",{"$f":"IF(Identification!$H$63=\"\",\"\",Identification!$H$63)","v":""},{"$f":"IF('Bâtiment (1)'!$I$3=0,\"\",'Bâtiment (1)'!$I$3)","v":""},"Mécanique",{"$f":"'Bâtiment (1)'!$B$77","v":""},0,{"$f":"IFERROR(K4/SUM($K2:$K5),0)","v":0},{"$f":"'Bâtiment (1)'!$H$77","v":0},{"$f":"'Bâtiment (1)'!$F$77","v":""},{"$f":"'Bâtiment (1)'!$E$77","v":""},{"$f":"'Bâtiment (1)'!$I$77- (SUMIFS('Bâtiment (1)'!$I$53:$I$76,'Bâtiment (1)'!$E$53:$E$76,\"<4\"))","v":0},{"$f":"SUMIFS('Bâtiment (1)'!$I$53:$I$76,'Bâtiment (1)'!$E$53:$E$76,\"<4\",'Bâtiment (1)'!$K$53:$K$76,\">=\"&Annee_BI,'Bâtiment (1)'!$K$53:$K$76,\"<=\"&Annee_BI+4)","v":0},{"$f":"MIN(IF('Bâtiment (1)'!$K$53:$K$76>=Annee_BI,IF('Bâtiment (1)'!$K$53:$K$76<=Annee_BI+4,'Bâtiment (1)'!$K$53:$K$76)))","v":0},{"$f":"MAX(IF('Bâtiment (1)'!$K$53:$K$76>=Annee_BI,IF('Bâtiment (1)'!$K$53:$K$76<=Annee_BI+4,'Bâtiment (1)'!$K$53:$K$76)))","v":0},{"$f":"SUMIFS('Bâtiment (1)'!$I$53:$I$76,'Bâtiment (1)'!$E$53:$E$76,\"<4\",'Bâtiment (1)'!$K$53:$K$76,\">=\"&Annee_BI+5,'Bâtiment (1)'!$K$53:$K$76,\"<=\"&Annee_BI+9)","v":0},{"$f":"MIN(IF('Bâtiment (1)'!$K$53:$K$76>=Annee_BI+5,IF('Bâtiment (1)'!$K$53:$K$76<=Annee_BI+9,'Bâtiment (1)'!$K$53:$K$76)))","v":0},{"$f":"MAX(IF('Bâtiment (1)'!$K$53:$K$76>=Annee_BI+5,IF('Bâtiment (1)'!$K$53:$K$76<=Annee_BI+9,'Bâtiment (1)'!$K$53:$K$76)))","v":0}]
[4,"","","",{"$f":"IF(Identification!$H$63=\"\",\"\",Identification!$H$63)","v":""},{"$f":"IF('Bâtiment (1)'!$I$3=0,\"\",'Bâtiment (1)'!$I$3)","v":""},"Électricité",{"$f":"'Bâtiment (1)'!$B$86","v":""},0,{"$f":"IFERROR(K5/SUM($K2:$K5),0)","v":0},{"$f":"'Bâtiment (1)'!$H$86","v":0},{"$f":"'Bâtiment (1)'!$F$86","v":""},{"$f":"'Bâtiment (1)'!$E$86","v":""},{"$f":"'Bâtiment (1)'!$I$86- (SUMIFS('Bâtiment (1)'!$I$81:$I$85,'Bâtiment (1)'!$E$81:$E$85,\"<4\"))","v":0},{"$f":"SUMIFS('Bâtiment (1)'!$I$81:$I$85,'Bâtiment (1)'!$E$81:$E$85,\"<4\",'Bâtiment (1)'!$K$81:$K$85,\">=\"&Annee_BI,'Bâtiment (1)'!$K$81:$K$85,\"<=\"&Annee_BI+4)","v":0},{"$f":"MIN(IF('Bâtiment (1)'!$K$81:$K$85>=Annee_BI,IF('Bâtiment (1)'!$K$81:$K$85<=Annee_BI+4,'Bâtiment (1)'!$K$81:$K$85)))","v":0},{"$f":"MAX(IF('Bâtiment (1)'!$K$81:$K$85>=Annee_BI,IF('Bâtiment (1)'!$K$81:$K$85<=Annee_BI+4,'Bâtiment (1)'!$K$81:$K$85)))","v":0},{"$f":"SUMIFS('Bâtiment (1)'!$I$81:$I$85,'Bâtiment (1)'!$E$81:$E$85,\"<4\",'Bâtiment (1)'!$K$81:$K$85,\">=\"&Annee_BI+5,'Bâtiment (1)'!$K$81:$K$85,\"<=\"&Annee_BI+9)","v":0},{"$f":"MIN(IF('Bâtiment (1)'!$K$81:$K$85>=Annee_BI+5,IF('Bâtiment (1)'!$K$81:$K$85<=Annee_BI+9,'Bâtiment (1)'!$K$81:$K$85)))","v":0},{"$f":"MAX(IF('Bâtiment (1)'!$K$81:$K$85>=Annee_BI+5,IF('Bâtiment (1)'!$K$81:$K$85<=Annee_BI+9,'Bâtiment (1)'!$K$81:$K$85)))","v":0}]
[5,"","","",{"$f":"IF(Identification!$H$63=\"\",\"\",Identification!$H$63)","v":""},{"$f":"IF('Bâtiment (2)'!$I$3=0,\"\",'Bâtiment (2)'!$I$3)","v":""},"Architecture",{"$f":"'Bâtiment (2)'!$B$35","v":""},{"$f":"IF(H6<>\"\",1,0)","v":0},{"$f":"IFERROR(K6/SUM($K6:$K9),0)","v":0},{"$f":"'Bâtiment (2)'!$H$35","v":0},{"$f":"'Bâtiment (2)'!$F$35","v":""},{"$f":"'Bâtiment (2)'!$E$35","v":""},{"$f":"'Bâtiment (2)'!$I$35- (SUMIFS('Bâtiment (2)'!$I$17:$I$34,'Bâtiment (2)'!$E$17:$E$34,\"<4\"))","v":0},{"$f":"SUMIFS('Bâtiment (2)'!$I$17:$I$34,'Bâtiment (2)'!$E$17:$E$34,\"<4\",'Bâtiment (2)'!$K$17:$K$34,\">=\"&Annee_BI,'Bâtiment (2)'!$K$17:$K$34,\"<=\"&Annee_BI+4)","v":0},{"$f":"MIN(IF('Bâtiment (2)'!$K$17:$K$34>=Annee_BI,IF('Bâtiment (2)'!$K$17:$K$34<=Annee_BI+4,'Bâtiment (2)'!$K$17:$K$34)))","v":0},{"$f":"MAX(IF('Bâtiment (2)'!$K$17:$K$34>=Annee_BI,IF('Bâtiment (2)'!$K$17:$K$34<=Annee_BI+4,'Bâtiment (2)'!$K$17:$K$34)))","v":0},{"$f":"SUMIFS('Bâtiment (2)'!$I$17:$I$34,'Bâtiment (2)'!$E$17:$E$34,\"<4\",'Bâtiment (2)'!$K$17:$K$34,\">=\"&Annee_BI+5,'Bâtiment (2)'!$K$17:$K$34,\"<=\"&Annee_BI+9)","v":0},{"$f":"MIN(IF('Bâtiment (2)'!$K$17:$K$34>=Annee_BI+5,IF('Bâtiment (2)'!$K$17:$K$34<=Annee_BI+9,'Bâtiment (2)'!$K$17:$K$34)))","v":0},{"$f":"MAX(IF('Bâtiment (2)'!$K$17:$K$34>=Annee_BI+5,IF('Bâtiment (2)'!$K$17:$K$34<=Annee_BI+9,'Bâtiment (2)'!$K$17:$K$34)))","v":0}]
[6,"","","",{"$f":"IF(Identification!$H$63=\"\",\"\",Identification!$H$63)","v":""},{"$f":"IF('Bâtiment (2)'!$I$3=0,\"\",'Bâtiment (2)'!$I$3)","v":""},"Civil",{"$f":"'Bâtiment (2)'!$B$49","v":""},{"$f":"IF(H7<>\"\",1,0)","v":0},{"$f":"IFERROR(K7/SUM($K6:$K9),0)","v":0},{"$f":"'Bâtiment (2)'!$H$49","v":0},{"$f":"'Bâtiment (2)'!$F$49","v":""},{"$f":"'Bâtiment (2)'!$E$49","v":""},{"$f":"'Bâtiment (2)'!$I$49- (SUMIFS('Bâtiment (2)'!$I$39:$I$48,'Bâtiment (2)'!$E$39:$E$48,\"<4\"))","v":0},{"$f":"SUMIFS('Bâtiment (2)'!$I$39:$I$48,'Bâtiment (2)'!$E$39:$E$48,\"<4\",'Bâtiment (2)'!$K$39:$K$48,\">=\"&Annee_BI,'Bâtiment (2)'!$K$39:$K$48,\"<=\"&Annee_BI+4)","v":0},{"$f":"MIN(IF('Bâtiment (2)'!$K$39:$K$48>=Annee_BI,IF('Bâtiment (2)'!$K$39:$K$48<=Annee_BI+4,'Bâtiment (2)'!$K$39:$K$48)))","v":0},{"$f":"MAX(IF('Bâtiment (2)'!$K$39:$K$48>=Annee_BI,IF('Bâtiment (2)'!$K$39:$K$48<=Annee_BI+4,'Bâtiment (2)'!$K$39:$K$48)))","v":0},{"$f":"SUMIFS('Bâtiment (2)'!$I$39:$I$48,'Bâtiment (2)'!$E$39:$E$48,\"<4\",'Bâtiment (2)'!$K$39:$K$48,\">=\"&Annee_BI+5,'Bâtiment (2)'!$K$39:$K$48,\"<=\"&Annee_BI+9)","v":0},{"$f":"MIN(IF('Bâtiment (2)'!$K$39:$K$48>=Annee_BI+5,IF('Bâtiment (2)'!$K$39:$K$48<=Annee_BI+9,'Bâtiment (2)'!$K$39:$K$48)))","v":0},{"$f":"MAX(IF('Bâtiment (2)'!$K$39:$K$48>=Annee_BI+5,IF('Bâtiment (2)'!$K$39:$K$48<=Annee_BI+9,'Bâtiment (2)'!$K$39:$K$48)))","v":0}]
[7,"","","",{"$f":"IF(Identification!$H$63=\"\",\"\",Identification!$H$63)","v":""},{"$f":"IF('Bâtiment (2)'!$I$3=0,\"\",'Bâtiment (2)'!$I$3)","v":""},"Mécanique",{"$f":"'Bâtiment (2)'!$B$77","v":""},0,{"$f":"IFERROR(K8/SUM($K6:$K9),0)","v":0},{"$f":"'Bâtiment (2)'!$H$77","v":0},{"$f":"'Bâtiment (2)'!$F$77","v":""},{"$f":"'Bâtiment (2)'!$E$77","v":""},{"$f":"'Bâtiment (2)'!$I$77- (SUMIFS('Bâtiment (2)'!$I$53:$I$76,'Bâtiment (2)'!$E$53:$E$76,\"<4\"))","v":0},{"$f":"SUMIFS('Bâtiment (2)'!$I$53:$I$76,'Bâtiment (2)'!$E$53:$E$76,\"<4\",'Bâtiment (2)'!$K$53:$K$76,\">=\"&Annee_BI,'Bâtiment (2)'!$K$53:$K$76,\"<=\"&Annee_BI+4)","v":0},{"$f":"MIN(IF('Bâtiment (2)'!$K$53:$K$76>=Annee_BI,IF('Bâtiment (2)'!$K$53:$K$76<=Annee_BI+4,'Bâtiment (2)'!$K$53:$K$76)))","v":0},{"$f":"MAX(IF('Bâtiment (2)'!$K$53:$K$76>=Annee_BI,IF('Bâtiment (2)'!$K$53:$K$76<=Annee_BI+4,'Bâtiment (2)'!$K$53:$K$76)))","v":0},{"$f":"SUMIFS('Bâtiment (2)'!$I$53:$I$76,'Bâtiment (2)'!$E$53:$E$76,\"<4\",'Bâtiment (2)'!$K$53:$K$76,\">=\"&Annee_BI+5,'Bâtiment (2)'!$K$53:$K$76,\"<=\"&Annee_BI+9)","v":0},{"$f":"MIN(IF('Bâtiment (2)'!$K$53:$K$76>=Annee_BI+5,IF('Bâtiment (2)'!$K$53:$K$76<=Annee_BI+9,'Bâtiment (2)'!$K$53:$K$76)))","v":0},{"$f":"MAX(IF('Bâtiment (2)'!$K$53:$K$76>=Annee_BI+5,IF('Bâtiment (2)'!$K$53:$K$76<=Annee_BI+9,'Bâtiment (2)'!$K$53:$K$76)))","v":0}]
[8,"","","",{"$f":"IF(Identification!$H$63=\"\",\"\",Identification!$H$63)","v":""},{"$f":"IF('Bâtiment (2)'!$I$3=0,\"\",'Bâtiment (2)'!$I$3)","v":""},"Électricité",{"$f":"'Bâtiment (2)'!$B$86","v":""},0,{"$f":"IFERROR(K9/SUM($K6:$K9),0)","v":0},{"$f":"'Bâtiment (2)'!$H$86","v":0},{"$f":"'Bâtiment (2)'!$F$86","v":""},{"$f":"'Bâtiment (2)'!$E$86","v":""},{"$f":"'Bâtiment (2)'!$I$86- (SUMIFS('Bâtiment (2)'!$I$81:$I$85,'Bâtiment (2)'!$E$81:$E$85,\"<4\"))","v":0},{"$f":"SUMIFS('Bâtiment (2)'!$I$81:$I$85,'Bâtiment (2)'!$E$81:$E$85,\"<4\",'Bâtiment (2)'!$K$81:$K$85,\">=\"&Annee_BI,'Bâtiment (2)'!$K$81:$K$85,\"<=\"&Annee_BI+4)","v":0},{"$f":"MIN(IF('Bâtiment (2)'!$K$81:$K$85>=Annee_BI,IF('Bâtiment (2)'!$K$81:$K$85<=Annee_BI+4,'Bâtiment (2)'!$K$81:$K$85)))","v":0},{"$f":"MAX(IF('Bâtiment (2)'!$K$81:$K$85>=Annee_BI,IF('Bâtiment (2)'!$K$81:$K$85<=Annee_BI+4,'Bâtiment (2)'!$K$81:$K$85)))","v":0},{"$f":"SUMIFS('Bâtiment (2)'!$I$81:$I$85,'Bâtiment (2)'!$E$81:$E$85,\"<4\",'Bâtiment (2)'!$K$81:$K$85,\">=\"&Annee_BI+5,'Bâtiment (2)'!$K$81:$K$85,\"<=\"&Annee_BI+9)","v":0},{"$f":"MIN(IF('Bâtiment (2)'!$K$81:$K$85>=Annee_BI+5,IF('Bâtiment (2)'!$K$81:$K$85<=Annee_BI+9,'Bâtiment (2)'!$K$81:$K$85)))","v":0},{"$f":"MAX(IF('Bâtiment (2)'!$K$81:$K$85>=Annee_BI+5,IF('Bâtiment (2)'!$K$81:$K$85<=Annee_BI+9,'Bâtiment (2)'!$K$81:$K$85)))","v":0}]
[9,"","","",{"$f":"IF(Identification!$H$63=\"\",\"\",Identification!$H$63)","v":""},{"$f":"IF('Bâtiment (3)'!$I$3=0,\"\",'Bâtiment (3)'!$I$3)","v":""},"Architecture",{"$f":"'Bâtiment (3)'!$B$35","v":""},{"$f":"IF(H10<>\"\",1,0)","v":0},{"$f":"IFERROR(K10/SUM($K10:$K13),0)","v":0},{"$f":"'Bâtiment (3)'!$H$35","v":0},{"$f":"'Bâtiment (3)'!$F$35","v":""},{"$f":"'Bâtiment (3)'!$E$35","v":""},{"$f":"'Bâtiment (3)'!$I$35- (SUMIFS('Bâtiment (3)'!$I$17:$I$34,'Bâtiment (3)'!$E$17:$E$34,\"<4\"))","v":0},{"$f":"SUMIFS('Bâtiment (3)'!$I$17:$I$34,'Bâtiment (3)'!$E$17:$E$34,\"<4\",'Bâtiment (3)'!$K$17:$K$34,\">=\"&Annee_BI,'Bâtiment (3)'!$K$17:$K$34,\"<=\"&Annee_BI+4)","v":0},{"$f":"MIN(IF('Bâtiment (3)'!$K$17:$K$34>=Annee_BI,IF('Bâtiment (3)'!$K$17:$K$34<=Annee_BI+4,'Bâtiment (3)'!$K$17:$K$34)))","v":0},{"$f":"MAX(IF('Bâtiment (3)'!$K$17:$K$34>=Annee_BI,IF('Bâtiment (3)'!$K$17:$K$34<=Annee_BI+4,'Bâtiment (3)'!$K$17:$K$34)))","v":0},{"$f":"SUMIFS('Bâtiment (3)'!$I$17:$I$34,'Bâtiment (3)'!$E$17:$E$34,\"<4\",'Bâtiment (3)'!$K$17:$K$34,\">=\"&Annee_BI+5,'Bâtiment (3)'!$K$17:$K$34,\"<=\"&Annee_BI+9)","v":0},{"$f":"MIN(IF('Bâtiment (3)'!$K$17:$K$34>=Annee_BI+5,IF('Bâtiment (3)'!$K$17:$K$34<=Annee_BI+9,'Bâtiment (3)'!$K$17:$K$34)))","v":0},{"$f":"MAX(IF('Bâtiment (3)'!$K$17:$K$34>=Annee_BI+5,IF('Bâtiment (3)'!$K$17:$K$34<=Annee_BI+9,'Bâtiment (3)'!$K$17:$K$34)))","v":0}]
[10,"","","",{"$f":"IF(Identification!$H$63=\"\",\"\",Identification!$H$63)","v":""},{"$f":"IF('Bâtiment (3)'!$I$3=0,\"\",'Bâtiment (3)'!$I$3)","v":""},"Civil",{"$f":"'Bâtiment (3)'!$B$49","v":""},{"$f":"IF(H11<>\"\",1,0)","v":0},{"$f":"IFERROR(K11/SUM($K10:$K13),0)","v":0},{"$f":"'Bâtiment (3)'!$H$49","v":0},{"$f":"'Bâtiment (3)'!$F$49","v":""},{"$f":"'Bâtiment (3)'!$E$49","v":""},{"$f":"'Bâtiment (3)'!$I$49- (SUMIFS('Bâtiment (3)'!$I$39:$I$48,'Bâtiment (3)'!$E$39:$E$48,\"<4\"))","v":0},{"$f":"SUMIFS('Bâtiment (3)'!$I$39:$I$48,'Bâtiment (3)'!$E$39:$E$48,\"<4\",'Bâtiment (3)'!$K$39:$K$48,\">=\"&Annee_BI,'Bâtiment (3)'!$K$39:$K$48,\"<=\"&Annee_BI+4)","v":0},{"$f":"MIN(IF('Bâtiment (3)'!$K$39:$K$48>=Annee_BI,IF('Bâtiment (3)'!$K$39:$K$48<=Annee_BI+4,'Bâtiment (3)'!$K$39:$K$48)))","v":0},{"$f":"MAX(IF('Bâtiment (3)'!$K$39:$K$48>=Annee_BI,IF('Bâtiment (3)'!$K$39:$K$48<=Annee_BI+4,'Bâtiment (3)'!$K$39:$K$48)))","v":0},{"$f":"SUMIFS('Bâtiment (3)'!$I$39:$I$48,'Bâtiment (3)'!$E$39:$E$48,\"<4\",'Bâtiment (3)'!$K$39:$K$48,\">=\"&Annee_BI+5,'Bâtiment (3)'!$K$39:$K$48,\"<=\"&Annee_BI+9)","v":0},{"$f":"MIN(IF('Bâtiment (3)'!$K$39:$K$48>=Annee_BI+5,IF('Bâtiment (3)'!$K$39:$K$48<=Annee_BI+9,'Bâtiment (3)'!$K$39:$K$48)))","v":0},{"$f":"MAX(IF('Bâtiment (3)'!$K$39:$K$48>=Annee_BI+5,IF('Bâtiment (3)'!$K$39:$K$48<=Annee_BI+9,'Bâtiment (3)'!$K$39:$K$48)))","v":0}]
[11,"","","",{"$f":"IF(Identification!$H$63=\"\",\"\",Identification!$H$63)","v":""},{"$f":"IF('Bâtiment (3)'!$I$3=0,\"\",'Bâtiment (3)'!$I$3)","v":""},"Mécanique",{"$f":"'Bâtiment (3)'!$B$77","v":""},0,{"$f":"IFERROR(K12/SUM($K10:$K13),0)","v":0},{"$f":"'Bâtiment (3)'!$H$77","v":0},{"$f":"'Bâtiment (3)'!$F$77","v":""},{"$f":"'Bâtiment (3)'!$E$77","v":""},{"$f":"'Bâtiment (3)'!$I$77- (SUMIFS('Bâtiment (3)'!$I$53:$I$76,'Bâtiment (3)'!$E$53:$E$76,\"<4\"))","v":0},{"$f":"SUMIFS('Bâtiment (3)'!$I$53:$I$76,'Bâtiment (3)'!$E$53:$E$76,\"<4\",'Bâtiment (3)'!$K$53:$K$76,\">=\"&Annee_BI,'Bâtiment (3)'!$K$53:$K$76,\"<=\"&Annee_BI+4)","v":0},{"$f":"MIN(IF('Bâtiment (3)'!$K$53:$K$76>=Annee_BI,IF('Bâtiment (3)'!$K$53:$K$76<=Annee_BI+4,'Bâtiment (3)'!$K$53:$K$76)))","v":0},{"$f":"MAX(IF('Bâtiment (3)'!$K$53:$K$76>=Annee_BI,IF('Bâtiment (3)'!$K$53:$K$76<=Annee_BI+4,'Bâtiment (3)'!$K$53:$K$76)))","v":0},{"$f":"SUMIFS('Bâtiment (3)'!$I$53:$I$76,'Bâtiment (3)'!$E$53:$E$76,\"<4\",'Bâtiment (3)'!$K$53:$K$76,\">=\"&Annee_BI+5,'Bâtiment (3)'!$K$53:$K$76,\"<=\"&Annee_BI+9)","v":0},{"$f":"MIN(IF('Bâtiment (3)'!$K$53:$K$76>=Annee_BI+5,IF('Bâtiment (3)'!$K$53:$K$76<=Annee_BI+9,'Bâtiment (3)'!$K$53:$K$76)))","v":0},{"$f":"MAX(IF('Bâtiment (3)'!$K$53:$K$76>=Annee_BI+5,IF('Bâtiment (3)'!$K$53:$K$76<=Annee_BI+9,'Bâtiment (3)'!$K$53:$K$76)))","v":0}]
[12,"","","",{"$f":"IF(Identification!$H$63=\"\",\"\",Identification!$H$63)","v":""},{"$f":"IF('Bâtiment (3)'!$I$3=0,\"\",'Bâtiment (3)'!$I$3)","v":""},"Électricité",{"$f":"'Bâtiment (3)'!$B$86","v":""},0,{"$f":"IFERROR(K13/SUM($K10:$K13),0)","v":0},{"$f":"'Bâtiment (3)'!$H$86","v":0},{"$f":"'Bâtiment (3)'!$F$86","v":""},{"$f":"'Bâtiment (3)'!$E$86","v":""},{"$f":"'Bâtiment (3)'!$I$86- (SUMIFS('Bâtiment (3)'!$I$81:$I$85,'Bâtiment (3)'!$E$81:$E$85,\"<4\"))","v":0},{"$f":"SUMIFS('Bâtiment (3)'!$I$81:$I$85,'Bâtiment (3)'!$E$81:$E$85,\"<4\",'Bâtiment (3)'!$K$81:$K$85,\">=\"&Annee_BI,'Bâtiment (3)'!$K$81:$K$85,\"<=\"&Annee_BI+4)","v":0},{"$f":"MIN(IF('Bâtiment (3)'!$K$81:$K$85>=Annee_BI,IF('Bâtiment (3)'!$K$81:$K$85<=Annee_BI+4,'Bâtiment (3)'!$K$81:$K$85)))","v":0},{"$f":"MAX(IF('Bâtiment (3)'!$K$81:$K$85>=Annee_BI,IF('Bâtiment (3)'!$K$81:$K$85<=Annee_BI+4,'Bâtiment (3)'!$K$81:$K$85)))","v":0},{"$f":"SUMIFS('Bâtiment (3)'!$I$81:$I$85,'Bâtiment (3)'!$E$81:$E$85,\"<4\",'Bâtiment (3)'!$K$81:$K$85,\">=\"&Annee_BI+5,'Bâtiment (3)'!$K$81:$K$85,\"<=\"&Annee_BI+9)","v":0},{"$f":"MIN(IF('Bâtiment (3)'!$K$81:$K$85>=Annee_BI+5,IF('Bâtiment (3)'!$K$81:$K$85<=Annee_BI+9,'Bâtiment (3)'!$K$81:$K$85)))","v":0},{"$f":"MAX(IF('Bâtiment (3)'!$K$81:$K$85>=Annee_BI+5,IF('Bâtiment (3)'!$K$81:$K$85<=Annee_BI+9,'Bâtiment (3)'!$K$81:$K$85)))","v":0}]
[13,"","","",{"$f":"IF(Identification!$H$63=\"\",\"\",Identification!$H$63)","v":""},{"$f":"IF('Bâtiment (4)'!$I$3=0,\"\",'Bâtiment (4)'!$I$3)","v":""},"Architecture",{"$f":"'Bâtiment (4)'!$B$35","v":""},{"$f":"IF(H14<>\"\",1,0)","v":0},{"$f":"IFERROR(K14/SUM($K14:$K17),0)","v":0},{"$f":"'Bâtiment (4)'!$H$35","v":0},{"$f":"'Bâtiment (4)'!$F$35","v":""},{"$f":"'Bâtiment (4)'!$E$35","v":""},{"$f":"'Bâtiment (4)'!$I$35- (SUMIFS('Bâtiment (4)'!$I$17:$I$34,'Bâtiment (4)'!$E$17:$E$34,\"<4\"))","v":0},{"$f":"SUMIFS('Bâtiment (4)'!$I$17:$I$34,'Bâtiment (4)'!$E$17:$E$34,\"<4\",'Bâtiment (4)'!$K$17:$K$34,\">=\"&Annee_BI,'Bâtiment (4)'!$K$17:$K$34,\"<=\"&Annee_BI+4)","v":0},{"$f":"MIN(IF('Bâtiment (4)'!$K$17:$K$34>=Annee_BI,IF('Bâtiment (4)'!$K$17:$K$34<=Annee_BI+4,'Bâtiment (4)'!$K$17:$K$34)))","v":0},{"$f":"MAX(IF('Bâtiment (4)'!$K$17:$K$34>=Annee_BI,IF('Bâtiment (4)'!$K$17:$K$34<=Annee_BI+4,'Bâtiment (4)'!$K$17:$K$34)))","v":0},{"$f":"SUMIFS('Bâtiment (4)'!$I$17:$I$34,'Bâtiment (4)'!$E$17:$E$34,\"<4\",'Bâtiment (4)'!$K$17:$K$34,\">=\"&Annee_BI+5,'Bâtiment (4)'!$K$17:$K$34,\"<=\"&Annee_BI+9)","v":0},{"$f":"MIN(IF('Bâtiment (4)'!$K$17:$K$34>=Annee_BI+5,IF('Bâtiment (4)'!$K$17:$K$34<=Annee_BI+9,'Bâtiment (4)'!$K$17:$K$34)))","v":0},{"$f":"MAX(IF('Bâtiment (4)'!$K$17:$K$34>=Annee_BI+5,IF('Bâtiment (4)'!$K$17:$K$34<=Annee_BI+9,'Bâtiment (4)'!$K$17:$K$34)))","v":0}]
[14,"","","",{"$f":"IF(Identification!$H$63=\"\",\"\",Identification!$H$63)","v":""},{"$f":"IF('Bâtiment (4)'!$I$3=0,\"\",'Bâtiment (4)'!$I$3)","v":""},"Civil",{"$f":"'Bâtiment (4)'!$B$49","v":""},{"$f":"IF(H15<>\"\",1,0)","v":0},{"$f":"IFERROR(K15/SUM($K14:$K17),0)","v":0},{"$f":"'Bâtiment (4)'!$H$49","v":0},{"$f":"'Bâtiment (4)'!$F$49","v":""},{"$f":"'Bâtiment (4)'!$E$49","v":""},{"$f":"'Bâtiment (4)'!$I$49- (SUMIFS('Bâtiment (4)'!$I$39:$I$48,'Bâtiment (4)'!$E$39:$E$48,\"<4\"))","v":0},{"$f":"SUMIFS('Bâtiment (4)'!$I$39:$I$48,'Bâtiment (4)'!$E$39:$E$48,\"<4\",'Bâtiment (4)'!$K$39:$K$48,\">=\"&Annee_BI,'Bâtiment (4)'!$K$39:$K$48,\"<=\"&Annee_BI+4)","v":0},{"$f":"MIN(IF('Bâtiment (4)'!$K$39:$K$48>=Annee_BI,IF('Bâtiment (4)'!$K$39:$K$48<=Annee_BI+4,'Bâtiment (4)'!$K$39:$K$48)))","v":0},{"$f":"MAX(IF('Bâtiment (4)'!$K$39:$K$48>=Annee_BI,IF('Bâtiment (4)'!$K$39:$K$48<=Annee_BI+4,'Bâtiment (4)'!$K$39:$K$48)))","v":0},{"$f":"SUMIFS('Bâtiment (4)'!$I$39:$I$48,'Bâtiment (4)'!$E$39:$E$48,\"<4\",'Bâtiment (4)'!$K$39:$K$48,\">=\"&Annee_BI+5,'Bâtiment (4)'!$K$39:$K$48,\"<=\"&Annee_BI+9)","v":0},{"$f":"MIN(IF('Bâtiment (4)'!$K$39:$K$48>=Annee_BI+5,IF('Bâtiment (4)'!$K$39:$K$48<=Annee_BI+9,'Bâtiment (4)'!$K$39:$K$48)))","v":0},{"$f":"MAX(IF('Bâtiment (4)'!$K$39:$K$48>=Annee_BI+5,IF('Bâtiment (4)'!$K$39:$K$48<=Annee_BI+9,'Bâtiment (4)'!$K$39:$K$48)))","v":0}]
[15,"","","",{"$f":"IF(Identification!$H$63=\"\",\"\",Identification!$H$63)","v":""},{"$f":"IF('Bâtiment (4)'!$I$3=0,\"\",'Bâtiment (4)'!$I$3)","v":""},"Mécanique",{"$f":"'Bâtiment (4)'!$B$77","v":""},0,{"$f":"IFERROR(K16/SUM($K14:$K17),0)","v":0},{"$f":"'Bâtiment (4)'!$H$77","v":0},{"$f":"'Bâtiment (4)'!$F$77","v":""},{"$f":"'Bâtiment (4)'!$E$77","v":""},{"$f":"'Bâtiment (4)'!$I$77- (SUMIFS('Bâtiment (4)'!$I$53:$I$76,'Bâtiment (4)'!$E$53:$E$76,\"<4\"))","v":0},{"$f":"SUMIFS('Bâtiment (4)'!$I$53:$I$76,'Bâtiment (4)'!$E$53:$E$76,\"<4\",'Bâtiment (4)'!$K$53:$K$76,\">=\"&Annee_BI,'Bâtiment (4)'!$K$53:$K$76,\"<=\"&Annee_BI+4)","v":0},{"$f":"MIN(IF('Bâtiment (4)'!$K$53:$K$76>=Annee_BI,IF('Bâtiment (4)'!$K$53:$K$76<=Annee_BI+4,'Bâtiment (4)'!$K$53:$K$76)))","v":0},{"$f":"MAX(IF('Bâtiment (4)'!$K$53:$K$76>=Annee_BI,IF('Bâtiment (4)'!$K$53:$K$76<=Annee_BI+4,'Bâtiment (4)'!$K$53:$K$76)))","v":0},{"$f":"SUMIFS('Bâtiment (4)'!$I$53:$I$76,'Bâtiment (4)'!$E$53:$E$76,\"<4\",'Bâtiment (4)'!$K$53:$K$76,\">=\"&Annee_BI+5,'Bâtiment (4)'!$K$53:$K$76,\"<=\"&Annee_BI+9)","v":0},{"$f":"MIN(IF('Bâtiment (4)'!$K$53:$K$76>=Annee_BI+5,IF('Bâtiment (4)'!$K$53:$K$76<=Annee_BI+9,'Bâtiment (4)'!$K$53:$K$76)))","v":0},{"$f":"MAX(IF('Bâtiment (4)'!$K$53:$K$76>=Annee_BI+5,IF('Bâtiment (4)'!$K$53:$K$76<=Annee_BI+9,'Bâtiment (4)'!$K$53:$K$76)))","v":0}]
[16,"","","",{"$f":"IF(Identification!$H$63=\"\",\"\",Identification!$H$63)","v":""},{"$f":"IF('Bâtiment (4)'!$I$3=0,\"\",'Bâtiment (4)'!$I$3)","v":""},"Électricité",{"$f":"'Bâtiment (4)'!$B$86","v":""},0,{"$f":"IFERROR(K17/SUM($K14:$K17),0)","v":0},{"$f":"'Bâtiment (4)'!$H$86","v":0},{"$f":"'Bâtiment (4)'!$F$86","v":""},{"$f":"'Bâtiment (4)'!$E$86","v":""},{"$f":"'Bâtiment (4)'!$I$86- (SUMIFS('Bâtiment (4)'!$I$81:$I$85,'Bâtiment (4)'!$E$81:$E$85,\"<4\"))","v":0},{"$f":"SUMIFS('Bâtiment (4)'!$I$81:$I$85,'Bâtiment (4)'!$E$81:$E$85,\"<4\",'Bâtiment (4)'!$K$81:$K$85,\">=\"&Annee_BI,'Bâtiment (4)'!$K$81:$K$85,\"<=\"&Annee_BI+4)","v":0},{"$f":"MIN(IF('Bâtiment (4)'!$K$81:$K$85>=Annee_BI,IF('Bâtiment (4)'!$K$81:$K$85<=Annee_BI+4,'Bâtiment (4)'!$K$81:$K$85)))","v":0},{"$f":"MAX(IF('Bâtiment (4)'!$K$81:$K$85>=Annee_BI,IF('Bâtiment (4)'!$K$81:$K$85<=Annee_BI+4,'Bâtiment (4)'!$K$81:$K$85)))","v":0},{"$f":"SUMIFS('Bâtiment (4)'!$I$81:$I$85,'Bâtiment (4)'!$E$81:$E$85,\"<4\",'Bâtiment (4)'!$K$81:$K$85,\">=\"&Annee_BI+5,'Bâtiment (4)'!$K$81:$K$85,\"<=\"&Annee_BI+9)","v":0},{"$f":"MIN(IF('Bâtiment (4)'!$K$81:$K$85>=Annee_BI+5,IF('Bâtiment (4)'!$K$81:$K$85<=Annee_BI+9,'Bâtiment (4)'!$K$81:$K$85)))","v":0},{"$f":"MAX(IF('Bâtiment (4)'!$K$81:$K$85>=Annee_BI+5,IF('Bâtiment (4)'!$K$81:$K$85<=Annee_BI+9,'Bâtiment (4)'!$K$81:$K$85)))","v":0}]
[17,"","","",{"$f":"IF(Identification!$H$63=\"\",\"\",Identification!$H$63)","v":""},{"$f":"IF('Bâtiment (5)'!$I$3=0,\"\",'Bâtiment (5)'!$I$3)","v":""},"Architecture",{"$f":"'Bâtiment (5)'!$B$35","v":""},{"$f":"IF(H18<>\"\",1,0)","v":0},{"$f":"IFERROR(K18/SUM($K18:$K21),0)","v":0},{"$f":"'Bâtiment (5)'!$H$35","v":0},{"$f":"'Bâtiment (5)'!$F$35","v":""},{"$f":"'Bâtiment (5)'!$E$35","v":""},{"$f":"'Bâtiment (5)'!$I$35- (SUMIFS('Bâtiment (5)'!$I$17:$I$34,'Bâtiment (5)'!$E$17:$E$34,\"<4\"))","v":0},{"$f":"SUMIFS('Bâtiment (5)'!$I$17:$I$34,'Bâtiment (5)'!$E$17:$E$34,\"<4\",'Bâtiment (5)'!$K$17:$K$34,\">=\"&Annee_BI,'Bâtiment (5)'!$K$17:$K$34,\"<=\"&Annee_BI+4)","v":0},{"$f":"MIN(IF('Bâtiment (5)'!$K$17:$K$34>=Annee_BI,IF('Bâtiment (5)'!$K$17:$K$34<=Annee_BI+4,'Bâtiment (5)'!$K$17:$K$34)))","v":0},{"$f":"MAX(IF('Bâtiment (5)'!$K$17:$K$34>=Annee_BI,IF('Bâtiment (5)'!$K$17:$K$34<=Annee_BI+4,'Bâtiment (5)'!$K$17:$K$34)))","v":0},{"$f":"SUMIFS('Bâtiment (5)'!$I$17:$I$34,'Bâtiment (5)'!$E$17:$E$34,\"<4\",'Bâtiment (5)'!$K$17:$K$34,\">=\"&Annee_BI+5,'Bâtiment (5)'!$K$17:$K$34,\"<=\"&Annee_BI+9)","v":0},{"$f":"MIN(IF('Bâtiment (5)'!$K$17:$K$34>=Annee_BI+5,IF('Bâtiment (5)'!$K$17:$K$34<=Annee_BI+9,'Bâtiment (5)'!$K$17:$K$34)))","v":0},{"$f":"MAX(IF('Bâtiment (5)'!$K$17:$K$34>=Annee_BI+5,IF('Bâtiment (5)'!$K$17:$K$34<=Annee_BI+9,'Bâtiment (5)'!$K$17:$K$34)))","v":0}]
[18,"","","",{"$f":"IF(Identification!$H$63=\"\",\"\",Identification!$H$63)","v":""},{"$f":"IF('Bâtiment (5)'!$I$3=0,\"\",'Bâtiment (5)'!$I$3)","v":""},"Civil",{"$f":"'Bâtiment (5)'!$B$49","v":""},{"$f":"IF(H19<>\"\",1,0)","v":0},{"$f":"IFERROR(K19/SUM($K18:$K21),0)","v":0},{"$f":"'Bâtiment (5)'!$H$49","v":0},{"$f":"'Bâtiment (5)'!$F$49","v":""},{"$f":"'Bâtiment (5)'!$E$49","v":""},{"$f":"'Bâtiment (5)'!$I$49- (SUMIFS('Bâtiment (5)'!$I$39:$I$48,'Bâtiment (5)'!$E$39:$E$48,\"<4\"))","v":0},{"$f":"SUMIFS('Bâtiment (5)'!$I$39:$I$48,'Bâtiment (5)'!$E$39:$E$48,\"<4\",'Bâtiment (5)'!$K$39:$K$48,\">=\"&Annee_BI,'Bâtiment (5)'!$K$39:$K$48,\"<=\"&Annee_BI+4)","v":0},{"$f":"MIN(IF('Bâtiment (5)'!$K$39:$K$48>=Annee_BI,IF('Bâtiment (5)'!$K$39:$K$48<=Annee_BI+4,'Bâtiment (5)'!$K$39:$K$48)))","v":0},{"$f":"MAX(IF('Bâtiment (5)'!$K$39:$K$48>=Annee_BI,IF('Bâtiment (5)'!$K$39:$K$48<=Annee_BI+4,'Bâtiment (5)'!$K$39:$K$48)))","v":0},{"$f":"SUMIFS('Bâtiment (5)'!$I$39:$I$48,'Bâtiment (5)'!$E$39:$E$48,\"<4\",'Bâtiment (5)'!$K$39:$K$48,\">=\"&Annee_BI+5,'Bâtiment (5)'!$K$39:$K$48,\"<=\"&Annee_BI+9)","v":0},{"$f":"MIN(IF('Bâtiment (5)'!$K$39:$K$48>=Annee_BI+5,IF('Bâtiment (5)'!$K$39:$K$48<=Annee_BI+9,'Bâtiment (5)'!$K$39:$K$48)))","v":0},{"$f":"MAX(IF('Bâtiment (5)'!$K$39:$K$48>=Annee_BI+5,IF('Bâtiment (5)'!$K$39:$K$48<=Annee_BI+9,'Bâtiment (5)'!$K$39:$K$48)))","v":0}]
[19,"","","",{"$f":"IF(Identification!$H$63=\"\",\"\",Identification!$H$63)","v":""},{"$f":"IF('Bâtiment (5)'!$I$3=0,\"\",'Bâtiment (5)'!$I$3)","v":""},"Mécanique",{"$f":"'Bâtiment (5)'!$B$77","v":""},0,{"$f":"IFERROR(K20/SUM($K18:$K21),0)","v":0},{"$f":"'Bâtiment (5)'!$H$77","v":0},{"$f":"'Bâtiment (5)'!$F$77","v":""},{"$f":"'Bâtiment (5)'!$E$77","v":""},{"$f":"'Bâtiment (5)'!$I$77- (SUMIFS('Bâtiment (5)'!$I$53:$I$76,'Bâtiment (5)'!$E$53:$E$76,\"<4\"))","v":0},{"$f":"SUMIFS('Bâtiment (5)'!$I$53:$I$76,'Bâtiment (5)'!$E$53:$E$76,\"<4\",'Bâtiment (5)'!$K$53:$K$76,\">=\"&Annee_BI,'Bâtiment (5)'!$K$53:$K$76,\"<=\"&Annee_BI+4)","v":0},{"$f":"MIN(IF('Bâtiment (5)'!$K$53:$K$76>=Annee_BI,IF('Bâtiment (5)'!$K$53:$K$76<=Annee_BI+4,'Bâtiment (5)'!$K$53:$K$76)))","v":0},{"$f":"MAX(IF('Bâtiment (5)'!$K$53:$K$76>=Annee_BI,IF('Bâtiment (5)'!$K$53:$K$76<=Annee_BI+4,'Bâtiment (5)'!$K$53:$K$76)))","v":0},{"$f":"SUMIFS('Bâtiment (5)'!$I$53:$I$76,'Bâtiment (5)'!$E$53:$E$76,\"<4\",'Bâtiment (5)'!$K$53:$K$76,\">=\"&Annee_BI+5,'Bâtiment (5)'!$K$53:$K$76,\"<=\"&Annee_BI+9)","v":0},{"$f":"MIN(IF('Bâtiment (5)'!$K$53:$K$76>=Annee_BI+5,IF('Bâtiment (5)'!$K$53:$K$76<=Annee_BI+9,'Bâtiment (5)'!$K$53:$K$76)))","v":0},{"$f":"MAX(IF('Bâtiment (5)'!$K$53:$K$76>=Annee_BI+5,IF('Bâtiment (5)'!$K$53:$K$76<=Annee_BI+9,'Bâtiment (5)'!$K$53:$K$76)))","v":0}]
[20,"","","",{"$f":"IF(Identification!$H$63=\"\",\"\",Identification!$H$63)","v":""},{"$f":"IF('Bâtiment (5)'!$I$3=0,\"\",'Bâtiment (5)'!$I$3)","v":""},"Électricité",{"$f":"'Bâtiment (5)'!$B$86","v":""},0,{"$f":"IFERROR(K21/SUM($K18:$K21),0)","v":0},{"$f":"'Bâtiment (5)'!$H$86","v":0},{"$f":"'Bâtiment (5)'!$F$86","v":""},{"$f":"'Bâtiment (5)'!$E$86","v":""},{"$f":"'Bâtiment (5)'!$I$86- (SUMIFS('Bâtiment (5)'!$I$81:$I$85,'Bâtiment (5)'!$E$81:$E$85,\"<4\"))","v":0},{"$f":"SUMIFS('Bâtiment (5)'!$I$81:$I$85,'Bâtiment (5)'!$E$81:$E$85,\"<4\",'Bâtiment (5)'!$K$81:$K$85,\">=\"&Annee_BI,'Bâtiment (5)'!$K$81:$K$85,\"<=\"&Annee_BI+4)","v":0},{"$f":"MIN(IF('Bâtiment (5)'!$K$81:$K$85>=Annee_BI,IF('Bâtiment (5)'!$K$81:$K$85<=Annee_BI+4,'Bâtiment (5)'!$K$81:$K$85)))","v":0},{"$f":"MAX(IF('Bâtiment (5)'!$K$81:$K$85>=Annee_BI,IF('Bâtiment (5)'!$K$81:$K$85<=Annee_BI+4,'Bâtiment (5)'!$K$81:$K$85)))","v":0},{"$f":"SUMIFS('Bâtiment (5)'!$I$81:$I$85,'Bâtiment (5)'!$E$81:$E$85,\"<4\",'Bâtiment (5)'!$K$81:$K$85,\">=\"&Annee_BI+5,'Bâtiment (5)'!$K$81:$K$85,\"<=\"&Annee_BI+9)","v":0},{"$f":"MIN(IF('Bâtiment (5)'!$K$81:$K$85>=Annee_BI+5,IF('Bâtiment (5)'!$K$81:$K$85<=Annee_BI+9,'Bâtiment (5)'!$K$81:$K$85)))","v":0},{"$f":"MAX(IF('Bâtiment (5)'!$K$81:$K$85>=Annee_BI+5,IF('Bâtiment (5)'!$K$81:$K$85<=Annee_BI+9,'Bâtiment (5)'!$K$81:$K$85)))","v":0}]
[21,"","","",{"$f":"IF(Identification!$H$63=\"\",\"\",Identification!$H$63)","v":""},{"$f":"IF('Bâtiment (6)'!$I$3=0,\"\",'Bâtiment (6)'!$I$3)","v":""},"Architecture",{"$f":"'Bâtiment (6)'!$B$35","v":""},{"$f":"IF(H22<>\"\",1,0)","v":0},{"$f":"IFERROR(K22/SUM($K22:$K25),0)","v":0},{"$f":"'Bâtiment (6)'!$H$35","v":0},{"$f":"'Bâtiment (6)'!$F$35","v":""},{"$f":"'Bâtiment (6)'!$E$35","v":""},{"$f":"'Bâtiment (6)'!$I$35- (SUMIFS('Bâtiment (6)'!$I$17:$I$34,'Bâtiment (6)'!$E$17:$E$34,\"<4\"))","v":0},{"$f":"SUMIFS('Bâtiment (6)'!$I$17:$I$34,'Bâtiment (6)'!$E$17:$E$34,\"<4\",'Bâtiment (6)'!$K$17:$K$34,\">=\"&Annee_BI,'Bâtiment (6)'!$K$17:$K$34,\"<=\"&Annee_BI+4)","v":0},{"$f":"MIN(IF('Bâtiment (6)'!$K$17:$K$34>=Annee_BI,IF('Bâtiment (6)'!$K$17:$K$34<=Annee_BI+4,'Bâtiment (6)'!$K$17:$K$34)))","v":0},{"$f":"MAX(IF('Bâtiment (6)'!$K$17:$K$34>=Annee_BI,IF('Bâtiment (6)'!$K$17:$K$34<=Annee_BI+4,'Bâtiment (6)'!$K$17:$K$34)))","v":0},{"$f":"SUMIFS('Bâtiment (6)'!$I$17:$I$34,'Bâtiment (6)'!$E$17:$E$34,\"<4\",'Bâtiment (6)'!$K$17:$K$34,\">=\"&Annee_BI+5,'Bâtiment (6)'!$K$17:$K$34,\"<=\"&Annee_BI+9)","v":0},{"$f":"MIN(IF('Bâtiment (6)'!$K$17:$K$34>=Annee_BI+5,IF('Bâtiment (6)'!$K$17:$K$34<=Annee_BI+9,'Bâtiment (6)'!$K$17:$K$34)))","v":0},{"$f":"MAX(IF('Bâtiment (6)'!$K$17:$K$34>=Annee_BI+5,IF('Bâtiment (6)'!$K$17:$K$34<=Annee_BI+9,'Bâtiment (6)'!$K$17:$K$34)))","v":0}]
[22,"","","",{"$f":"IF(Identification!$H$63=\"\",\"\",Identification!$H$63)","v":""},{"$f":"IF('Bâtiment (6)'!$I$3=0,\"\",'Bâtiment (6)'!$I$3)","v":""},"Civil",{"$f":"'Bâtiment (6)'!$B$49","v":""},{"$f":"IF(H23<>\"\",1,0)","v":0},{"$f":"IFERROR(K23/SUM($K22:$K25),0)","v":0},{"$f":"'Bâtiment (6)'!$H$49","v":0},{"$f":"'Bâtiment (6)'!$F$49","v":""},{"$f":"'Bâtiment (6)'!$E$49","v":""},{"$f":"'Bâtiment (6)'!$I$49- (SUMIFS('Bâtiment (6)'!$I$39:$I$48,'Bâtiment (6)'!$E$39:$E$48,\"<4\"))","v":0},{"$f":"SUMIFS('Bâtiment (6)'!$I$39:$I$48,'Bâtiment (6)'!$E$39:$E$48,\"<4\",'Bâtiment (6)'!$K$39:$K$48,\">=\"&Annee_BI,'Bâtiment (6)'!$K$39:$K$48,\"<=\"&Annee_BI+4)","v":0},{"$f":"MIN(IF('Bâtiment (6)'!$K$39:$K$48>=Annee_BI,IF('Bâtiment (6)'!$K$39:$K$48<=Annee_BI+4,'Bâtiment (6)'!$K$39:$K$48)))","v":0},{"$f":"MAX(IF('Bâtiment (6)'!$K$39:$K$48>=Annee_BI,IF('Bâtiment (6)'!$K$39:$K$48<=Annee_BI+4,'Bâtiment (6)'!$K$39:$K$48)))","v":0},{"$f":"SUMIFS('Bâtiment (6)'!$I$39:$I$48,'Bâtiment (6)'!$E$39:$E$48,\"<4\",'Bâtiment (6)'!$K$39:$K$48,\">=\"&Annee_BI+5,'Bâtiment (6)'!$K$39:$K$48,\"<=\"&Annee_BI+9)","v":0},{"$f":"MIN(IF('Bâtiment (6)'!$K$39:$K$48>=Annee_BI+5,IF('Bâtiment (6)'!$K$39:$K$48<=Annee_BI+9,'Bâtiment (6)'!$K$39:$K$48)))","v":0},{"$f":"MAX(IF('Bâtiment (6)'!$K$39:$K$48>=Annee_BI+5,IF('Bâtiment (6)'!$K$39:$K$48<=Annee_BI+9,'Bâtiment (6)'!$K$39:$K$48)))","v":0}]
[23,"","","",{"$f":"IF(Identification!$H$63=\"\",\"\",Identification!$H$63)","v":""},{"$f":"IF('Bâtiment (6)'!$I$3=0,\"\",'Bâtiment (6)'!$I$3)","v":""},"Mécanique",{"$f":"'Bâtiment (6)'!$B$77","v":""},0,{"$f":"IFERROR(K24/SUM($K22:$K25),0)","v":0},{"$f":"'Bâtiment (6)'!$H$77","v":0},{"$f":"'Bâtiment (6)'!$F$77","v":""},{"$f":"'Bâtiment (6)'!$E$77","v":""},{"$f":"'Bâtiment (6)'!$I$77- (SUMIFS('Bâtiment (6)'!$I$53:$I$76,'Bâtiment (6)'!$E$53:$E$76,\"<4\"))","v":0},{"$f":"SUMIFS('Bâtiment (6)'!$I$53:$I$76,'Bâtiment (6)'!$E$53:$E$76,\"<4\",'Bâtiment (6)'!$K$53:$K$76,\">=\"&Annee_BI,'Bâtiment (6)'!$K$53:$K$76,\"<=\"&Annee_BI+4)","v":0},{"$f":"MIN(IF('Bâtiment (6)'!$K$53:$K$76>=Annee_BI,IF('Bâtiment (6)'!$K$53:$K$76<=Annee_BI+4,'Bâtiment (6)'!$K$53:$K$76)))","v":0},{"$f":"MAX(IF('Bâtiment (6)'!$K$53:$K$76>=Annee_BI,IF('Bâtiment (6)'!$K$53:$K$76<=Annee_BI+4,'Bâtiment (6)'!$K$53:$K$76)))","v":0},{"$f":"SUMIFS('Bâtiment (6)'!$I$53:$I$76,'Bâtiment (6)'!$E$53:$E$76,\"<4\",'Bâtiment (6)'!$K$53:$K$76,\">=\"&Annee_BI+5,'Bâtiment (6)'!$K$53:$K$76,\"<=\"&Annee_BI+9)","v":0},{"$f":"MIN(IF('Bâtiment (6)'!$K$53:$K$76>=Annee_BI+5,IF('Bâtiment (6)'!$K$53:$K$76<=Annee_BI+9,'Bâtiment (6)'!$K$53:$K$76)))","v":0},{"$f":"MAX(IF('Bâtiment (6)'!$K$53:$K$76>=Annee_BI+5,IF('Bâtiment (6)'!$K$53:$K$76<=Annee_BI+9,'Bâtiment (6)'!$K$53:$K$76)))","v":0}]
[24,"","","",{"$f":"IF(Identification!$H$63=\"\",\"\",Identification!$H$63)","v":""},{"$f":"IF('Bâtiment (6)'!$I$3=0,\"\",'Bâtiment (6)'!$I$3)","v":""},"Électricité",{"$f":"'Bâtiment (6)'!$B$86","v":""},0,{"$f":"IFERROR(K25/SUM($K22:$K25),0)","v":0},{"$f":"'Bâtiment (6)'!$H$86","v":0},{"$f":"'Bâtiment (6)'!$F$86","v":""},{"$f":"'Bâtiment (6)'!$E$86","v":""},{"$f":"'Bâtiment (6)'!$I$86- (SUMIFS('Bâtiment (6)'!$I$81:$I$85,'Bâtiment (6)'!$E$81:$E$85,\"<4\"))","v":0},{"$f":"SUMIFS('Bâtiment (6)'!$I$81:$I$85,'Bâtiment (6)'!$E$81:$E$85,\"<4\",'Bâtiment (6)'!$K$81:$K$85,\">=\"&Annee_BI,'Bâtiment (6)'!$K$81:$K$85,\"<=\"&Annee_BI+4)","v":0},{"$f":"MIN(IF('Bâtiment (6)'!$K$81:$K$85>=Annee_BI,IF('Bâtiment (6)'!$K$81:$K$85<=Annee_BI+4,'Bâtiment (6)'!$K$81:$K$85)))","v":0},{"$f":"MAX(IF('Bâtiment (6)'!$K$81:$K$85>=Annee_BI,IF('Bâtiment (6)'!$K$81:$K$85<=Annee_BI+4,'Bâtiment (6)'!$K$81:$K$85)))","v":0},{"$f":"SUMIFS('Bâtiment (6)'!$I$81:$I$85,'Bâtiment (6)'!$E$81:$E$85,\"<4\",'Bâtiment (6)'!$K$81:$K$85,\">=\"&Annee_BI+5,'Bâtiment (6)'!$K$81:$K$85,\"<=\"&Annee_BI+9)","v":0},{"$f":"MIN(IF('Bâtiment (6)'!$K$81:$K$85>=Annee_BI+5,IF('Bâtiment (6)'!$K$81:$K$85<=Annee_BI+9,'Bâtiment (6)'!$K$81:$K$85)))","v":0},{"$f":"MAX(IF('Bâtiment (6)'!$K$81:$K$85>=Annee_BI+5,IF('Bâtiment (6)'!$K$81:$K$85<=Annee_BI+9,'Bâtiment (6)'!$K$81:$K$85)))","v":0}]
[25,"","","",{"$f":"IF(Identification!$H$63=\"\",\"\",Identification!$H$63)","v":""},{"$f":"IF('Bâtiment (7)'!$I$3=0,\"\",'Bâtiment (7)'!$I$3)","v":""},"Architecture",{"$f":"'Bâtiment (7)'!$B$35","v":""},{"$f":"IF(H26<>\"\",1,0)","v":0},{"$f":"IFERROR(K26/SUM($K26:$K29),0)","v":0},{"$f":"'Bâtiment (7)'!$H$35","v":0},{"$f":"'Bâtiment (7)'!$F$35","v":""},{"$f":"'Bâtiment (7)'!$E$35","v":""},{"$f":"'Bâtiment (7)'!$I$35- (SUMIFS('Bâtiment (7)'!$I$17:$I$34,'Bâtiment (7)'!$E$17:$E$34,\"<4\"))","v":0},{"$f":"SUMIFS('Bâtiment (7)'!$I$17:$I$34,'Bâtiment (7)'!$E$17:$E$34,\"<4\",'Bâtiment (7)'!$K$17:$K$34,\">=\"&Annee_BI,'Bâtiment (7)'!$K$17:$K$34,\"<=\"&Annee_BI+4)","v":0},{"$f":"MIN(IF('Bâtiment (7)'!$K$17:$K$34>=Annee_BI,IF('Bâtiment (7)'!$K$17:$K$34<=Annee_BI+4,'Bâtiment (7)'!$K$17:$K$34)))","v":0},{"$f":"MAX(IF('Bâtiment (7)'!$K$17:$K$34>=Annee_BI,IF('Bâtiment (7)'!$K$17:$K$34<=Annee_BI+4,'Bâtiment (7)'!$K$17:$K$34)))","v":0},{"$f":"SUMIFS('Bâtiment (7)'!$I$17:$I$34,'Bâtiment (7)'!$E$17:$E$34,\"<4\",'Bâtiment (7)'!$K$17:$K$34,\">=\"&Annee_BI+5,'Bâtiment (7)'!$K$17:$K$34,\"<=\"&Annee_BI+9)","v":0},{"$f":"MIN(IF('Bâtiment (7)'!$K$17:$K$34>=Annee_BI+5,IF('Bâtiment (7)'!$K$17:$K$34<=Annee_BI+9,'Bâtiment (7)'!$K$17:$K$34)))","v":0},{"$f":"MAX(IF('Bâtiment (7)'!$K$17:$K$34>=Annee_BI+5,IF('Bâtiment (7)'!$K$17:$K$34<=Annee_BI+9,'Bâtiment (7)'!$K$17:$K$34)))","v":0}]
[26,"","","",{"$f":"IF(Identification!$H$63=\"\",\"\",Identification!$H$63)","v":""},{"$f":"IF('Bâtiment (7)'!$I$3=0,\"\",'Bâtiment (7)'!$I$3)","v":""},"Civil",{"$f":"'Bâtiment (7)'!$B$49","v":""},{"$f":"IF(H27<>\"\",1,0)","v":0},{"$f":"IFERROR(K27/SUM($K26:$K29),0)","v":0},{"$f":"'Bâtiment (7)'!$H$49","v":0},{"$f":"'Bâtiment (7)'!$F$49","v":""},{"$f":"'Bâtiment (7)'!$E$49","v":""},{"$f":"'Bâtiment (7)'!$I$49- (SUMIFS('Bâtiment (7)'!$I$39:$I$48,'Bâtiment (7)'!$E$39:$E$48,\"<4\"))","v":0},{"$f":"SUMIFS('Bâtiment (7)'!$I$39:$I$48,'Bâtiment (7)'!$E$39:$E$48,\"<4\",'Bâtiment (7)'!$K$39:$K$48,\">=\"&Annee_BI,'Bâtiment (7)'!$K$39:$K$48,\"<=\"&Annee_BI+4)","v":0},{"$f":"MIN(IF('Bâtiment (7)'!$K$39:$K$48>=Annee_BI,IF('Bâtiment (7)'!$K$39:$K$48<=Annee_BI+4,'Bâtiment (7)'!$K$39:$K$48)))","v":0},{"$f":"MAX(IF('Bâtiment (7)'!$K$39:$K$48>=Annee_BI,IF('Bâtiment (7)'!$K$39:$K$48<=Annee_BI+4,'Bâtiment (7)'!$K$39:$K$48)))","v":0},{"$f":"SUMIFS('Bâtiment (7)'!$I$39:$I$48,'Bâtiment (7)'!$E$39:$E$48,\"<4\",'Bâtiment (7)'!$K$39:$K$48,\">=\"&Annee_BI+5,'Bâtiment (7)'!$K$39:$K$48,\"<=\"&Annee_BI+9)","v":0},{"$f":"MIN(IF('Bâtiment (7)'!$K$39:$K$48>=Annee_BI+5,IF('Bâtiment (7)'!$K$39:$K$48<=Annee_BI+9,'Bâtiment (7)'!$K$39:$K$48)))","v":0},{"$f":"MAX(IF('Bâtiment (7)'!$K$39:$K$48>=Annee_BI+5,IF('Bâtiment (7)'!$K$39:$K$48<=Annee_BI+9,'Bâtiment (7)'!$K$39:$K$48)))","v":0}]
[27,"","","",{"$f":"IF(Identification!$H$63=\"\",\"\",Identification!$H$63)","v":""},{"$f":"IF('Bâtiment (7)'!$I$3=0,\"\",'Bâtiment (7)'!$I$3)","v":""},"Mécanique",{"$f":"'Bâtiment (7)'!$B$77","v":""},0,{"$f":"IFERROR(K28/SUM($K26:$K29),0)","v":0},{"$f":"'Bâtiment (7)'!$H$77","v":0},{"$f":"'Bâtiment (7)'!$F$77","v":""},{"$f":"'Bâtiment (7)'!$E$77","v":""},{"$f":"'Bâtiment (7)'!$I$77- (SUMIFS('Bâtiment (7)'!$I$53:$I$76,'Bâtiment (7)'!$E$53:$E$76,\"<4\"))","v":0},{"$f":"SUMIFS('Bâtiment (7)'!$I$53:$I$76,'Bâtiment (7)'!$E$53:$E$76,\"<4\",'Bâtiment (7)'!$K$53:$K$76,\">=\"&Annee_BI,'Bâtiment (7)'!$K$53:$K$76,\"<=\"&Annee_BI+4)","v":0},{"$f":"MIN(IF('Bâtiment (7)'!$K$53:$K$76>=Annee_BI,IF('Bâtiment (7)'!$K$53:$K$76<=Annee_BI+4,'Bâtiment (7)'!$K$53:$K$76)))","v":0},{"$f":"MAX(IF('Bâtiment (7)'!$K$53:$K$76>=Annee_BI,IF('Bâtiment (7)'!$K$53:$K$76<=Annee_BI+4,'Bâtiment (7)'!$K$53:$K$76)))","v":0},{"$f":"SUMIFS('Bâtiment (7)'!$I$53:$I$76,'Bâtiment (7)'!$E$53:$E$76,\"<4\",'Bâtiment (7)'!$K$53:$K$76,\">=\"&Annee_BI+5,'Bâtiment (7)'!$K$53:$K$76,\"<=\"&Annee_BI+9)","v":0},{"$f":"MIN(IF('Bâtiment (7)'!$K$53:$K$76>=Annee_BI+5,IF('Bâtiment (7)'!$K$53:$K$76<=Annee_BI+9,'Bâtiment (7)'!$K$53:$K$76)))","v":0},{"$f":"MAX(IF('Bâtiment (7)'!$K$53:$K$76>=Annee_BI+5,IF('Bâtiment (7)'!$K$53:$K$76<=Annee_BI+9,'Bâtiment (7)'!$K$53:$K$76)))","v":0}]
[28,"","","",{"$f":"IF(Identification!$H$63=\"\",\"\",Identification!$H$63)","v":""},{"$f":"IF('Bâtiment (7)'!$I$3=0,\"\",'Bâtiment (7)'!$I$3)","v":""},"Électricité",{"$f":"'Bâtiment (7)'!$B$86","v":""},0,{"$f":"IFERROR(K29/SUM($K26:$K29),0)","v":0},{"$f":"'Bâtiment (7)'!$H$86","v":0},{"$f":"'Bâtiment (7)'!$F$86","v":""},{"$f":"'Bâtiment (7)'!$E$86","v":""},{"$f":"'Bâtiment (7)'!$I$86- (SUMIFS('Bâtiment (7)'!$I$81:$I$85,'Bâtiment (7)'!$E$81:$E$85,\"<4\"))","v":0},{"$f":"SUMIFS('Bâtiment (7)'!$I$81:$I$85,'Bâtiment (7)'!$E$81:$E$85,\"<4\",'Bâtiment (7)'!$K$81:$K$85,\">=\"&Annee_BI,'Bâtiment (7)'!$K$81:$K$85,\"<=\"&Annee_BI+4)","v":0},{"$f":"MIN(IF('Bâtiment (7)'!$K$81:$K$85>=Annee_BI,IF('Bâtiment (7)'!$K$81:$K$85<=Annee_BI+4,'Bâtiment (7)'!$K$81:$K$85)))","v":0},{"$f":"MAX(IF('Bâtiment (7)'!$K$81:$K$85>=Annee_BI,IF('Bâtiment (7)'!$K$81:$K$85<=Annee_BI+4,'Bâtiment (7)'!$K$81:$K$85)))","v":0},{"$f":"SUMIFS('Bâtiment (7)'!$I$81:$I$85,'Bâtiment (7)'!$E$81:$E$85,\"<4\",'Bâtiment (7)'!$K$81:$K$85,\">=\"&Annee_BI+5,'Bâtiment (7)'!$K$81:$K$85,\"<=\"&Annee_BI+9)","v":0},{"$f":"MIN(IF('Bâtiment (7)'!$K$81:$K$85>=Annee_BI+5,IF('Bâtiment (7)'!$K$81:$K$85<=Annee_BI+9,'Bâtiment (7)'!$K$81:$K$85)))","v":0},{"$f":"MAX(IF('Bâtiment (7)'!$K$81:$K$85>=Annee_BI+5,IF('Bâtiment (7)'!$K$81:$K$85<=Annee_BI+9,'Bâtiment (7)'!$K$81:$K$85)))","v":0}]
[29,"","","",{"$f":"IF(Identification!$H$63=\"\",\"\",Identification!$H$63)","v":""},{"$f":"IF('Bâtiment (8)'!$I$3=0,\"\",'Bâtiment (8)'!$I$3)","v":""},"Architecture",{"$f":"'Bâtiment (8)'!$B$35","v":""},{"$f":"IF(H30<>\"\",1,0)","v":0},{"$f":"IFERROR(K30/SUM($K30:$K33),0)","v":0},{"$f":"'Bâtiment (8)'!$H$35","v":0},{"$f":"'Bâtiment (8)'!$F$35","v":""},{"$f":"'Bâtiment (8)'!$E$35","v":""},{"$f":"'Bâtiment (8)'!$I$35- (SUMIFS('Bâtiment (8)'!$I$17:$I$34,'Bâtiment (8)'!$E$17:$E$34,\"<4\"))","v":0},{"$f":"SUMIFS('Bâtiment (8)'!$I$17:$I$34,'Bâtiment (8)'!$E$17:$E$34,\"<4\",'Bâtiment (8)'!$K$17:$K$34,\">=\"&Annee_BI,'Bâtiment (8)'!$K$17:$K$34,\"<=\"&Annee_BI+4)","v":0},{"$f":"MIN(IF('Bâtiment (8)'!$K$17:$K$34>=Annee_BI,IF('Bâtiment (8)'!$K$17:$K$34<=Annee_BI+4,'Bâtiment (8)'!$K$17:$K$34)))","v":0},{"$f":"MAX(IF('Bâtiment (8)'!$K$17:$K$34>=Annee_BI,IF('Bâtiment (8)'!$K$17:$K$34<=Annee_BI+4,'Bâtiment (8)'!$K$17:$K$34)))","v":0},{"$f":"SUMIFS('Bâtiment (8)'!$I$17:$I$34,'Bâtiment (8)'!$E$17:$E$34,\"<4\",'Bâtiment (8)'!$K$17:$K$34,\">=\"&Annee_BI+5,'Bâtiment (8)'!$K$17:$K$34,\"<=\"&Annee_BI+9)","v":0},{"$f":"MIN(IF('Bâtiment (8)'!$K$17:$K$34>=Annee_BI+5,IF('Bâtiment (8)'!$K$17:$K$34<=Annee_BI+9,'Bâtiment (8)'!$K$17:$K$34)))","v":0},{"$f":"MAX(IF('Bâtiment (8)'!$K$17:$K$34>=Annee_BI+5,IF('Bâtiment (8)'!$K$17:$K$34<=Annee_BI+9,'Bâtiment (8)'!$K$17:$K$34)))","v":0}]
[30,"","","",{"$f":"IF(Identification!$H$63=\"\",\"\",Identification!$H$63)","v":""},{"$f":"IF('Bâtiment (8)'!$I$3=0,\"\",'Bâtiment (8)'!$I$3)","v":""},"Civil",{"$f":"'Bâtiment (8)'!$B$49","v":""},{"$f":"IF(H31<>\"\",1,0)","v":0},{"$f":"IFERROR(K31/SUM($K30:$K33),0)","v":0},{"$f":"'Bâtiment (8)'!$H$49","v":0},{"$f":"'Bâtiment (8)'!$F$49","v":""},{"$f":"'Bâtiment (8)'!$E$49","v":""},{"$f":"'Bâtiment (8)'!$I$49- (SUMIFS('Bâtiment (8)'!$I$39:$I$48,'Bâtiment (8)'!$E$39:$E$48,\"<4\"))","v":0},{"$f":"SUMIFS('Bâtiment (8)'!$I$39:$I$48,'Bâtiment (8)'!$E$39:$E$48,\"<4\",'Bâtiment (8)'!$K$39:$K$48,\">=\"&Annee_BI,'Bâtiment (8)'!$K$39:$K$48,\"<=\"&Annee_BI+4)","v":0},{"$f":"MIN(IF('Bâtiment (8)'!$K$39:$K$48>=Annee_BI,IF('Bâtiment (8)'!$K$39:$K$48<=Annee_BI+4,'Bâtiment (8)'!$K$39:$K$48)))","v":0},{"$f":"MAX(IF('Bâtiment (8)'!$K$39:$K$48>=Annee_BI,IF('Bâtiment (8)'!$K$39:$K$48<=Annee_BI+4,'Bâtiment (8)'!$K$39:$K$48)))","v":0},{"$f":"SUMIFS('Bâtiment (8)'!$I$39:$I$48,'Bâtiment (8)'!$E$39:$E$48,\"<4\",'Bâtiment (8)'!$K$39:$K$48,\">=\"&Annee_BI+5,'Bâtiment (8)'!$K$39:$K$48,\"<=\"&Annee_BI+9)","v":0},{"$f":"MIN(IF('Bâtiment (8)'!$K$39:$K$48>=Annee_BI+5,IF('Bâtiment (8)'!$K$39:$K$48<=Annee_BI+9,'Bâtiment (8)'!$K$39:$K$48)))","v":0},{"$f":"MAX(IF('Bâtiment (8)'!$K$39:$K$48>=Annee_BI+5,IF('Bâtiment (8)'!$K$39:$K$48<=Annee_BI+9,'Bâtiment (8)'!$K$39:$K$48)))","v":0}]
[31,"","","",{"$f":"IF(Identification!$H$63=\"\",\"\",Identification!$H$63)","v":""},{"$f":"IF('Bâtiment (8)'!$I$3=0,\"\",'Bâtiment (8)'!$I$3)","v":""},"Mécanique",{"$f":"'Bâtiment (8)'!$B$77","v":""},0,{"$f":"IFERROR(K32/SUM($K30:$K33),0)","v":0},{"$f":"'Bâtiment (8)'!$H$77","v":0},{"$f":"'Bâtiment (8)'!$F$77","v":""},{"$f":"'Bâtiment (8)'!$E$77","v":""},{"$f":"'Bâtiment (8)'!$I$77- (SUMIFS('Bâtiment (8)'!$I$53:$I$76,'Bâtiment (8)'!$E$53:$E$76,\"<4\"))","v":0},{"$f":"SUMIFS('Bâtiment (8)'!$I$53:$I$76,'Bâtiment (8)'!$E$53:$E$76,\"<4\",'Bâtiment (8)'!$K$53:$K$76,\">=\"&Annee_BI,'Bâtiment (8)'!$K$53:$K$76,\"<=\"&Annee_BI+4)","v":0},{"$f":"MIN(IF('Bâtiment (8)'!$K$53:$K$76>=Annee_BI,IF('Bâtiment (8)'!$K$53:$K$76<=Annee_BI+4,'Bâtiment (8)'!$K$53:$K$76)))","v":0},{"$f":"MAX(IF('Bâtiment (8)'!$K$53:$K$76>=Annee_BI,IF('Bâtiment (8)'!$K$53:$K$76<=Annee_BI+4,'Bâtiment (8)'!$K$53:$K$76)))","v":0},{"$f":"SUMIFS('Bâtiment (8)'!$I$53:$I$76,'Bâtiment (8)'!$E$53:$E$76,\"<4\",'Bâtiment (8)'!$K$53:$K$76,\">=\"&Annee_BI+5,'Bâtiment (8)'!$K$53:$K$76,\"<=\"&Annee_BI+9)","v":0},{"$f":"MIN(IF('Bâtiment (8)'!$K$53:$K$76>=Annee_BI+5,IF('Bâtiment (8)'!$K$53:$K$76<=Annee_BI+9,'Bâtiment (8)'!$K$53:$K$76)))","v":0},{"$f":"MAX(IF('Bâtiment (8)'!$K$53:$K$76>=Annee_BI+5,IF('Bâtiment (8)'!$K$53:$K$76<=Annee_BI+9,'Bâtiment (8)'!$K$53:$K$76)))","v":0}]
[32,"","","",{"$f":"IF(Identification!$H$63=\"\",\"\",Identification!$H$63)","v":""},{"$f":"IF('Bâtiment (8)'!$I$3=0,\"\",'Bâtiment (8)'!$I$3)","v":""},"Électricité",{"$f":"'Bâtiment (8)'!$B$86","v":""},0,{"$f":"IFERROR(K33/SUM($K30:$K33),0)","v":0},{"$f":"'Bâtiment (8)'!$H$86","v":0},{"$f":"'Bâtiment (8)'!$F$86","v":""},{"$f":"'Bâtiment (8)'!$E$86","v":""},{"$f":"'Bâtiment (8)'!$I$86- (SUMIFS('Bâtiment (8)'!$I$81:$I$85,'Bâtiment (8)'!$E$81:$E$85,\"<4\"))","v":0},{"$f":"SUMIFS('Bâtiment (8)'!$I$81:$I$85,'Bâtiment (8)'!$E$81:$E$85,\"<4\",'Bâtiment (8)'!$K$81:$K$85,\">=\"&Annee_BI,'Bâtiment (8)'!$K$81:$K$85,\"<=\"&Annee_BI+4)","v":0},{"$f":"MIN(IF('Bâtiment (8)'!$K$81:$K$85>=Annee_BI,IF('Bâtiment (8)'!$K$81:$K$85<=Annee_BI+4,'Bâtiment (8)'!$K$81:$K$85)))","v":0},{"$f":"MAX(IF('Bâtiment (8)'!$K$81:$K$85>=Annee_BI,IF('Bâtiment (8)'!$K$81:$K$85<=Annee_BI+4,'Bâtiment (8)'!$K$81:$K$85)))","v":0},{"$f":"SUMIFS('Bâtiment (8)'!$I$81:$I$85,'Bâtiment (8)'!$E$81:$E$85,\"<4\",'Bâtiment (8)'!$K$81:$K$85,\">=\"&Annee_BI+5,'Bâtiment (8)'!$K$81:$K$85,\"<=\"&Annee_BI+9)","v":0},{"$f":"MIN(IF('Bâtiment (8)'!$K$81:$K$85>=Annee_BI+5,IF('Bâtiment (8)'!$K$81:$K$85<=Annee_BI+9,'Bâtiment (8)'!$K$81:$K$85)))","v":0},{"$f":"MAX(IF('Bâtiment (8)'!$K$81:$K$85>=Annee_BI+5,IF('Bâtiment (8)'!$K$81:$K$85<=Annee_BI+9,'Bâtiment (8)'!$K$81:$K$85)))","v":0}]
[33,{"$f":"IF(serviceau=\"\",\"\",serviceau)","v":""},{"$f":"IF(typeinfra=\"\",\"\",typeinfra)","v":""},{"$f":"IF(stypeinfra=\"\",\"\",stypeinfra)","v":""},{"$f":"IF(Identification!$H$63=\"\",\"\",Identification!$H$63)","v":""},{"$f":"IF('Bâtiment (9)'!$I$3=0,\"\",'Bâtiment (9)'!$I$3)","v":""},"Architecture",{"$f":"'Bâtiment (9)'!$B$35","v":""},{"$f":"IF(H34<>\"\",1,0)","v":0},{"$f":"IFERROR(K34/SUM($K34:$K37),0)","v":0},{"$f":"'Bâtiment (9)'!$H$35","v":0},{"$f":"'Bâtiment (9)'!$F$35","v":""},{"$f":"'Bâtiment (9)'!$E$35","v":""},{"$f":"'Bâtiment (9)'!$I$35- (SUMIFS('Bâtiment (9)'!$I$17:$I$34,'Bâtiment (9)'!$E$17:$E$34,\"<4\"))","v":0},{"$f":"SUMIFS('Bâtiment (9)'!$I$17:$I$34,'Bâtiment (9)'!$E$17:$E$34,\"<4\",'Bâtiment (9)'!$K$17:$K$34,\">=\"&Annee_BI,'Bâtiment (9)'!$K$17:$K$34,\"<=\"&Annee_BI+4)","v":0},{"$f":"MIN(IF('Bâtiment (9)'!$K$17:$K$34>=Annee_BI,IF('Bâtiment (9)'!$K$17:$K$34<=Annee_BI+4,'Bâtiment (9)'!$K$17:$K$34)))","v":0},{"$f":"MAX(IF('Bâtiment (9)'!$K$17:$K$34>=Annee_BI,IF('Bâtiment (9)'!$K$17:$K$34<=Annee_BI+4,'Bâtiment (9)'!$K$17:$K$34)))","v":0},{"$f":"SUMIFS('Bâtiment (9)'!$I$17:$I$34,'Bâtiment (9)'!$E$17:$E$34,\"<4\",'Bâtiment (9)'!$K$17:$K$34,\">=\"&Annee_BI+5,'Bâtiment (9)'!$K$17:$K$34,\"<=\"&Annee_BI+9)","v":0},{"$f":"MIN(IF('Bâtiment (9)'!$K$17:$K$34>=Annee_BI+5,IF('Bâtiment (9)'!$K$17:$K$34<=Annee_BI+9,'Bâtiment (9)'!$K$17:$K$34)))","v":0},{"$f":"MAX(IF('Bâtiment (9)'!$K$17:$K$34>=Annee_BI+5,IF('Bâtiment (9)'!$K$17:$K$34<=Annee_BI+9,'Bâtiment (9)'!$K$17:$K$34)))","v":0}]
[34,"","","",{"$f":"IF(Identification!$H$63=\"\",\"\",Identification!$H$63)","v":""},{"$f":"IF('Bâtiment (9)'!$I$3=0,\"\",'Bâtiment (9)'!$I$3)","v":""},"Civil",{"$f":"'Bâtiment (9)'!$B$49","v":""},{"$f":"IF(H35<>\"\",1,0)","v":0},{"$f":"IFERROR(K35/SUM($K34:$K37),0)","v":0},{"$f":"'Bâtiment (9)'!$H$49","v":0},{"$f":"'Bâtiment (9)'!$F$49","v":""},{"$f":"'Bâtiment (9)'!$E$49","v":""},{"$f":"'Bâtiment (9)'!$I$49- (SUMIFS('Bâtiment (9)'!$I$39:$I$48,'Bâtiment (9)'!$E$39:$E$48,\"<4\"))","v":0},{"$f":"SUMIFS('Bâtiment (9)'!$I$39:$I$48,'Bâtiment (9)'!$E$39:$E$48,\"<4\",'Bâtiment (9)'!$K$39:$K$48,\">=\"&Annee_BI,'Bâtiment (9)'!$K$39:$K$48,\"<=\"&Annee_BI+4)","v":0},{"$f":"MIN(IF('Bâtiment (9)'!$K$39:$K$48>=Annee_BI,IF('Bâtiment (9)'!$K$39:$K$48<=Annee_BI+4,'Bâtiment (9)'!$K$39:$K$48)))","v":0},{"$f":"MAX(IF('Bâtiment (9)'!$K$39:$K$48>=Annee_BI,IF('Bâtiment (9)'!$K$39:$K$48<=Annee_BI+4,'Bâtiment (9)'!$K$39:$K$48)))","v":0},{"$f":"SUMIFS('Bâtiment (9)'!$I$39:$I$48,'Bâtiment (9)'!$E$39:$E$48,\"<4\",'Bâtiment (9)'!$K$39:$K$48,\">=\"&Annee_BI+5,'Bâtiment (9)'!$K$39:$K$48,\"<=\"&Annee_BI+9)","v":0},{"$f":"MIN(IF('Bâtiment (9)'!$K$39:$K$48>=Annee_BI+5,IF('Bâtiment (9)'!$K$39:$K$48<=Annee_BI+9,'Bâtiment (9)'!$K$39:$K$48)))","v":0},{"$f":"MAX(IF('Bâtiment (9)'!$K$39:$K$48>=Annee_BI+5,IF('Bâtiment (9)'!$K$39:$K$48<=Annee_BI+9,'Bâtiment (9)'!$K$39:$K$48)))","v":0}]
[35,"","","",{"$f":"IF(Identification!$H$63=\"\",\"\",Identification!$H$63)","v":""},{"$f":"IF('Bâtiment (9)'!$I$3=0,\"\",'Bâtiment (9)'!$I$3)","v":""},"Mécanique",{"$f":"'Bâtiment (9)'!$B$77","v":""},0,{"$f":"IFERROR(K36/SUM($K34:$K37),0)","v":0},{"$f":"'Bâtiment (9)'!$H$77","v":0},{"$f":"'Bâtiment (9)'!$F$77","v":""},{"$f":"'Bâtiment (9)'!$E$77","v":""},{"$f":"'Bâtiment (9)'!$I$77- (SUMIFS('Bâtiment (9)'!$I$53:$I$76,'Bâtiment (9)'!$E$53:$E$76,\"<4\"))","v":0},{"$f":"SUMIFS('Bâtiment (9)'!$I$53:$I$76,'Bâtiment (9)'!$E$53:$E$76,\"<4\",'Bâtiment (9)'!$K$53:$K$76,\">=\"&Annee_BI,'Bâtiment (9)'!$K$53:$K$76,\"<=\"&Annee_BI+4)","v":0},{"$f":"MIN(IF('Bâtiment (9)'!$K$53:$K$76>=Annee_BI,IF('Bâtiment (9)'!$K$53:$K$76<=Annee_BI+4,'Bâtiment (9)'!$K$53:$K$76)))","v":0},{"$f":"MAX(IF('Bâtiment (9)'!$K$53:$K$76>=Annee_BI,IF('Bâtiment (9)'!$K$53:$K$76<=Annee_BI+4,'Bâtiment (9)'!$K$53:$K$76)))","v":0},{"$f":"SUMIFS('Bâtiment (9)'!$I$53:$I$76,'Bâtiment (9)'!$E$53:$E$76,\"<4\",'Bâtiment (9)'!$K$53:$K$76,\">=\"&Annee_BI+5,'Bâtiment (9)'!$K$53:$K$76,\"<=\"&Annee_BI+9)","v":0},{"$f":"MIN(IF('Bâtiment (9)'!$K$53:$K$76>=Annee_BI+5,IF('Bâtiment (9)'!$K$53:$K$76<=Annee_BI+9,'Bâtiment (9)'!$K$53:$K$76)))","v":0},{"$f":"MAX(IF('Bâtiment (9)'!$K$53:$K$76>=Annee_BI+5,IF('Bâtiment (9)'!$K$53:$K$76<=Annee_BI+9,'Bâtiment (9)'!$K$53:$K$76)))","v":0}]
[36,"","","",{"$f":"IF(Identification!$H$63=\"\",\"\",Identification!$H$63)","v":""},{"$f":"IF('Bâtiment (9)'!$I$3=0,\"\",'Bâtiment (9)'!$I$3)","v":""},"Électricité",{"$f":"'Bâtiment (9)'!$B$86","v":""},0,{"$f":"IFERROR(K37/SUM($K34:$K37),0)","v":0},{"$f":"'Bâtiment (9)'!$H$86","v":0},{"$f":"'Bâtiment (9)'!$F$86","v":""},{"$f":"'Bâtiment (9)'!$E$86","v":""},{"$f":"'Bâtiment (9)'!$I$86- (SUMIFS('Bâtiment (9)'!$I$81:$I$85,'Bâtiment (9)'!$E$81:$E$85,\"<4\"))","v":0},{"$f":"SUMIFS('Bâtiment (9)'!$I$81:$I$85,'Bâtiment (9)'!$E$81:$E$85,\"<4\",'Bâtiment (9)'!$K$81:$K$85,\">=\"&Annee_BI,'Bâtiment (9)'!$K$81:$K$85,\"<=\"&Annee_BI+4)","v":0},{"$f":"MIN(IF('Bâtiment (9)'!$K$81:$K$85>=Annee_BI,IF('Bâtiment (9)'!$K$81:$K$85<=Annee_BI+4,'Bâtiment (9)'!$K$81:$K$85)))","v":0},{"$f":"MAX(IF('Bâtiment (9)'!$K$81:$K$85>=Annee_BI,IF('Bâtiment (9)'!$K$81:$K$85<=Annee_BI+4,'Bâtiment (9)'!$K$81:$K$85)))","v":0},{"$f":"SUMIFS('Bâtiment (9)'!$I$81:$I$85,'Bâtiment (9)'!$E$81:$E$85,\"<4\",'Bâtiment (9)'!$K$81:$K$85,\">=\"&Annee_BI+5,'Bâtiment (9)'!$K$81:$K$85,\"<=\"&Annee_BI+9)","v":0},{"$f":"MIN(IF('Bâtiment (9)'!$K$81:$K$85>=Annee_BI+5,IF('Bâtiment (9)'!$K$81:$K$85<=Annee_BI+9,'Bâtiment (9)'!$K$81:$K$85)))","v":0},{"$f":"MAX(IF('Bâtiment (9)'!$K$81:$K$85>=Annee_BI+5,IF('Bâtiment (9)'!$K$81:$K$85<=Annee_BI+9,'Bâtiment (9)'!$K$81:$K$85)))","v":0}]
[37,"","","",{"$f":"IF(Identification!$H$63=\"\",\"\",Identification!$H$63)","v":""},{"$f":"IF('Bâtiment (10)'!$I$3=0,\"\",'Bâtiment (10)'!$I$3)","v":""},"Architecture",{"$f":"'Bâtiment (10)'!$B$35","v":""},{"$f":"IF(H38<>\"\",1,0)","v":0},{"$f":"IFERROR(K38/SUM($K38:$K41),0)","v":0},{"$f":"'Bâtiment (10)'!$H$35","v":0},{"$f":"'Bâtiment (10)'!$F$35","v":""},{"$f":"'Bâtiment (10)'!$E$35","v":""},{"$f":"'Bâtiment (10)'!$I$35- (SUMIFS('Bâtiment (10)'!$I$17:$I$34,'Bâtiment (10)'!$E$17:$E$34,\"<4\"))","v":0},{"$f":"SUMIFS('Bâtiment (10)'!$I$17:$I$34,'Bâtiment (10)'!$E$17:$E$34,\"<4\",'Bâtiment (10)'!$K$17:$K$34,\">=\"&Annee_BI,'Bâtiment (10)'!$K$17:$K$34,\"<=\"&Annee_BI+4)","v":0},{"$f":"MIN(IF('Bâtiment (10)'!$K$17:$K$34>=Annee_BI,IF('Bâtiment (10)'!$K$17:$K$34<=Annee_BI+4,'Bâtiment (10)'!$K$17:$K$34)))","v":0},{"$f":"MAX(IF('Bâtiment (10)'!$K$17:$K$34>=Annee_BI,IF('Bâtiment (10)'!$K$17:$K$34<=Annee_BI+4,'Bâtiment (10)'!$K$17:$K$34)))","v":0},{"$f":"SUMIFS('Bâtiment (10)'!$I$17:$I$34,'Bâtiment (10)'!$E$17:$E$34,\"<4\",'Bâtiment (10)'!$K$17:$K$34,\">=\"&Annee_BI+5,'Bâtiment (10)'!$K$17:$K$34,\"<=\"&Annee_BI+9)","v":0},{"$f":"MIN(IF('Bâtiment (10)'!$K$17:$K$34>=Annee_BI+5,IF('Bâtiment (10)'!$K$17:$K$34<=Annee_BI+9,'Bâtiment (10)'!$K$17:$K$34)))","v":0},{"$f":"MAX(IF('Bâtiment (10)'!$K$17:$K$34>=Annee_BI+5,IF('Bâtiment (10)'!$K$17:$K$34<=Annee_BI+9,'Bâtiment (10)'!$K$17:$K$34)))","v":0}]
[38,"","","",{"$f":"IF(Identification!$H$63=\"\",\"\",Identification!$H$63)","v":""},{"$f":"IF('Bâtiment (10)'!$I$3=0,\"\",'Bâtiment (10)'!$I$3)","v":""},"Civil",{"$f":"'Bâtiment (10)'!$B$49","v":""},{"$f":"IF(H39<>\"\",1,0)","v":0},{"$f":"IFERROR(K39/SUM($K38:$K41),0)","v":0},{"$f":"'Bâtiment (10)'!$H$49","v":0},{"$f":"'Bâtiment (10)'!$F$49","v":""},{"$f":"'Bâtiment (10)'!$E$49","v":""},{"$f":"'Bâtiment (10)'!$I$49- (SUMIFS('Bâtiment (10)'!$I$39:$I$48,'Bâtiment (10)'!$E$39:$E$48,\"<4\"))","v":0},{"$f":"SUMIFS('Bâtiment (10)'!$I$39:$I$48,'Bâtiment (10)'!$E$39:$E$48,\"<4\",'Bâtiment (10)'!$K$39:$K$48,\">=\"&Annee_BI,'Bâtiment (10)'!$K$39:$K$48,\"<=\"&Annee_BI+4)","v":0},{"$f":"MIN(IF('Bâtiment (10)'!$K$39:$K$48>=Annee_BI,IF('Bâtiment (10)'!$K$39:$K$48<=Annee_BI+4,'Bâtiment (10)'!$K$39:$K$48)))","v":0},{"$f":"MAX(IF('Bâtiment (10)'!$K$39:$K$48>=Annee_BI,IF('Bâtiment (10)'!$K$39:$K$48<=Annee_BI+4,'Bâtiment (10)'!$K$39:$K$48)))","v":0},{"$f":"SUMIFS('Bâtiment (10)'!$I$39:$I$48,'Bâtiment (10)'!$E$39:$E$48,\"<4\",'Bâtiment (10)'!$K$39:$K$48,\">=\"&Annee_BI+5,'Bâtiment (10)'!$K$39:$K$48,\"<=\"&Annee_BI+9)","v":0},{"$f":"MIN(IF('Bâtiment (10)'!$K$39:$K$48>=Annee_BI+5,IF('Bâtiment (10)'!$K$39:$K$48<=Annee_BI+9,'Bâtiment (10)'!$K$39:$K$48)))","v":0},{"$f":"MAX(IF('Bâtiment (10)'!$K$39:$K$48>=Annee_BI+5,IF('Bâtiment (10)'!$K$39:$K$48<=Annee_BI+9,'Bâtiment (10)'!$K$39:$K$48)))","v":0}]
[39,"","","",{"$f":"IF(Identification!$H$63=\"\",\"\",Identification!$H$63)","v":""},{"$f":"IF('Bâtiment (10)'!$I$3=0,\"\",'Bâtiment (10)'!$I$3)","v":""},"Mécanique",{"$f":"'Bâtiment (10)'!$B$77","v":""},0,{"$f":"IFERROR(K40/SUM($K38:$K41),0)","v":0},{"$f":"'Bâtiment (10)'!$H$77","v":0},{"$f":"'Bâtiment (10)'!$F$77","v":""},{"$f":"'Bâtiment (10)'!$E$77","v":""},{"$f":"'Bâtiment (10)'!$I$77- (SUMIFS('Bâtiment (10)'!$I$53:$I$76,'Bâtiment (10)'!$E$53:$E$76,\"<4\"))","v":0},{"$f":"SUMIFS('Bâtiment (10)'!$I$53:$I$76,'Bâtiment (10)'!$E$53:$E$76,\"<4\",'Bâtiment (10)'!$K$53:$K$76,\">=\"&Annee_BI,'Bâtiment (10)'!$K$53:$K$76,\"<=\"&Annee_BI+4)","v":0},{"$f":"MIN(IF('Bâtiment (10)'!$K$53:$K$76>=Annee_BI,IF('Bâtiment (10)'!$K$53:$K$76<=Annee_BI+4,'Bâtiment (10)'!$K$53:$K$76)))","v":0},{"$f":"MAX(IF('Bâtiment (10)'!$K$53:$K$76>=Annee_BI,IF('Bâtiment (10)'!$K$53:$K$76<=Annee_BI+4,'Bâtiment (10)'!$K$53:$K$76)))","v":0},{"$f":"SUMIFS('Bâtiment (10)'!$I$53:$I$76,'Bâtiment (10)'!$E$53:$E$76,\"<4\",'Bâtiment (10)'!$K$53:$K$76,\">=\"&Annee_BI+5,'Bâtiment (10)'!$K$53:$K$76,\"<=\"&Annee_BI+9)","v":0},{"$f":"MIN(IF('Bâtiment (10)'!$K$53:$K$76>=Annee_BI+5,IF('Bâtiment (10)'!$K$53:$K$76<=Annee_BI+9,'Bâtiment (10)'!$K$53:$K$76)))","v":0},{"$f":"MAX(IF('Bâtiment (10)'!$K$53:$K$76>=Annee_BI+5,IF('Bâtiment (10)'!$K$53:$K$76<=Annee_BI+9,'Bâtiment (10)'!$K$53:$K$76)))","v":0}]
[40,"","","",{"$f":"IF(Identification!$H$63=\"\",\"\",Identification!$H$63)","v":""},{"$f":"IF('Bâtiment (10)'!$I$3=0,\"\",'Bâtiment (10)'!$I$3)","v":""},"Électricité",{"$f":"'Bâtiment (10)'!$B$86","v":""},0,{"$f":"IFERROR(K41/SUM($K38:$K41),0)","v":0},{"$f":"'Bâtiment (10)'!$H$86","v":0},{"$f":"'Bâtiment (10)'!$F$86","v":""},{"$f":"'Bâtiment (10)'!$E$86","v":""},{"$f":"'Bâtiment (10)'!$I$86- (SUMIFS('Bâtiment (10)'!$I$81:$I$85,'Bâtiment (10)'!$E$81:$E$85,\"<4\"))","v":0},{"$f":"SUMIFS('Bâtiment (10)'!$I$81:$I$85,'Bâtiment (10)'!$E$81:$E$85,\"<4\",'Bâtiment (10)'!$K$81:$K$85,\">=\"&Annee_BI,'Bâtiment (10)'!$K$81:$K$85,\"<=\"&Annee_BI+4)","v":0},{"$f":"MIN(IF('Bâtiment (10)'!$K$81:$K$85>=Annee_BI,IF('Bâtiment (10)'!$K$81:$K$85<=Annee_BI+4,'Bâtiment (10)'!$K$81:$K$85)))","v":0},{"$f":"MAX(IF('Bâtiment (10)'!$K$81:$K$85>=Annee_BI,IF('Bâtiment (10)'!$K$81:$K$85<=Annee_BI+4,'Bâtiment (10)'!$K$81:$K$85)))","v":0},{"$f":"SUMIFS('Bâtiment (10)'!$I$81:$I$85,'Bâtiment (10)'!$E$81:$E$85,\"<4\",'Bâtiment (10)'!$K$81:$K$85,\">=\"&Annee_BI+5,'Bâtiment (10)'!$K$81:$K$85,\"<=\"&Annee_BI+9)","v":0},{"$f":"MIN(IF('Bâtiment (10)'!$K$81:$K$85>=Annee_BI+5,IF('Bâtiment (10)'!$K$81:$K$85<=Annee_BI+9,'Bâtiment (10)'!$K$81:$K$85)))","v":0},{"$f":"MAX(IF('Bâtiment (10)'!$K$81:$K$85>=Annee_BI+5,IF('Bâtiment (10)'!$K$81:$K$85<=Annee_BI+9,'Bâtiment (10)'!$K$81:$K$85)))","v":0}]
[41,"","","",{"$f":"IF(Identification!$H$63=\"\",\"\",Identification!$H$63)","v":""},{"$f":"IF('Bâtiment (11)'!$I$3=0,\"\",'Bâtiment (11)'!$I$3)","v":""},"Architecture",{"$f":"'Bâtiment (11)'!$B$35","v":""},{"$f":"IF(H42<>\"\",1,0)","v":0},{"$f":"IFERROR(K42/SUM($K42:$K45),0)","v":0},{"$f":"'Bâtiment (11)'!$H$35","v":0},{"$f":"'Bâtiment (11)'!$F$35","v":""},{"$f":"'Bâtiment (11)'!$E$35","v":""},{"$f":"'Bâtiment (11)'!$I$35- (SUMIFS('Bâtiment (11)'!$I$17:$I$34,'Bâtiment (11)'!$E$17:$E$34,\"<4\"))","v":0},{"$f":"SUMIFS('Bâtiment (11)'!$I$17:$I$34,'Bâtiment (11)'!$E$17:$E$34,\"<4\",'Bâtiment (11)'!$K$17:$K$34,\">=\"&Annee_BI,'Bâtiment (11)'!$K$17:$K$34,\"<=\"&Annee_BI+4)","v":0},{"$f":"MIN(IF('Bâtiment (11)'!$K$17:$K$34>=Annee_BI,IF('Bâtiment (11)'!$K$17:$K$34<=Annee_BI+4,'Bâtiment (11)'!$K$17:$K$34)))","v":0},{"$f":"MAX(IF('Bâtiment (11)'!$K$17:$K$34>=Annee_BI,IF('Bâtiment (11)'!$K$17:$K$34<=Annee_BI+4,'Bâtiment (11)'!$K$17:$K$34)))","v":0},{"$f":"SUMIFS('Bâtiment (11)'!$I$17:$I$34,'Bâtiment (11)'!$E$17:$E$34,\"<4\",'Bâtiment (11)'!$K$17:$K$34,\">=\"&Annee_BI+5,'Bâtiment (11)'!$K$17:$K$34,\"<=\"&Annee_BI+9)","v":0},{"$f":"MIN(IF('Bâtiment (11)'!$K$17:$K$34>=Annee_BI+5,IF('Bâtiment (11)'!$K$17:$K$34<=Annee_BI+9,'Bâtiment (11)'!$K$17:$K$34)))","v":0},{"$f":"MAX(IF('Bâtiment (11)'!$K$17:$K$34>=Annee_BI+5,IF('Bâtiment (11)'!$K$17:$K$34<=Annee_BI+9,'Bâtiment (11)'!$K$17:$K$34)))","v":0}]
[42,"","","",{"$f":"IF(Identification!$H$63=\"\",\"\",Identification!$H$63)","v":""},{"$f":"IF('Bâtiment (11)'!$I$3=0,\"\",'Bâtiment (11)'!$I$3)","v":""},"Civil",{"$f":"'Bâtiment (11)'!$B$49","v":""},{"$f":"IF(H43<>\"\",1,0)","v":0},{"$f":"IFERROR(K43/SUM($K42:$K45),0)","v":0},{"$f":"'Bâtiment (11)'!$H$49","v":0},{"$f":"'Bâtiment (11)'!$F$49","v":""},{"$f":"'Bâtiment (11)'!$E$49","v":""},{"$f":"'Bâtiment (11)'!$I$49- (SUMIFS('Bâtiment (11)'!$I$39:$I$48,'Bâtiment (11)'!$E$39:$E$48,\"<4\"))","v":0},{"$f":"SUMIFS('Bâtiment (11)'!$I$39:$I$48,'Bâtiment (11)'!$E$39:$E$48,\"<4\",'Bâtiment (11)'!$K$39:$K$48,\">=\"&Annee_BI,'Bâtiment (11)'!$K$39:$K$48,\"<=\"&Annee_BI+4)","v":0},{"$f":"MIN(IF('Bâtiment (11)'!$K$39:$K$48>=Annee_BI,IF('Bâtiment (11)'!$K$39:$K$48<=Annee_BI+4,'Bâtiment (11)'!$K$39:$K$48)))","v":0},{"$f":"MAX(IF('Bâtiment (11)'!$K$39:$K$48>=Annee_BI,IF('Bâtiment (11)'!$K$39:$K$48<=Annee_BI+4,'Bâtiment (11)'!$K$39:$K$48)))","v":0},{"$f":"SUMIFS('Bâtiment (11)'!$I$39:$I$48,'Bâtiment (11)'!$E$39:$E$48,\"<4\",'Bâtiment (11)'!$K$39:$K$48,\">=\"&Annee_BI+5,'Bâtiment (11)'!$K$39:$K$48,\"<=\"&Annee_BI+9)","v":0},{"$f":"MIN(IF('Bâtiment (11)'!$K$39:$K$48>=Annee_BI+5,IF('Bâtiment (11)'!$K$39:$K$48<=Annee_BI+9,'Bâtiment (11)'!$K$39:$K$48)))","v":0},{"$f":"MAX(IF('Bâtiment (11)'!$K$39:$K$48>=Annee_BI+5,IF('Bâtiment (11)'!$K$39:$K$48<=Annee_BI+9,'Bâtiment (11)'!$K$39:$K$48)))","v":0}]
[43,"","","",{"$f":"IF(Identification!$H$63=\"\",\"\",Identification!$H$63)","v":""},{"$f":"IF('Bâtiment (11)'!$I$3=0,\"\",'Bâtiment (11)'!$I$3)","v":""},"Mécanique",{"$f":"'Bâtiment (11)'!$B$77","v":""},0,{"$f":"IFERROR(K44/SUM($K42:$K45),0)","v":0},{"$f":"'Bâtiment (11)'!$H$77","v":0},{"$f":"'Bâtiment (11)'!$F$77","v":""},{"$f":"'Bâtiment (11)'!$E$77","v":""},{"$f":"'Bâtiment (11)'!$I$77- (SUMIFS('Bâtiment (11)'!$I$53:$I$76,'Bâtiment (11)'!$E$53:$E$76,\"<4\"))","v":0},{"$f":"SUMIFS('Bâtiment (11)'!$I$53:$I$76,'Bâtiment (11)'!$E$53:$E$76,\"<4\",'Bâtiment (11)'!$K$53:$K$76,\">=\"&Annee_BI,'Bâtiment (11)'!$K$53:$K$76,\"<=\"&Annee_BI+4)","v":0},{"$f":"MIN(IF('Bâtiment (11)'!$K$53:$K$76>=Annee_BI,IF('Bâtiment (11)'!$K$53:$K$76<=Annee_BI+4,'Bâtiment (11)'!$K$53:$K$76)))","v":0},{"$f":"MAX(IF('Bâtiment (11)'!$K$53:$K$76>=Annee_BI,IF('Bâtiment (11)'!$K$53:$K$76<=Annee_BI+4,'Bâtiment (11)'!$K$53:$K$76)))","v":0},{"$f":"SUMIFS('Bâtiment (11)'!$I$53:$I$76,'Bâtiment (11)'!$E$53:$E$76,\"<4\",'Bâtiment (11)'!$K$53:$K$76,\">=\"&Annee_BI+5,'Bâtiment (11)'!$K$53:$K$76,\"<=\"&Annee_BI+9)","v":0},{"$f":"MIN(IF('Bâtiment (11)'!$K$53:$K$76>=Annee_BI+5,IF('Bâtiment (11)'!$K$53:$K$76<=Annee_BI+9,'Bâtiment (11)'!$K$53:$K$76)))","v":0},{"$f":"MAX(IF('Bâtiment (11)'!$K$53:$K$76>=Annee_BI+5,IF('Bâtiment (11)'!$K$53:$K$76<=Annee_BI+9,'Bâtiment (11)'!$K$53:$K$76)))","v":0}]
[44,"","","",{"$f":"IF(Identification!$H$63=\"\",\"\",Identification!$H$63)","v":""},{"$f":"IF('Bâtiment (11)'!$I$3=0,\"\",'Bâtiment (11)'!$I$3)","v":""},"Électricité",{"$f":"'Bâtiment (11)'!$B$86","v":""},0,{"$f":"IFERROR(K45/SUM($K42:$K45),0)","v":0},{"$f":"'Bâtiment (11)'!$H$86","v":0},{"$f":"'Bâtiment (11)'!$F$86","v":""},{"$f":"'Bâtiment (11)'!$E$86","v":""},{"$f":"'Bâtiment (11)'!$I$86- (SUMIFS('Bâtiment (11)'!$I$81:$I$85,'Bâtiment (11)'!$E$81:$E$85,\"<4\"))","v":0},{"$f":"SUMIFS('Bâtiment (11)'!$I$81:$I$85,'Bâtiment (11)'!$E$81:$E$85,\"<4\",'Bâtiment (11)'!$K$81:$K$85,\">=\"&Annee_BI,'Bâtiment (11)'!$K$81:$K$85,\"<=\"&Annee_BI+4)","v":0},{"$f":"MIN(IF('Bâtiment (11)'!$K$81:$K$85>=Annee_BI,IF('Bâtiment (11)'!$K$81:$K$85<=Annee_BI+4,'Bâtiment (11)'!$K$81:$K$85)))","v":0},{"$f":"MAX(IF('Bâtiment (11)'!$K$81:$K$85>=Annee_BI,IF('Bâtiment (11)'!$K$81:$K$85<=Annee_BI+4,'Bâtiment (11)'!$K$81:$K$85)))","v":0},{"$f":"SUMIFS('Bâtiment (11)'!$I$81:$I$85,'Bâtiment (11)'!$E$81:$E$85,\"<4\",'Bâtiment (11)'!$K$81:$K$85,\">=\"&Annee_BI+5,'Bâtiment (11)'!$K$81:$K$85,\"<=\"&Annee_BI+9)","v":0},{"$f":"MIN(IF('Bâtiment (11)'!$K$81:$K$85>=Annee_BI+5,IF('Bâtiment (11)'!$K$81:$K$85<=Annee_BI+9,'Bâtiment (11)'!$K$81:$K$85)))","v":0},{"$f":"MAX(IF('Bâtiment (11)'!$K$81:$K$85>=Annee_BI+5,IF('Bâtiment (11)'!$K$81:$K$85<=Annee_BI+9,'Bâtiment (11)'!$K$81:$K$85)))","v":0}]
[45,"","","",{"$f":"IF(Identification!$H$63=\"\",\"\",Identification!$H$63)","v":""},{"$f":"IF('Bâtiment (12)'!$I$3=0,\"\",'Bâtiment (12)'!$I$3)","v":""},"Architecture",{"$f":"'Bâtiment (12)'!$B$35","v":""},{"$f":"IF(H46<>\"\",1,0)","v":0},{"$f":"IFERROR(K46/SUM($K46:$K49),0)","v":0},{"$f":"'Bâtiment (12)'!$H$35","v":0},{"$f":"'Bâtiment (12)'!$F$35","v":""},{"$f":"'Bâtiment (12)'!$E$35","v":""},{"$f":"'Bâtiment (12)'!$I$35- (SUMIFS('Bâtiment (12)'!$I$17:$I$34,'Bâtiment (12)'!$E$17:$E$34,\"<4\"))","v":0},{"$f":"SUMIFS('Bâtiment (12)'!$I$17:$I$34,'Bâtiment (12)'!$E$17:$E$34,\"<4\",'Bâtiment (12)'!$K$17:$K$34,\">=\"&Annee_BI,'Bâtiment (12)'!$K$17:$K$34,\"<=\"&Annee_BI+4)","v":0},{"$f":"MIN(IF('Bâtiment (12)'!$K$17:$K$34>=Annee_BI,IF('Bâtiment (12)'!$K$17:$K$34<=Annee_BI+4,'Bâtiment (12)'!$K$17:$K$34)))","v":0},{"$f":"MAX(IF('Bâtiment (12)'!$K$17:$K$34>=Annee_BI,IF('Bâtiment (12)'!$K$17:$K$34<=Annee_BI+4,'Bâtiment (12)'!$K$17:$K$34)))","v":0},{"$f":"SUMIFS('Bâtiment (12)'!$I$17:$I$34,'Bâtiment (12)'!$E$17:$E$34,\"<4\",'Bâtiment (12)'!$K$17:$K$34,\">=\"&Annee_BI+5,'Bâtiment (12)'!$K$17:$K$34,\"<=\"&Annee_BI+9)","v":0},{"$f":"MIN(IF('Bâtiment (12)'!$K$17:$K$34>=Annee_BI+5,IF('Bâtiment (12)'!$K$17:$K$34<=Annee_BI+9,'Bâtiment (12)'!$K$17:$K$34)))","v":0},{"$f":"MAX(IF('Bâtiment (12)'!$K$17:$K$34>=Annee_BI+5,IF('Bâtiment (12)'!$K$17:$K$34<=Annee_BI+9,'Bâtiment (12)'!$K$17:$K$34)))","v":0}]
[46,"","","",{"$f":"IF(Identification!$H$63=\"\",\"\",Identification!$H$63)","v":""},{"$f":"IF('Bâtiment (12)'!$I$3=0,\"\",'Bâtiment (12)'!$I$3)","v":""},"Civil",{"$f":"'Bâtiment (12)'!$B$49","v":""},{"$f":"IF(H47<>\"\",1,0)","v":0},{"$f":"IFERROR(K47/SUM($K46:$K49),0)","v":0},{"$f":"'Bâtiment (12)'!$H$49","v":0},{"$f":"'Bâtiment (12)'!$F$49","v":""},{"$f":"'Bâtiment (12)'!$E$49","v":""},{"$f":"'Bâtiment (12)'!$I$49- (SUMIFS('Bâtiment (12)'!$I$39:$I$48,'Bâtiment (12)'!$E$39:$E$48,\"<4\"))","v":0},{"$f":"SUMIFS('Bâtiment (12)'!$I$39:$I$48,'Bâtiment (12)'!$E$39:$E$48,\"<4\",'Bâtiment (12)'!$K$39:$K$48,\">=\"&Annee_BI,'Bâtiment (12)'!$K$39:$K$48,\"<=\"&Annee_BI+4)","v":0},{"$f":"MIN(IF('Bâtiment (12)'!$K$39:$K$48>=Annee_BI,IF('Bâtiment (12)'!$K$39:$K$48<=Annee_BI+4,'Bâtiment (12)'!$K$39:$K$48)))","v":0},{"$f":"MAX(IF('Bâtiment (12)'!$K$39:$K$48>=Annee_BI,IF('Bâtiment (12)'!$K$39:$K$48<=Annee_BI+4,'Bâtiment (12)'!$K$39:$K$48)))","v":0},{"$f":"SUMIFS('Bâtiment (12)'!$I$39:$I$48,'Bâtiment (12)'!$E$39:$E$48,\"<4\",'Bâtiment (12)'!$K$39:$K$48,\">=\"&Annee_BI+5,'Bâtiment (12)'!$K$39:$K$48,\"<=\"&Annee_BI+9)","v":0},{"$f":"MIN(IF('Bâtiment (12)'!$K$39:$K$48>=Annee_BI+5,IF('Bâtiment (12)'!$K$39:$K$48<=Annee_BI+9,'Bâtiment (12)'!$K$39:$K$48)))","v":0},{"$f":"MAX(IF('Bâtiment (12)'!$K$39:$K$48>=Annee_BI+5,IF('Bâtiment (12)'!$K$39:$K$48<=Annee_BI+9,'Bâtiment (12)'!$K$39:$K$48)))","v":0}]
[47,"","","",{"$f":"IF(Identification!$H$63=\"\",\"\",Identification!$H$63)","v":""},{"$f":"IF('Bâtiment (12)'!$I$3=0,\"\",'Bâtiment (12)'!$I$3)","v":""},"Mécanique",{"$f":"'Bâtiment (12)'!$B$77","v":""},0,{"$f":"IFERROR(K48/SUM($K46:$K49),0)","v":0},{"$f":"'Bâtiment (12)'!$H$77","v":0},{"$f":"'Bâtiment (12)'!$F$77","v":""},{"$f":"'Bâtiment (12)'!$E$77","v":""},{"$f":"'Bâtiment (12)'!$I$77- (SUMIFS('Bâtiment (12)'!$I$53:$I$76,'Bâtiment (12)'!$E$53:$E$76,\"<4\"))","v":0},{"$f":"SUMIFS('Bâtiment (12)'!$I$53:$I$76,'Bâtiment (12)'!$E$53:$E$76,\"<4\",'Bâtiment (12)'!$K$53:$K$76,\">=\"&Annee_BI,'Bâtiment (12)'!$K$53:$K$76,\"<=\"&Annee_BI+4)","v":0},{"$f":"MIN(IF('Bâtiment (12)'!$K$53:$K$76>=Annee_BI,IF('Bâtiment (12)'!$K$53:$K$76<=Annee_BI+4,'Bâtiment (12)'!$K$53:$K$76)))","v":0},{"$f":"MAX(IF('Bâtiment (12)'!$K$53:$K$76>=Annee_BI,IF('Bâtiment (12)'!$K$53:$K$76<=Annee_BI+4,'Bâtiment (12)'!$K$53:$K$76)))","v":0},{"$f":"SUMIFS('Bâtiment (12)'!$I$53:$I$76,'Bâtiment (12)'!$E$53:$E$76,\"<4\",'Bâtiment (12)'!$K$53:$K$76,\">=\"&Annee_BI+5,'Bâtiment (12)'!$K$53:$K$76,\"<=\"&Annee_BI+9)","v":0},{"$f":"MIN(IF('Bâtiment (12)'!$K$53:$K$76>=Annee_BI+5,IF('Bâtiment (12)'!$K$53:$K$76<=Annee_BI+9,'Bâtiment (12)'!$K$53:$K$76)))","v":0},{"$f":"MAX(IF('Bâtiment (12)'!$K$53:$K$76>=Annee_BI+5,IF('Bâtiment (12)'!$K$53:$K$76<=Annee_BI+9,'Bâtiment (12)'!$K$53:$K$76)))","v":0}]
[48,"","","",{"$f":"IF(Identification!$H$63=\"\",\"\",Identification!$H$63)","v":""},{"$f":"IF('Bâtiment (12)'!$I$3=0,\"\",'Bâtiment (12)'!$I$3)","v":""},"Électricité",{"$f":"'Bâtiment (12)'!$B$86","v":""},0,{"$f":"IFERROR(K49/SUM($K46:$K49),0)","v":0},{"$f":"'Bâtiment (12)'!$H$86","v":0},{"$f":"'Bâtiment (12)'!$F$86","v":""},{"$f":"'Bâtiment (12)'!$E$86","v":""},{"$f":"'Bâtiment (12)'!$I$86- (SUMIFS('Bâtiment (12)'!$I$81:$I$85,'Bâtiment (12)'!$E$81:$E$85,\"<4\"))","v":0},{"$f":"SUMIFS('Bâtiment (12)'!$I$81:$I$85,'Bâtiment (12)'!$E$81:$E$85,\"<4\",'Bâtiment (12)'!$K$81:$K$85,\">=\"&Annee_BI,'Bâtiment (12)'!$K$81:$K$85,\"<=\"&Annee_BI+4)","v":0},{"$f":"MIN(IF('Bâtiment (12)'!$K$81:$K$85>=Annee_BI,IF('Bâtiment (12)'!$K$81:$K$85<=Annee_BI+4,'Bâtiment (12)'!$K$81:$K$85)))","v":0},{"$f":"MAX(IF('Bâtiment (12)'!$K$81:$K$85>=Annee_BI,IF('Bâtiment (12)'!$K$81:$K$85<=Annee_BI+4,'Bâtiment (12)'!$K$81:$K$85)))","v":0},{"$f":"SUMIFS('Bâtiment (12)'!$I$81:$I$85,'Bâtiment (12)'!$E$81:$E$85,\"<4\",'Bâtiment (12)'!$K$81:$K$85,\">=\"&Annee_BI+5,'Bâtiment (12)'!$K$81:$K$85,\"<=\"&Annee_BI+9)","v":0},{"$f":"MIN(IF('Bâtiment (12)'!$K$81:$K$85>=Annee_BI+5,IF('Bâtiment (12)'!$K$81:$K$85<=Annee_BI+9,'Bâtiment (12)'!$K$81:$K$85)))","v":0},{"$f":"MAX(IF('Bâtiment (12)'!$K$81:$K$85>=Annee_BI+5,IF('Bâtiment (12)'!$K$81:$K$85<=Annee_BI+9,'Bâtiment (12)'!$K$81:$K$85)))","v":0}]
[49,"","","",{"$f":"IF(Identification!$H$63=\"\",\"\",Identification!$H$63)","v":""},{"$f":"IF('Bâtiment (13)'!$I$3=0,\"\",'Bâtiment (13)'!$I$3)","v":""},"Architecture",{"$f":"'Bâtiment (13)'!$B$35","v":""},{"$f":"IF(H50<>\"\",1,0)","v":0},{"$f":"IFERROR(K50/SUM($K50:$K53),0)","v":0},{"$f":"'Bâtiment (13)'!$H$35","v":0},{"$f":"'Bâtiment (13)'!$F$35","v":""},{"$f":"'Bâtiment (13)'!$E$35","v":""},{"$f":"'Bâtiment (13)'!$I$35- (SUMIFS('Bâtiment (13)'!$I$17:$I$34,'Bâtiment (13)'!$E$17:$E$34,\"<4\"))","v":0},{"$f":"SUMIFS('Bâtiment (13)'!$I$17:$I$34,'Bâtiment (13)'!$E$17:$E$34,\"<4\",'Bâtiment (13)'!$K$17:$K$34,\">=\"&Annee_BI,'Bâtiment (13)'!$K$17:$K$34,\"<=\"&Annee_BI+4)","v":0},{"$f":"MIN(IF('Bâtiment (13)'!$K$17:$K$34>=Annee_BI,IF('Bâtiment (13)'!$K$17:$K$34<=Annee_BI+4,'Bâtiment (13)'!$K$17:$K$34)))","v":0},{"$f":"MAX(IF('Bâtiment (13)'!$K$17:$K$34>=Annee_BI,IF('Bâtiment (13)'!$K$17:$K$34<=Annee_BI+4,'Bâtiment (13)'!$K$17:$K$34)))","v":0},{"$f":"SUMIFS('Bâtiment (13)'!$I$17:$I$34,'Bâtiment (13)'!$E$17:$E$34,\"<4\",'Bâtiment (13)'!$K$17:$K$34,\">=\"&Annee_BI+5,'Bâtiment (13)'!$K$17:$K$34,\"<=\"&Annee_BI+9)","v":0},{"$f":"MIN(IF('Bâtiment (13)'!$K$17:$K$34>=Annee_BI+5,IF('Bâtiment (13)'!$K$17:$K$34<=Annee_BI+9,'Bâtiment (13)'!$K$17:$K$34)))","v":0},{"$f":"MAX(IF('Bâtiment (13)'!$K$17:$K$34>=Annee_BI+5,IF('Bâtiment (13)'!$K$17:$K$34<=Annee_BI+9,'Bâtiment (13)'!$K$17:$K$34)))","v":0}]
[50,"","","",{"$f":"IF(Identification!$H$63=\"\",\"\",Identification!$H$63)","v":""},{"$f":"IF('Bâtiment (13)'!$I$3=0,\"\",'Bâtiment (13)'!$I$3)","v":""},"Civil",{"$f":"'Bâtiment (13)'!$B$49","v":""},{"$f":"IF(H51<>\"\",1,0)","v":0},{"$f":"IFERROR(K51/SUM($K50:$K53),0)","v":0},{"$f":"'Bâtiment (13)'!$H$49","v":0},{"$f":"'Bâtiment (13)'!$F$49","v":""},{"$f":"'Bâtiment (13)'!$E$49","v":""},{"$f":"'Bâtiment (13)'!$I$49- (SUMIFS('Bâtiment (13)'!$I$39:$I$48,'Bâtiment (13)'!$E$39:$E$48,\"<4\"))","v":0},{"$f":"SUMIFS('Bâtiment (13)'!$I$39:$I$48,'Bâtiment (13)'!$E$39:$E$48,\"<4\",'Bâtiment (13)'!$K$39:$K$48,\">=\"&Annee_BI,'Bâtiment (13)'!$K$39:$K$48,\"<=\"&Annee_BI+4)","v":0},{"$f":"MIN(IF('Bâtiment (13)'!$K$39:$K$48>=Annee_BI,IF('Bâtiment (13)'!$K$39:$K$48<=Annee_BI+4,'Bâtiment (13)'!$K$39:$K$48)))","v":0},{"$f":"MAX(IF('Bâtiment (13)'!$K$39:$K$48>=Annee_BI,IF('Bâtiment (13)'!$K$39:$K$48<=Annee_BI+4,'Bâtiment (13)'!$K$39:$K$48)))","v":0},{"$f":"SUMIFS('Bâtiment (13)'!$I$39:$I$48,'Bâtiment (13)'!$E$39:$E$48,\"<4\",'Bâtiment (13)'!$K$39:$K$48,\">=\"&Annee_BI+5,'Bâtiment (13)'!$K$39:$K$48,\"<=\"&Annee_BI+9)","v":0},{"$f":"MIN(IF('Bâtiment (13)'!$K$39:$K$48>=Annee_BI+5,IF('Bâtiment (13)'!$K$39:$K$48<=Annee_BI+9,'Bâtiment (13)'!$K$39:$K$48)))","v":0},{"$f":"MAX(IF('Bâtiment (13)'!$K$39:$K$48>=Annee_BI+5,IF('Bâtiment (13)'!$K$39:$K$48<=Annee_BI+9,'Bâtiment (13)'!$K$39:$K$48)))","v":0}]
[51,"","","",{"$f":"IF(Identification!$H$63=\"\",\"\",Identification!$H$63)","v":""},{"$f":"IF('Bâtiment (13)'!$I$3=0,\"\",'Bâtiment (13)'!$I$3)","v":""},"Mécanique",{"$f":"'Bâtiment (13)'!$B$77","v":""},0,{"$f":"IFERROR(K52/SUM($K50:$K53),0)","v":0},{"$f":"'Bâtiment (13)'!$H$77","v":0},{"$f":"'Bâtiment (13)'!$F$77","v":""},{"$f":"'Bâtiment (13)'!$E$77","v":""},{"$f":"'Bâtiment (13)'!$I$77- (SUMIFS('Bâtiment (13)'!$I$53:$I$76,'Bâtiment (13)'!$E$53:$E$76,\"<4\"))","v":0},{"$f":"SUMIFS('Bâtiment (13)'!$I$53:$I$76,'Bâtiment (13)'!$E$53:$E$76,\"<4\",'Bâtiment (13)'!$K$53:$K$76,\">=\"&Annee_BI,'Bâtiment (13)'!$K$53:$K$76,\"<=\"&Annee_BI+4)","v":0},{"$f":"MIN(IF('Bâtiment (13)'!$K$53:$K$76>=Annee_BI,IF('Bâtiment (13)'!$K$53:$K$76<=Annee_BI+4,'Bâtiment (13)'!$K$53:$K$76)))","v":0},{"$f":"MAX(IF('Bâtiment (13)'!$K$53:$K$76>=Annee_BI,IF('Bâtiment (13)'!$K$53:$K$76<=Annee_BI+4,'Bâtiment (13)'!$K$53:$K$76)))","v":0},{"$f":"SUMIFS('Bâtiment (13)'!$I$53:$I$76,'Bâtiment (13)'!$E$53:$E$76,\"<4\",'Bâtiment (13)'!$K$53:$K$76,\">=\"&Annee_BI+5,'Bâtiment (13)'!$K$53:$K$76,\"<=\"&Annee_BI+9)","v":0},{"$f":"MIN(IF('Bâtiment (13)'!$K$53:$K$76>=Annee_BI+5,IF('Bâtiment (13)'!$K$53:$K$76<=Annee_BI+9,'Bâtiment (13)'!$K$53:$K$76)))","v":0},{"$f":"MAX(IF('Bâtiment (13)'!$K$53:$K$76>=Annee_BI+5,IF('Bâtiment (13)'!$K$53:$K$76<=Annee_BI+9,'Bâtiment (13)'!$K$53:$K$76)))","v":0}]
[52,"","","",{"$f":"IF(Identification!$H$63=\"\",\"\",Identification!$H$63)","v":""},{"$f":"IF('Bâtiment (13)'!$I$3=0,\"\",'Bâtiment (13)'!$I$3)","v":""},"Électricité",{"$f":"'Bâtiment (13)'!$B$86","v":""},0,{"$f":"IFERROR(K53/SUM($K50:$K53),0)","v":0},{"$f":"'Bâtiment (13)'!$H$86","v":0},{"$f":"'Bâtiment (13)'!$F$86","v":""},{"$f":"'Bâtiment (13)'!$E$86","v":""},{"$f":"'Bâtiment (13)'!$I$86- (SUMIFS('Bâtiment (13)'!$I$81:$I$85,'Bâtiment (13)'!$E$81:$E$85,\"<4\"))","v":0},{"$f":"SUMIFS('Bâtiment (13)'!$I$81:$I$85,'Bâtiment (13)'!$E$81:$E$85,\"<4\",'Bâtiment (13)'!$K$81:$K$85,\">=\"&Annee_BI,'Bâtiment (13)'!$K$81:$K$85,\"<=\"&Annee_BI+4)","v":0},{"$f":"MIN(IF('Bâtiment (13)'!$K$81:$K$85>=Annee_BI,IF('Bâtiment (13)'!$K$81:$K$85<=Annee_BI+4,'Bâtiment (13)'!$K$81:$K$85)))","v":0},{"$f":"MAX(IF('Bâtiment (13)'!$K$81:$K$85>=Annee_BI,IF('Bâtiment (13)'!$K$81:$K$85<=Annee_BI+4,'Bâtiment (13)'!$K$81:$K$85)))","v":0},{"$f":"SUMIFS('Bâtiment (13)'!$I$81:$I$85,'Bâtiment (13)'!$E$81:$E$85,\"<4\",'Bâtiment (13)'!$K$81:$K$85,\">=\"&Annee_BI+5,'Bâtiment (13)'!$K$81:$K$85,\"<=\"&Annee_BI+9)","v":0},{"$f":"MIN(IF('Bâtiment (13)'!$K$81:$K$85>=Annee_BI+5,IF('Bâtiment (13)'!$K$81:$K$85<=Annee_BI+9,'Bâtiment (13)'!$K$81:$K$85)))","v":0},{"$f":"MAX(IF('Bâtiment (13)'!$K$81:$K$85>=Annee_BI+5,IF('Bâtiment (13)'!$K$81:$K$85<=Annee_BI+9,'Bâtiment (13)'!$K$81:$K$85)))","v":0}]
[53,"","","",{"$f":"IF(Identification!$H$63=\"\",\"\",Identification!$H$63)","v":""},{"$f":"IF('Bâtiment (14)'!$I$3=0,\"\",'Bâtiment (14)'!$I$3)","v":""},"Architecture",{"$f":"'Bâtiment (14)'!$B$35","v":""},{"$f":"IF(H54<>\"\",1,0)","v":0},{"$f":"IFERROR(K54/SUM($K54:$K57),0)","v":0},{"$f":"'Bâtiment (14)'!$H$35","v":0},{"$f":"'Bâtiment (14)'!$F$35","v":""},{"$f":"'Bâtiment (14)'!$E$35","v":""},{"$f":"'Bâtiment (14)'!$I$35- (SUMIFS('Bâtiment (14)'!$I$17:$I$34,'Bâtiment (14)'!$E$17:$E$34,\"<4\"))","v":0},{"$f":"SUMIFS('Bâtiment (14)'!$I$17:$I$34,'Bâtiment (14)'!$E$17:$E$34,\"<4\",'Bâtiment (14)'!$K$17:$K$34,\">=\"&Annee_BI,'Bâtiment (14)'!$K$17:$K$34,\"<=\"&Annee_BI+4)","v":0},{"$f":"MIN(IF('Bâtiment (14)'!$K$17:$K$34>=Annee_BI,IF('Bâtiment (14)'!$K$17:$K$34<=Annee_BI+4,'Bâtiment (14)'!$K$17:$K$34)))","v":0},{"$f":"MAX(IF('Bâtiment (14)'!$K$17:$K$34>=Annee_BI,IF('Bâtiment (14)'!$K$17:$K$34<=Annee_BI+4,'Bâtiment (14)'!$K$17:$K$34)))","v":0},{"$f":"SUMIFS('Bâtiment (14)'!$I$17:$I$34,'Bâtiment (14)'!$E$17:$E$34,\"<4\",'Bâtiment (14)'!$K$17:$K$34,\">=\"&Annee_BI+5,'Bâtiment (14)'!$K$17:$K$34,\"<=\"&Annee_BI+9)","v":0},{"$f":"MIN(IF('Bâtiment (14)'!$K$17:$K$34>=Annee_BI+5,IF('Bâtiment (14)'!$K$17:$K$34<=Annee_BI+9,'Bâtiment (14)'!$K$17:$K$34)))","v":0},{"$f":"MAX(IF('Bâtiment (14)'!$K$17:$K$34>=Annee_BI+5,IF('Bâtiment (14)'!$K$17:$K$34<=Annee_BI+9,'Bâtiment (14)'!$K$17:$K$34)))","v":0}]
[54,"","","",{"$f":"IF(Identification!$H$63=\"\",\"\",Identification!$H$63)","v":""},{"$f":"IF('Bâtiment (14)'!$I$3=0,\"\",'Bâtiment (14)'!$I$3)","v":""},"Civil",{"$f":"'Bâtiment (14)'!$B$49","v":""},{"$f":"IF(H55<>\"\",1,0)","v":0},{"$f":"IFERROR(K55/SUM($K54:$K57),0)","v":0},{"$f":"'Bâtiment (14)'!$H$49","v":0},{"$f":"'Bâtiment (14)'!$F$49","v":""},{"$f":"'Bâtiment (14)'!$E$49","v":""},{"$f":"'Bâtiment (14)'!$I$49- (SUMIFS('Bâtiment (14)'!$I$39:$I$48,'Bâtiment (14)'!$E$39:$E$48,\"<4\"))","v":0},{"$f":"SUMIFS('Bâtiment (14)'!$I$39:$I$48,'Bâtiment (14)'!$E$39:$E$48,\"<4\",'Bâtiment (14)'!$K$39:$K$48,\">=\"&Annee_BI,'Bâtiment (14)'!$K$39:$K$48,\"<=\"&Annee_BI+4)","v":0},{"$f":"MIN(IF('Bâtiment (14)'!$K$39:$K$48>=Annee_BI,IF('Bâtiment (14)'!$K$39:$K$48<=Annee_BI+4,'Bâtiment (14)'!$K$39:$K$48)))","v":0},{"$f":"MAX(IF('Bâtiment (14)'!$K$39:$K$48>=Annee_BI,IF('Bâtiment (14)'!$K$39:$K$48<=Annee_BI+4,'Bâtiment (14)'!$K$39:$K$48)))","v":0},{"$f":"SUMIFS('Bâtiment (14)'!$I$39:$I$48,'Bâtiment (14)'!$E$39:$E$48,\"<4\",'Bâtiment (14)'!$K$39:$K$48,\">=\"&Annee_BI+5,'Bâtiment (14)'!$K$39:$K$48,\"<=\"&Annee_BI+9)","v":0},{"$f":"MIN(IF('Bâtiment (14)'!$K$39:$K$48>=Annee_BI+5,IF('Bâtiment (14)'!$K$39:$K$48<=Annee_BI+9,'Bâtiment (14)'!$K$39:$K$48)))","v":0},{"$f":"MAX(IF('Bâtiment (14)'!$K$39:$K$48>=Annee_BI+5,IF('Bâtiment (14)'!$K$39:$K$48<=Annee_BI+9,'Bâtiment (14)'!$K$39:$K$48)))","v":0}]
[55,"","","",{"$f":"IF(Identification!$H$63=\"\",\"\",Identification!$H$63)","v":""},{"$f":"IF('Bâtiment (14)'!$I$3=0,\"\",'Bâtiment (14)'!$I$3)","v":""},"Mécanique",{"$f":"'Bâtiment (14)'!$B$77","v":""},0,{"$f":"IFERROR(K56/SUM($K54:$K57),0)","v":0},{"$f":"'Bâtiment (14)'!$H$77","v":0},{"$f":"'Bâtiment (14)'!$F$77","v":""},{"$f":"'Bâtiment (14)'!$E$77","v":""},{"$f":"'Bâtiment (14)'!$I$77- (SUMIFS('Bâtiment (14)'!$I$53:$I$76,'Bâtiment (14)'!$E$53:$E$76,\"<4\"))","v":0},{"$f":"SUMIFS('Bâtiment (14)'!$I$53:$I$76,'Bâtiment (14)'!$E$53:$E$76,\"<4\",'Bâtiment (14)'!$K$53:$K$76,\">=\"&Annee_BI,'Bâtiment (14)'!$K$53:$K$76,\"<=\"&Annee_BI+4)","v":0},{"$f":"MIN(IF('Bâtiment (14)'!$K$53:$K$76>=Annee_BI,IF('Bâtiment (14)'!$K$53:$K$76<=Annee_BI+4,'Bâtiment (14)'!$K$53:$K$76)))","v":0},{"$f":"MAX(IF('Bâtiment (14)'!$K$53:$K$76>=Annee_BI,IF('Bâtiment (14)'!$K$53:$K$76<=Annee_BI+4,'Bâtiment (14)'!$K$53:$K$76)))","v":0},{"$f":"SUMIFS('Bâtiment (14)'!$I$53:$I$76,'Bâtiment (14)'!$E$53:$E$76,\"<4\",'Bâtiment (14)'!$K$53:$K$76,\">=\"&Annee_BI+5,'Bâtiment (14)'!$K$53:$K$76,\"<=\"&Annee_BI+9)","v":0},{"$f":"MIN(IF('Bâtiment (14)'!$K$53:$K$76>=Annee_BI+5,IF('Bâtiment (14)'!$K$53:$K$76<=Annee_BI+9,'Bâtiment (14)'!$K$53:$K$76)))","v":0},{"$f":"MAX(IF('Bâtiment (14)'!$K$53:$K$76>=Annee_BI+5,IF('Bâtiment (14)'!$K$53:$K$76<=Annee_BI+9,'Bâtiment (14)'!$K$53:$K$76)))","v":0}]
[56,"","","",{"$f":"IF(Identification!$H$63=\"\",\"\",Identification!$H$63)","v":""},{"$f":"IF('Bâtiment (14)'!$I$3=0,\"\",'Bâtiment (14)'!$I$3)","v":""},"Électricité",{"$f":"'Bâtiment (14)'!$B$86","v":""},0,{"$f":"IFERROR(K57/SUM($K54:$K57),0)","v":0},{"$f":"'Bâtiment (14)'!$H$86","v":0},{"$f":"'Bâtiment (14)'!$F$86","v":""},{"$f":"'Bâtiment (14)'!$E$86","v":""},{"$f":"'Bâtiment (14)'!$I$86- (SUMIFS('Bâtiment (14)'!$I$81:$I$85,'Bâtiment (14)'!$E$81:$E$85,\"<4\"))","v":0},{"$f":"SUMIFS('Bâtiment (14)'!$I$81:$I$85,'Bâtiment (14)'!$E$81:$E$85,\"<4\",'Bâtiment (14)'!$K$81:$K$85,\">=\"&Annee_BI,'Bâtiment (14)'!$K$81:$K$85,\"<=\"&Annee_BI+4)","v":0},{"$f":"MIN(IF('Bâtiment (14)'!$K$81:$K$85>=Annee_BI,IF('Bâtiment (14)'!$K$81:$K$85<=Annee_BI+4,'Bâtiment (14)'!$K$81:$K$85)))","v":0},{"$f":"MAX(IF('Bâtiment (14)'!$K$81:$K$85>=Annee_BI,IF('Bâtiment (14)'!$K$81:$K$85<=Annee_BI+4,'Bâtiment (14)'!$K$81:$K$85)))","v":0},{"$f":"SUMIFS('Bâtiment (14)'!$I$81:$I$85,'Bâtiment (14)'!$E$81:$E$85,\"<4\",'Bâtiment (14)'!$K$81:$K$85,\">=\"&Annee_BI+5,'Bâtiment (14)'!$K$81:$K$85,\"<=\"&Annee_BI+9)","v":0},{"$f":"MIN(IF('Bâtiment (14)'!$K$81:$K$85>=Annee_BI+5,IF('Bâtiment (14)'!$K$81:$K$85<=Annee_BI+9,'Bâtiment (14)'!$K$81:$K$85)))","v":0},{"$f":"MAX(IF('Bâtiment (14)'!$K$81:$K$85>=Annee_BI+5,IF('Bâtiment (14)'!$K$81:$K$85<=Annee_BI+9,'Bâtiment (14)'!$K$81:$K$85)))","v":0}]
[57,"","","",{"$f":"IF(Identification!$H$63=\"\",\"\",Identification!$H$63)","v":""},{"$f":"IF('Bâtiment (15)'!$I$3=0,\"\",'Bâtiment (15)'!$I$3)","v":""},"Architecture",{"$f":"'Bâtiment (15)'!$B$35","v":""},{"$f":"IF(H58<>\"\",1,0)","v":0},{"$f":"IFERROR(K58/SUM($K58:$K61),0)","v":0},{"$f":"'Bâtiment (15)'!$H$35","v":0},{"$f":"'Bâtiment (15)'!$F$35","v":""},{"$f":"'Bâtiment (15)'!$E$35","v":""},{"$f":"'Bâtiment (15)'!$I$35- (SUMIFS('Bâtiment (15)'!$I$17:$I$34,'Bâtiment (15)'!$E$17:$E$34,\"<4\"))","v":0},{"$f":"SUMIFS('Bâtiment (15)'!$I$17:$I$34,'Bâtiment (15)'!$E$17:$E$34,\"<4\",'Bâtiment (15)'!$K$17:$K$34,\">=\"&Annee_BI,'Bâtiment (15)'!$K$17:$K$34,\"<=\"&Annee_BI+4)","v":0},{"$f":"MIN(IF('Bâtiment (15)'!$K$17:$K$34>=Annee_BI,IF('Bâtiment (15)'!$K$17:$K$34<=Annee_BI+4,'Bâtiment (15)'!$K$17:$K$34)))","v":0},{"$f":"MAX(IF('Bâtiment (15)'!$K$17:$K$34>=Annee_BI,IF('Bâtiment (15)'!$K$17:$K$34<=Annee_BI+4,'Bâtiment (15)'!$K$17:$K$34)))","v":0},{"$f":"SUMIFS('Bâtiment (15)'!$I$17:$I$34,'Bâtiment (15)'!$E$17:$E$34,\"<4\",'Bâtiment (15)'!$K$17:$K$34,\">=\"&Annee_BI+5,'Bâtiment (15)'!$K$17:$K$34,\"<=\"&Annee_BI+9)","v":0},{"$f":"MIN(IF('Bâtiment (15)'!$K$17:$K$34>=Annee_BI+5,IF('Bâtiment (15)'!$K$17:$K$34<=Annee_BI+9,'Bâtiment (15)'!$K$17:$K$34)))","v":0},{"$f":"MAX(IF('Bâtiment (15)'!$K$17:$K$34>=Annee_BI+5,IF('Bâtiment (15)'!$K$17:$K$34<=Annee_BI+9,'Bâtiment (15)'!$K$17:$K$34)))","v":0}]
[58,"","","",{"$f":"IF(Identification!$H$63=\"\",\"\",Identification!$H$63)","v":""},{"$f":"IF('Bâtiment (15)'!$I$3=0,\"\",'Bâtiment (15)'!$I$3)","v":""},"Civil",{"$f":"'Bâtiment (15)'!$B$49","v":""},{"$f":"IF(H59<>\"\",1,0)","v":0},{"$f":"IFERROR(K59/SUM($K58:$K61),0)","v":0},{"$f":"'Bâtiment (15)'!$H$49","v":0},{"$f":"'Bâtiment (15)'!$F$49","v":""},{"$f":"'Bâtiment (15)'!$E$49","v":""},{"$f":"'Bâtiment (15)'!$I$49- (SUMIFS('Bâtiment (15)'!$I$39:$I$48,'Bâtiment (15)'!$E$39:$E$48,\"<4\"))","v":0},{"$f":"SUMIFS('Bâtiment (15)'!$I$39:$I$48,'Bâtiment (15)'!$E$39:$E$48,\"<4\",'Bâtiment (15)'!$K$39:$K$48,\">=\"&Annee_BI,'Bâtiment (15)'!$K$39:$K$48,\"<=\"&Annee_BI+4)","v":0},{"$f":"MIN(IF('Bâtiment (15)'!$K$39:$K$48>=Annee_BI,IF('Bâtiment (15)'!$K$39:$K$48<=Annee_BI+4,'Bâtiment (15)'!$K$39:$K$48)))","v":0},{"$f":"MAX(IF('Bâtiment (15)'!$K$39:$K$48>=Annee_BI,IF('Bâtiment (15)'!$K$39:$K$48<=Annee_BI+4,'Bâtiment (15)'!$K$39:$K$48)))","v":0},{"$f":"SUMIFS('Bâtiment (15)'!$I$39:$I$48,'Bâtiment (15)'!$E$39:$E$48,\"<4\",'Bâtiment (15)'!$K$39:$K$48,\">=\"&Annee_BI+5,'Bâtiment (15)'!$K$39:$K$48,\"<=\"&Annee_BI+9)","v":0},{"$f":"MIN(IF('Bâtiment (15)'!$K$39:$K$48>=Annee_BI+5,IF('Bâtiment (15)'!$K$39:$K$48<=Annee_BI+9,'Bâtiment (15)'!$K$39:$K$48)))","v":0},{"$f":"MAX(IF('Bâtiment (15)'!$K$39:$K$48>=Annee_BI+5,IF('Bâtiment (15)'!$K$39:$K$48<=Annee_BI+9,'Bâtiment (15)'!$K$39:$K$48)))","v":0}]
[59,"","","",{"$f":"IF(Identification!$H$63=\"\",\"\",Identification!$H$63)","v":""},{"$f":"IF('Bâtiment (15)'!$I$3=0,\"\",'Bâtiment (15)'!$I$3)","v":""},"Mécanique",{"$f":"'Bâtiment (15)'!$B$77","v":""},0,{"$f":"IFERROR(K60/SUM($K58:$K61),0)","v":0},{"$f":"'Bâtiment (15)'!$H$77","v":0},{"$f":"'Bâtiment (15)'!$F$77","v":""},{"$f":"'Bâtiment (15)'!$E$77","v":""},{"$f":"'Bâtiment (15)'!$I$77- (SUMIFS('Bâtiment (15)'!$I$53:$I$76,'Bâtiment (15)'!$E$53:$E$76,\"<4\"))","v":0},{"$f":"SUMIFS('Bâtiment (15)'!$I$53:$I$76,'Bâtiment (15)'!$E$53:$E$76,\"<4\",'Bâtiment (15)'!$K$53:$K$76,\">=\"&Annee_BI,'Bâtiment (15)'!$K$53:$K$76,\"<=\"&Annee_BI+4)","v":0},{"$f":"MIN(IF('Bâtiment (15)'!$K$53:$K$76>=Annee_BI,IF('Bâtiment (15)'!$K$53:$K$76<=Annee_BI+4,'Bâtiment (15)'!$K$53:$K$76)))","v":0},{"$f":"MAX(IF('Bâtiment (15)'!$K$53:$K$76>=Annee_BI,IF('Bâtiment (15)'!$K$53:$K$76<=Annee_BI+4,'Bâtiment (15)'!$K$53:$K$76)))","v":0},{"$f":"SUMIFS('Bâtiment (15)'!$I$53:$I$76,'Bâtiment (15)'!$E$53:$E$76,\"<4\",'Bâtiment (15)'!$K$53:$K$76,\">=\"&Annee_BI+5,'Bâtiment (15)'!$K$53:$K$76,\"<=\"&Annee_BI+9)","v":0},{"$f":"MIN(IF('Bâtiment (15)'!$K$53:$K$76>=Annee_BI+5,IF('Bâtiment (15)'!$K$53:$K$76<=Annee_BI+9,'Bâtiment (15)'!$K$53:$K$76)))","v":0},{"$f":"MAX(IF('Bâtiment (15)'!$K$53:$K$76>=Annee_BI+5,IF('Bâtiment (15)'!$K$53:$K$76<=Annee_BI+9,'Bâtiment (15)'!$K$53:$K$76)))","v":0}]
[60,"","","",{"$f":"IF(Identification!$H$63=\"\",\"\",Identification!$H$63)","v":""},{"$f":"IF('Bâtiment (15)'!$I$3=0,\"\",'Bâtiment (15)'!$I$3)","v":""},"Électricité",{"$f":"'Bâtiment (15)'!$B$86","v":""},0,{"$f":"IFERROR(K61/SUM($K58:$K61),0)","v":0},{"$f":"'Bâtiment (15)'!$H$86","v":0},{"$f":"'Bâtiment (15)'!$F$86","v":""},{"$f":"'Bâtiment (15)'!$E$86","v":""},{"$f":"'Bâtiment (15)'!$I$86- (SUMIFS('Bâtiment (15)'!$I$81:$I$85,'Bâtiment (15)'!$E$81:$E$85,\"<4\"))","v":0},{"$f":"SUMIFS('Bâtiment (15)'!$I$81:$I$85,'Bâtiment (15)'!$E$81:$E$85,\"<4\",'Bâtiment (15)'!$K$81:$K$85,\">=\"&Annee_BI,'Bâtiment (15)'!$K$81:$K$85,\"<=\"&Annee_BI+4)","v":0},{"$f":"MIN(IF('Bâtiment (15)'!$K$81:$K$85>=Annee_BI,IF('Bâtiment (15)'!$K$81:$K$85<=Annee_BI+4,'Bâtiment (15)'!$K$81:$K$85)))","v":0},{"$f":"MAX(IF('Bâtiment (15)'!$K$81:$K$85>=Annee_BI,IF('Bâtiment (15)'!$K$81:$K$85<=Annee_BI+4,'Bâtiment (15)'!$K$81:$K$85)))","v":0},{"$f":"SUMIFS('Bâtiment (15)'!$I$81:$I$85,'Bâtiment (15)'!$E$81:$E$85,\"<4\",'Bâtiment (15)'!$K$81:$K$85,\">=\"&Annee_BI+5,'Bâtiment (15)'!$K$81:$K$85,\"<=\"&Annee_BI+9)","v":0},{"$f":"MIN(IF('Bâtiment (15)'!$K$81:$K$85>=Annee_BI+5,IF('Bâtiment (15)'!$K$81:$K$85<=Annee_BI+9,'Bâtiment (15)'!$K$81:$K$85)))","v":0},{"$f":"MAX(IF('Bâtiment (15)'!$K$81:$K$85>=Annee_BI+5,IF('Bâtiment (15)'!$K$81:$K$85<=Annee_BI+9,'Bâtiment (15)'!$K$81:$K$85)))","v":0}]
["Total","","","",{"$f":"IF(Identification!$H$63=\"\",\"\",Identification!$H$63)","v":""},"Tous les bâtiments","Architecture",{"$f":"IF(MIN(H2,H6,H10,H14,H18,H22,H26,H30,H34,H38,H42,H46,H50,H54,H58)=0,\"\",MIN(H2,H6,H10,H14,H18,H22,H26,H30,H34,H38,H42,H46,H50,H54,H58))","v":""},{"$f":"IF(H62<>\"\",1,0)","v":0},{"$f":"IFERROR(K62/SUM($K62:$K65),0)","v":0},{"$f":"SUM(K2,K6,K10,K14,K18,K22,K26,K30,K34,K38,K42,K46,K50,K54,K58)","v":0},{"$f":"IF(MAX(L2,L6,L10,L14,L18,L22,L26,L30,L34,L38,L42,L46,L50,L54,L58)=0,\"\",MAX(L2,L6,L10,L14,L18,L22,L26,L30,L34,L38,L42,L46,L50,L54,L58))","v":""},{"$f":"IF(MAX(M2,M6,M10,M14,M18,M22,M26,M30,M34,M38,M42,M46,M50,M54,M58)=0,\"\",MAX(M2,M6,M10,M14,M18,M22,M26,M30,M34,M38,M42,M46,M50,M54,M58))","v":""},{"$f":"SUM(N2,N6,N10,N14,N18,N22,N26,N30,N34,N38,N42,N46,N50,N54,N58)","v":0},{"$f":"SUM(O2,O6,O10,O14,O18,O22,O26,O30,O34,O38,O42,O46,O50,O54,O58)","v":0},{"$f":"MIN(P2,P6,P10,P14,P18,P22,P26,P30,P34,P38,P42,P46,P50,P54,P58)","v":0},{"$f":"MAX(Q2,Q6,Q10,Q14,Q18,Q22,Q26,Q30,Q34,Q38,Q42,Q46,Q50,Q54,Q58)","v":0},{"$f":"SUM(R2,R6,R10,R14,R18,R22,R26,R30,R34,R38,R42,R46,R50,R54,R58)","v":0},{"$f":"MIN(S2,S6,S10,S14,S18,S22,S26,S30,S34,S38,S42,S46,S50,S54,S58)","v":0},{"$f":"MAX(T2,T6,T10,T14,T18,T22,T26,T30,T34,T38,T42,T46,T50,T54,T58)","v":0}]
["Total","","","",{"$f":"IF(Identification!$H$63=\"\",\"\",Identification!$H$63)","v":""},"Tous les bâtiments","Civil",{"$f":"IF(MIN(H3,H7,H11,H15,H19,H23,H27,H31,H35,H39,H43,H47,H51,H55,H59)=0,\"\",MIN(H3,H7,H11,H15,H19,H23,H27,H31,H35,H39,H43,H47,H51,H55,H59))","v":""},{"$f":"IF(H63<>\"\",1,0)","v":0},{"$f":"IFERROR(K63/SUM($K62:$K65),0)","v":0},{"$f":"SUM(K3,K7,K11,K15,K19,K23,K27,K31,K35,K39,K43,K47,K51,K55,K59)","v":0},{"$f":"IF(MAX(L3,L7,L11,L15,L19,L23,L27,L31,L35,L39,L43,L47,L51,L55,L59)=0,\"\",MAX(L3,L7,L11,L15,L19,L23,L27,L31,L35,L39,L43,L47,L51,L55,L59))","v":""},{"$f":"IF(MAX(M3,M7,M11,M15,M19,M23,M27,M31,M35,M39,M43,M47,M51,M55,M59)=0,\"\",MAX(M3,M7,M11,M15,M19,M23,M27,M31,M35,M39,M43,M47,M51,M55,M59))","v":""},{"$f":"SUM(N3,N7,N11,N15,N19,N23,N27,N31,N35,N39,N43,N47,N51,N55,N59)","v":0},0,{"$f":"MIN(P3,P7,P11,P15,P19,P23,P27,P31,P35,P39,P43,P47,P51,P55,P59)","v":0},{"$f":"MAX(Q3,Q7,Q11,Q15,Q19,Q23,Q27,Q31,Q35,Q39,Q43,Q47,Q51,Q55,Q59)","v":0},{"$f":"SUM(R3,R7,R11,R15,R19,R23,R27,R31,R35,R39,R43,R47,R51,R55,R59)","v":0},{"$f":"MIN(S3,S7,S11,S15,S19,S23,S27,S31,S35,S39,S43,S47,S51,S55,S59)","v":0},{"$f":"MAX(T3,T7,T11,T15,T19,T23,T27,T31,T35,T39,T43,T47,T51,T55,T59)","v":0}]
["Total","","","",{"$f":"IF(Identification!$H$63=\"\",\"\",Identification!$H$63)","v":""},"Tous les bâtiments","Mécanique","",0,{"$f":"IFERROR(K64/SUM($K62:$K65),0)","v":0},0,"","",0,0,0,0,0,0,0]
["Total","","","",{"$f":"IF(Identification!$H$63=\"\",\"\",Identification!$H$63)","v":""},"Tous les bâtiments","Électricité","",0,{"$f":"IFERROR(K65/SUM($K62:$K65),0)","v":0},0,"","",0,0,0,0,0,0,0]
[]
[null,null,null,null,null,null,"TOTAL",null,null,null,{"$f":"SUM(K2:K61)","v":0},{"$f":"MAX(L2:L61)","v":0},null,{"$f":"SUM(N2:N61)","v":0},{"$f":"SUM(O2:O61)","v":0},{"$f":"MIN(P2:P61)","v":0},{"$f":"MIN(Q2:Q61)","v":0},{"$f":"SUM(R2:R61)","v":0},{"$f":"MIN(S2:S61)","v":0},{"$f":"MAX(T2:T61)","v":0}]

{"sheet":"Synthèse_Procédés","index":54,"n_rows":351,"n_cols":20,"rows_kept":351,"cut":false,"hidden":true,"merged":[[350,4,350,5]]}
["Service d'eau","Type d'ouvrage","Sous-type d'ouvrage","Nom de l'ouvrage","Système","Discipline","Année d'installation ou de dernière intervention majeure","Présence de la discipline","%Valeur du procédé","Valeur de remplacement","Année d'évaluation","Pointage rapide - État physique","Pointage rapide - État fonctionnel","Coût estimé des travaux en rattrapage \n(0-5 ans)","Cout estimé des travaux en maintien d'actifs régulier \n(0-5 ans)","Année debut","Année fin","Cout estimé en maintien de l'offre de service \n(5-10 ans)","Année debut","Année fin"]
["Eau potable ","Installation de production","Stations mécanisées",{"$f":"IF(Identification!$H$63=\"\",\"\",Identification!$H$63)","v":""},"Captage/ Eau brute","Civil",{"$f":"EP_Captage!$B$26","v":""},{"$f":"IF(G2<>\"\",1,0)","v":0},{"$f":"IFERROR(J2/SUM($J2:$J5),0)","v":0},{"$f":"EP_Captage!$I$26","v":0},{"$f":"EP_Captage!$G$26","v":""},{"$f":"EP_Captage!$E$26","v":""},{"$f":"EP_Captage!$F$26","v":""},{"$f":"EP_Captage!$J$26-SUMIFS(EP_Captage!$J$16:$J$25,EP_Captage!$E$16:$E$25,\"<4\",EP_Captage!$F$16:$F$25,\"<4\")","v":0},{"$f":"SUMIFS(EP_Captage!$J$16:$J$25,EP_Captage!$E$16:$E$25,\"<4\",EP_Captage!$F$16:$F$25,\"<4\",EP_Captage!$L$16:$L$25,\">=\"&Annee_BI,EP_Captage!$L$16:$L$25,\"<=\"&Annee_BI+4)","v":0},{"$f":"MIN(IF(EP_Captage!$L$16:$L$25>=Annee_BI,IF(EP_Captage!$L$16:$L$25<=Annee_BI+4,EP_Captage!$L$16:$L$25)))","v":0},{"$f":"MAX(IF(EP_Captage!$L$16:$L$25>=Annee_BI,IF(EP_Captage!$L$16:$L$25<=Annee_BI+4,EP_Captage!$L$16:$L$25)))","v":0},{"$f":"SUMIFS(EP_Captage!$J$16:$J$25,EP_Captage!$E$16:$E$25,\"<4\",EP_Captage!$F$16:$F$25,\"<4\",EP_Captage!$L$16:$L$25,\">=\"&Annee_BI+5,EP_Captage!$L$16:$L$25,\"<=\"&Annee_BI+9)","v":0},{"$f":"MIN(IF(EP_Captage!$L$16:$L$25>=Annee_BI+5,IF(EP_Captage!$L$16:$L$25<=Annee_BI+9,EP_Captage!$L$16:$L$25)))","v":0},{"$f":"MAX(IF(EP_Captage!$L$16:$L$25>=Annee_BI+5,IF(EP_Captage!$L$16:$L$25<=Annee_BI+9,EP_Captage!$L$16:$L$25)))","v":0}]
["Eau potable ","Installation de production","Stations mécanisées",{"$f":"IF(Identification!$H$63=\"\",\"\",Identification!$H$63)","v":""},"Captage/ Eau brute","Mécanique",{"$f":"EP_Captage!$B$40","v":""},{"$f":"IF(G3<>\"\",1,0)","v":0},{"$f":"IFERROR(J3/SUM($J2:$J5),0)","v":0},{"$f":"EP_Captage!$I$40","v":0},{"$f":"EP_Captage!$G$40","v":""},{"$f":"EP_Captage!$E$40","v":""},{"$f":"EP_Captage!$F$40","v":""},{"$f":"EP_Captage!$J$40-SUMIFS(EP_Captage!$J$30:$J$39,EP_Captage!$E$30:$E$39,\"<4\",EP_Captage!$F$30:$F$39,\"<4\")","v":0},{"$f":"SUMIFS(EP_Captage!$J$30:$J$39,EP_Captage!$E$30:$E$39,\"<4\",EP_Captage!$F$30:$F$39,\"<4\",EP_Captage!$L$30:$L$39,\">=\"&Annee_BI,EP_Captage!$L$30:$L$39,\"<=\"&Annee_BI+4)","v":0},{"$f":"MIN(IF(EP_Captage!$L$30:$L$39>=Annee_BI,IF(EP_Captage!$L$30:$L$39<=Annee_BI+4,EP_Captage!$L$30:$L$39)))","v":0},{"$f":"MAX(IF(EP_Captage!$L$30:$L$39>=Annee_BI,IF(EP_Captage!$L$30:$L$39<=Annee_BI+4,EP_Captage!$L$30:$L$39)))","v":0},{"$f":"SUMIFS(EP_Captage!$J$30:$J$39,EP_Captage!$E$30:$E$39,\"<4\",EP_Captage!$F$30:$F$39,\"<4\",EP_Captage!$L$30:$L$39,\">=\"&Annee_BI+5,EP_Captage!$L$30:$L$39,\"<=\"&Annee_BI+9)","v":0},{"$f":"MIN(IF(EP_Captage!$L$30:$L$39>=Annee_BI+5,IF(EP_Captage!$L$30:$L$39<=Annee_BI+9,EP_Captage!$L$30:$L$39)))","v":0},{"$f":"MAX(IF(EP_Captage!$L$30:$L$39>=Annee_BI+5,IF(EP_Captage!$L$30:$L$39<=Annee_BI+9,EP_Captage!$L$30:$L$39)))","v":0}]
["Eau potable ","Installation de production","Stations mécanisées",{"$f":"IF(Identification!$H$63=\"\",\"\",Identification!$H$63)","v":""},"Captage/ Eau brute","Électricité",{"$f":"EP_Captage!$B$54","v":""},0,{"$f":"IFERROR(J4/SUM($J2:$J5),0)","v":0},{"$f":"EP_Captage!$I$54","v":0},{"$f":"EP_Captage!$G$54","v":""},{"$f":"EP_Captage!$E$54","v":""},{"$f":"EP_Captage!$F$54","v":""},{"$f":"EP_Captage!$J$54-SUMIFS(EP_Captage!$J$44:$J$53,EP_Captage!$E$44:$E$53,\"<4\",EP_Captage!$F$44:$F$53,\"<4\")","v":0},{"$f":"SUMIFS(EP_Captage!$J$44:$J$53,EP_Captage!$E$44:$E$53,\"<4\",EP_Captage!$F$44:$F$53,\"<4\",EP_Captage!$L$44:$L$53,\">=\"&Annee_BI,EP_Captage!$L$44:$L$53,\"<=\"&Annee_BI+4)","v":0},{"$f":"MIN(IF(EP_Captage!$L$44:$L$53>=Annee_BI,IF(EP_Captage!$L$44:$L$53<=Annee_BI+4,EP_Captage!$L$44:$L$53)))","v":0},{"$f":"MAX(IF(EP_Captage!$L$44:$L$53>=Annee_BI,IF(EP_Captage!$L$44:$L$53<=Annee_BI+4,EP_Captage!$L$44:$L$53)))","v":0},{"$f":"SUMIFS(EP_Captage!$J$44:$J$53,EP_Captage!$E$44:$E$53,\"<4\",EP_Captage!$F$44:$F$53,\"<4\",EP_Captage!$L$44:$L$53,\">=\"&Annee_BI+5,EP_Captage!$L$44:$L$53,\"<=\"&Annee_BI+9)","v":0},{"$f":"MIN(IF(EP_Captage!$L$44:$L$53>=Annee_BI+5,IF(EP_Captage!$L$44:$L$53<=Annee_BI+9,EP_Captage!$L$44:$L$53)))","v":0},{"$f":"MAX(IF(EP_Captage!$L$44:$L$53>=Annee_BI+5,IF(EP_Captage!$L$44:$L$53<=Annee_BI+9,EP_Captage!$L$44:$L$53)))","v":0}]
["Eau potable ","Installation de production","Stations mécanisées",{"$f":"IF(Identification!$H$63=\"\",\"\",Identification!$H$63)","v":""},"Captage/ Eau brute","Instrumentation et contrôle",{"$f":"EP_Captage!$B$68","v":""},0,{"$f":"IFERROR(J5/SUM($J2:$J5),0)","v":0},{"$f":"EP_Captage!$I$68","v":0},{"$f":"EP_Captage!$G$68","v":""},{"$f":"EP_Captage!$E$68","v":""},{"$f":"EP_Captage!$F$68","v":""},{"$f":"EP_Captage!$J$68-SUMIFS(EP_Captage!$J$58:$J$67,EP_Captage!$E$58:$E$67,\"<4\",EP_Captage!$F$58:$F$67,\"<4\")","v":0},{"$f":"SUMIFS(EP_Captage!$J$58:$J$67,EP_Captage!$E$58:$E$67,\"<4\",EP_Captage!$F$58:$F$67,\"<4\",EP_Captage!$L$58:$L$67,\">=\"&Annee_BI,EP_Captage!$L$58:$L$67,\"<=\"&Annee_BI+4)","v":0},{"$f":"MIN(IF(EP_Captage!$L$58:$L$67>=Annee_BI,IF(EP_Captage!$L$58:$L$67<=Annee_BI+4,EP_Captage!$L$58:$L$67)))","v":0},{"$f":"MAX(IF(EP_Captage!$L$58:$L$67>=Annee_BI,IF(EP_Captage!$L$58:$L$67<=Annee_BI+4,EP_Captage!$L$58:$L$67)))","v":0},{"$f":"SUMIFS(EP_Captage!$J$58:$J$67,EP_Captage!$E$58:$E$67,\"<4\",EP_Captage!$F$58:$F$67,\"<4\",EP_Captage!$L$58:$L$67,\">=\"&Annee_BI+5,EP_Captage!$L$58:$L$67,\"<=\"&Annee_BI+9)","v":0},{"$f":"MIN(IF(EP_Captage!$L$58:$L$67>=Annee_BI+5,IF(EP_Captage!$L$58:$L$67<=Annee_BI+9,EP_Captage!$L$58:$L$67)))","v":0},{"$f":"MAX(IF(EP_Captage!$L$58:$L$67>=Annee_BI+5,IF(EP_Captage!$L$58:$L$67<=Annee_BI+9,EP_Captage!$L$58:$L$67)))","v":0}]
["Eau potable ","Installation de production","Stations mécanisées",{"$f":"IF(Identification!$H$63=\"\",\"\",Identification!$H$63)","v":""},"Coagulation/ Floculation","Civil",{"$f":"EP_Coagulation!$B$26","v":""},{"$f":"IF(G6<>\"\",1,0)","v":0},{"$f":"IFERROR(J6/SUM($J6:$J9),0)","v":0},{"$f":"EP_Coagulation!$I$26","v":0},{"$f":"EP_Coagulation!$G$26","v":""},{"$f":"EP_Coagulation!$E$26","v":""},{"$f":"EP_Coagulation!$F$26","v":""},{"$f":"EP_Coagulation!$J$26-SUMIFS(EP_Coagulation!$J$16:$J$25,EP_Coagulation!$E$16:$E$25,\"<4\",EP_Coagulation!$F$16:$F$25,\"<4\")","v":0},{"$f":"SUMIFS(EP_Coagulation!$J$16:$J$25,EP_Coagulation!$E$16:$E$25,\"<4\",EP_Coagulation!$F$16:$F$25,\"<4\",EP_Coagulation!$L$16:$L$25,\">=\"&Annee_BI,EP_Coagulation!$L$16:$L$25,\"<=\"&Annee_BI+4)","v":0},{"$f":"MIN(IF(EP_Coagulation!$L$16:$L$25>=Annee_BI,IF(EP_Coagulation!$L$16:$L$25<=Annee_BI+4,EP_Coagulation!$L$16:$L$25)))","v":0},{"$f":"MAX(IF(EP_Coagulation!$L$16:$L$25>=Annee_BI,IF(EP_Coagulation!$L$16:$L$25<=Annee_BI+4,EP_Coagulation!$L$16:$L$25)))","v":0},{"$f":"SUMIFS(EP_Coagulation!$J$16:$J$25,EP_Coagulation!$E$16:$E$25,\"<4\",EP_Coagulation!$F$16:$F$25,\"<4\",EP_Coagulation!$L$16:$L$25,\">=\"&Annee_BI+5,EP_Coagulation!$L$16:$L$25,\"<=\"&Annee_BI+9)","v":0},{"$f":"MIN(IF(EP_Coagulation!$L$16:$L$25>=Annee_BI+5,IF(EP_Coagulation!$L$16:$L$25<=Annee_BI+9,EP_Coagulation!$L$16:$L$25)))","v":0},{"$f":"MAX(IF(EP_Coagulation!$L$16:$L$25>=Annee_BI+5,IF(EP_Coagulation!$L$16:$L$25<=Annee_BI+9,EP_Coagulation!$L$16:$L$25)))","v":0}]
["Eau potable ","Installation de production","Stations mécanisées",{"$f":"IF(Identification!$H$63=\"\",\"\",Identification!$H$63)","v":""},"Coagulation/ Floculation","Mécanique",{"$f":"EP_Coagulation!$B$40","v":""},0,{"$f":"IFERROR(J7/SUM($J6:$J9),0)","v":0},{"$f":"EP_Coagulation!$I$40","v":0},{"$f":"EP_Coagulation!$G$40","v":""},{"$f":"EP_Coagulation!$E$40","v":""},{"$f":"EP_Coagulation!$F$40","v":""},{"$f":"EP_Coagulation!$J$40-SUMIFS(EP_Coagulation!$J$30:$J$39,EP_Coagulation!$E$30:$E$39,\"<4\",EP_Coagulation!$F$30:$F$39,\"<4\")","v":0},{"$f":"SUMIFS(EP_Coagulation!$J$30:$J$39,EP_Coagulation!$E$30:$E$39,\"<4\",EP_Coagulation!$F$30:$F$39,\"<4\",EP_Coagulation!$L$30:$L$39,\">=\"&Annee_BI,EP_Coagulation!$L$30:$L$39,\"<=\"&Annee_BI+4)","v":0},{"$f":"MIN(IF(EP_Coagulation!$L$30:$L$39>=Annee_BI,IF(EP_Coagulation!$L$30:$L$39<=Annee_BI+4,EP_Coagulation!$L$30:$L$39)))","v":0},{"$f":"MAX(IF(EP_Coagulation!$L$30:$L$39>=Annee_BI,IF(EP_Coagulation!$L$30:$L$39<=Annee_BI+4,EP_Coagulation!$L$30:$L$39)))","v":0},{"$f":"SUMIFS(EP_Coagulation!$J$30:$J$39,EP_Coagulation!$E$30:$E$39,\"<4\",EP_Coagulation!$F$30:$F$39,\"<4\",EP_Coagulation!$L$30:$L$39,\">=\"&Annee_BI+5,EP_Coagulation!$L$30:$L$39,\"<=\"&Annee_BI+9)","v":0},{"$f":"MIN(IF(EP_Coagulation!$L$30:$L$39>=Annee_BI+5,IF(EP_Coagulation!$L$30:$L$39<=Annee_BI+9,EP_Coagulation!$L$30:$L$39)))","v":0},{"$f":"MAX(IF(EP_Coagulation!$L$30:$L$39>=Annee_BI+5,IF(EP_Coagulation!$L$30:$L$39<=Annee_BI+9,EP_Coagulation!$L$30:$L$39)))","v":0}]
["Eau potable ","Installation de production","Stations mécanisées",{"$f":"IF(Identification!$H$63=\"\",\"\",Identification!$H$63)","v":""},"Coagulation/ Floculation","Électricité",{"$f":"EP_Coagulation!$B$54","v":""},0,{"$f":"IFERROR(J8/SUM($J6:$J9),0)","v":0},{"$f":"EP_Coagulation!$I$54","v":0},{"$f":"EP_Coagulation!$G$54","v":""},{"$f":"EP_Coagulation!$E$54","v":""},{"$f":"EP_Coagulation!$F$54","v":""},{"$f":"EP_Coagulation!$J$54-SUMIFS(EP_Coagulation!$J$44:$J$53,EP_Coagulation!$E$44:$E$53,\"<4\",EP_Coagulation!$F$44:$F$53,\"<4\")","v":0},{"$f":"SUMIFS(EP_Coagulation!$J$44:$J$53,EP_Coagulation!$E$44:$E$53,\"<4\",EP_Coagulation!$F$44:$F$53,\"<4\",EP_Coagulation!$L$44:$L$53,\">=\"&Annee_BI,EP_Coagulation!$L$44:$L$53,\"<=\"&Annee_BI+4)","v":0},{"$f":"MIN(IF(EP_Coagulation!$L$44:$L$53>=Annee_BI,IF(EP_Coagulation!$L$44:$L$53<=Annee_BI+4,EP_Coagulation!$L$44:$L$53)))","v":0},{"$f":"MAX(IF(EP_Coagulation!$L$44:$L$53>=Annee_BI,IF(EP_Coagulation!$L$44:$L$53<=Annee_BI+4,EP_Coagulation!$L$44:$L$53)))","v":0},{"$f":"SUMIFS(EP_Coagulation!$J$44:$J$53,EP_Coagulation!$E$44:$E$53,\"<4\",EP_Coagulation!$F$44:$F$53,\"<4\",EP_Coagulation!$L$44:$L$53,\">=\"&Annee_BI+5,EP_Coagulation!$L$44:$L$53,\"<=\"&Annee_BI+9)","v":0},{"$f":"MIN(IF(EP_Coagulation!$L$44:$L$53>=Annee_BI+5,IF(EP_Coagulation!$L$44:$L$53<=Annee_BI+9,EP_Coagulation!$L$44:$L$53)))","v":0},{"$f":"MAX(IF(EP_Coagulation!$L$44:$L$53>=Annee_BI+5,IF(EP_Coagulation!$L$44:$L$53<=Annee_BI+9,EP_Coagulation!$L$44:$L$53)))","v":0}]
["Eau potable ","Installation de production","Stations mécanisées",{"$f":"IF(Identification!$H$63=\"\",\"\",Identification!$H$63)","v":""},"Coagulation/ Floculation","Instrumentation et contrôle",{"$f":"EP_Coagulation!$B$68","v":""},0,{"$f":"IFERROR(J9/SUM($J6:$J9),0)","v":0},{"$f":"EP_Coagulation!$I$68","v":0},{"$f":"EP_Coagulation!$G$68","v":""},{"$f":"EP_Coagulation!$E$68","v":""},{"$f":"EP_Coagulation!$F$68","v":""},{"$f":"EP_Coagulation!$J$68-SUMIFS(EP_Coagulation!$J$58:$J$67,EP_Coagulation!$E$58:$E$67,\"<4\",EP_Coagulation!$F$58:$F$67,\"<4\")","v":0},{"$f":"SUMIFS(EP_Coagulation!$J$58:$J$67,EP_Coagulation!$E$58:$E$67,\"<4\",EP_Coagulation!$F$58:$F$67,\"<4\",EP_Coagulation!$L$58:$L$67,\">=\"&Annee_BI,EP_Coagulation!$L$58:$L$67,\"<=\"&Annee_BI+4)","v":0},{"$f":"MIN(IF(EP_Coagulation!$L$58:$L$67>=Annee_BI,IF(EP_Coagulation!$L$58:$L$67<=Annee_BI+4,EP_Coagulation!$L$58:$L$67)))","v":0},{"$f":"MAX(IF(EP_Coagulation!$L$58:$L$67>=Annee_BI,IF(EP_Coagulation!$L$58:$L$67<=Annee_BI+4,EP_Coagulation!$L$58:$L$67)))","v":0},{"$f":"SUMIFS(EP_Coagulation!$J$58:$J$67,EP_Coagulation!$E$58:$E$67,\"<4\",EP_Coagulation!$F$58:$F$67,\"<4\",EP_Coagulation!$L$58:$L$67,\">=\"&Annee_BI+5,EP_Coagulation!$L$58:$L$67,\"<=\"&Annee_BI+9)","v":0},{"$f":"MIN(IF(EP_Coagulation!$L$58:$L$67>=Annee_BI+5,IF(EP_Coagulation!$L$58:$L$67<=Annee_BI+9,EP_Coagulation!$L$58:$L$67)))","v":0},{"$f":"MAX(IF(EP_Coagulation!$L$58:$L$67>=Annee_BI+5,IF(EP_Coagulation!$L$58:$L$67<=Annee_BI+9,EP_Coagulation!$L$58:$L$67)))","v":0}]
["Eau potable ","Installation de production","Stations mécanisées",{"$f":"IF(Identification!$H$63=\"\",\"\",Identification!$H$63)","v":""},"Décantation/Flottation","Civil",{"$f":"EP_Decantation!$B$26","v":""},{"$f":"IF(G10<>\"\",1,0)","v":0},{"$f":"IFERROR(J10/SUM($J10:$J13),0)","v":0},{"$f":"EP_Decantation!$I$26","v":0},{"$f":"EP_Decantation!$G$26","v":""},{"$f":"EP_Decantation!$E$26","v":""},{"$f":"EP_Decantation!$F$26","v":""},{"$f":"EP_Decantation!$J$26-SUMIFS(EP_Decantation!$J$16:$J$25,EP_Decantation!$E$16:$E$25,\"<4\",EP_Decantation!$F$16:$F$25,\"<4\")","v":0},{"$f":"SUMIFS(EP_Decantation!$J$16:$J$25,EP_Decantation!$E$16:$E$25,\"<4\",EP_Decantation!$F$16:$F$25,\"<4\",EP_Decantation!$L$16:$L$25,\">=\"&Annee_BI,EP_Decantation!$L$16:$L$25,\"<=\"&Annee_BI+4)","v":0},{"$f":"MIN(IF(EP_Decantation!$L$16:$L$25>=Annee_BI,IF(EP_Decantation!$L$16:$L$25<=Annee_BI+4,EP_Decantation!$L$16:$L$25)))","v":0},{"$f":"MAX(IF(EP_Decantation!$L$16:$L$25>=Annee_BI,IF(EP_Decantation!$L$16:$L$25<=Annee_BI+4,EP_Decantation!$L$16:$L$25)))","v":0},{"$f":"SUMIFS(EP_Decantation!$J$16:$J$25,EP_Decantation!$E$16:$E$25,\"<4\",EP_Decantation!$F$16:$F$25,\"<4\",EP_Decantation!$L$16:$L$25,\">=\"&Annee_BI+5,EP_Decantation!$L$16:$L$25,\"<=\"&Annee_BI+9)","v":0},{"$f":"MIN(IF(EP_Decantation!$L$16:$L$25>=Annee_BI+5,IF(EP_Decantation!$L$16:$L$25<=Annee_BI+9,EP_Decantation!$L$16:$L$25)))","v":0},{"$f":"MAX(IF(EP_Decantation!$L$16:$L$25>=Annee_BI+5,IF(EP_Decantation!$L$16:$L$25<=Annee_BI+9,EP_Decantation!$L$16:$L$25)))","v":0}]
["Eau potable ","Installation de production","Stations mécanisées",{"$f":"IF(Identification!$H$63=\"\",\"\",Identification!$H$63)","v":""},"Décantation/Flottation","Mécanique",{"$f":"EP_Decantation!$B$40","v":""},0,{"$f":"IFERROR(J11/SUM($J10:$J13),0)","v":0},{"$f":"EP_Decantation!$I$40","v":0},{"$f":"EP_Decantation!$G$40","v":""},{"$f":"EP_Decantation!$E$40","v":""},{"$f":"EP_Decantation!$F$40","v":""},{"$f":"EP_Decantation!$J$40-SUMIFS(EP_Decantation!$J$30:$J$39,EP_Decantation!$E$30:$E$39,\"<4\",EP_Decantation!$F$30:$F$39,\"<4\")","v":0},{"$f":"SUMIFS(EP_Decantation!$J$30:$J$39,EP_Decantation!$E$30:$E$39,\"<4\",EP_Decantation!$F$30:$F$39,\"<4\",EP_Decantation!$L$30:$L$39,\">=\"&Annee_BI,EP_Decantation!$L$30:$L$39,\"<=\"&Annee_BI+4)","v":0},{"$f":"MIN(IF(EP_Decantation!$L$30:$L$39>=Annee_BI,IF(EP_Decantation!$L$30:$L$39<=Annee_BI+4,EP_Decantation!$L$30:$L$39)))","v":0},{"$f":"MAX(IF(EP_Decantation!$L$30:$L$39>=Annee_BI,IF(EP_Decantation!$L$30:$L$39<=Annee_BI+4,EP_Decantation!$L$30:$L$39)))","v":0},{"$f":"SUMIFS(EP_Decantation!$J$30:$J$39,EP_Decantation!$E$30:$E$39,\"<4\",EP_Decantation!$F$30:$F$39,\"<4\",EP_Decantation!$L$30:$L$39,\">=\"&Annee_BI+5,EP_Decantation!$L$30:$L$39,\"<=\"&Annee_BI+9)","v":0},{"$f":"MIN(IF(EP_Decantation!$L$30:$L$39>=Annee_BI+5,IF(EP_Decantation!$L$30:$L$39<=Annee_BI+9,EP_Decantation!$L$30:$L$39)))","v":0},{"$f":"MAX(IF(EP_Decantation!$L$30:$L$39>=Annee_BI+5,IF(EP_Decantation!$L$30:$L$39<=Annee_BI+9,EP_Decantation!$L$30:$L$39)))","v":0}]
["Eau potable ","Installation de production","Stations mécanisées",{"$f":"IF(Identification!$H$63=\"\",\"\",Identification!$H$63)","v":""},"Décantation/Flottation","Électricité",{"$f":"EP_Decantation!$B$54","v":""},0,{"$f":"IFERROR(J12/SUM($J10:$J13),0)","v":0},{"$f":"EP_Decantation!$I$54","v":0},{"$f":"EP_Decantation!$G$54","v":""},{"$f":"EP_Decantation!$E$54","v":""},{"$f":"EP_Decantation!$F$54","v":""},{"$f":"EP_Decantation!$J$54-SUMIFS(EP_Decantation!$J$44:$J$53,EP_Decantation!$E$44:$E$53,\"<4\",EP_Decantation!$F$44:$F$53,\"<4\")","v":0},{"$f":"SUMIFS(EP_Decantation!$J$44:$J$53,EP_Decantation!$E$44:$E$53,\"<4\",EP_Decantation!$F$44:$F$53,\"<4\",EP_Decantation!$L$44:$L$53,\">=\"&Annee_BI,EP_Decantation!$L$44:$L$53,\"<=\"&Annee_BI+4)","v":0},{"$f":"MIN(IF(EP_Decantation!$L$44:$L$53>=Annee_BI,IF(EP_Decantation!$L$44:$L$53<=Annee_BI+4,EP_Decantation!$L$44:$L$53)))","v":0},{"$f":"MAX(IF(EP_Decantation!$L$44:$L$53>=Annee_BI,IF(EP_Decantation!$L$44:$L$53<=Annee_BI+4,EP_Decantation!$L$44:$L$53)))","v":0},{"$f":"SUMIFS(EP_Decantation!$J$44:$J$53,EP_Decantation!$E$44:$E$53,\"<4\",EP_Decantation!$F$44:$F$53,\"<4\",EP_Decantation!$L$44:$L$53,\">=\"&Annee_BI+5,EP_Decantation!$L$44:$L$53,\"<=\"&Annee_BI+9)","v":0},{"$f":"MIN(IF(EP_Decantation!$L$44:$L$53>=Annee_BI+5,IF(EP_Decantation!$L$44:$L$53<=Annee_BI+9,EP_Decantation!$L$44:$L$53)))","v":0},{"$f":"MAX(IF(EP_Decantation!$L$44:$L$53>=Annee_BI+5,IF(EP_Decantation!$L$44:$L$53<=Annee_BI+9,EP_Decantation!$L$44:$L$53)))","v":0}]
["Eau potable ","Installation de production","Stations mécanisées",{"$f":"IF(Identification!$H$63=\"\",\"\",Identification!$H$63)","v":""},"Décantation/Flottation","Instrumentation et contrôle",{"$f":"EP_Decantation!$B$68","v":""},0,{"$f":"IFERROR(J13/SUM($J10:$J13),0)","v":0},{"$f":"EP_Decantation!$I$68","v":0},{"$f":"EP_Decantation!$G$68","v":""},{"$f":"EP_Decantation!$E$68","v":""},{"$f":"EP_Decantation!$F$68","v":""},{"$f":"EP_Decantation!$J$68-SUMIFS(EP_Decantation!$J$58:$J$67,EP_Decantation!$E$58:$E$67,\"<4\",EP_Decantation!$F$58:$F$67,\"<4\")","v":0},{"$f":"SUMIFS(EP_Decantation!$J$58:$J$67,EP_Decantation!$E$58:$E$67,\"<4\",EP_Decantation!$F$58:$F$67,\"<4\",EP_Decantation!$L$58:$L$67,\">=\"&Annee_BI,EP_Decantation!$L$58:$L$67,\"<=\"&Annee_BI+4)","v":0},{"$f":"MIN(IF(EP_Decantation!$L$58:$L$67>=Annee_BI,IF(EP_Decantation!$L$58:$L$67<=Annee_BI+4,EP_Decantation!$L$58:$L$67)))","v":0},{"$f":"MAX(IF(EP_Decantation!$L$58:$L$67>=Annee_BI,IF(EP_Decantation!$L$58:$L$67<=Annee_BI+4,EP_Decantation!$L$58:$L$67)))","v":0},{"$f":"SUMIFS(EP_Decantation!$J$58:$J$67,EP_Decantation!$E$58:$E$67,\"<4\",EP_Decantation!$F$58:$F$67,\"<4\",EP_Decantation!$L$58:$L$67,\">=\"&Annee_BI+5,EP_Decantation!$L$58:$L$67,\"<=\"&Annee_BI+9)","v":0},{"$f":"MIN(IF(EP_Decantation!$L$58:$L$67>=Annee_BI+5,IF(EP_Decantation!$L$58:$L$67<=Annee_BI+9,EP_Decantation!$L$58:$L$67)))","v":0},{"$f":"MAX(IF(EP_Decantation!$L$58:$L$67>=Annee_BI+5,IF(EP_Decantation!$L$58:$L$67<=Annee_BI+9,EP_Decantation!$L$58:$L$67)))","v":0}]
["Eau potable ","Installation de production","Stations mécanisées",{"$f":"IF(Identification!$H$63=\"\",\"\",Identification!$H$63)","v":""},"Filtration","Civil",{"$f":"EP_Filtration!$B$26","v":""},{"$f":"IF(G14<>\"\",1,0)","v":0},{"$f":"IFERROR(J14/SUM($J14:$J17),0)","v":0},{"$f":"EP_Filtration!$I$26","v":0},{"$f":"EP_Filtration!$G$26","v":""},{"$f":"EP_Filtration!$E$26","v":""},{"$f":"EP_Filtration!$F$26","v":""},{"$f":"EP_Filtration!$J$26-SUMIFS(EP_Filtration!$J$16:$J$25,EP_Filtration!$E$16:$E$25,\"<4\",EP_Filtration!$F$16:$F$25,\"<4\")","v":0},{"$f":"SUMIFS(EP_Filtration!$J$16:$J$25,EP_Filtration!$E$16:$E$25,\"<4\",EP_Filtration!$F$16:$F$25,\"<4\",EP_Filtration!$L$16:$L$25,\">=\"&Annee_BI,EP_Filtration!$L$16:$L$25,\"<=\"&Annee_BI+4)","v":0},{"$f":"MIN(IF(EP_Filtration!$L$16:$L$25>=Annee_BI,IF(EP_Filtration!$L$16:$L$25<=Annee_BI+4,EP_Filtration!$L$16:$L$25)))","v":0},{"$f":"MAX(IF(EP_Filtration!$L$16:$L$25>=Annee_BI,IF(EP_Filtration!$L$16:$L$25<=Annee_BI+4,EP_Filtration!$L$16:$L$25)))","v":0},{"$f":"SUMIFS(EP_Filtration!$J$16:$J$25,EP_Filtration!$E$16:$E$25,\"<4\",EP_Filtration!$F$16:$F$25,\"<4\",EP_Filtration!$L$16:$L$25,\">=\"&Annee_BI+5,EP_Filtration!$L$16:$L$25,\"<=\"&Annee_BI+9)","v":0},{"$f":"MIN(IF(EP_Filtration!$L$16:$L$25>=Annee_BI+5,IF(EP_Filtration!$L$16:$L$25<=Annee_BI+9,EP_Filtration!$L$16:$L$25)))","v":0},{"$f":"MAX(IF(EP_Filtration!$L$16:$L$25>=Annee_BI+5,IF(EP_Filtration!$L$16:$L$25<=Annee_BI+9,EP_Filtration!$L$16:$L$25)))","v":0}]
["Eau potable ","Installation de production","Stations mécanisées",{"$f":"IF(Identification!$H$63=\"\",\"\",Identification!$H$63)","v":""},"Filtration","Mécanique",{"$f":"EP_Filtration!$B$40","v":""},0,{"$f":"IFERROR(J15/SUM($J14:$J17),0)","v":0},{"$f":"EP_Filtration!$I$40","v":0},{"$f":"EP_Filtration!$G$40","v":""},{"$f":"EP_Filtration!$E$40","v":""},{"$f":"EP_Filtration!$F$40","v":""},{"$f":"EP_Filtration!$J$40-SUMIFS(EP_Filtration!$J$30:$J$39,EP_Filtration!$E$30:$E$39,\"<4\",EP_Filtration!$F$30:$F$39,\"<4\")","v":0},{"$f":"SUMIFS(EP_Filtration!$J$30:$J$39,EP_Filtration!$E$30:$E$39,\"<4\",EP_Filtration!$F$30:$F$39,\"<4\",EP_Filtration!$L$30:$L$39,\">=\"&Annee_BI,EP_Filtration!$L$30:$L$39,\"<=\"&Annee_BI+4)","v":0},{"$f":"MIN(IF(EP_Filtration!$L$30:$L$39>=Annee_BI,IF(EP_Filtration!$L$30:$L$39<=Annee_BI+4,EP_Filtration!$L$30:$L$39)))","v":0},{"$f":"MAX(IF(EP_Filtration!$L$30:$L$39>=Annee_BI,IF(EP_Filtration!$L$30:$L$39<=Annee_BI+4,EP_Filtration!$L$30:$L$39)))","v":0},{"$f":"SUMIFS(EP_Filtration!$J$30:$J$39,EP_Filtration!$E$30:$E$39,\"<4\",EP_Filtration!$F$30:$F$39,\"<4\",EP_Filtration!$L$30:$L$39,\">=\"&Annee_BI+5,EP_Filtration!$L$30:$L$39,\"<=\"&Annee_BI+9)","v":0},{"$f":"MIN(IF(EP_Filtration!$L$30:$L$39>=Annee_BI+5,IF(EP_Filtration!$L$30:$L$39<=Annee_BI+9,EP_Filtration!$L$30:$L$39)))","v":0},{"$f":"MAX(IF(EP_Filtration!$L$30:$L$39>=Annee_BI+5,IF(EP_Filtration!$L$30:$L$39<=Annee_BI+9,EP_Filtration!$L$30:$L$39)))","v":0}]
["Eau potable ","Installation de production","Stations mécanisées",{"$f":"IF(Identification!$H$63=\"\",\"\",Identification!$H$63)","v":""},"Filtration","Électricité",{"$f":"EP_Filtration!$B$54","v":""},0,{"$f":"IFERROR(J16/SUM($J14:$J17),0)","v":0},{"$f":"EP_Filtration!$I$54","v":0},{"$f":"EP_Filtration!$G$54","v":""},{"$f":"EP_Filtration!$E$54","v":""},{"$f":"EP_Filtration!$F$54","v":""},{"$f":"EP_Filtration!$J$54-SUMIFS(EP_Filtration!$J$44:$J$53,EP_Filtration!$E$44:$E$53,\"<4\",EP_Filtration!$F$44:$F$53,\"<4\")","v":0},{"$f":"SUMIFS(EP_Filtration!$J$44:$J$53,EP_Filtration!$E$44:$E$53,\"<4\",EP_Filtration!$F$44:$F$53,\"<4\",EP_Filtration!$L$44:$L$53,\">=\"&Annee_BI,EP_Filtration!$L$44:$L$53,\"<=\"&Annee_BI+4)","v":0},{"$f":"MIN(IF(EP_Filtration!$L$44:$L$53>=Annee_BI,IF(EP_Filtration!$L$44:$L$53<=Annee_BI+4,EP_Filtration!$L$44:$L$53)))","v":0},{"$f":"MAX(IF(EP_Filtration!$L$44:$L$53>=Annee_BI,IF(EP_Filtration!$L$44:$L$53<=Annee_BI+4,EP_Filtration!$L$44:$L$53)))","v":0},{"$f":"SUMIFS(EP_Filtration!$J$44:$J$53,EP_Filtration!$E$44:$E$53,\"<4\",EP_Filtration!$F$44:$F$53,\"<4\",EP_Filtration!$L$44:$L$53,\">=\"&Annee_BI+5,EP_Filtration!$L$44:$L$53,\"<=\"&Annee_BI+9)","v":0},{"$f":"MIN(IF(EP_Filtration!$L$44:$L$53>=Annee_BI+5,IF(EP_Filtration!$L$44:$L$53<=Annee_BI+9,EP_Filtration!$L$44:$L$53)))","v":0},{"$f":"MAX(IF(EP_Filtration!$L$44:$L$53>=Annee_BI+5,IF(EP_Filtration!$L$44:$L$53<=Annee_BI+9,EP_Filtration!$L$44:$L$53)))","v":0}]
["Eau potable ","Installation de production","Stations mécanisées",{"$f":"IF(Identification!$H$63=\"\",\"\",Identification!$H$63)","v":""},"Filtration","Instrumentation et contrôle",{"$f":"EP_Filtration!$B$68","v":""},0,{"$f":"IFERROR(J17/SUM($J14:$J17),0)","v":0},{"$f":"EP_Filtration!$I$68","v":0},{"$f":"EP_Filtration!$G$68","v":""},{"$f":"EP_Filtration!$E$68","v":""},{"$f":"EP_Filtration!$F$68","v":""},{"$f":"EP_Filtration!$J$68-SUMIFS(EP_Filtration!$J$58:$J$67,EP_Filtration!$E$58:$E$67,\"<4\",EP_Filtration!$F$58:$F$67,\"<4\")","v":0},{"$f":"SUMIFS(EP_Filtration!$J$58:$J$67,EP_Filtration!$E$58:$E$67,\"<4\",EP_Filtration!$F$58:$F$67,\"<4\",EP_Filtration!$L$58:$L$67,\">=\"&Annee_BI,EP_Filtration!$L$58:$L$67,\"<=\"&Annee_BI+4)","v":0},{"$f":"MIN(IF(EP_Filtration!$L$58:$L$67>=Annee_BI,IF(EP_Filtration!$L$58:$L$67<=Annee_BI+4,EP_Filtration!$L$58:$L$67)))","v":0},{"$f":"MAX(IF(EP_Filtration!$L$58:$L$67>=Annee_BI,IF(EP_Filtration!$L$58:$L$67<=Annee_BI+4,EP_Filtration!$L$58:$L$67)))","v":0},{"$f":"SUMIFS(EP_Filtration!$J$58:$J$67,EP_Filtration!$E$58:$E$67,\"<4\",EP_Filtration!$F$58:$F$67,\"<4\",EP_Filtration!$L$58:$L$67,\">=\"&Annee_BI+5,EP_Filtration!$L$58:$L$67,\"<=\"&Annee_BI+9)","v":0},{"$f":"MIN(IF(EP_Filtration!$L$58:$L$67>=Annee_BI+5,IF(EP_Filtration!$L$58:$L$67<=Annee_BI+9,EP_Filtration!$L$58:$L$67)))","v":0},{"$f":"MAX(IF(EP_Filtration!$L$58:$L$67>=Annee_BI+5,IF(EP_Filtration!$L$58:$L$67<=Annee_BI+9,EP_Filtration!$L$58:$L$67)))","v":0}]
["Eau potable ","Installation de production","Stations mécanisées",{"$f":"IF(Identification!$H$63=\"\",\"\",Identification!$H$63)","v":""},"Désinfection (Chloration)","Civil",{"$f":"EP_Desinfection_CHLO!$B$26","v":""},{"$f":"IF(G18<>\"\",1,0)","v":0},{"$f":"IFERROR(J18/SUM($J18:$J21),0)","v":0},{"$f":"EP_Desinfection_CHLO!$I$26","v":0},{"$f":"EP_Desinfection_CHLO!$G$26","v":""},{"$f":"EP_Desinfection_CHLO!$E$26","v":""},{"$f":"EP_Desinfection_CHLO!$F$26","v":""},{"$f":"EP_Desinfection_CHLO!$J$26-SUMIFS(EP_Desinfection_CHLO!$J$16:$J$25,EP_Desinfection_CHLO!$E$16:$E$25,\"<4\",EP_Desinfection_CHLO!$F$16:$F$25,\"<4\")","v":0},{"$f":"SUMIFS(EP_Desinfection_CHLO!$J$16:$J$25,EP_Desinfection_CHLO!$E$16:$E$25,\"<4\",EP_Desinfection_CHLO!$F$16:$F$25,\"<4\",EP_Desinfection_CHLO!$L$16:$L$25,\">=\"&Annee_BI,EP_Desinfection_CHLO!$L$16:$L$25,\"<=\"&Annee_BI+4)","v":0},{"$f":"MIN(IF(EP_Desinfection_CHLO!$L$16:$L$25>=Annee_BI,IF(EP_Desinfection_CHLO!$L$16:$L$25<=Annee_BI+4,EP_Desinfection_CHLO!$L$16:$L$25)))","v":0},{"$f":"MAX(IF(EP_Desinfection_CHLO!$L$16:$L$25>=Annee_BI,IF(EP_Desinfection_CHLO!$L$16:$L$25<=Annee_BI+4,EP_Desinfection_CHLO!$L$16:$L$25)))","v":0},{"$f":"SUMIFS(EP_Desinfection_CHLO!$J$16:$J$25,EP_Desinfection_CHLO!$E$16:$E$25,\"<4\",EP_Desinfection_CHLO!$F$16:$F$25,\"<4\",EP_Desinfection_CHLO!$L$16:$L$25,\">=\"&Annee_BI+5,EP_Desinfection_CHLO!$L$16:$L$25,\"<=\"&Annee_BI+9)","v":0},{"$f":"MIN(IF(EP_Desinfection_CHLO!$L$16:$L$25>=Annee_BI+5,IF(EP_Desinfection_CHLO!$L$16:$L$25<=Annee_BI+9,EP_Desinfection_CHLO!$L$16:$L$25)))","v":0},{"$f":"MAX(IF(EP_Desinfection_CHLO!$L$16:$L$25>=Annee_BI+5,IF(EP_Desinfection_CHLO!$L$16:$L$25<=Annee_BI+9,EP_Desinfection_CHLO!$L$16:$L$25)))","v":0}]
["Eau potable ","Installation de production","Stations mécanisées",{"$f":"IF(Identification!$H$63=\"\",\"\",Identification!$H$63)","v":""},"Désinfection (Chloration)","Mécanique",{"$f":"EP_Desinfection_CHLO!$B$40","v":""},0,{"$f":"IFERROR(J19/SUM($J18:$J21),0)","v":0},{"$f":"EP_Desinfection_CHLO!$I$40","v":0},{"$f":"EP_Desinfection_CHLO!$G$40","v":""},{"$f":"EP_Desinfection_CHLO!$E$40","v":""},{"$f":"EP_Desinfection_CHLO!$F$40","v":""},{"$f":"EP_Desinfection_CHLO!$J$40-SUMIFS(EP_Desinfection_CHLO!$J$30:$J$39,EP_Desinfection_CHLO!$E$30:$E$39,\"<4\",EP_Desinfection_CHLO!$F$30:$F$39,\"<4\")","v":0},{"$f":"SUMIFS(EP_Desinfection_CHLO!$J$30:$J$39,EP_Desinfection_CHLO!$E$30:$E$39,\"<4\",EP_Desinfection_CHLO!$F$30:$F$39,\"<4\",EP_Desinfection_CHLO!$L$30:$L$39,\">=\"&Annee_BI,EP_Desinfection_CHLO!$L$30:$L$39,\"<=\"&Annee_BI+4)","v":0},{"$f":"MIN(IF(EP_Desinfection_CHLO!$L$30:$L$39>=Annee_BI,IF(EP_Desinfection_CHLO!$L$30:$L$39<=Annee_BI+4,EP_Desinfection_CHLO!$L$30:$L$39)))","v":0},{"$f":"MAX(IF(EP_Desinfection_CHLO!$L$30:$L$39>=Annee_BI,IF(EP_Desinfection_CHLO!$L$30:$L$39<=Annee_BI+4,EP_Desinfection_CHLO!$L$30:$L$39)))","v":0},{"$f":"SUMIFS(EP_Desinfection_CHLO!$J$30:$J$39,EP_Desinfection_CHLO!$E$30:$E$39,\"<4\",EP_Desinfection_CHLO!$F$30:$F$39,\"<4\",EP_Desinfection_CHLO!$L$30:$L$39,\">=\"&Annee_BI+5,EP_Desinfection_CHLO!$L$30:$L$39,\"<=\"&Annee_BI+9)","v":0},{"$f":"MIN(IF(EP_Desinfection_CHLO!$L$30:$L$39>=Annee_BI+5,IF(EP_Desinfection_CHLO!$L$30:$L$39<=Annee_BI+9,EP_Desinfection_CHLO!$L$30:$L$39)))","v":0},{"$f":"MAX(IF(EP_Desinfection_CHLO!$L$30:$L$39>=Annee_BI+5,IF(EP_Desinfection_CHLO!$L$30:$L$39<=Annee_BI+9,EP_Desinfection_CHLO!$L$30:$L$39)))","v":0}]
["Eau potable ","Installation de production","Stations mécanisées",{"$f":"IF(Identification!$H$63=\"\",\"\",Identification!$H$63)","v":""},"Désinfection (Chloration)","Électricité",{"$f":"EP_Desinfection_CHLO!$B$54","v":""},0,{"$f":"IFERROR(J20/SUM($J18:$J21),0)","v":0},{"$f":"EP_Desinfection_CHLO!$I$54","v":0},{"$f":"EP_Desinfection_CHLO!$G$54","v":""},{"$f":"EP_Desinfection_CHLO!$E$54","v":""},{"$f":"EP_Desinfection_CHLO!$F$54","v":""},{"$f":"EP_Desinfection_CHLO!$J$54-SUMIFS(EP_Desinfection_CHLO!$J$44:$J$53,EP_Desinfection_CHLO!$E$44:$E$53,\"<4\",EP_Desinfection_CHLO!$F$44:$F$53,\"<4\")","v":0},{"$f":"SUMIFS(EP_Desinfection_CHLO!$J$44:$J$53,EP_Desinfection_CHLO!$E$44:$E$53,\"<4\",EP_Desinfection_CHLO!$F$44:$F$53,\"<4\",EP_Desinfection_CHLO!$L$44:$L$53,\">=\"&Annee_BI,EP_Desinfection_CHLO!$L$44:$L$53,\"<=\"&Annee_BI+4)","v":0},{"$f":"MIN(IF(EP_Desinfection_CHLO!$L$44:$L$53>=Annee_BI,IF(EP_Desinfection_CHLO!$L$44:$L$53<=Annee_BI+4,EP_Desinfection_CHLO!$L$44:$L$53)))","v":0},{"$f":"MAX(IF(EP_Desinfection_CHLO!$L$44:$L$53>=Annee_BI,IF(EP_Desinfection_CHLO!$L$44:$L$53<=Annee_BI+4,EP_Desinfection_CHLO!$L$44:$L$53)))","v":0},{"$f":"SUMIFS(EP_Desinfection_CHLO!$J$44:$J$53,EP_Desinfection_CHLO!$E$44:$E$53,\"<4\",EP_Desinfection_CHLO!$F$44:$F$53,\"<4\",EP_Desinfection_CHLO!$L$44:$L$53,\">=\"&Annee_BI+5,EP_Desinfection_CHLO!$L$44:$L$53,\"<=\"&Annee_BI+9)","v":0},{"$f":"MIN(IF(EP_Desinfection_CHLO!$L$44:$L$53>=Annee_BI+5,IF(EP_Desinfection_CHLO!$L$44:$L$53<=Annee_BI+9,EP_Desinfection_CHLO!$L$44:$L$53)))","v":0},{"$f":"MAX(IF(EP_Desinfection_CHLO!$L$44:$L$53>=Annee_BI+5,IF(EP_Desinfection_CHLO!$L$44:$L$53<=Annee_BI+9,EP_Desinfection_CHLO!$L$44:$L$53)))","v":0}]
["Eau potable ","Installation de production","Stations mécanisées",{"$f":"IF(Identification!$H$63=\"\",\"\",Identification!$H$63)","v":""},"Désinfection (Chloration)","Instrumentation et contrôle",{"$f":"EP_Desinfection_CHLO!$B$68","v":""},0,{"$f":"IFERROR(J21/SUM($J18:$J21),0)","v":0},{"$f":"EP_Desinfection_CHLO!$I$68","v":0},{"$f":"EP_Desinfection_CHLO!$G$68","v":""},{"$f":"EP_Desinfection_CHLO!$E$68","v":""},{"$f":"EP_Desinfection_CHLO!$F$68","v":""},{"$f":"EP_Desinfection_CHLO!$J$68-SUMIFS(EP_Desinfection_CHLO!$J$58:$J$67,EP_Desinfection_CHLO!$E$58:$E$67,\"<4\",EP_Desinfection_CHLO!$F$58:$F$67,\"<4\")","v":0},{"$f":"SUMIFS(EP_Desinfection_CHLO!$J$58:$J$67,EP_Desinfection_CHLO!$E$58:$E$67,\"<4\",EP_Desinfection_CHLO!$F$58:$F$67,\"<4\",EP_Desinfection_CHLO!$L$58:$L$67,\">=\"&Annee_BI,EP_Desinfection_CHLO!$L$58:$L$67,\"<=\"&Annee_BI+4)","v":0},{"$f":"MIN(IF(EP_Desinfection_CHLO!$L$58:$L$67>=Annee_BI,IF(EP_Desinfection_CHLO!$L$58:$L$67<=Annee_BI+4,EP_Desinfection_CHLO!$L$58:$L$67)))","v":0},{"$f":"MAX(IF(EP_Desinfection_CHLO!$L$58:$L$67>=Annee_BI,IF(EP_Desinfection_CHLO!$L$58:$L$67<=Annee_BI+4,EP_Desinfection_CHLO!$L$58:$L$67)))","v":0},{"$f":"SUMIFS(EP_Desinfection_CHLO!$J$58:$J$67,EP_Desinfection_CHLO!$E$58:$E$67,\"<4\",EP_Desinfection_CHLO!$F$58:$F$67,\"<4\",EP_Desinfection_CHLO!$L$58:$L$67,\">=\"&Annee_BI+5,EP_Desinfection_CHLO!$L$58:$L$67,\"<=\"&Annee_BI+9)","v":0},{"$f":"MIN(IF(EP_Desinfection_CHLO!$L$58:$L$67>=Annee_BI+5,IF(EP_Desinfection_CHLO!$L$58:$L$67<=Annee_BI+9,EP_Desinfection_CHLO!$L$58:$L$67)))","v":0},{"$f":"MAX(IF(EP_Desinfection_CHLO!$L$58:$L$67>=Annee_BI+5,IF(EP_Desinfection_CHLO!$L$58:$L$67<=Annee_BI+9,EP_Desinfection_CHLO!$L$58:$L$67)))","v":0}]
["Eau potable ","Installation de production","Stations mécanisées",{"$f":"IF(Identification!$H$63=\"\",\"\",Identification!$H$63)","v":""},"Ozonation","Civil",{"$f":"EP_OZONATION!$B$26","v":""},{"$f":"IF(G22<>\"\",1,0)","v":0},{"$f":"IFERROR(J22/SUM($J22:$J25),0)","v":0},{"$f":"EP_OZONATION!$I$26","v":0},{"$f":"EP_OZONATION!$G$26","v":""},{"$f":"EP_OZONATION!$E$26","v":""},{"$f":"EP_OZONATION!$F$26","v":""},{"$f":"EP_OZONATION!$J$26-SUMIFS(EP_OZONATION!$J$16:$J$25,EP_OZONATION!$E$16:$E$25,\"<4\",EP_OZONATION!$F$16:$F$25,\"<4\")","v":0},{"$f":"SUMIFS(EP_OZONATION!$J$16:$J$25,EP_OZONATION!$E$16:$E$25,\"<4\",EP_OZONATION!$F$16:$F$25,\"<4\",EP_OZONATION!$L$16:$L$25,\">=\"&Annee_BI,EP_OZONATION!$L$16:$L$25,\"<=\"&Annee_BI+4)","v":0},{"$f":"MIN(IF(EP_OZONATION!$L$16:$L$25>=Annee_BI,IF(EP_OZONATION!$L$16:$L$25<=Annee_BI+4,EP_OZONATION!$L$16:$L$25)))","v":0},{"$f":"MAX(IF(EP_OZONATION!$L$16:$L$25>=Annee_BI,IF(EP_OZONATION!$L$16:$L$25<=Annee_BI+4,EP_OZONATION!$L$16:$L$25)))","v":0},{"$f":"SUMIFS(EP_OZONATION!$J$16:$J$25,EP_OZONATION!$E$16:$E$25,\"<4\",EP_OZONATION!$F$16:$F$25,\"<4\",EP_OZONATION!$L$16:$L$25,\">=\"&Annee_BI+5,EP_OZONATION!$L$16:$L$25,\"<=\"&Annee_BI+9)","v":0},{"$f":"MIN(IF(EP_OZONATION!$L$16:$L$25>=Annee_BI+5,IF(EP_OZONATION!$L$16:$L$25<=Annee_BI+9,EP_OZONATION!$L$16:$L$25)))","v":0},{"$f":"MAX(IF(EP_OZONATION!$L$16:$L$25>=Annee_BI+5,IF(EP_OZONATION!$L$16:$L$25<=Annee_BI+9,EP_OZONATION!$L$16:$L$25)))","v":0}]
["Eau potable ","Installation de production","Stations mécanisées",{"$f":"IF(Identification!$H$63=\"\",\"\",Identification!$H$63)","v":""},"Ozonation","Mécanique",{"$f":"EP_OZONATION!$B$40","v":""},0,{"$f":"IFERROR(J23/SUM($J22:$J25),0)","v":0},{"$f":"EP_OZONATION!$I$40","v":0},{"$f":"EP_OZONATION!$G$40","v":""},{"$f":"EP_OZONATION!$E$40","v":""},{"$f":"EP_OZONATION!$F$40","v":""},{"$f":"EP_OZONATION!$J$40-SUMIFS(EP_OZONATION!$J$30:$J$39,EP_OZONATION!$E$30:$E$39,\"<4\",EP_OZONATION!$F$30:$F$39,\"<4\")","v":0},{"$f":"SUMIFS(EP_OZONATION!$J$30:$J$39,EP_OZONATION!$E$30:$E$39,\"<4\",EP_OZONATION!$F$30:$F$39,\"<4\",EP_OZONATION!$L$30:$L$39,\">=\"&Annee_BI,EP_OZONATION!$L$30:$L$39,\"<=\"&Annee_BI+4)","v":0},{"$f":"MIN(IF(EP_OZONATION!$L$30:$L$39>=Annee_BI,IF(EP_OZONATION!$L$30:$L$39<=Annee_BI+4,EP_OZONATION!$L$30:$L$39)))","v":0},{"$f":"MAX(IF(EP_OZONATION!$L$30:$L$39>=Annee_BI,IF(EP_OZONATION!$L$30:$L$39<=Annee_BI+4,EP_OZONATION!$L$30:$L$39)))","v":0},{"$f":"SUMIFS(EP_OZONATION!$J$30:$J$39,EP_OZONATION!$E$30:$E$39,\"<4\",EP_OZONATION!$F$30:$F$39,\"<4\",EP_OZONATION!$L$30:$L$39,\">=\"&Annee_BI+5,EP_OZONATION!$L$30:$L$39,\"<=\"&Annee_BI+9)","v":0},{"$f":"MIN(IF(EP_OZONATION!$L$30:$L$39>=Annee_BI+5,IF(EP_OZONATION!$L$30:$L$39<=Annee_BI+9,EP_OZONATION!$L$30:$L$39)))","v":0},{"$f":"MAX(IF(EP_OZONATION!$L$30:$L$39>=Annee_BI+5,IF(EP_OZONATION!$L$30:$L$39<=Annee_BI+9,EP_OZONATION!$L$30:$L$39)))","v":0}]
["Eau potable ","Installation de production","Stations mécanisées",{"$f":"IF(Identification!$H$63=\"\",\"\",Identification!$H$63)","v":""},"Ozonation","Électricité",{"$f":"EP_OZONATION!$B$54","v":""},0,{"$f":"IFERROR(J24/SUM($J22:$J25),0)","v":0},{"$f":"EP_OZONATION!$I$54","v":0},{"$f":"EP_OZONATION!$G$54","v":""},{"$f":"EP_OZONATION!$E$54","v":""},{"$f":"EP_OZONATION!$F$54","v":""},{"$f":"EP_OZONATION!$J$54-SUMIFS(EP_OZONATION!$J$44:$J$53,EP_OZONATION!$E$44:$E$53,\"<4\",EP_OZONATION!$F$44:$F$53,\"<4\")","v":0},{"$f":"SUMIFS(EP_OZONATION!$J$44:$J$53,EP_OZONATION!$E$44:$E$53,\"<4\",EP_OZONATION!$F$44:$F$53,\"<4\",EP_OZONATION!$L$44:$L$53,\">=\"&Annee_BI,EP_OZONATION!$L$44:$L$53,\"<=\"&Annee_BI+4)","v":0},{"$f":"MIN(IF(EP_OZONATION!$L$44:$L$53>=Annee_BI,IF(EP_OZONATION!$L$44:$L$53<=Annee_BI+4,EP_OZONATION!$L$44:$L$53)))","v":0},{"$f":"MAX(IF(EP_OZONATION!$L$44:$L$53>=Annee_BI,IF(EP_OZONATION!$L$44:$L$53<=Annee_BI+4,EP_OZONATION!$L$44:$L$53)))","v":0},{"$f":"SUMIFS(EP_OZONATION!$J$44:$J$53,EP_OZONATION!$E$44:$E$53,\"<4\",EP_OZONATION!$F$44:$F$53,\"<4\",EP_OZONATION!$L$44:$L$53,\">=\"&Annee_BI+5,EP_OZONATION!$L$44:$L$53,\"<=\"&Annee_BI+9)","v":0},{"$f":"MIN(IF(EP_OZONATION!$L$44:$L$53>=Annee_BI+5,IF(EP_OZONATION!$L$44:$L$53<=Annee_BI+9,EP_OZONATION!$L$44:$L$53)))","v":0},{"$f":"MAX(IF(EP_OZONATION!$L$44:$L$53>=Annee_BI+5,IF(EP_OZONATION!$L$44:$L$53<=Annee_BI+9,EP_OZONATION!$L$44:$L$53)))","v":0}]
["Eau potable ","Installation de production","Stations mécanisées",{"$f":"IF(Identification!$H$63=\"\",\"\",Identification!$H$63)","v":""},"Ozonation","Instrumentation et contrôle",{"$f":"EP_OZONATION!$B$68","v":""},0,{"$f":"IFERROR(J25/SUM($J22:$J25),0)","v":0},{"$f":"EP_OZONATION!$I$68","v":0},{"$f":"EP_OZONATION!$G$68","v":""},{"$f":"EP_OZONATION!$E$68","v":""},{"$f":"EP_OZONATION!$F$68","v":""},{"$f":"EP_OZONATION!$J$68-SUMIFS(EP_OZONATION!$J$58:$J$67,EP_OZONATION!$E$58:$E$67,\"<4\",EP_OZONATION!$F$58:$F$67,\"<4\")","v":0},{"$f":"SUMIFS(EP_OZONATION!$J$58:$J$67,EP_OZONATION!$E$58:$E$67,\"<4\",EP_OZONATION!$F$58:$F$67,\"<4\",EP_OZONATION!$L$58:$L$67,\">=\"&Annee_BI,EP_OZONATION!$L$58:$L$67,\"<=\"&Annee_BI+4)","v":0},{"$f":"MIN(IF(EP_OZONATION!$L$58:$L$67>=Annee_BI,IF(EP_OZONATION!$L$58:$L$67<=Annee_BI+4,EP_OZONATION!$L$58:$L$67)))","v":0},{"$f":"MAX(IF(EP_OZONATION!$L$58:$L$67>=Annee_BI,IF(EP_OZONATION!$L$58:$L$67<=Annee_BI+4,EP_OZONATION!$L$58:$L$67)))","v":0},{"$f":"SUMIFS(EP_OZONATION!$J$58:$J$67,EP_OZONATION!$E$58:$E$67,\"<4\",EP_OZONATION!$F$58:$F$67,\"<4\",EP_OZONATION!$L$58:$L$67,\">=\"&Annee_BI+5,EP_OZONATION!$L$58:$L$67,\"<=\"&Annee_BI+9)","v":0},{"$f":"MIN(IF(EP_OZONATION!$L$58:$L$67>=Annee_BI+5,IF(EP_OZONATION!$L$58:$L$67<=Annee_BI+9,EP_OZONATION!$L$58:$L$67)))","v":0},{"$f":"MAX(IF(EP_OZONATION!$L$58:$L$67>=Annee_BI+5,IF(EP_OZONATION!$L$58:$L$67<=Annee_BI+9,EP_OZONATION!$L$58:$L$67)))","v":0}]
["Eau potable ","Installation de production","Stations mécanisées",{"$f":"IF(Identification!$H$63=\"\",\"\",Identification!$H$63)","v":""},"Désinfection (U.V.)","Civil",{"$f":"EP_Desinfection_UV!$B$26","v":""},{"$f":"IF(G26<>\"\",1,0)","v":0},{"$f":"IFERROR(J26/SUM($J26:$J29),0)","v":0},{"$f":"EP_Desinfection_UV!$I$26","v":0},{"$f":"EP_Desinfection_UV!$G$26","v":""},{"$f":"EP_Desinfection_UV!$E$26","v":""},{"$f":"EP_Desinfection_UV!$F$26","v":""},{"$f":"EP_Desinfection_UV!$J$26-SUMIFS(EP_Desinfection_UV!$J$16:$J$25,EP_Desinfection_UV!$E$16:$E$25,\"<4\",EP_Desinfection_UV!$F$16:$F$25,\"<4\")","v":0},{"$f":"SUMIFS(EP_Desinfection_UV!$J$16:$J$25,EP_Desinfection_UV!$E$16:$E$25,\"<4\",EP_Desinfection_UV!$F$16:$F$25,\"<4\",EP_Desinfection_UV!$L$16:$L$25,\">=\"&Annee_BI,EP_Desinfection_UV!$L$16:$L$25,\"<=\"&Annee_BI+4)","v":0},{"$f":"MIN(IF(EP_Desinfection_UV!$L$16:$L$25>=Annee_BI,IF(EP_Desinfection_UV!$L$16:$L$25<=Annee_BI+4,EP_Desinfection_UV!$L$16:$L$25)))","v":0},{"$f":"MAX(IF(EP_Desinfection_UV!$L$16:$L$25>=Annee_BI,IF(EP_Desinfection_UV!$L$16:$L$25<=Annee_BI+4,EP_Desinfection_UV!$L$16:$L$25)))","v":0},{"$f":"SUMIFS(EP_Desinfection_UV!$J$16:$J$25,EP_Desinfection_UV!$E$16:$E$25,\"<4\",EP_Desinfection_UV!$F$16:$F$25,\"<4\",EP_Desinfection_UV!$L$16:$L$25,\">=\"&Annee_BI+5,EP_Desinfection_UV!$L$16:$L$25,\"<=\"&Annee_BI+9)","v":0},{"$f":"MIN(IF(EP_Desinfection_UV!$L$16:$L$25>=Annee_BI+5,IF(EP_Desinfection_UV!$L$16:$L$25<=Annee_BI+9,EP_Desinfection_UV!$L$16:$L$25)))","v":0},{"$f":"MAX(IF(EP_Desinfection_UV!$L$16:$L$25>=Annee_BI+5,IF(EP_Desinfection_UV!$L$16:$L$25<=Annee_BI+9,EP_Desinfection_UV!$L$16:$L$25)))","v":0}]
["Eau potable ","Installation de production","Stations mécanisées",{"$f":"IF(Identification!$H$63=\"\",\"\",Identification!$H$63)","v":""},"Désinfection (U.V.)","Mécanique",{"$f":"EP_Desinfection_UV!$B$40","v":""},0,{"$f":"IFERROR(J27/SUM($J26:$J29),0)","v":0},{"$f":"EP_Desinfection_UV!$I$40","v":0},{"$f":"EP_Desinfection_UV!$G$40","v":""},{"$f":"EP_Desinfection_UV!$E$40","v":""},{"$f":"EP_Desinfection_UV!$F$40","v":""},{"$f":"EP_Desinfection_UV!$J$40-SUMIFS(EP_Desinfection_UV!$J$30:$J$39,EP_Desinfection_UV!$E$30:$E$39,\"<4\",EP_Desinfection_UV!$F$30:$F$39,\"<4\")","v":0},{"$f":"SUMIFS(EP_Desinfection_UV!$J$30:$J$39,EP_Desinfection_UV!$E$30:$E$39,\"<4\",EP_Desinfection_UV!$F$30:$F$39,\"<4\",EP_Desinfection_UV!$L$30:$L$39,\">=\"&Annee_BI,EP_Desinfection_UV!$L$30:$L$39,\"<=\"&Annee_BI+4)","v":0},{"$f":"MIN(IF(EP_Desinfection_UV!$L$30:$L$39>=Annee_BI,IF(EP_Desinfection_UV!$L$30:$L$39<=Annee_BI+4,EP_Desinfection_UV!$L$30:$L$39)))","v":0},{"$f":"MAX(IF(EP_Desinfection_UV!$L$30:$L$39>=Annee_BI,IF(EP_Desinfection_UV!$L$30:$L$39<=Annee_BI+4,EP_Desinfection_UV!$L$30:$L$39)))","v":0},{"$f":"SUMIFS(EP_Desinfection_UV!$J$30:$J$39,EP_Desinfection_UV!$E$30:$E$39,\"<4\",EP_Desinfection_UV!$F$30:$F$39,\"<4\",EP_Desinfection_UV!$L$30:$L$39,\">=\"&Annee_BI+5,EP_Desinfection_UV!$L$30:$L$39,\"<=\"&Annee_BI+9)","v":0},{"$f":"MIN(IF(EP_Desinfection_UV!$L$30:$L$39>=Annee_BI+5,IF(EP_Desinfection_UV!$L$30:$L$39<=Annee_BI+9,EP_Desinfection_UV!$L$30:$L$39)))","v":0},{"$f":"MAX(IF(EP_Desinfection_UV!$L$30:$L$39>=Annee_BI+5,IF(EP_Desinfection_UV!$L$30:$L$39<=Annee_BI+9,EP_Desinfection_UV!$L$30:$L$39)))","v":0}]
["Eau potable ","Installation de production","Stations mécanisées",{"$f":"IF(Identification!$H$63=\"\",\"\",Identification!$H$63)","v":""},"Désinfection (U.V.)","Électricité",{"$f":"EP_Desinfection_UV!$B$54","v":""},0,{"$f":"IFERROR(J28/SUM($J26:$J29),0)","v":0},{"$f":"EP_Desinfection_UV!$I$54","v":0},{"$f":"EP_Desinfection_UV!$G$54","v":""},{"$f":"EP_Desinfection_UV!$E$54","v":""},{"$f":"EP_Desinfection_UV!$F$54","v":""},{"$f":"EP_Desinfection_UV!$J$54-SUMIFS(EP_Desinfection_UV!$J$44:$J$53,EP_Desinfection_UV!$E$44:$E$53,\"<4\",EP_Desinfection_UV!$F$44:$F$53,\"<4\")","v":0},{"$f":"SUMIFS(EP_Desinfection_UV!$J$44:$J$53,EP_Desinfection_UV!$E$44:$E$53,\"<4\",EP_Desinfection_UV!$F$44:$F$53,\"<4\",EP_Desinfection_UV!$L$44:$L$53,\">=\"&Annee_BI,EP_Desinfection_UV!$L$44:$L$53,\"<=\"&Annee_BI+4)","v":0},{"$f":"MIN(IF(EP_Desinfection_UV!$L$44:$L$53>=Annee_BI,IF(EP_Desinfection_UV!$L$44:$L$53<=Annee_BI+4,EP_Desinfection_UV!$L$44:$L$53)))","v":0},{"$f":"MAX(IF(EP_Desinfection_UV!$L$44:$L$53>=Annee_BI,IF(EP_Desinfection_UV!$L$44:$L$53<=Annee_BI+4,EP_Desinfection_UV!$L$44:$L$53)))","v":0},{"$f":"SUMIFS(EP_Desinfection_UV!$J$44:$J$53,EP_Desinfection_UV!$E$44:$E$53,\"<4\",EP_Desinfection_UV!$F$44:$F$53,\"<4\",EP_Desinfection_UV!$L$44:$L$53,\">=\"&Annee_BI+5,EP_Desinfection_UV!$L$44:$L$53,\"<=\"&Annee_BI+9)","v":0},{"$f":"MIN(IF(EP_Desinfection_UV!$L$44:$L$53>=Annee_BI+5,IF(EP_Desinfection_UV!$L$44:$L$53<=Annee_BI+9,EP_Desinfection_UV!$L$44:$L$53)))","v":0},{"$f":"MAX(IF(EP_Desinfection_UV!$L$44:$L$53>=Annee_BI+5,IF(EP_Desinfection_UV!$L$44:$L$53<=Annee_BI+9,EP_Desinfection_UV!$L$44:$L$53)))","v":0}]
["Eau potable ","Installation de production","Stations mécanisées",{"$f":"IF(Identification!$H$63=\"\",\"\",Identification!$H$63)","v":""},"Désinfection (U.V.)","Instrumentation et contrôle",{"$f":"EP_Desinfection_UV!$B$68","v":""},0,{"$f":"IFERROR(J29/SUM($J26:$J29),0)","v":0},{"$f":"EP_Desinfection_UV!$I$68","v":0},{"$f":"EP_Desinfection_UV!$G$68","v":""},{"$f":"EP_Desinfection_UV!$E$68","v":""},{"$f":"EP_Desinfection_UV!$F$68","v":""},{"$f":"EP_Desinfection_UV!$J$68-SUMIFS(EP_Desinfection_UV!$J$58:$J$67,EP_Desinfection_UV!$E$58:$E$67,\"<4\",EP_Desinfection_UV!$F$58:$F$67,\"<4\")","v":0},{"$f":"SUMIFS(EP_Desinfection_UV!$J$58:$J$67,EP_Desinfection_UV!$E$58:$E$67,\"<4\",EP_Desinfection_UV!$F$58:$F$67,\"<4\",EP_Desinfection_UV!$L$58:$L$67,\">=\"&Annee_BI,EP_Desinfection_UV!$L$58:$L$67,\"<=\"&Annee_BI+4)","v":0},{"$f":"MIN(IF(EP_Desinfection_UV!$L$58:$L$67>=Annee_BI,IF(EP_Desinfection_UV!$L$58:$L$67<=Annee_BI+4,EP_Desinfection_UV!$L$58:$L$67)))","v":0},{"$f":"MAX(IF(EP_Desinfection_UV!$L$58:$L$67>=Annee_BI,IF(EP_Desinfection_UV!$L$58:$L$67<=Annee_BI+4,EP_Desinfection_UV!$L$58:$L$67)))","v":0},{"$f":"SUMIFS(EP_Desinfection_UV!$J$58:$J$67,EP_Desinfection_UV!$E$58:$E$67,\"<4\",EP_Desinfection_UV!$F$58:$F$67,\"<4\",EP_Desinfection_UV!$L$58:$L$67,\">=\"&Annee_BI+5,EP_Desinfection_UV!$L$58:$L$67,\"<=\"&Annee_BI+9)","v":0},{"$f":"MIN(IF(EP_Desinfection_UV!$L$58:$L$67>=Annee_BI+5,IF(EP_Desinfection_UV!$L$58:$L$67<=Annee_BI+9,EP_Desinfection_UV!$L$58:$L$67)))","v":0},{"$f":"MAX(IF(EP_Desinfection_UV!$L$58:$L$67>=Annee_BI+5,IF(EP_Desinfection_UV!$L$58:$L$67<=Annee_BI+9,EP_Desinfection_UV!$L$58:$L$67)))","v":0}]
["Eau potable ","Installation de production","Stations mécanisées",{"$f":"IF(Identification!$H$63=\"\",\"\",Identification!$H$63)","v":""},"Réserve d'eau","Civil",{"$f":"EP_Reserve_eau!$B$26","v":""},{"$f":"IF(G30<>\"\",1,0)","v":0},{"$f":"IFERROR(J30/SUM($J30:$J33),0)","v":0},{"$f":"EP_Reserve_eau!$I$26","v":0},{"$f":"EP_Reserve_eau!$G$26","v":""},{"$f":"EP_Reserve_eau!$E$26","v":""},{"$f":"EP_Reserve_eau!$F$26","v":""},{"$f":"EP_Reserve_eau!$J$26-SUMIFS(EP_Reserve_eau!$J$16:$J$25,EP_Reserve_eau!$E$16:$E$25,\"<4\",EP_Reserve_eau!$F$16:$F$25,\"<4\")","v":0},{"$f":"SUMIFS(EP_Reserve_eau!$J$16:$J$25,EP_Reserve_eau!$E$16:$E$25,\"<4\",EP_Reserve_eau!$F$16:$F$25,\"<4\",EP_Reserve_eau!$L$16:$L$25,\">=\"&Annee_BI,EP_Reserve_eau!$L$16:$L$25,\"<=\"&Annee_BI+4)","v":0},{"$f":"MIN(IF(EP_Reserve_eau!$L$16:$L$25>=Annee_BI,IF(EP_Reserve_eau!$L$16:$L$25<=Annee_BI+4,EP_Reserve_eau!$L$16:$L$25)))","v":0},{"$f":"MAX(IF(EP_Reserve_eau!$L$16:$L$25>=Annee_BI,IF(EP_Reserve_eau!$L$16:$L$25<=Annee_BI+4,EP_Reserve_eau!$L$16:$L$25)))","v":0},{"$f":"SUMIFS(EP_Reserve_eau!$J$16:$J$25,EP_Reserve_eau!$E$16:$E$25,\"<4\",EP_Reserve_eau!$F$16:$F$25,\"<4\",EP_Reserve_eau!$L$16:$L$25,\">=\"&Annee_BI+5,EP_Reserve_eau!$L$16:$L$25,\"<=\"&Annee_BI+9)","v":0},{"$f":"MIN(IF(EP_Reserve_eau!$L$16:$L$25>=Annee_BI+5,IF(EP_Reserve_eau!$L$16:$L$25<=Annee_BI+9,EP_Reserve_eau!$L$16:$L$25)))","v":0},{"$f":"MAX(IF(EP_Reserve_eau!$L$16:$L$25>=Annee_BI+5,IF(EP_Reserve_eau!$L$16:$L$25<=Annee_BI+9,EP_Reserve_eau!$L$16:$L$25)))","v":0}]
["Eau potable ","Installation de production","Stations mécanisées",{"$f":"IF(Identification!$H$63=\"\",\"\",Identification!$H$63)","v":""},"Réserve d'eau","Mécanique",{"$f":"EP_Reserve_eau!$B$40","v":""},0,{"$f":"IFERROR(J31/SUM($J30:$J33),0)","v":0},{"$f":"EP_Reserve_eau!$I$40","v":0},{"$f":"EP_Reserve_eau!$G$40","v":""},{"$f":"EP_Reserve_eau!$E$40","v":""},{"$f":"EP_Reserve_eau!$F$40","v":""},{"$f":"EP_Reserve_eau!$J$40-SUMIFS(EP_Reserve_eau!$J$30:$J$39,EP_Reserve_eau!$E$30:$E$39,\"<4\",EP_Reserve_eau!$F$30:$F$39,\"<4\")","v":0},{"$f":"SUMIFS(EP_Reserve_eau!$J$30:$J$39,EP_Reserve_eau!$E$30:$E$39,\"<4\",EP_Reserve_eau!$F$30:$F$39,\"<4\",EP_Reserve_eau!$L$30:$L$39,\">=\"&Annee_BI,EP_Reserve_eau!$L$30:$L$39,\"<=\"&Annee_BI+4)","v":0},{"$f":"MIN(IF(EP_Reserve_eau!$L$30:$L$39>=Annee_BI,IF(EP_Reserve_eau!$L$30:$L$39<=Annee_BI+4,EP_Reserve_eau!$L$30:$L$39)))","v":0},{"$f":"MAX(IF(EP_Reserve_eau!$L$30:$L$39>=Annee_BI,IF(EP_Reserve_eau!$L$30:$L$39<=Annee_BI+4,EP_Reserve_eau!$L$30:$L$39)))","v":0},{"$f":"SUMIFS(EP_Reserve_eau!$J$30:$J$39,EP_Reserve_eau!$E$30:$E$39,\"<4\",EP_Reserve_eau!$F$30:$F$39,\"<4\",EP_Reserve_eau!$L$30:$L$39,\">=\"&Annee_BI+5,EP_Reserve_eau!$L$30:$L$39,\"<=\"&Annee_BI+9)","v":0},{"$f":"MIN(IF(EP_Reserve_eau!$L$30:$L$39>=Annee_BI+5,IF(EP_Reserve_eau!$L$30:$L$39<=Annee_BI+9,EP_Reserve_eau!$L$30:$L$39)))","v":0},{"$f":"MAX(IF(EP_Reserve_eau!$L$30:$L$39>=Annee_BI+5,IF(EP_Reserve_eau!$L$30:$L$39<=Annee_BI+9,EP_Reserve_eau!$L$30:$L$39)))","v":0}]
["Eau potable ","Installation de production","Stations mécanisées",{"$f":"IF(Identification!$H$63=\"\",\"\",Identification!$H$63)","v":""},"Réserve d'eau","Électricité",{"$f":"EP_Reserve_eau!$B$54","v":""},0,{"$f":"IFERROR(J32/SUM($J30:$J33),0)","v":0},{"$f":"EP_Reserve_eau!$I$54","v":0},{"$f":"EP_Reserve_eau!$G$54","v":""},{"$f":"EP_Reserve_eau!$E$54","v":""},{"$f":"EP_Reserve_eau!$F$54","v":""},{"$f":"EP_Reserve_eau!$J$54-SUMIFS(EP_Reserve_eau!$J$44:$J$53,EP_Reserve_eau!$E$44:$E$53,\"<4\",EP_Reserve_eau!$F$44:$F$53,\"<4\")","v":0},{"$f":"SUMIFS(EP_Reserve_eau!$J$44:$J$53,EP_Reserve_eau!$E$44:$E$53,\"<4\",EP_Reserve_eau!$F$44:$F$53,\"<4\",EP_Reserve_eau!$L$44:$L$53,\">=\"&Annee_BI,EP_Reserve_eau!$L$44:$L$53,\"<=\"&Annee_BI+4)","v":0},{"$f":"MIN(IF(EP_Reserve_eau!$L$44:$L$53>=Annee_BI,IF(EP_Reserve_eau!$L$44:$L$53<=Annee_BI+4,EP_Reserve_eau!$L$44:$L$53)))","v":0},{"$f":"MAX(IF(EP_Reserve_eau!$L$44:$L$53>=Annee_BI,IF(EP_Reserve_eau!$L$44:$L$53<=Annee_BI+4,EP_Reserve_eau!$L$44:$L$53)))","v":0},{"$f":"SUMIFS(EP_Reserve_eau!$J$44:$J$53,EP_Reserve_eau!$E$44:$E$53,\"<4\",EP_Reserve_eau!$F$44:$F$53,\"<4\",EP_Reserve_eau!$L$44:$L$53,\">=\"&Annee_BI+5,EP_Reserve_eau!$L$44:$L$53,\"<=\"&Annee_BI+9)","v":0},{"$f":"MIN(IF(EP_Reserve_eau!$L$44:$L$53>=Annee_BI+5,IF(EP_Reserve_eau!$L$44:$L$53<=Annee_BI+9,EP_Reserve_eau!$L$44:$L$53)))","v":0},{"$f":"MAX(IF(EP_Reserve_eau!$L$44:$L$53>=Annee_BI+5,IF(EP_Reserve_eau!$L$44:$L$53<=Annee_BI+9,EP_Reserve_eau!$L$44:$L$53)))","v":0}]
["Eau potable ","Installation de production","Stations mécanisées",{"$f":"IF(Identification!$H$63=\"\",\"\",Identification!$H$63)","v":""},"Réserve d'eau","Instrumentation et contrôle",{"$f":"EP_Reserve_eau!$B$68","v":""},0,{"$f":"IFERROR(J33/SUM($J30:$J33),0)","v":0},{"$f":"EP_Reserve_eau!$I$68","v":0},{"$f":"EP_Reserve_eau!$G$68","v":""},{"$f":"EP_Reserve_eau!$E$68","v":""},{"$f":"EP_Reserve_eau!$F$68","v":""},{"$f":"EP_Reserve_eau!$J$68-SUMIFS(EP_Reserve_eau!$J$58:$J$67,EP_Reserve_eau!$E$58:$E$67,\"<4\",EP_Reserve_eau!$F$58:$F$67,\"<4\")","v":0},{"$f":"SUMIFS(EP_Reserve_eau!$J$58:$J$67,EP_Reserve_eau!$E$58:$E$67,\"<4\",EP_Reserve_eau!$F$58:$F$67,\"<4\",EP_Reserve_eau!$L$58:$L$67,\">=\"&Annee_BI,EP_Reserve_eau!$L$58:$L$67,\"<=\"&Annee_BI+4)","v":0},{"$f":"MIN(IF(EP_Reserve_eau!$L$58:$L$67>=Annee_BI,IF(EP_Reserve_eau!$L$58:$L$67<=Annee_BI+4,EP_Reserve_eau!$L$58:$L$67)))","v":0},{"$f":"MAX(IF(EP_Reserve_eau!$L$58:$L$67>=Annee_BI,IF(EP_Reserve_eau!$L$58:$L$67<=Annee_BI+4,EP_Reserve_eau!$L$58:$L$67)))","v":0},{"$f":"SUMIFS(EP_Reserve_eau!$J$58:$J$67,EP_Reserve_eau!$E$58:$E$67,\"<4\",EP_Reserve_eau!$F$58:$F$67,\"<4\",EP_Reserve_eau!$L$58:$L$67,\">=\"&Annee_BI+5,EP_Reserve_eau!$L$58:$L$67,\"<=\"&Annee_BI+9)","v":0},{"$f":"MIN(IF(EP_Reserve_eau!$L$58:$L$67>=Annee_BI+5,IF(EP_Reserve_eau!$L$58:$L$67<=Annee_BI+9,EP_Reserve_eau!$L$58:$L$67)))","v":0},{"$f":"MAX(IF(EP_Reserve_eau!$L$58:$L$67>=Annee_BI+5,IF(EP_Reserve_eau!$L$58:$L$67<=Annee_BI+9,EP_Reserve_eau!$L$58:$L$67)))","v":0}]
["Eau potable ","Installation de production","Stations mécanisées",{"$f":"IF(Identification!$H$63=\"\",\"\",Identification!$H$63)","v":""},"Traitements spécifiques","Civil",{"$f":"EP_Traitements_specifiques!$B$26","v":""},{"$f":"IF(G34<>\"\",1,0)","v":0},{"$f":"IFERROR(J34/SUM($J34:$J37),0)","v":0},{"$f":"EP_Traitements_specifiques!$I$26","v":0},{"$f":"EP_Traitements_specifiques!$G$26","v":""},{"$f":"EP_Traitements_specifiques!$E$26","v":""},{"$f":"EP_Traitements_specifiques!$F$26","v":""},{"$f":"EP_Traitements_specifiques!$J$26-SUMIFS(EP_Traitements_specifiques!$J$16:$J$25,EP_Traitements_specifiques!$E$16:$E$25,\"<4\",EP_Traitements_specifiques!$F$16:$F$25,\"<4\")","v":0},{"$f":"SUMIFS(EP_Traitements_specifiques!$J$16:$J$25,EP_Traitements_specifiques!$E$16:$E$25,\"<4\",EP_Traitements_specifiques!$F$16:$F$25,\"<4\",EP_Traitements_specifiques!$L$16:$L$25,\">=\"&Annee_BI,EP_Traitements_specifiques!$L$16:$L$25,\"<=\"&Annee_BI+4)","v":0},{"$f":"MIN(IF(EP_Traitements_specifiques!$L$16:$L$25>=Annee_BI,IF(EP_Traitements_specifiques!$L$16:$L$25<=Annee_BI+4,EP_Traitements_specifiques!$L$16:$L$25)))","v":0},{"$f":"MAX(IF(EP_Traitements_specifiques!$L$16:$L$25>=Annee_BI,IF(EP_Traitements_specifiques!$L$16:$L$25<=Annee_BI+4,EP_Traitements_specifiques!$L$16:$L$25)))","v":0},{"$f":"SUMIFS(EP_Traitements_specifiques!$J$16:$J$25,EP_Traitements_specifiques!$E$16:$E$25,\"<4\",EP_Traitements_specifiques!$F$16:$F$25,\"<4\",EP_Traitements_specifiques!$L$16:$L$25,\">=\"&Annee_BI+5,EP_Traitements_specifiques!$L$16:$L$25,\"<=\"&Annee_BI+9)","v":0},{"$f":"MIN(IF(EP_Traitements_specifiques!$L$16:$L$25>=Annee_BI+5,IF(EP_Traitements_specifiques!$L$16:$L$25<=Annee_BI+9,EP_Traitements_specifiques!$L$16:$L$25)))","v":0},{"$f":"MAX(IF(EP_Traitements_specifiques!$L$16:$L$25>=Annee_BI+5,IF(EP_Traitements_specifiques!$L$16:$L$25<=Annee_BI+9,EP_Traitements_specifiques!$L$16:$L$25)))","v":0}]
["Eau potable ","Installation de production","Stations mécanisées",{"$f":"IF(Identification!$H$63=\"\",\"\",Identification!$H$63)","v":""},"Traitements spécifiques","Mécanique",{"$f":"EP_Traitements_specifiques!$B$40","v":""},0,{"$f":"IFERROR(J35/SUM($J34:$J37),0)","v":0},{"$f":"EP_Traitements_specifiques!$I$40","v":0},{"$f":"EP_Traitements_specifiques!$G$40","v":""},{"$f":"EP_Traitements_specifiques!$E$40","v":""},{"$f":"EP_Traitements_specifiques!$F$40","v":""},{"$f":"EP_Traitements_specifiques!$J$40-SUMIFS(EP_Traitements_specifiques!$J$30:$J$39,EP_Traitements_specifiques!$E$30:$E$39,\"<4\",EP_Traitements_specifiques!$F$30:$F$39,\"<4\")","v":0},{"$f":"SUMIFS(EP_Traitements_specifiques!$J$30:$J$39,EP_Traitements_specifiques!$E$30:$E$39,\"<4\",EP_Traitements_specifiques!$F$30:$F$39,\"<4\",EP_Traitements_specifiques!$L$30:$L$39,\">=\"&Annee_BI,EP_Traitements_specifiques!$L$30:$L$39,\"<=\"&Annee_BI+4)","v":0},{"$f":"MIN(IF(EP_Traitements_specifiques!$L$30:$L$39>=Annee_BI,IF(EP_Traitements_specifiques!$L$30:$L$39<=Annee_BI+4,EP_Traitements_specifiques!$L$30:$L$39)))","v":0},{"$f":"MAX(IF(EP_Traitements_specifiques!$L$30:$L$39>=Annee_BI,IF(EP_Traitements_specifiques!$L$30:$L$39<=Annee_BI+4,EP_Traitements_specifiques!$L$30:$L$39)))","v":0},{"$f":"SUMIFS(EP_Traitements_specifiques!$J$30:$J$39,EP_Traitements_specifiques!$E$30:$E$39,\"<4\",EP_Traitements_specifiques!$F$30:$F$39,\"<4\",EP_Traitements_specifiques!$L$30:$L$39,\">=\"&Annee_BI+5,EP_Traitements_specifiques!$L$30:$L$39,\"<=\"&Annee_BI+9)","v":0},{"$f":"MIN(IF(EP_Traitements_specifiques!$L$30:$L$39>=Annee_BI+5,IF(EP_Traitements_specifiques!$L$30:$L$39<=Annee_BI+9,EP_Traitements_specifiques!$L$30:$L$39)))","v":0},{"$f":"MAX(IF(EP_Traitements_specifiques!$L$30:$L$39>=Annee_BI+5,IF(EP_Traitements_specifiques!$L$30:$L$39<=Annee_BI+9,EP_Traitements_specifiques!$L$30:$L$39)))","v":0}]
["Eau potable ","Installation de production","Stations mécanisées",{"$f":"IF(Identification!$H$63=\"\",\"\",Identification!$H$63)","v":""},"Traitements spécifiques","Électricité",{"$f":"EP_Traitements_specifiques!$B$54","v":""},0,{"$f":"IFERROR(J36/SUM($J34:$J37),0)","v":0},{"$f":"EP_Traitements_specifiques!$I$54","v":0},{"$f":"EP_Traitements_specifiques!$G$54","v":""},{"$f":"EP_Traitements_specifiques!$E$54","v":""},{"$f":"EP_Traitements_specifiques!$F$54","v":""},{"$f":"EP_Traitements_specifiques!$J$54-SUMIFS(EP_Traitements_specifiques!$J$44:$J$53,EP_Traitements_specifiques!$E$44:$E$53,\"<4\",EP_Traitements_specifiques!$F$44:$F$53,\"<4\")","v":0},{"$f":"SUMIFS(EP_Traitements_specifiques!$J$44:$J$53,EP_Traitements_specifiques!$E$44:$E$53,\"<4\",EP_Traitements_specifiques!$F$44:$F$53,\"<4\",EP_Traitements_specifiques!$L$44:$L$53,\">=\"&Annee_BI,EP_Traitements_specifiques!$L$44:$L$53,\"<=\"&Annee_BI+4)","v":0},{"$f":"MIN(IF(EP_Traitements_specifiques!$L$44:$L$53>=Annee_BI,IF(EP_Traitements_specifiques!$L$44:$L$53<=Annee_BI+4,EP_Traitements_specifiques!$L$44:$L$53)))","v":0},{"$f":"MAX(IF(EP_Traitements_specifiques!$L$44:$L$53>=Annee_BI,IF(EP_Traitements_specifiques!$L$44:$L$53<=Annee_BI+4,EP_Traitements_specifiques!$L$44:$L$53)))","v":0},{"$f":"SUMIFS(EP_Traitements_specifiques!$J$44:$J$53,EP_Traitements_specifiques!$E$44:$E$53,\"<4\",EP_Traitements_specifiques!$F$44:$F$53,\"<4\",EP_Traitements_specifiques!$L$44:$L$53,\">=\"&Annee_BI+5,EP_Traitements_specifiques!$L$44:$L$53,\"<=\"&Annee_BI+9)","v":0},{"$f":"MIN(IF(EP_Traitements_specifiques!$L$44:$L$53>=Annee_BI+5,IF(EP_Traitements_specifiques!$L$44:$L$53<=Annee_BI+9,EP_Traitements_specifiques!$L$44:$L$53)))","v":0},{"$f":"MAX(IF(EP_Traitements_specifiques!$L$44:$L$53>=Annee_BI+5,IF(EP_Traitements_specifiques!$L$44:$L$53<=Annee_BI+9,EP_Traitements_specifiques!$L$44:$L$53)))","v":0}]
["Eau potable ","Installation de production","Stations mécanisées",{"$f":"IF(Identification!$H$63=\"\",\"\",Identification!$H$63)","v":""},"Traitements spécifiques","Instrumentation et contrôle",{"$f":"EP_Traitements_specifiques!$B$68","v":""},0,{"$f":"IFERROR(J37/SUM($J34:$J37),0)","v":0},{"$f":"EP_Traitements_specifiques!$I$68","v":0},{"$f":"EP_Traitements_specifiques!$G$68","v":""},{"$f":"EP_Traitements_specifiques!$E$68","v":""},{"$f":"EP_Traitements_specifiques!$F$68","v":""},{"$f":"EP_Traitements_specifiques!$J$68-SUMIFS(EP_Traitements_specifiques!$J$58:$J$67,EP_Traitements_specifiques!$E$58:$E$67,\"<4\",EP_Traitements_specifiques!$F$58:$F$67,\"<4\")","v":0},{"$f":"SUMIFS(EP_Traitements_specifiques!$J$58:$J$67,EP_Traitements_specifiques!$E$58:$E$67,\"<4\",EP_Traitements_specifiques!$F$58:$F$67,\"<4\",EP_Traitements_specifiques!$L$58:$L$67,\">=\"&Annee_BI,EP_Traitements_specifiques!$L$58:$L$67,\"<=\"&Annee_BI+4)","v":0},{"$f":"MIN(IF(EP_Traitements_specifiques!$L$58:$L$67>=Annee_BI,IF(EP_Traitements_specifiques!$L$58:$L$67<=Annee_BI+4,EP_Traitements_specifiques!$L$58:$L$67)))","v":0},{"$f":"MAX(IF(EP_Traitements_specifiques!$L$58:$L$67>=Annee_BI,IF(EP_Traitements_specifiques!$L$58:$L$67<=Annee_BI+4,EP_Traitements_specifiques!$L$58:$L$67)))","v":0},{"$f":"SUMIFS(EP_Traitements_specifiques!$J$58:$J$67,EP_Traitements_specifiques!$E$58:$E$67,\"<4\",EP_Traitements_specifiques!$F$58:$F$67,\"<4\",EP_Traitements_specifiques!$L$58:$L$67,\">=\"&Annee_BI+5,EP_Traitements_specifiques!$L$58:$L$67,\"<=\"&Annee_BI+9)","v":0},{"$f":"MIN(IF(EP_Traitements_specifiques!$L$58:$L$67>=Annee_BI+5,IF(EP_Traitements_specifiques!$L$58:$L$67<=Annee_BI+9,EP_Traitements_specifiques!$L$58:$L$67)))","v":0},{"$f":"MAX(IF(EP_Traitements_specifiques!$L$58:$L$67>=Annee_BI+5,IF(EP_Traitements_specifiques!$L$58:$L$67<=Annee_BI+9,EP_Traitements_specifiques!$L$58:$L$67)))","v":0}]
["Eau potable ","Installation de production","Stations mécanisées",{"$f":"IF(Identification!$H$63=\"\",\"\",Identification!$H$63)","v":""},"Pompage de distribution","Civil",{"$f":"EP_Pompage_distribution!$B$26","v":""},{"$f":"IF(G38<>\"\",1,0)","v":0},{"$f":"IFERROR(J38/SUM($J38:$J41),0)","v":0},{"$f":"EP_Pompage_distribution!$I$26","v":0},{"$f":"EP_Pompage_distribution!$G$26","v":""},{"$f":"EP_Pompage_distribution!$E$26","v":""},{"$f":"EP_Pompage_distribution!$F$26","v":""},{"$f":"EP_Pompage_distribution!$J$26-SUMIFS(EP_Pompage_distribution!$J$16:$J$25,EP_Pompage_distribution!$E$16:$E$25,\"<4\",EP_Pompage_distribution!$F$16:$F$25,\"<4\")","v":0},{"$f":"SUMIFS(EP_Pompage_distribution!$J$16:$J$25,EP_Pompage_distribution!$E$16:$E$25,\"<4\",EP_Pompage_distribution!$F$16:$F$25,\"<4\",EP_Pompage_distribution!$L$16:$L$25,\">=\"&Annee_BI,EP_Pompage_distribution!$L$16:$L$25,\"<=\"&Annee_BI+4)","v":0},{"$f":"MIN(IF(EP_Pompage_distribution!$L$16:$L$25>=Annee_BI,IF(EP_Pompage_distribution!$L$16:$L$25<=Annee_BI+4,EP_Pompage_distribution!$L$16:$L$25)))","v":0},{"$f":"MAX(IF(EP_Pompage_distribution!$L$16:$L$25>=Annee_BI,IF(EP_Pompage_distribution!$L$16:$L$25<=Annee_BI+4,EP_Pompage_distribution!$L$16:$L$25)))","v":0},{"$f":"SUMIFS(EP_Pompage_distribution!$J$16:$J$25,EP_Pompage_distribution!$E$16:$E$25,\"<4\",EP_Pompage_distribution!$F$16:$F$25,\"<4\",EP_Pompage_distribution!$L$16:$L$25,\">=\"&Annee_BI+5,EP_Pompage_distribution!$L$16:$L$25,\"<=\"&Annee_BI+9)","v":0},{"$f":"MIN(IF(EP_Pompage_distribution!$L$16:$L$25>=Annee_BI+5,IF(EP_Pompage_distribution!$L$16:$L$25<=Annee_BI+9,EP_Pompage_distribution!$L$16:$L$25)))","v":0},{"$f":"MAX(IF(EP_Pompage_distribution!$L$16:$L$25>=Annee_BI+5,IF(EP_Pompage_distribution!$L$16:$L$25<=Annee_BI+9,EP_Pompage_distribution!$L$16:$L$25)))","v":0}]
["Eau potable ","Installation de production","Stations mécanisées",{"$f":"IF(Identification!$H$63=\"\",\"\",Identification!$H$63)","v":""},"Pompage de distribution","Mécanique",{"$f":"EP_Pompage_distribution!$B$40","v":""},0,{"$f":"IFERROR(J39/SUM($J38:$J41),0)","v":0},{"$f":"EP_Pompage_distribution!$I$40","v":0},{"$f":"EP_Pompage_distribution!$G$40","v":""},{"$f":"EP_Pompage_distribution!$E$40","v":""},{"$f":"EP_Pompage_distribution!$F$40","v":""},{"$f":"EP_Pompage_distribution!$J$40-SUMIFS(EP_Pompage_distribution!$J$30:$J$39,EP_Pompage_distribution!$E$30:$E$39,\"<4\",EP_Pompage_distribution!$F$30:$F$39,\"<4\")","v":0},{"$f":"SUMIFS(EP_Pompage_distribution!$J$30:$J$39,EP_Pompage_distribution!$E$30:$E$39,\"<4\",EP_Pompage_distribution!$F$30:$F$39,\"<4\",EP_Pompage_distribution!$L$30:$L$39,\">=\"&Annee_BI,EP_Pompage_distribution!$L$30:$L$39,\"<=\"&Annee_BI+4)","v":0},{"$f":"MIN(IF(EP_Pompage_distribution!$L$30:$L$39>=Annee_BI,IF(EP_Pompage_distribution!$L$30:$L$39<=Annee_BI+4,EP_Pompage_distribution!$L$30:$L$39)))","v":0},{"$f":"MAX(IF(EP_Pompage_distribution!$L$30:$L$39>=Annee_BI,IF(EP_Pompage_distribution!$L$30:$L$39<=Annee_BI+4,EP_Pompage_distribution!$L$30:$L$39)))","v":0},{"$f":"SUMIFS(EP_Pompage_distribution!$J$30:$J$39,EP_Pompage_distribution!$E$30:$E$39,\"<4\",EP_Pompage_distribution!$F$30:$F$39,\"<4\",EP_Pompage_distribution!$L$30:$L$39,\">=\"&Annee_BI+5,EP_Pompage_distribution!$L$30:$L$39,\"<=\"&Annee_BI+9)","v":0},{"$f":"MIN(IF(EP_Pompage_distribution!$L$30:$L$39>=Annee_BI+5,IF(EP_Pompage_distribution!$L$30:$L$39<=Annee_BI+9,EP_Pompage_distribution!$L$30:$L$39)))","v":0},{"$f":"MAX(IF(EP_Pompage_distribution!$L$30:$L$39>=Annee_BI+5,IF(EP_Pompage_distribution!$L$30:$L$39<=Annee_BI+9,EP_Pompage_distribution!$L$30:$L$39)))","v":0}]
["Eau potable ","Installation de production","Stations mécanisées",{"$f":"IF(Identification!$H$63=\"\",\"\",Identification!$H$63)","v":""},"Pompage de distribution","Électricité",{"$f":"EP_Pompage_distribution!$B$54","v":""},0,{"$f":"IFERROR(J40/SUM($J38:$J41),0)","v":0},{"$f":"EP_Pompage_distribution!$I$54","v":0},{"$f":"EP_Pompage_distribution!$G$54","v":""},{"$f":"EP_Pompage_distribution!$E$54","v":""},{"$f":"EP_Pompage_distribution!$F$54","v":""},{"$f":"EP_Pompage_distribution!$J$54-SUMIFS(EP_Pompage_distribution!$J$44:$J$53,EP_Pompage_distribution!$E$44:$E$53,\"<4\",EP_Pompage_distribution!$F$44:$F$53,\"<4\")","v":0},{"$f":"SUMIFS(EP_Pompage_distribution!$J$44:$J$53,EP_Pompage_distribution!$E$44:$E$53,\"<4\",EP_Pompage_distribution!$F$44:$F$53,\"<4\",EP_Pompage_distribution!$L$44:$L$53,\">=\"&Annee_BI,EP_Pompage_distribution!$L$44:$L$53,\"<=\"&Annee_BI+4)","v":0},{"$f":"MIN(IF(EP_Pompage_distribution!$L$44:$L$53>=Annee_BI,IF(EP_Pompage_distribution!$L$44:$L$53<=Annee_BI+4,EP_Pompage_distribution!$L$44:$L$53)))","v":0},{"$f":"MAX(IF(EP_Pompage_distribution!$L$44:$L$53>=Annee_BI,IF(EP_Pompage_distribution!$L$44:$L$53<=Annee_BI+4,EP_Pompage_distribution!$L$44:$L$53)))","v":0},{"$f":"SUMIFS(EP_Pompage_distribution!$J$44:$J$53,EP_Pompage_distribution!$E$44:$E$53,\"<4\",EP_Pompage_distribution!$F$44:$F$53,\"<4\",EP_Pompage_distribution!$L$44:$L$53,\">=\"&Annee_BI+5,EP_Pompage_distribution!$L$44:$L$53,\"<=\"&Annee_BI+9)","v":0},{"$f":"MIN(IF(EP_Pompage_distribution!$L$44:$L$53>=Annee_BI+5,IF(EP_Pompage_distribution!$L$44:$L$53<=Annee_BI+9,EP_Pompage_distribution!$L$44:$L$53)))","v":0},{"$f":"MAX(IF(EP_Pompage_distribution!$L$44:$L$53>=Annee_BI+5,IF(EP_Pompage_distribution!$L$44:$L$53<=Annee_BI+9,EP_Pompage_distribution!$L$44:$L$53)))","v":0}]
["Eau potable ","Installation de production","Stations mécanisées",{"$f":"IF(Identification!$H$63=\"\",\"\",Identification!$H$63)","v":""},"Pompage de distribution","Instrumentation et contrôle",{"$f":"EP_Pompage_distribution!$B$68","v":""},0,{"$f":"IFERROR(J41/SUM($J38:$J41),0)","v":0},{"$f":"EP_Pompage_distribution!$I$68","v":0},{"$f":"EP_Pompage_distribution!$G$68","v":""},{"$f":"EP_Pompage_distribution!$E$68","v":""},{"$f":"EP_Pompage_distribution!$F$68","v":""},{"$f":"EP_Pompage_distribution!$J$68-SUMIFS(EP_Pompage_distribution!$J$58:$J$67,EP_Pompage_distribution!$E$58:$E$67,\"<4\",EP_Pompage_distribution!$F$58:$F$67,\"<4\")","v":0},{"$f":"SUMIFS(EP_Pompage_distribution!$J$58:$J$67,EP_Pompage_distribution!$E$58:$E$67,\"<4\",EP_Pompage_distribution!$F$58:$F$67,\"<4\",EP_Pompage_distribution!$L$58:$L$67,\">=\"&Annee_BI,EP_Pompage_distribution!$L$58:$L$67,\"<=\"&Annee_BI+4)","v":0},{"$f":"MIN(IF(EP_Pompage_distribution!$L$58:$L$67>=Annee_BI,IF(EP_Pompage_distribution!$L$58:$L$67<=Annee_BI+4,EP_Pompage_distribution!$L$58:$L$67)))","v":0},{"$f":"MAX(IF(EP_Pompage_distribution!$L$58:$L$67>=Annee_BI,IF(EP_Pompage_distribution!$L$58:$L$67<=Annee_BI+4,EP_Pompage_distribution!$L$58:$L$67)))","v":0},{"$f":"SUMIFS(EP_Pompage_distribution!$J$58:$J$67,EP_Pompage_distribution!$E$58:$E$67,\"<4\",EP_Pompage_distribution!$F$58:$F$67,\"<4\",EP_Pompage_distribution!$L$58:$L$67,\">=\"&Annee_BI+5,EP_Pompage_distribution!$L$58:$L$67,\"<=\"&Annee_BI+9)","v":0},{"$f":"MIN(IF(EP_Pompage_distribution!$L$58:$L$67>=Annee_BI+5,IF(EP_Pompage_distribution!$L$58:$L$67<=Annee_BI+9,EP_Pompage_distribution!$L$58:$L$67)))","v":0},{"$f":"MAX(IF(EP_Pompage_distribution!$L$58:$L$67>=Annee_BI+5,IF(EP_Pompage_distribution!$L$58:$L$67<=Annee_BI+9,EP_Pompage_distribution!$L$58:$L$67)))","v":0}]
["Eau potable ","Installation de production","Stations mécanisées",{"$f":"IF(Identification!$H$63=\"\",\"\",Identification!$H$63)","v":""},"Traitement des boues","Civil",{"$f":"EP_Traitement_boues!$B$26","v":""},{"$f":"IF(G42<>\"\",1,0)","v":0},{"$f":"IFERROR(J42/SUM($J42:$J45),0)","v":0},{"$f":"EP_Traitement_boues!$I$26","v":0},{"$f":"EP_Traitement_boues!$G$26","v":""},{"$f":"EP_Traitement_boues!$E$26","v":""},{"$f":"EP_Traitement_boues!$F$26","v":""},{"$f":"EP_Traitement_boues!$J$26-SUMIFS(EP_Traitement_boues!$J$16:$J$25,EP_Traitement_boues!$E$16:$E$25,\"<4\",EP_Traitement_boues!$F$16:$F$25,\"<4\")","v":0},{"$f":"SUMIFS(EP_Traitement_boues!$J$16:$J$25,EP_Traitement_boues!$E$16:$E$25,\"<4\",EP_Traitement_boues!$F$16:$F$25,\"<4\",EP_Traitement_boues!$L$16:$L$25,\">=\"&Annee_BI,EP_Traitement_boues!$L$16:$L$25,\"<=\"&Annee_BI+4)","v":0},{"$f":"MIN(IF(EP_Traitement_boues!$L$16:$L$25>=Annee_BI,IF(EP_Traitement_boues!$L$16:$L$25<=Annee_BI+4,EP_Traitement_boues!$L$16:$L$25)))","v":0},{"$f":"MAX(IF(EP_Traitement_boues!$L$16:$L$25>=Annee_BI,IF(EP_Traitement_boues!$L$16:$L$25<=Annee_BI+4,EP_Traitement_boues!$L$16:$L$25)))","v":0},{"$f":"SUMIFS(EP_Traitement_boues!$J$16:$J$25,EP_Traitement_boues!$E$16:$E$25,\"<4\",EP_Traitement_boues!$F$16:$F$25,\"<4\",EP_Traitement_boues!$L$16:$L$25,\">=\"&Annee_BI+5,EP_Traitement_boues!$L$16:$L$25,\"<=\"&Annee_BI+9)","v":0},{"$f":"MIN(IF(EP_Traitement_boues!$L$16:$L$25>=Annee_BI+5,IF(EP_Traitement_boues!$L$16:$L$25<=Annee_BI+9,EP_Traitement_boues!$L$16:$L$25)))","v":0},{"$f":"MAX(IF(EP_Traitement_boues!$L$16:$L$25>=Annee_BI+5,IF(EP_Traitement_boues!$L$16:$L$25<=Annee_BI+9,EP_Traitement_boues!$L$16:$L$25)))","v":0}]
["Eau potable ","Installation de production","Stations mécanisées",{"$f":"IF(Identification!$H$63=\"\",\"\",Identification!$H$63)","v":""},"Traitement des boues","Mécanique",{"$f":"EP_Traitement_boues!$B$40","v":""},0,{"$f":"IFERROR(J43/SUM($J42:$J45),0)","v":0},{"$f":"EP_Traitement_boues!$I$40","v":0},{"$f":"EP_Traitement_boues!$G$40","v":""},{"$f":"EP_Traitement_boues!$E$40","v":""},{"$f":"EP_Traitement_boues!$F$40","v":""},{"$f":"EP_Traitement_boues!$J$40-SUMIFS(EP_Traitement_boues!$J$30:$J$39,EP_Traitement_boues!$E$30:$E$39,\"<4\",EP_Traitement_boues!$F$30:$F$39,\"<4\")","v":0},{"$f":"SUMIFS(EP_Traitement_boues!$J$30:$J$39,EP_Traitement_boues!$E$30:$E$39,\"<4\",EP_Traitement_boues!$F$30:$F$39,\"<4\",EP_Traitement_boues!$L$30:$L$39,\">=\"&Annee_BI,EP_Traitement_boues!$L$30:$L$39,\"<=\"&Annee_BI+4)","v":0},{"$f":"MIN(IF(EP_Traitement_boues!$L$30:$L$39>=Annee_BI,IF(EP_Traitement_boues!$L$30:$L$39<=Annee_BI+4,EP_Traitement_boues!$L$30:$L$39)))","v":0},{"$f":"MAX(IF(EP_Traitement_boues!$L$30:$L$39>=Annee_BI,IF(EP_Traitement_boues!$L$30:$L$39<=Annee_BI+4,EP_Traitement_boues!$L$30:$L$39)))","v":0},{"$f":"SUMIFS(EP_Traitement_boues!$J$30:$J$39,EP_Traitement_boues!$E$30:$E$39,\"<4\",EP_Traitement_boues!$F$30:$F$39,\"<4\",EP_Traitement_boues!$L$30:$L$39,\">=\"&Annee_BI+5,EP_Traitement_boues!$L$30:$L$39,\"<=\"&Annee_BI+9)","v":0},{"$f":"MIN(IF(EP_Traitement_boues!$L$30:$L$39>=Annee_BI+5,IF(EP_Traitement_boues!$L$30:$L$39<=Annee_BI+9,EP_Traitement_boues!$L$30:$L$39)))","v":0},{"$f":"MAX(IF(EP_Traitement_boues!$L$30:$L$39>=Annee_BI+5,IF(EP_Traitement_boues!$L$30:$L$39<=Annee_BI+9,EP_Traitement_boues!$L$30:$L$39)))","v":0}]
["Eau potable ","Installation de production","Stations mécanisées",{"$f":"IF(Identification!$H$63=\"\",\"\",Identification!$H$63)","v":""},"Traitement des boues","Électricité",{"$f":"EP_Traitement_boues!$B$54","v":""},0,{"$f":"IFERROR(J44/SUM($J42:$J45),0)","v":0},{"$f":"EP_Traitement_boues!$I$54","v":0},{"$f":"EP_Traitement_boues!$G$54","v":""},{"$f":"EP_Traitement_boues!$E$54","v":""},{"$f":"EP_Traitement_boues!$F$54","v":""},{"$f":"EP_Traitement_boues!$J$54-SUMIFS(EP_Traitement_boues!$J$44:$J$53,EP_Traitement_boues!$E$44:$E$53,\"<4\",EP_Traitement_boues!$F$44:$F$53,\"<4\")","v":0},{"$f":"SUMIFS(EP_Traitement_boues!$J$44:$J$53,EP_Traitement_boues!$E$44:$E$53,\"<4\",EP_Traitement_boues!$F$44:$F$53,\"<4\",EP_Traitement_boues!$L$44:$L$53,\">=\"&Annee_BI,EP_Traitement_boues!$L$44:$L$53,\"<=\"&Annee_BI+4)","v":0},{"$f":"MIN(IF(EP_Traitement_boues!$L$44:$L$53>=Annee_BI,IF(EP_Traitement_boues!$L$44:$L$53<=Annee_BI+4,EP_Traitement_boues!$L$44:$L$53)))","v":0},{"$f":"MAX(IF(EP_Traitement_boues!$L$44:$L$53>=Annee_BI,IF(EP_Traitement_boues!$L$44:$L$53<=Annee_BI+4,EP_Traitement_boues!$L$44:$L$53)))","v":0},{"$f":"SUMIFS(EP_Traitement_boues!$J$44:$J$53,EP_Traitement_boues!$E$44:$E$53,\"<4\",EP_Traitement_boues!$F$44:$F$53,\"<4\",EP_Traitement_boues!$L$44:$L$53,\">=\"&Annee_BI+5,EP_Traitement_boues!$L$44:$L$53,\"<=\"&Annee_BI+9)","v":0},{"$f":"MIN(IF(EP_Traitement_boues!$L$44:$L$53>=Annee_BI+5,IF(EP_Traitement_boues!$L$44:$L$53<=Annee_BI+9,EP_Traitement_boues!$L$44:$L$53)))","v":0},{"$f":"MAX(IF(EP_Traitement_boues!$L$44:$L$53>=Annee_BI+5,IF(EP_Traitement_boues!$L$44:$L$53<=Annee_BI+9,EP_Traitement_boues!$L$44:$L$53)))","v":0}]
["Eau potable ","Installation de production","Stations mécanisées",{"$f":"IF(Identification!$H$63=\"\",\"\",Identification!$H$63)","v":""},"Traitement des boues","Instrumentation et contrôle",{"$f":"EP_Traitement_boues!$B$68","v":""},0,{"$f":"IFERROR(J45/SUM($J42:$J45),0)","v":0},{"$f":"EP_Traitement_boues!$I$68","v":0},{"$f":"EP_Traitement_boues!$G$68","v":""},{"$f":"EP_Traitement_boues!$E$68","v":""},{"$f":"EP_Traitement_boues!$F$68","v":""},{"$f":"EP_Traitement_boues!$J$68-SUMIFS(EP_Traitement_boues!$J$58:$J$67,EP_Traitement_boues!$E$58:$E$67,\"<4\",EP_Traitement_boues!$F$58:$F$67,\"<4\")","v":0},{"$f":"SUMIFS(EP_Traitement_boues!$J$58:$J$67,EP_Traitement_boues!$E$58:$E$67,\"<4\",EP_Traitement_boues!$F$58:$F$67,\"<4\",EP_Traitement_boues!$L$58:$L$67,\">=\"&Annee_BI,EP_Traitement_boues!$L$58:$L$67,\"<=\"&Annee_BI+4)","v":0},{"$f":"MIN(IF(EP_Traitement_boues!$L$58:$L$67>=Annee_BI,IF(EP_Traitement_boues!$L$58:$L$67<=Annee_BI+4,EP_Traitement_boues!$L$58:$L$67)))","v":0},{"$f":"MAX(IF(EP_Traitement_boues!$L$58:$L$67>=Annee_BI,IF(EP_Traitement_boues!$L$58:$L$67<=Annee_BI+4,EP_Traitement_boues!$L$58:$L$67)))","v":0},{"$f":"SUMIFS(EP_Traitement_boues!$J$58:$J$67,EP_Traitement_boues!$E$58:$E$67,\"<4\",EP_Traitement_boues!$F$58:$F$67,\"<4\",EP_Traitement_boues!$L$58:$L$67,\">=\"&Annee_BI+5,EP_Traitement_boues!$L$58:$L$67,\"<=\"&Annee_BI+9)","v":0},{"$f":"MIN(IF(EP_Traitement_boues!$L$58:$L$67>=Annee_BI+5,IF(EP_Traitement_boues!$L$58:$L$67<=Annee_BI+9,EP_Traitement_boues!$L$58:$L$67)))","v":0},{"$f":"MAX(IF(EP_Traitement_boues!$L$58:$L$67>=Annee_BI+5,IF(EP_Traitement_boues!$L$58:$L$67<=Annee_BI+9,EP_Traitement_boues!$L$58:$L$67)))","v":0}]
["Eau potable ","Installation de production","Stations mécanisées",{"$f":"IF(Identification!$H$63=\"\",\"\",Identification!$H$63)","v":""},"Systèmes communs","Civil",{"$f":"Systèmes_communs!$B$26","v":""},{"$f":"IF(G46<>\"\",1,0)","v":0},{"$f":"IFERROR(J46/SUM($J46:$J49),0)","v":0},{"$f":"Systèmes_communs!$I$26","v":0},{"$f":"Systèmes_communs!$G$26","v":""},{"$f":"Systèmes_communs!$E$26","v":""},{"$f":"Systèmes_communs!$F$26","v":""},{"$f":"Systèmes_communs!$J$26-SUMIFS(Systèmes_communs!$J$16:$J$25,Systèmes_communs!$E$16:$E$25,\"<4\",Systèmes_communs!$F$16:$F$25,\"<4\")","v":0},{"$f":"SUMIFS(Systèmes_communs!$J$16:$J$25,Systèmes_communs!$E$16:$E$25,\"<4\",Systèmes_communs!$F$16:$F$25,\"<4\",Systèmes_communs!$L$16:$L$25,\">=\"&Annee_BI,Systèmes_communs!$L$16:$L$25,\"<=\"&Annee_BI+4)","v":0},{"$f":"MIN(IF(Systèmes_communs!$L$16:$L$25>=Annee_BI,IF(Systèmes_communs!$L$16:$L$25<=Annee_BI+4,Systèmes_communs!$L$16:$L$25)))","v":0},{"$f":"MAX(IF(Systèmes_communs!$L$16:$L$25>=Annee_BI,IF(Systèmes_communs!$L$16:$L$25<=Annee_BI+4,Systèmes_communs!$L$16:$L$25)))","v":0},{"$f":"SUMIFS(Systèmes_communs!$J$16:$J$25,Systèmes_communs!$E$16:$E$25,\"<4\",Systèmes_communs!$F$16:$F$25,\"<4\",Systèmes_communs!$L$16:$L$25,\">=\"&Annee_BI+5,Systèmes_communs!$L$16:$L$25,\"<=\"&Annee_BI+9)","v":0},{"$f":"MIN(IF(Systèmes_communs!$L$16:$L$25>=Annee_BI+5,IF(Systèmes_communs!$L$16:$L$25<=Annee_BI+9,Systèmes_communs!$L$16:$L$25)))","v":0},{"$f":"MAX(IF(Systèmes_communs!$L$16:$L$25>=Annee_BI+5,IF(Systèmes_communs!$L$16:$L$25<=Annee_BI+9,Systèmes_communs!$L$16:$L$25)))","v":0}]
["Eau potable ","Installation de production","Stations mécanisées",{"$f":"IF(Identification!$H$63=\"\",\"\",Identification!$H$63)","v":""},"Systèmes communs","Mécanique",{"$f":"Systèmes_communs!$B$40","v":""},0,{"$f":"IFERROR(J47/SUM($J46:$J49),0)","v":0},{"$f":"Systèmes_communs!$I$40","v":0},{"$f":"Systèmes_communs!$G$40","v":""},{"$f":"Systèmes_communs!$E$40","v":""},{"$f":"Systèmes_communs!$F$40","v":""},{"$f":"Systèmes_communs!$J$40-SUMIFS(Systèmes_communs!$J$30:$J$39,Systèmes_communs!$E$30:$E$39,\"<4\",Systèmes_communs!$F$30:$F$39,\"<4\")","v":0},{"$f":"SUMIFS(Systèmes_communs!$J$30:$J$39,Systèmes_communs!$E$30:$E$39,\"<4\",Systèmes_communs!$F$30:$F$39,\"<4\",Systèmes_communs!$L$30:$L$39,\">=\"&Annee_BI,Systèmes_communs!$L$30:$L$39,\"<=\"&Annee_BI+4)","v":0},{"$f":"MIN(IF(Systèmes_communs!$L$30:$L$39>=Annee_BI,IF(Systèmes_communs!$L$30:$L$39<=Annee_BI+4,Systèmes_communs!$L$30:$L$39)))","v":0},{"$f":"MAX(IF(Systèmes_communs!$L$30:$L$39>=Annee_BI,IF(Systèmes_communs!$L$30:$L$39<=Annee_BI+4,Systèmes_communs!$L$30:$L$39)))","v":0},{"$f":"SUMIFS(Systèmes_communs!$J$30:$J$39,Systèmes_communs!$E$30:$E$39,\"<4\",Systèmes_communs!$F$30:$F$39,\"<4\",Systèmes_communs!$L$30:$L$39,\">=\"&Annee_BI+5,Systèmes_communs!$L$30:$L$39,\"<=\"&Annee_BI+9)","v":0},{"$f":"MIN(IF(Systèmes_communs!$L$30:$L$39>=Annee_BI+5,IF(Systèmes_communs!$L$30:$L$39<=Annee_BI+9,Systèmes_communs!$L$30:$L$39)))","v":0},{"$f":"MAX(IF(Systèmes_communs!$L$30:$L$39>=Annee_BI+5,IF(Systèmes_communs!$L$30:$L$39<=Annee_BI+9,Systèmes_communs!$L$30:$L$39)))","v":0}]
["Eau potable ","Installation de production","Stations mécanisées",{"$f":"IF(Identification!$H$63=\"\",\"\",Identification!$H$63)","v":""},"Systèmes communs","Électricité",{"$f":"Systèmes_communs!$B$54","v":""},0,{"$f":"IFERROR(J48/SUM($J46:$J49),0)","v":0},{"$f":"Systèmes_communs!$I$54","v":0},{"$f":"Systèmes_communs!$G$54","v":""},{"$f":"Systèmes_communs!$E$54","v":""},{"$f":"Systèmes_communs!$F$54","v":""},{"$f":"Systèmes_communs!$J$54-SUMIFS(Systèmes_communs!$J$44:$J$53,Systèmes_communs!$E$44:$E$53,\"<4\",Systèmes_communs!$F$44:$F$53,\"<4\")","v":0},{"$f":"SUMIFS(Systèmes_communs!$J$44:$J$53,Systèmes_communs!$E$44:$E$53,\"<4\",Systèmes_communs!$F$44:$F$53,\"<4\",Systèmes_communs!$L$44:$L$53,\">=\"&Annee_BI,Systèmes_communs!$L$44:$L$53,\"<=\"&Annee_BI+4)","v":0},{"$f":"MIN(IF(Systèmes_communs!$L$44:$L$53>=Annee_BI,IF(Systèmes_communs!$L$44:$L$53<=Annee_BI+4,Systèmes_communs!$L$44:$L$53)))","v":0},{"$f":"MAX(IF(Systèmes_communs!$L$44:$L$53>=Annee_BI,IF(Systèmes_communs!$L$44:$L$53<=Annee_BI+4,Systèmes_communs!$L$44:$L$53)))","v":0},{"$f":"SUMIFS(Systèmes_communs!$J$44:$J$53,Systèmes_communs!$E$44:$E$53,\"<4\",Systèmes_communs!$F$44:$F$53,\"<4\",Systèmes_communs!$L$44:$L$53,\">=\"&Annee_BI+5,Systèmes_communs!$L$44:$L$53,\"<=\"&Annee_BI+9)","v":0},{"$f":"MIN(IF(Systèmes_communs!$L$44:$L$53>=Annee_BI+5,IF(Systèmes_communs!$L$44:$L$53<=Annee_BI+9,Systèmes_communs!$L$44:$L$53)))","v":0},{"$f":"MAX(IF(Systèmes_communs!$L$44:$L$53>=Annee_BI+5,IF(Systèmes_communs!$L$44:$L$53<=Annee_BI+9,Systèmes_communs!$L$44:$L$53)))","v":0}]
["Eau potable ","Installation de production","Stations mécanisées",{"$f":"IF(Identification!$H$63=\"\",\"\",Identification!$H$63)","v":""},"Systèmes communs","Instrumentation et contrôle",{"$f":"Systèmes_communs!$B$68","v":""},0,{"$f":"IFERROR(J49/SUM($J46:$J49),0)","v":0},{"$f":"Systèmes_communs!$I$68","v":0},{"$f":"Systèmes_communs!$G$68","v":""},{"$f":"Systèmes_communs!$E$68","v":""},{"$f":"Systèmes_communs!$F$68","v":""},{"$f":"Systèmes_communs!$J$68-SUMIFS(Systèmes_communs!$J$58:$J$67,Systèmes_communs!$E$58:$E$67,\"<4\",Systèmes_communs!$F$58:$F$67,\"<4\")","v":0},{"$f":"SUMIFS(Systèmes_communs!$J$58:$J$67,Systèmes_communs!$E$58:$E$67,\"<4\",Systèmes_communs!$F$58:$F$67,\"<4\",Systèmes_communs!$L$58:$L$67,\">=\"&Annee_BI,Systèmes_communs!$L$58:$L$67,\"<=\"&Annee_BI+4)","v":0},{"$f":"MIN(IF(Systèmes_communs!$L$58:$L$67>=Annee_BI,IF(Systèmes_communs!$L$58:$L$67<=Annee_BI+4,Systèmes_communs!$L$58:$L$67)))","v":0},{"$f":"MAX(IF(Systèmes_communs!$L$58:$L$67>=Annee_BI,IF(Systèmes_communs!$L$58:$L$67<=Annee_BI+4,Systèmes_communs!$L$58:$L$67)))","v":0},{"$f":"SUMIFS(Systèmes_communs!$J$58:$J$67,Systèmes_communs!$E$58:$E$67,\"<4\",Systèmes_communs!$F$58:$F$67,\"<4\",Systèmes_communs!$L$58:$L$67,\">=\"&Annee_BI+5,Systèmes_communs!$L$58:$L$67,\"<=\"&Annee_BI+9)","v":0},{"$f":"MIN(IF(Systèmes_communs!$L$58:$L$67>=Annee_BI+5,IF(Systèmes_communs!$L$58:$L$67<=Annee_BI+9,Systèmes_communs!$L$58:$L$67)))","v":0},{"$f":"MAX(IF(Systèmes_communs!$L$58:$L$67>=Annee_BI+5,IF(Systèmes_communs!$L$58:$L$67<=Annee_BI+9,Systèmes_communs!$L$58:$L$67)))","v":0}]
["Eau potable ","Installation de production","Petites installations",{"$f":"IF(Identification!$H$63=\"\",\"\",Identification!$H$63)","v":""},"Captage/ Eau brute","Civil",{"$f":"EP_Captage!$B$26","v":""},{"$f":"IF(G50<>\"\",1,0)","v":0},{"$f":"IFERROR(J50/SUM($J50:$J53),0)","v":0},{"$f":"EP_Captage!$I$26","v":0},{"$f":"EP_Captage!$G$26","v":""},{"$f":"EP_Captage!$E$26","v":""},{"$f":"EP_Captage!$F$26","v":""},{"$f":"EP_Captage!$J$26-SUMIFS(EP_Captage!$J$16:$J$25,EP_Captage!$E$16:$E$25,\"<4\",EP_Captage!$F$16:$F$25,\"<4\")","v":0},{"$f":"SUMIFS(EP_Captage!$J$16:$J$25,EP_Captage!$E$16:$E$25,\"<4\",EP_Captage!$F$16:$F$25,\"<4\",EP_Captage!$L$16:$L$25,\">=\"&Annee_BI,EP_Captage!$L$16:$L$25,\"<=\"&Annee_BI+4)","v":0},{"$f":"MIN(IF(EP_Captage!$L$16:$L$25>=Annee_BI,IF(EP_Captage!$L$16:$L$25<=Annee_BI+4,EP_Captage!$L$16:$L$25)))","v":0},{"$f":"MAX(IF(EP_Captage!$L$16:$L$25>=Annee_BI,IF(EP_Captage!$L$16:$L$25<=Annee_BI+4,EP_Captage!$L$16:$L$25)))","v":0},{"$f":"SUMIFS(EP_Captage!$J$16:$J$25,EP_Captage!$E$16:$E$25,\"<4\",EP_Captage!$F$16:$F$25,\"<4\",EP_Captage!$L$16:$L$25,\">=\"&Annee_BI+5,EP_Captage!$L$16:$L$25,\"<=\"&Annee_BI+9)","v":0},{"$f":"MIN(IF(EP_Captage!$L$16:$L$25>=Annee_BI+5,IF(EP_Captage!$L$16:$L$25<=Annee_BI+9,EP_Captage!$L$16:$L$25)))","v":0},{"$f":"MAX(IF(EP_Captage!$L$16:$L$25>=Annee_BI+5,IF(EP_Captage!$L$16:$L$25<=Annee_BI+9,EP_Captage!$L$16:$L$25)))","v":0}]
["Eau potable ","Installation de production","Petites installations",{"$f":"IF(Identification!$H$63=\"\",\"\",Identification!$H$63)","v":""},"Captage/ Eau brute","Mécanique",{"$f":"EP_Captage!$B$40","v":""},0,{"$f":"IFERROR(J51/SUM($J50:$J53),0)","v":0},{"$f":"EP_Captage!$I$40","v":0},{"$f":"EP_Captage!$G$40","v":""},{"$f":"EP_Captage!$E$40","v":""},{"$f":"EP_Captage!$F$40","v":""},{"$f":"EP_Captage!$J$40-SUMIFS(EP_Captage!$J$30:$J$39,EP_Captage!$E$30:$E$39,\"<4\",EP_Captage!$F$30:$F$39,\"<4\")","v":0},{"$f":"SUMIFS(EP_Captage!$J$30:$J$39,EP_Captage!$E$30:$E$39,\"<4\",EP_Captage!$F$30:$F$39,\"<4\",EP_Captage!$L$30:$L$39,\">=\"&Annee_BI,EP_Captage!$L$30:$L$39,\"<=\"&Annee_BI+4)","v":0},{"$f":"MIN(IF(EP_Captage!$L$30:$L$39>=Annee_BI,IF(EP_Captage!$L$30:$L$39<=Annee_BI+4,EP_Captage!$L$30:$L$39)))","v":0},{"$f":"MAX(IF(EP_Captage!$L$30:$L$39>=Annee_BI,IF(EP_Captage!$L$30:$L$39<=Annee_BI+4,EP_Captage!$L$30:$L$39)))","v":0},{"$f":"SUMIFS(EP_Captage!$J$30:$J$39,EP_Captage!$E$30:$E$39,\"<4\",EP_Captage!$F$30:$F$39,\"<4\",EP_Captage!$L$30:$L$39,\">=\"&Annee_BI+5,EP_Captage!$L$30:$L$39,\"<=\"&Annee_BI+9)","v":0},{"$f":"MIN(IF(EP_Captage!$L$30:$L$39>=Annee_BI+5,IF(EP_Captage!$L$30:$L$39<=Annee_BI+9,EP_Captage!$L$30:$L$39)))","v":0},{"$f":"MAX(IF(EP_Captage!$L$30:$L$39>=Annee_BI+5,IF(EP_Captage!$L$30:$L$39<=Annee_BI+9,EP_Captage!$L$30:$L$39)))","v":0}]
["Eau potable ","Installation de production","Petites installations",{"$f":"IF(Identification!$H$63=\"\",\"\",Identification!$H$63)","v":""},"Captage/ Eau brute","Électricité",{"$f":"EP_Captage!$B$54","v":""},0,{"$f":"IFERROR(J52/SUM($J50:$J53),0)","v":0},{"$f":"EP_Captage!$I$54","v":0},{"$f":"EP_Captage!$G$54","v":""},{"$f":"EP_Captage!$E$54","v":""},{"$f":"EP_Captage!$F$54","v":""},{"$f":"EP_Captage!$J$54-SUMIFS(EP_Captage!$J$44:$J$53,EP_Captage!$E$44:$E$53,\"<4\",EP_Captage!$F$44:$F$53,\"<4\")","v":0},{"$f":"SUMIFS(EP_Captage!$J$44:$J$53,EP_Captage!$E$44:$E$53,\"<4\",EP_Captage!$F$44:$F$53,\"<4\",EP_Captage!$L$44:$L$53,\">=\"&Annee_BI,EP_Captage!$L$44:$L$53,\"<=\"&Annee_BI+4)","v":0},{"$f":"MIN(IF(EP_Captage!$L$44:$L$53>=Annee_BI,IF(EP_Captage!$L$44:$L$53<=Annee_BI+4,EP_Captage!$L$44:$L$53)))","v":0},{"$f":"MAX(IF(EP_Captage!$L$44:$L$53>=Annee_BI,IF(EP_Captage!$L$44:$L$53<=Annee_BI+4,EP_Captage!$L$44:$L$53)))","v":0},{"$f":"SUMIFS(EP_Captage!$J$44:$J$53,EP_Captage!$E$44:$E$53,\"<4\",EP_Captage!$F$44:$F$53,\"<4\",EP_Captage!$L$44:$L$53,\">=\"&Annee_BI+5,EP_Captage!$L$44:$L$53,\"<=\"&Annee_BI+9)","v":0},{"$f":"MIN(IF(EP_Captage!$L$44:$L$53>=Annee_BI+5,IF(EP_Captage!$L$44:$L$53<=Annee_BI+9,EP_Captage!$L$44:$L$53)))","v":0},{"$f":"MAX(IF(EP_Captage!$L$44:$L$53>=Annee_BI+5,IF(EP_Captage!$L$44:$L$53<=Annee_BI+9,EP_Captage!$L$44:$L$53)))","v":0}]
["Eau potable ","Installation de production","Petites installations",{"$f":"IF(Identification!$H$63=\"\",\"\",Identification!$H$63)","v":""},"Captage/ Eau brute","Instrumentation et contrôle",{"$f":"EP_Captage!$B$68","v":""},0,{"$f":"IFERROR(J53/SUM($J50:$J53),0)","v":0},{"$f":"EP_Captage!$I$68","v":0},{"$f":"EP_Captage!$G$68","v":""},{"$f":"EP_Captage!$E$68","v":""},{"$f":"EP_Captage!$F$68","v":""},{"$f":"EP_Captage!$J$68-SUMIFS(EP_Captage!$J$58:$J$67,EP_Captage!$E$58:$E$67,\"<4\",EP_Captage!$F$58:$F$67,\"<4\")","v":0},{"$f":"SUMIFS(EP_Captage!$J$58:$J$67,EP_Captage!$E$58:$E$67,\"<4\",EP_Captage!$F$58:$F$67,\"<4\",EP_Captage!$L$58:$L$67,\">=\"&Annee_BI,EP_Captage!$L$58:$L$67,\"<=\"&Annee_BI+4)","v":0},{"$f":"MIN(IF(EP_Captage!$L$58:$L$67>=Annee_BI,IF(EP_Captage!$L$58:$L$67<=Annee_BI+4,EP_Captage!$L$58:$L$67)))","v":0},{"$f":"MAX(IF(EP_Captage!$L$58:$L$67>=Annee_BI,IF(EP_Captage!$L$58:$L$67<=Annee_BI+4,EP_Captage!$L$58:$L$67)))","v":0},{"$f":"SUMIFS(EP_Captage!$J$58:$J$67,EP_Captage!$E$58:$E$67,\"<4\",EP_Captage!$F$58:$F$67,\"<4\",EP_Captage!$L$58:$L$67,\">=\"&Annee_BI+5,EP_Captage!$L$58:$L$67,\"<=\"&Annee_BI+9)","v":0},{"$f":"MIN(IF(EP_Captage!$L$58:$L$67>=Annee_BI+5,IF(EP_Captage!$L$58:$L$67<=Annee_BI+9,EP_Captage!$L$58:$L$67)))","v":0},{"$f":"MAX(IF(EP_Captage!$L$58:$L$67>=Annee_BI+5,IF(EP_Captage!$L$58:$L$67<=Annee_BI+9,EP_Captage!$L$58:$L$67)))","v":0}]
["Eau potable ","Installation de production","Petites installations",{"$f":"IF(Identification!$H$63=\"\",\"\",Identification!$H$63)","v":""},"Désinfection (Chloration)","Civil",{"$f":"EP_Desinfection_CHLO!$B$26","v":""},{"$f":"IF(G54<>\"\",1,0)","v":0},{"$f":"IFERROR(J54/SUM($J54:$J57),0)","v":0},{"$f":"EP_Desinfection_CHLO!$I$26","v":0},{"$f":"EP_Desinfection_CHLO!$G$26","v":""},{"$f":"EP_Desinfection_CHLO!$E$26","v":""},{"$f":"EP_Desinfection_CHLO!$F$26","v":""},{"$f":"EP_Desinfection_CHLO!$J$26-SUMIFS(EP_Desinfection_CHLO!$J$16:$J$25,EP_Desinfection_CHLO!$E$16:$E$25,\"<4\",EP_Desinfection_CHLO!$F$16:$F$25,\"<4\")","v":0},{"$f":"SUMIFS(EP_Desinfection_CHLO!$J$16:$J$25,EP_Desinfection_CHLO!$E$16:$E$25,\"<4\",EP_Desinfection_CHLO!$F$16:$F$25,\"<4\",EP_Desinfection_CHLO!$L$16:$L$25,\">=\"&Annee_BI,EP_Desinfection_CHLO!$L$16:$L$25,\"<=\"&Annee_BI+4)","v":0},{"$f":"MIN(IF(EP_Desinfection_CHLO!$L$16:$L$25>=Annee_BI,IF(EP_Desinfection_CHLO!$L$16:$L$25<=Annee_BI+4,EP_Desinfection_CHLO!$L$16:$L$25)))","v":0},{"$f":"MAX(IF(EP_Desinfection_CHLO!$L$16:$L$25>=Annee_BI,IF(EP_Desinfection_CHLO!$L$16:$L$25<=Annee_BI+4,EP_Desinfection_CHLO!$L$16:$L$25)))","v":0},{"$f":"SUMIFS(EP_Desinfection_CHLO!$J$16:$J$25,EP_Desinfection_CHLO!$E$16:$E$25,\"<4\",EP_Desinfection_CHLO!$F$16:$F$25,\"<4\",EP_Desinfection_CHLO!$L$16:$L$25,\">=\"&Annee_BI+5,EP_Desinfection_CHLO!$L$16:$L$25,\"<=\"&Annee_BI+9)","v":0},{"$f":"MIN(IF(EP_Desinfection_CHLO!$L$16:$L$25>=Annee_BI+5,IF(EP_Desinfection_CHLO!$L$16:$L$25<=Annee_BI+9,EP_Desinfection_CHLO!$L$16:$L$25)))","v":0},{"$f":"MAX(IF(EP_Desinfection_CHLO!$L$16:$L$25>=Annee_BI+5,IF(EP_Desinfection_CHLO!$L$16:$L$25<=Annee_BI+9,EP_Desinfection_CHLO!$L$16:$L$25)))","v":0}]
["Eau potable ","Installation de production","Petites installations",{"$f":"IF(Identification!$H$63=\"\",\"\",Identification!$H$63)","v":""},"Désinfection (Chloration)","Mécanique",{"$f":"EP_Desinfection_CHLO!$B$40","v":""},0,{"$f":"IFERROR(J55/SUM($J54:$J57),0)","v":0},{"$f":"EP_Desinfection_CHLO!$I$40","v":0},{"$f":"EP_Desinfection_CHLO!$G$40","v":""},{"$f":"EP_Desinfection_CHLO!$E$40","v":""},{"$f":"EP_Desinfection_CHLO!$F$40","v":""},{"$f":"EP_Desinfection_CHLO!$J$40-SUMIFS(EP_Desinfection_CHLO!$J$30:$J$39,EP_Desinfection_CHLO!$E$30:$E$39,\"<4\",EP_Desinfection_CHLO!$F$30:$F$39,\"<4\")","v":0},{"$f":"SUMIFS(EP_Desinfection_CHLO!$J$30:$J$39,EP_Desinfection_CHLO!$E$30:$E$39,\"<4\",EP_Desinfection_CHLO!$F$30:$F$39,\"<4\",EP_Desinfection_CHLO!$L$30:$L$39,\">=\"&Annee_BI,EP_Desinfection_CHLO!$L$30:$L$39,\"<=\"&Annee_BI+4)","v":0},{"$f":"MIN(IF(EP_Desinfection_CHLO!$L$30:$L$39>=Annee_BI,IF(EP_Desinfection_CHLO!$L$30:$L$39<=Annee_BI+4,EP_Desinfection_CHLO!$L$30:$L$39)))","v":0},{"$f":"MAX(IF(EP_Desinfection_CHLO!$L$30:$L$39>=Annee_BI,IF(EP_Desinfection_CHLO!$L$30:$L$39<=Annee_BI+4,EP_Desinfection_CHLO!$L$30:$L$39)))","v":0},{"$f":"SUMIFS(EP_Desinfection_CHLO!$J$30:$J$39,EP_Desinfection_CHLO!$E$30:$E$39,\"<4\",EP_Desinfection_CHLO!$F$30:$F$39,\"<4\",EP_Desinfection_CHLO!$L$30:$L$39,\">=\"&Annee_BI+5,EP_Desinfection_CHLO!$L$30:$L$39,\"<=\"&Annee_BI+9)","v":0},{"$f":"MIN(IF(EP_Desinfection_CHLO!$L$30:$L$39>=Annee_BI+5,IF(EP_Desinfection_CHLO!$L$30:$L$39<=Annee_BI+9,EP_Desinfection_CHLO!$L$30:$L$39)))","v":0},{"$f":"MAX(IF(EP_Desinfection_CHLO!$L$30:$L$39>=Annee_BI+5,IF(EP_Desinfection_CHLO!$L$30:$L$39<=Annee_BI+9,EP_Desinfection_CHLO!$L$30:$L$39)))","v":0}]
["Eau potable ","Installation de production","Petites installations",{"$f":"IF(Identification!$H$63=\"\",\"\",Identification!$H$63)","v":""},"Désinfection (Chloration)","Électricité",{"$f":"EP_Desinfection_CHLO!$B$54","v":""},0,{"$f":"IFERROR(J56/SUM($J54:$J57),0)","v":0},{"$f":"EP_Desinfection_CHLO!$I$54","v":0},{"$f":"EP_Desinfection_CHLO!$G$54","v":""},{"$f":"EP_Desinfection_CHLO!$E$54","v":""},{"$f":"EP_Desinfection_CHLO!$F$54","v":""},{"$f":"EP_Desinfection_CHLO!$J$54-SUMIFS(EP_Desinfection_CHLO!$J$44:$J$53,EP_Desinfection_CHLO!$E$44:$E$53,\"<4\",EP_Desinfection_CHLO!$F$44:$F$53,\"<4\")","v":0},{"$f":"SUMIFS(EP_Desinfection_CHLO!$J$44:$J$53,EP_Desinfection_CHLO!$E$44:$E$53,\"<4\",EP_Desinfection_CHLO!$F$44:$F$53,\"<4\",EP_Desinfection_CHLO!$L$44:$L$53,\">=\"&Annee_BI,EP_Desinfection_CHLO!$L$44:$L$53,\"<=\"&Annee_BI+4)","v":0},{"$f":"MIN(IF(EP_Desinfection_CHLO!$L$44:$L$53>=Annee_BI,IF(EP_Desinfection_CHLO!$L$44:$L$53<=Annee_BI+4,EP_Desinfection_CHLO!$L$44:$L$53)))","v":0},{"$f":"MAX(IF(EP_Desinfection_CHLO!$L$44:$L$53>=Annee_BI,IF(EP_Desinfection_CHLO!$L$44:$L$53<=Annee_BI+4,EP_Desinfection_CHLO!$L$44:$L$53)))","v":0},{"$f":"SUMIFS(EP_Desinfection_CHLO!$J$44:$J$53,EP_Desinfection_CHLO!$E$44:$E$53,\"<4\",EP_Desinfection_CHLO!$F$44:$F$53,\"<4\",EP_Desinfection_CHLO!$L$44:$L$53,\">=\"&Annee_BI+5,EP_Desinfection_CHLO!$L$44:$L$53,\"<=\"&Annee_BI+9)","v":0},{"$f":"MIN(IF(EP_Desinfection_CHLO!$L$44:$L$53>=Annee_BI+5,IF(EP_Desinfection_CHLO!$L$44:$L$53<=Annee_BI+9,EP_Desinfection_CHLO!$L$44:$L$53)))","v":0},{"$f":"MAX(IF(EP_Desinfection_CHLO!$L$44:$L$53>=Annee_BI+5,IF(EP_Desinfection_CHLO!$L$44:$L$53<=Annee_BI+9,EP_Desinfection_CHLO!$L$44:$L$53)))","v":0}]
["Eau potable ","Installation de production","Petites installations",{"$f":"IF(Identification!$H$63=\"\",\"\",Identification!$H$63)","v":""},"Désinfection (Chloration)","Instrumentation et contrôle",{"$f":"EP_Desinfection_CHLO!$B$68","v":""},0,{"$f":"IFERROR(J57/SUM($J54:$J57),0)","v":0},{"$f":"EP_Desinfection_CHLO!$I$68","v":0},{"$f":"EP_Desinfection_CHLO!$G$68","v":""},{"$f":"EP_Desinfection_CHLO!$E$68","v":""},{"$f":"EP_Desinfection_CHLO!$F$68","v":""},{"$f":"EP_Desinfection_CHLO!$J$68-SUMIFS(EP_Desinfection_CHLO!$J$58:$J$67,EP_Desinfection_CHLO!$E$58:$E$67,\"<4\",EP_Desinfection_CHLO!$F$58:$F$67,\"<4\")","v":0},{"$f":"SUMIFS(EP_Desinfection_CHLO!$J$58:$J$67,EP_Desinfection_CHLO!$E$58:$E$67,\"<4\",EP_Desinfection_CHLO!$F$58:$F$67,\"<4\",EP_Desinfection_CHLO!$L$58:$L$67,\">=\"&Annee_BI,EP_Desinfection_CHLO!$L$58:$L$67,\"<=\"&Annee_BI+4)","v":0},{"$f":"MIN(IF(EP_Desinfection_CHLO!$L$58:$L$67>=Annee_BI,IF(EP_Desinfection_CHLO!$L$58:$L$67<=Annee_BI+4,EP_Desinfection_CHLO!$L$58:$L$67)))","v":0},{"$f":"MAX(IF(EP_Desinfection_CHLO!$L$58:$L$67>=Annee_BI,IF(EP_Desinfection_CHLO!$L$58:$L$67<=Annee_BI+4,EP_Desinfection_CHLO!$L$58:$L$67)))","v":0},{"$f":"SUMIFS(EP_Desinfection_CHLO!$J$58:$J$67,EP_Desinfection_CHLO!$E$58:$E$67,\"<4\",EP_Desinfection_CHLO!$F$58:$F$67,\"<4\",EP_Desinfection_CHLO!$L$58:$L$67,\">=\"&Annee_BI+5,EP_Desinfection_CHLO!$L$58:$L$67,\"<=\"&Annee_BI+9)","v":0},{"$f":"MIN(IF(EP_Desinfection_CHLO!$L$58:$L$67>=Annee_BI+5,IF(EP_Desinfection_CHLO!$L$58:$L$67<=Annee_BI+9,EP_Desinfection_CHLO!$L$58:$L$67)))","v":0},{"$f":"MAX(IF(EP_Desinfection_CHLO!$L$58:$L$67>=Annee_BI+5,IF(EP_Desinfection_CHLO!$L$58:$L$67<=Annee_BI+9,EP_Desinfection_CHLO!$L$58:$L$67)))","v":0}]
["Eau potable ","Installation de production","Petites installations",{"$f":"IF(Identification!$H$63=\"\",\"\",Identification!$H$63)","v":""},"Désinfection (U.V.)","Civil",{"$f":"EP_Desinfection_UV!$B$26","v":""},{"$f":"IF(G58<>\"\",1,0)","v":0},{"$f":"IFERROR(J58/SUM($J58:$J61),0)","v":0},{"$f":"EP_Desinfection_UV!$I$26","v":0},{"$f":"EP_Desinfection_UV!$G$26","v":""},{"$f":"EP_Desinfection_UV!$E$26","v":""},{"$f":"EP_Desinfection_UV!$F$26","v":""},{"$f":"EP_Desinfection_UV!$J$26-SUMIFS(EP_Desinfection_UV!$J$16:$J$25,EP_Desinfection_UV!$E$16:$E$25,\"<4\",EP_Desinfection_UV!$F$16:$F$25,\"<4\")","v":0},{"$f":"SUMIFS(EP_Desinfection_UV!$J$16:$J$25,EP_Desinfection_UV!$E$16:$E$25,\"<4\",EP_Desinfection_UV!$F$16:$F$25,\"<4\",EP_Desinfection_UV!$L$16:$L$25,\">=\"&Annee_BI,EP_Desinfection_UV!$L$16:$L$25,\"<=\"&Annee_BI+4)","v":0},{"$f":"MIN(IF(EP_Desinfection_UV!$L$16:$L$25>=Annee_BI,IF(EP_Desinfection_UV!$L$16:$L$25<=Annee_BI+4,EP_Desinfection_UV!$L$16:$L$25)))","v":0},{"$f":"MAX(IF(EP_Desinfection_UV!$L$16:$L$25>=Annee_BI,IF(EP_Desinfection_UV!$L$16:$L$25<=Annee_BI+4,EP_Desinfection_UV!$L$16:$L$25)))","v":0},{"$f":"SUMIFS(EP_Desinfection_UV!$J$16:$J$25,EP_Desinfection_UV!$E$16:$E$25,\"<4\",EP_Desinfection_UV!$F$16:$F$25,\"<4\",EP_Desinfection_UV!$L$16:$L$25,\">=\"&Annee_BI+5,EP_Desinfection_UV!$L$16:$L$25,\"<=\"&Annee_BI+9)","v":0},{"$f":"MIN(IF(EP_Desinfection_UV!$L$16:$L$25>=Annee_BI+5,IF(EP_Desinfection_UV!$L$16:$L$25<=Annee_BI+9,EP_Desinfection_UV!$L$16:$L$25)))","v":0},{"$f":"MAX(IF(EP_Desinfection_UV!$L$16:$L$25>=Annee_BI+5,IF(EP_Desinfection_UV!$L$16:$L$25<=Annee_BI+9,EP_Desinfection_UV!$L$16:$L$25)))","v":0}]
["Eau potable ","Installation de production","Petites installations",{"$f":"IF(Identification!$H$63=\"\",\"\",Identification!$H$63)","v":""},"Désinfection (U.V.)","Mécanique",{"$f":"EP_Desinfection_UV!$B$40","v":""},{"$f":"IF(G59<>\"\",1,0)","v":0},{"$f":"IFERROR(J59/SUM($J58:$J61),0)","v":0},{"$f":"EP_Desinfection_UV!$I$40","v":0},{"$f":"EP_Desinfection_UV!$G$40","v":""},{"$f":"EP_Desinfection_UV!$E$40","v":""},{"$f":"EP_Desinfection_UV!$F$40","v":""},{"$f":"EP_Desinfection_UV!$J$40-SUMIFS(EP_Desinfection_UV!$J$30:$J$39,EP_Desinfection_UV!$E$30:$E$39,\"<4\",EP_Desinfection_UV!$F$30:$F$39,\"<4\")","v":0},{"$f":"SUMIFS(EP_Desinfection_UV!$J$30:$J$39,EP_Desinfection_UV!$E$30:$E$39,\"<4\",EP_Desinfection_UV!$F$30:$F$39,\"<4\",EP_Desinfection_UV!$L$30:$L$39,\">=\"&Annee_BI,EP_Desinfection_UV!$L$30:$L$39,\"<=\"&Annee_BI+4)","v":0},{"$f":"MIN(IF(EP_Desinfection_UV!$L$30:$L$39>=Annee_BI,IF(EP_Desinfection_UV!$L$30:$L$39<=Annee_BI+4,EP_Desinfection_UV!$L$30:$L$39)))","v":0},{"$f":"MAX(IF(EP_Desinfection_UV!$L$30:$L$39>=Annee_BI,IF(EP_Desinfection_UV!$L$30:$L$39<=Annee_BI+4,EP_Desinfection_UV!$L$30:$L$39)))","v":0},{"$f":"SUMIFS(EP_Desinfection_UV!$J$30:$J$39,EP_Desinfection_UV!$E$30:$E$39,\"<4\",EP_Desinfection_UV!$F$30:$F$39,\"<4\",EP_Desinfection_UV!$L$30:$L$39,\">=\"&Annee_BI+5,EP_Desinfection_UV!$L$30:$L$39,\"<=\"&Annee_BI+9)","v":0},{"$f":"MIN(IF(EP_Desinfection_UV!$L$30:$L$39>=Annee_BI+5,IF(EP_Desinfection_UV!$L$30:$L$39<=Annee_BI+9,EP_Desinfection_UV!$L$30:$L$39)))","v":0},{"$f":"MAX(IF(EP_Desinfection_UV!$L$30:$L$39>=Annee_BI+5,IF(EP_Desinfection_UV!$L$30:$L$39<=Annee_BI+9,EP_Desinfection_UV!$L$30:$L$39)))","v":0}]
["Eau potable ","Installation de production","Petites installations",{"$f":"IF(Identification!$H$63=\"\",\"\",Identification!$H$63)","v":""},"Désinfection (U.V.)","Électricité",{"$f":"EP_Desinfection_UV!$B$54","v":""},0,{"$f":"IFERROR(J60/SUM($J58:$J61),0)","v":0},{"$f":"EP_Desinfection_UV!$I$54","v":0},{"$f":"EP_Desinfection_UV!$G$54","v":""},{"$f":"EP_Desinfection_UV!$E$54","v":""},{"$f":"EP_Desinfection_UV!$F$54","v":""},{"$f":"EP_Desinfection_UV!$J$54-SUMIFS(EP_Desinfection_UV!$J$44:$J$53,EP_Desinfection_UV!$E$44:$E$53,\"<4\",EP_Desinfection_UV!$F$44:$F$53,\"<4\")","v":0},{"$f":"SUMIFS(EP_Desinfection_UV!$J$44:$J$53,EP_Desinfection_UV!$E$44:$E$53,\"<4\",EP_Desinfection_UV!$F$44:$F$53,\"<4\",EP_Desinfection_UV!$L$44:$L$53,\">=\"&Annee_BI,EP_Desinfection_UV!$L$44:$L$53,\"<=\"&Annee_BI+4)","v":0},{"$f":"MIN(IF(EP_Desinfection_UV!$L$44:$L$53>=Annee_BI,IF(EP_Desinfection_UV!$L$44:$L$53<=Annee_BI+4,EP_Desinfection_UV!$L$44:$L$53)))","v":0},{"$f":"MAX(IF(EP_Desinfection_UV!$L$44:$L$53>=Annee_BI,IF(EP_Desinfection_UV!$L$44:$L$53<=Annee_BI+4,EP_Desinfection_UV!$L$44:$L$53)))","v":0},{"$f":"SUMIFS(EP_Desinfection_UV!$J$44:$J$53,EP_Desinfection_UV!$E$44:$E$53,\"<4\",EP_Desinfection_UV!$F$44:$F$53,\"<4\",EP_Desinfection_UV!$L$44:$L$53,\">=\"&Annee_BI+5,EP_Desinfection_UV!$L$44:$L$53,\"<=\"&Annee_BI+9)","v":0},{"$f":"MIN(IF(EP_Desinfection_UV!$L$44:$L$53>=Annee_BI+5,IF(EP_Desinfection_UV!$L$44:$L$53<=Annee_BI+9,EP_Desinfection_UV!$L$44:$L$53)))","v":0},{"$f":"MAX(IF(EP_Desinfection_UV!$L$44:$L$53>=Annee_BI+5,IF(EP_Desinfection_UV!$L$44:$L$53<=Annee_BI+9,EP_Desinfection_UV!$L$44:$L$53)))","v":0}]
["Eau potable ","Installation de production","Petites installations",{"$f":"IF(Identification!$H$63=\"\",\"\",Identification!$H$63)","v":""},"Désinfection (U.V.)","Instrumentation et contrôle",{"$f":"EP_Desinfection_UV!$B$68","v":""},0,{"$f":"IFERROR(J61/SUM($J58:$J61),0)","v":0},{"$f":"EP_Desinfection_UV!$I$68","v":0},{"$f":"EP_Desinfection_UV!$G$68","v":""},{"$f":"EP_Desinfection_UV!$E$68","v":""},{"$f":"EP_Desinfection_UV!$F$68","v":""},{"$f":"EP_Desinfection_UV!$J$68-SUMIFS(EP_Desinfection_UV!$J$58:$J$67,EP_Desinfection_UV!$E$58:$E$67,\"<4\",EP_Desinfection_UV!$F$58:$F$67,\"<4\")","v":0},{"$f":"SUMIFS(EP_Desinfection_UV!$J$58:$J$67,EP_Desinfection_UV!$E$58:$E$67,\"<4\",EP_Desinfection_UV!$F$58:$F$67,\"<4\",EP_Desinfection_UV!$L$58:$L$67,\">=\"&Annee_BI,EP_Desinfection_UV!$L$58:$L$67,\"<=\"&Annee_BI+4)","v":0},{"$f":"MIN(IF(EP_Desinfection_UV!$L$58:$L$67>=Annee_BI,IF(EP_Desinfection_UV!$L$58:$L$67<=Annee_BI+4,EP_Desinfection_UV!$L$58:$L$67)))","v":0},{"$f":"MAX(IF(EP_Desinfection_UV!$L$58:$L$67>=Annee_BI,IF(EP_Desinfection_UV!$L$58:$L$67<=Annee_BI+4,EP_Desinfection_UV!$L$58:$L$67)))","v":0},{"$f":"SUMIFS(EP_Desinfection_UV!$J$58:$J$67,EP_Desinfection_UV!$E$58:$E$67,\"<4\",EP_Desinfection_UV!$F$58:$F$67,\"<4\",EP_Desinfection_UV!$L$58:$L$67,\">=\"&Annee_BI+5,EP_Desinfection_UV!$L$58:$L$67,\"<=\"&Annee_BI+9)","v":0},{"$f":"MIN(IF(EP_Desinfection_UV!$L$58:$L$67>=Annee_BI+5,IF(EP_Desinfection_UV!$L$58:$L$67<=Annee_BI+9,EP_Desinfection_UV!$L$58:$L$67)))","v":0},{"$f":"MAX(IF(EP_Desinfection_UV!$L$58:$L$67>=Annee_BI+5,IF(EP_Desinfection_UV!$L$58:$L$67<=Annee_BI+9,EP_Desinfection_UV!$L$58:$L$67)))","v":0}]
["Eau potable ","Installation de production","Petites installations",{"$f":"IF(Identification!$H$63=\"\",\"\",Identification!$H$63)","v":""},"Réserve d'eau","Civil",{"$f":"EP_Reserve_eau!$B$26","v":""},{"$f":"IF(G62<>\"\",1,0)","v":0},{"$f":"IFERROR(J62/SUM($J62:$J65),0)","v":0},{"$f":"EP_Reserve_eau!$I$26","v":0},{"$f":"EP_Reserve_eau!$G$26","v":""},{"$f":"EP_Reserve_eau!$E$26","v":""},{"$f":"EP_Reserve_eau!$F$26","v":""},{"$f":"EP_Reserve_eau!$J$26-SUMIFS(EP_Reserve_eau!$J$16:$J$25,EP_Reserve_eau!$E$16:$E$25,\"<4\",EP_Reserve_eau!$F$16:$F$25,\"<4\")","v":0},{"$f":"SUMIFS(EP_Reserve_eau!$J$16:$J$25,EP_Reserve_eau!$E$16:$E$25,\"<4\",EP_Reserve_eau!$F$16:$F$25,\"<4\",EP_Reserve_eau!$L$16:$L$25,\">=\"&Annee_BI,EP_Reserve_eau!$L$16:$L$25,\"<=\"&Annee_BI+4)","v":0},{"$f":"MIN(IF(EP_Reserve_eau!$L$16:$L$25>=Annee_BI,IF(EP_Reserve_eau!$L$16:$L$25<=Annee_BI+4,EP_Reserve_eau!$L$16:$L$25)))","v":0},{"$f":"MAX(IF(EP_Reserve_eau!$L$16:$L$25>=Annee_BI,IF(EP_Reserve_eau!$L$16:$L$25<=Annee_BI+4,EP_Reserve_eau!$L$16:$L$25)))","v":0},{"$f":"SUMIFS(EP_Reserve_eau!$J$16:$J$25,EP_Reserve_eau!$E$16:$E$25,\"<4\",EP_Reserve_eau!$F$16:$F$25,\"<4\",EP_Reserve_eau!$L$16:$L$25,\">=\"&Annee_BI+5,EP_Reserve_eau!$L$16:$L$25,\"<=\"&Annee_BI+9)","v":0},{"$f":"MIN(IF(EP_Reserve_eau!$L$16:$L$25>=Annee_BI+5,IF(EP_Reserve_eau!$L$16:$L$25<=Annee_BI+9,EP_Reserve_eau!$L$16:$L$25)))","v":0},{"$f":"MAX(IF(EP_Reserve_eau!$L$16:$L$25>=Annee_BI+5,IF(EP_Reserve_eau!$L$16:$L$25<=Annee_BI+9,EP_Reserve_eau!$L$16:$L$25)))","v":0}]
["Eau potable ","Installation de production","Petites installations",{"$f":"IF(Identification!$H$63=\"\",\"\",Identification!$H$63)","v":""},"Réserve d'eau","Mécanique",{"$f":"EP_Reserve_eau!$B$40","v":""},0,{"$f":"IFERROR(J63/SUM($J62:$J65),0)","v":0},{"$f":"EP_Reserve_eau!$I$40","v":0},{"$f":"EP_Reserve_eau!$G$40","v":""},{"$f":"EP_Reserve_eau!$E$40","v":""},{"$f":"EP_Reserve_eau!$F$40","v":""},{"$f":"EP_Reserve_eau!$J$40-SUMIFS(EP_Reserve_eau!$J$30:$J$39,EP_Reserve_eau!$E$30:$E$39,\"<4\",EP_Reserve_eau!$F$30:$F$39,\"<4\")","v":0},{"$f":"SUMIFS(EP_Reserve_eau!$J$30:$J$39,EP_Reserve_eau!$E$30:$E$39,\"<4\",EP_Reserve_eau!$F$30:$F$39,\"<4\",EP_Reserve_eau!$L$30:$L$39,\">=\"&Annee_BI,EP_Reserve_eau!$L$30:$L$39,\"<=\"&Annee_BI+4)","v":0},{"$f":"MIN(IF(EP_Reserve_eau!$L$30:$L$39>=Annee_BI,IF(EP_Reserve_eau!$L$30:$L$39<=Annee_BI+4,EP_Reserve_eau!$L$30:$L$39)))","v":0},{"$f":"MAX(IF(EP_Reserve_eau!$L$30:$L$39>=Annee_BI,IF(EP_Reserve_eau!$L$30:$L$39<=Annee_BI+4,EP_Reserve_eau!$L$30:$L$39)))","v":0},{"$f":"SUMIFS(EP_Reserve_eau!$J$30:$J$39,EP_Reserve_eau!$E$30:$E$39,\"<4\",EP_Reserve_eau!$F$30:$F$39,\"<4\",EP_Reserve_eau!$L$30:$L$39,\">=\"&Annee_BI+5,EP_Reserve_eau!$L$30:$L$39,\"<=\"&Annee_BI+9)","v":0},{"$f":"MIN(IF(EP_Reserve_eau!$L$30:$L$39>=Annee_BI+5,IF(EP_Reserve_eau!$L$30:$L$39<=Annee_BI+9,EP_Reserve_eau!$L$30:$L$39)))","v":0},{"$f":"MAX(IF(EP_Reserve_eau!$L$30:$L$39>=Annee_BI+5,IF(EP_Reserve_eau!$L$30:$L$39<=Annee_BI+9,EP_Reserve_eau!$L$30:$L$39)))","v":0}]
["Eau potable ","Installation de production","Petites installations",{"$f":"IF(Identification!$H$63=\"\",\"\",Identification!$H$63)","v":""},"Réserve d'eau","Électricité",{"$f":"EP_Reserve_eau!$B$54","v":""},0,{"$f":"IFERROR(J64/SUM($J62:$J65),0)","v":0},{"$f":"EP_Reserve_eau!$I$54","v":0},{"$f":"EP_Reserve_eau!$G$54","v":""},{"$f":"EP_Reserve_eau!$E$54","v":""},{"$f":"EP_Reserve_eau!$F$54","v":""},{"$f":"EP_Reserve_eau!$J$54-SUMIFS(EP_Reserve_eau!$J$44:$J$53,EP_Reserve_eau!$E$44:$E$53,\"<4\",EP_Reserve_eau!$F$44:$F$53,\"<4\")","v":0},{"$f":"SUMIFS(EP_Reserve_eau!$J$44:$J$53,EP_Reserve_eau!$E$44:$E$53,\"<4\",EP_Reserve_eau!$F$44:$F$53,\"<4\",EP_Reserve_eau!$L$44:$L$53,\">=\"&Annee_BI,EP_Reserve_eau!$L$44:$L$53,\"<=\"&Annee_BI+4)","v":0},{"$f":"MIN(IF(EP_Reserve_eau!$L$44:$L$53>=Annee_BI,IF(EP_Reserve_eau!$L$44:$L$53<=Annee_BI+4,EP_Reserve_eau!$L$44:$L$53)))","v":0},{"$f":"MAX(IF(EP_Reserve_eau!$L$44:$L$53>=Annee_BI,IF(EP_Reserve_eau!$L$44:$L$53<=Annee_BI+4,EP_Reserve_eau!$L$44:$L$53)))","v":0},{"$f":"SUMIFS(EP_Reserve_eau!$J$44:$J$53,EP_Reserve_eau!$E$44:$E$53,\"<4\",EP_Reserve_eau!$F$44:$F$53,\"<4\",EP_Reserve_eau!$L$44:$L$53,\">=\"&Annee_BI+5,EP_Reserve_eau!$L$44:$L$53,\"<=\"&Annee_BI+9)","v":0},{"$f":"MIN(IF(EP_Reserve_eau!$L$44:$L$53>=Annee_BI+5,IF(EP_Reserve_eau!$L$44:$L$53<=Annee_BI+9,EP_Reserve_eau!$L$44:$L$53)))","v":0},{"$f":"MAX(IF(EP_Reserve_eau!$L$44:$L$53>=Annee_BI+5,IF(EP_Reserve_eau!$L$44:$L$53<=Annee_BI+9,EP_Reserve_eau!$L$44:$L$53)))","v":0}]
["Eau potable ","Installation de production","Petites installations",{"$f":"IF(Identification!$H$63=\"\",\"\",Identification!$H$63)","v":""},"Réserve d'eau","Instrumentation et contrôle",{"$f":"EP_Reserve_eau!$B$68","v":""},0,{"$f":"IFERROR(J65/SUM($J62:$J65),0)","v":0},{"$f":"EP_Reserve_eau!$I$68","v":0},{"$f":"EP_Reserve_eau!$G$68","v":""},{"$f":"EP_Reserve_eau!$E$68","v":""},{"$f":"EP_Reserve_eau!$F$68","v":""},{"$f":"EP_Reserve_eau!$J$68-SUMIFS(EP_Reserve_eau!$J$58:$J$67,EP_Reserve_eau!$E$58:$E$67,\"<4\",EP_Reserve_eau!$F$58:$F$67,\"<4\")","v":0},{"$f":"SUMIFS(EP_Reserve_eau!$J$58:$J$67,EP_Reserve_eau!$E$58:$E$67,\"<4\",EP_Reserve_eau!$F$58:$F$67,\"<4\",EP_Reserve_eau!$L$58:$L$67,\">=\"&Annee_BI,EP_Reserve_eau!$L$58:$L$67,\"<=\"&Annee_BI+4)","v":0},{"$f":"MIN(IF(EP_Reserve_eau!$L$58:$L$67>=Annee_BI,IF(EP_Reserve_eau!$L$58:$L$67<=Annee_BI+4,EP_Reserve_eau!$L$58:$L$67)))","v":0},{"$f":"MAX(IF(EP_Reserve_eau!$L$58:$L$67>=Annee_BI,IF(EP_Reserve_eau!$L$58:$L$67<=Annee_BI+4,EP_Reserve_eau!$L$58:$L$67)))","v":0},{"$f":"SUMIFS(EP_Reserve_eau!$J$58:$J$67,EP_Reserve_eau!$E$58:$E$67,\"<4\",EP_Reserve_eau!$F$58:$F$67,\"<4\",EP_Reserve_eau!$L$58:$L$67,\">=\"&Annee_BI+5,EP_Reserve_eau!$L$58:$L$67,\"<=\"&Annee_BI+9)","v":0},{"$f":"MIN(IF(EP_Reserve_eau!$L$58:$L$67>=Annee_BI+5,IF(EP_Reserve_eau!$L$58:$L$67<=Annee_BI+9,EP_Reserve_eau!$L$58:$L$67)))","v":0},{"$f":"MAX(IF(EP_Reserve_eau!$L$58:$L$67>=Annee_BI+5,IF(EP_Reserve_eau!$L$58:$L$67<=Annee_BI+9,EP_Reserve_eau!$L$58:$L$67)))","v":0}]
["Eau potable ","Installation de production","Petites installations",{"$f":"IF(Identification!$H$63=\"\",\"\",Identification!$H$63)","v":""},"Traitements spécifiques","Civil",{"$f":"EP_Traitements_specifiques!$B$26","v":""},{"$f":"IF(G66<>\"\",1,0)","v":0},{"$f":"IFERROR(J66/SUM($J66:$J69),0)","v":0},{"$f":"EP_Traitements_specifiques!$I$26","v":0},{"$f":"EP_Traitements_specifiques!$G$26","v":""},{"$f":"EP_Traitements_specifiques!$E$26","v":""},{"$f":"EP_Traitements_specifiques!$F$26","v":""},{"$f":"EP_Traitements_specifiques!$J$26-SUMIFS(EP_Traitements_specifiques!$J$16:$J$25,EP_Traitements_specifiques!$E$16:$E$25,\"<4\",EP_Traitements_specifiques!$F$16:$F$25,\"<4\")","v":0},{"$f":"SUMIFS(EP_Traitements_specifiques!$J$16:$J$25,EP_Traitements_specifiques!$E$16:$E$25,\"<4\",EP_Traitements_specifiques!$F$16:$F$25,\"<4\",EP_Traitements_specifiques!$L$16:$L$25,\">=\"&Annee_BI,EP_Traitements_specifiques!$L$16:$L$25,\"<=\"&Annee_BI+4)","v":0},{"$f":"MIN(IF(EP_Traitements_specifiques!$L$16:$L$25>=Annee_BI,IF(EP_Traitements_specifiques!$L$16:$L$25<=Annee_BI+4,EP_Traitements_specifiques!$L$16:$L$25)))","v":0},{"$f":"MAX(IF(EP_Traitements_specifiques!$L$16:$L$25>=Annee_BI,IF(EP_Traitements_specifiques!$L$16:$L$25<=Annee_BI+4,EP_Traitements_specifiques!$L$16:$L$25)))","v":0},{"$f":"SUMIFS(EP_Traitements_specifiques!$J$16:$J$25,EP_Traitements_specifiques!$E$16:$E$25,\"<4\",EP_Traitements_specifiques!$F$16:$F$25,\"<4\",EP_Traitements_specifiques!$L$16:$L$25,\">=\"&Annee_BI+5,EP_Traitements_specifiques!$L$16:$L$25,\"<=\"&Annee_BI+9)","v":0},{"$f":"MIN(IF(EP_Traitements_specifiques!$L$16:$L$25>=Annee_BI+5,IF(EP_Traitements_specifiques!$L$16:$L$25<=Annee_BI+9,EP_Traitements_specifiques!$L$16:$L$25)))","v":0},{"$f":"MAX(IF(EP_Traitements_specifiques!$L$16:$L$25>=Annee_BI+5,IF(EP_Traitements_specifiques!$L$16:$L$25<=Annee_BI+9,EP_Traitements_specifiques!$L$16:$L$25)))","v":0}]
["Eau potable ","Installation de production","Petites installations",{"$f":"IF(Identification!$H$63=\"\",\"\",Identification!$H$63)","v":""},"Traitements spécifiques","Mécanique",{"$f":"EP_Traitements_specifiques!$B$40","v":""},0,{"$f":"IFERROR(J67/SUM($J66:$J69),0)","v":0},{"$f":"EP_Traitements_specifiques!$I$40","v":0},{"$f":"EP_Traitements_specifiques!$G$40","v":""},{"$f":"EP_Traitements_specifiques!$E$40","v":""},{"$f":"EP_Traitements_specifiques!$F$40","v":""},{"$f":"EP_Traitements_specifiques!$J$40-SUMIFS(EP_Traitements_specifiques!$J$30:$J$39,EP_Traitements_specifiques!$E$30:$E$39,\"<4\",EP_Traitements_specifiques!$F$30:$F$39,\"<4\")","v":0},{"$f":"SUMIFS(EP_Traitements_specifiques!$J$30:$J$39,EP_Traitements_specifiques!$E$30:$E$39,\"<4\",EP_Traitements_specifiques!$F$30:$F$39,\"<4\",EP_Traitements_specifiques!$L$30:$L$39,\">=\"&Annee_BI,EP_Traitements_specifiques!$L$30:$L$39,\"<=\"&Annee_BI+4)","v":0},{"$f":"MIN(IF(EP_Traitements_specifiques!$L$30:$L$39>=Annee_BI,IF(EP_Traitements_specifiques!$L$30:$L$39<=Annee_BI+4,EP_Traitements_specifiques!$L$30:$L$39)))","v":0},{"$f":"MAX(IF(EP_Traitements_specifiques!$L$30:$L$39>=Annee_BI,IF(EP_Traitements_specifiques!$L$30:$L$39<=Annee_BI+4,EP_Traitements_specifiques!$L$30:$L$39)))","v":0},{"$f":"SUMIFS(EP_Traitements_specifiques!$J$30:$J$39,EP_Traitements_specifiques!$E$30:$E$39,\"<4\",EP_Traitements_specifiques!$F$30:$F$39,\"<4\",EP_Traitements_specifiques!$L$30:$L$39,\">=\"&Annee_BI+5,EP_Traitements_specifiques!$L$30:$L$39,\"<=\"&Annee_BI+9)","v":0},{"$f":"MIN(IF(EP_Traitements_specifiques!$L$30:$L$39>=Annee_BI+5,IF(EP_Traitements_specifiques!$L$30:$L$39<=Annee_BI+9,EP_Traitements_specifiques!$L$30:$L$39)))","v":0},{"$f":"MAX(IF(EP_Traitements_specifiques!$L$30:$L$39>=Annee_BI+5,IF(EP_Traitements_specifiques!$L$30:$L$39<=Annee_BI+9,EP_Traitements_specifiques!$L$30:$L$39)))","v":0}]
["Eau potable ","Installation de production","Petites installations",{"$f":"IF(Identification!$H$63=\"\",\"\",Identification!$H$63)","v":""},"Traitements spécifiques","Électricité",{"$f":"EP_Traitements_specifiques!$B$54","v":""},{"$f":"IF(G68<>\"\",1,0)","v":0},{"$f":"IFERROR(J68/SUM($J66:$J69),0)","v":0},{"$f":"EP_Traitements_specifiques!$I$54","v":0},{"$f":"EP_Traitements_specifiques!$G$54","v":""},{"$f":"EP_Traitements_specifiques!$E$54","v":""},{"$f":"EP_Traitements_specifiques!$F$54","v":""},{"$f":"EP_Traitements_specifiques!$J$54-SUMIFS(EP_Traitements_specifiques!$J$44:$J$53,EP_Traitements_specifiques!$E$44:$E$53,\"<4\",EP_Traitements_specifiques!$F$44:$F$53,\"<4\")","v":0},{"$f":"SUMIFS(EP_Traitements_specifiques!$J$44:$J$53,EP_Traitements_specifiques!$E$44:$E$53,\"<4\",EP_Traitements_specifiques!$F$44:$F$53,\"<4\",EP_Traitements_specifiques!$L$44:$L$53,\">=\"&Annee_BI,EP_Traitements_specifiques!$L$44:$L$53,\"<=\"&Annee_BI+4)","v":0},{"$f":"MIN(IF(EP_Traitements_specifiques!$L$44:$L$53>=Annee_BI,IF(EP_Traitements_specifiques!$L$44:$L$53<=Annee_BI+4,EP_Traitements_specifiques!$L$44:$L$53)))","v":0},{"$f":"MAX(IF(EP_Traitements_specifiques!$L$44:$L$53>=Annee_BI,IF(EP_Traitements_specifiques!$L$44:$L$53<=Annee_BI+4,EP_Traitements_specifiques!$L$44:$L$53)))","v":0},{"$f":"SUMIFS(EP_Traitements_specifiques!$J$44:$J$53,EP_Traitements_specifiques!$E$44:$E$53,\"<4\",EP_Traitements_specifiques!$F$44:$F$53,\"<4\",EP_Traitements_specifiques!$L$44:$L$53,\">=\"&Annee_BI+5,EP_Traitements_specifiques!$L$44:$L$53,\"<=\"&Annee_BI+9)","v":0},{"$f":"MIN(IF(EP_Traitements_specifiques!$L$44:$L$53>=Annee_BI+5,IF(EP_Traitements_specifiques!$L$44:$L$53<=Annee_BI+9,EP_Traitements_specifiques!$L$44:$L$53)))","v":0},{"$f":"MAX(IF(EP_Traitements_specifiques!$L$44:$L$53>=Annee_BI+5,IF(EP_Traitements_specifiques!$L$44:$L$53<=Annee_BI+9,EP_Traitements_specifiques!$L$44:$L$53)))","v":0}]
["Eau potable ","Installation de production","Petites installations",{"$f":"IF(Identification!$H$63=\"\",\"\",Identification!$H$63)","v":""},"Traitements spécifiques","Instrumentation et contrôle",{"$f":"EP_Traitements_specifiques!$B$68","v":""},0,{"$f":"IFERROR(J69/SUM($J66:$J69),0)","v":0},{"$f":"EP_Traitements_specifiques!$I$68","v":0},{"$f":"EP_Traitements_specifiques!$G$68","v":""},{"$f":"EP_Traitements_specifiques!$E$68","v":""},{"$f":"EP_Traitements_specifiques!$F$68","v":""},{"$f":"EP_Traitements_specifiques!$J$68-SUMIFS(EP_Traitements_specifiques!$J$58:$J$67,EP_Traitements_specifiques!$E$58:$E$67,\"<4\",EP_Traitements_specifiques!$F$58:$F$67,\"<4\")","v":0},{"$f":"SUMIFS(EP_Traitements_specifiques!$J$58:$J$67,EP_Traitements_specifiques!$E$58:$E$67,\"<4\",EP_Traitements_specifiques!$F$58:$F$67,\"<4\",EP_Traitements_specifiques!$L$58:$L$67,\">=\"&Annee_BI,EP_Traitements_specifiques!$L$58:$L$67,\"<=\"&Annee_BI+4)","v":0},{"$f":"MIN(IF(EP_Traitements_specifiques!$L$58:$L$67>=Annee_BI,IF(EP_Traitements_specifiques!$L$58:$L$67<=Annee_BI+4,EP_Traitements_specifiques!$L$58:$L$67)))","v":0},{"$f":"MAX(IF(EP_Traitements_specifiques!$L$58:$L$67>=Annee_BI,IF(EP_Traitements_specifiques!$L$58:$L$67<=Annee_BI+4,EP_Traitements_specifiques!$L$58:$L$67)))","v":0},{"$f":"SUMIFS(EP_Traitements_specifiques!$J$58:$J$67,EP_Traitements_specifiques!$E$58:$E$67,\"<4\",EP_Traitements_specifiques!$F$58:$F$67,\"<4\",EP_Traitements_specifiques!$L$58:$L$67,\">=\"&Annee_BI+5,EP_Traitements_specifiques!$L$58:$L$67,\"<=\"&Annee_BI+9)","v":0},{"$f":"MIN(IF(EP_Traitements_specifiques!$L$58:$L$67>=Annee_BI+5,IF(EP_Traitements_specifiques!$L$58:$L$67<=Annee_BI+9,EP_Traitements_specifiques!$L$58:$L$67)))","v":0},{"$f":"MAX(IF(EP_Traitements_specifiques!$L$58:$L$67>=Annee_BI+5,IF(EP_Traitements_specifiques!$L$58:$L$67<=Annee_BI+9,EP_Traitements_specifiques!$L$58:$L$67)))","v":0}]
["Eau potable ","Installation de production","Petites installations",{"$f":"IF(Identification!$H$63=\"\",\"\",Identification!$H$63)","v":""},"Pompage de distribution","Civil",{"$f":"EP_Pompage_distribution!$B$26","v":""},{"$f":"IF(G70<>\"\",1,0)","v":0},{"$f":"IFERROR(J70/SUM($J70:$J73),0)","v":0},{"$f":"EP_Pompage_distribution!$I$26","v":0},{"$f":"EP_Pompage_distribution!$G$26","v":""},{"$f":"EP_Pompage_distribution!$E$26","v":""},{"$f":"EP_Pompage_distribution!$F$26","v":""},{"$f":"EP_Pompage_distribution!$J$26-SUMIFS(EP_Pompage_distribution!$J$16:$J$25,EP_Pompage_distribution!$E$16:$E$25,\"<4\",EP_Pompage_distribution!$F$16:$F$25,\"<4\")","v":0},{"$f":"SUMIFS(EP_Pompage_distribution!$J$16:$J$25,EP_Pompage_distribution!$E$16:$E$25,\"<4\",EP_Pompage_distribution!$F$16:$F$25,\"<4\",EP_Pompage_distribution!$L$16:$L$25,\">=\"&Annee_BI,EP_Pompage_distribution!$L$16:$L$25,\"<=\"&Annee_BI+4)","v":0},{"$f":"MIN(IF(EP_Pompage_distribution!$L$16:$L$25>=Annee_BI,IF(EP_Pompage_distribution!$L$16:$L$25<=Annee_BI+4,EP_Pompage_distribution!$L$16:$L$25)))","v":0},{"$f":"MAX(IF(EP_Pompage_distribution!$L$16:$L$25>=Annee_BI,IF(EP_Pompage_distribution!$L$16:$L$25<=Annee_BI+4,EP_Pompage_distribution!$L$16:$L$25)))","v":0},{"$f":"SUMIFS(EP_Pompage_distribution!$J$16:$J$25,EP_Pompage_distribution!$E$16:$E$25,\"<4\",EP_Pompage_distribution!$F$16:$F$25,\"<4\",EP_Pompage_distribution!$L$16:$L$25,\">=\"&Annee_BI+5,EP_Pompage_distribution!$L$16:$L$25,\"<=\"&Annee_BI+9)","v":0},{"$f":"MIN(IF(EP_Pompage_distribution!$L$16:$L$25>=Annee_BI+5,IF(EP_Pompage_distribution!$L$16:$L$25<=Annee_BI+9,EP_Pompage_distribution!$L$16:$L$25)))","v":0},{"$f":"MAX(IF(EP_Pompage_distribution!$L$16:$L$25>=Annee_BI+5,IF(EP_Pompage_distribution!$L$16:$L$25<=Annee_BI+9,EP_Pompage_distribution!$L$16:$L$25)))","v":0}]
["Eau potable ","Installation de production","Petites installations",{"$f":"IF(Identification!$H$63=\"\",\"\",Identification!$H$63)","v":""},"Pompage de distribution","Mécanique",{"$f":"EP_Pompage_distribution!$B$40","v":""},0,{"$f":"IFERROR(J71/SUM($J70:$J73),0)","v":0},{"$f":"EP_Pompage_distribution!$I$40","v":0},{"$f":"EP_Pompage_distribution!$G$40","v":""},{"$f":"EP_Pompage_distribution!$E$40","v":""},{"$f":"EP_Pompage_distribution!$F$40","v":""},{"$f":"EP_Pompage_distribution!$J$40-SUMIFS(EP_Pompage_distribution!$J$30:$J$39,EP_Pompage_distribution!$E$30:$E$39,\"<4\",EP_Pompage_distribution!$F$30:$F$39,\"<4\")","v":0},{"$f":"SUMIFS(EP_Pompage_distribution!$J$30:$J$39,EP_Pompage_distribution!$E$30:$E$39,\"<4\",EP_Pompage_distribution!$F$30:$F$39,\"<4\",EP_Pompage_distribution!$L$30:$L$39,\">=\"&Annee_BI,EP_Pompage_distribution!$L$30:$L$39,\"<=\"&Annee_BI+4)","v":0},{"$f":"MIN(IF(EP_Pompage_distribution!$L$30:$L$39>=Annee_BI,IF(EP_Pompage_distribution!$L$30:$L$39<=Annee_BI+4,EP_Pompage_distribution!$L$30:$L$39)))","v":0},{"$f":"MAX(IF(EP_Pompage_distribution!$L$30:$L$39>=Annee_BI,IF(EP_Pompage_distribution!$L$30:$L$39<=Annee_BI+4,EP_Pompage_distribution!$L$30:$L$39)))","v":0},{"$f":"SUMIFS(EP_Pompage_distribution!$J$30:$J$39,EP_Pompage_distribution!$E$30:$E$39,\"<4\",EP_Pompage_distribution!$F$30:$F$39,\"<4\",EP_Pompage_distribution!$L$30:$L$39,\">=\"&Annee_BI+5,EP_Pompage_distribution!$L$30:$L$39,\"<=\"&Annee_BI+9)","v":0},{"$f":"MIN(IF(EP_Pompage_distribution!$L$30:$L$39>=Annee_BI+5,IF(EP_Pompage_distribution!$L$30:$L$39<=Annee_BI+9,EP_Pompage_distribution!$L$30:$L$39)))","v":0},{"$f":"MAX(IF(EP_Pompage_distribution!$L$30:$L$39>=Annee_BI+5,IF(EP_Pompage_distribution!$L$30:$L$39<=Annee_BI+9,EP_Pompage_distribution!$L$30:$L$39)))","v":0}]
["Eau potable ","Installation de production","Petites installations",{"$f":"IF(Identification!$H$63=\"\",\"\",Identification!$H$63)","v":""},"Pompage de distribution","Électricité",{"$f":"EP_Pompage_distribution!$B$54","v":""},0,{"$f":"IFERROR(J72/SUM($J70:$J73),0)","v":0},{"$f":"EP_Pompage_distribution!$I$54","v":0},{"$f":"EP_Pompage_distribution!$G$54","v":""},{"$f":"EP_Pompage_distribution!$E$54","v":""},{"$f":"EP_Pompage_distribution!$F$54","v":""},{"$f":"EP_Pompage_distribution!$J$54-SUMIFS(EP_Pompage_distribution!$J$44:$J$53,EP_Pompage_distribution!$E$44:$E$53,\"<4\",EP_Pompage_distribution!$F$44:$F$53,\"<4\")","v":0},{"$f":"SUMIFS(EP_Pompage_distribution!$J$44:$J$53,EP_Pompage_distribution!$E$44:$E$53,\"<4\",EP_Pompage_distribution!$F$44:$F$53,\"<4\",EP_Pompage_distribution!$L$44:$L$53,\">=\"&Annee_BI,EP_Pompage_distribution!$L$44:$L$53,\"<=\"&Annee_BI+4)","v":0},{"$f":"MIN(IF(EP_Pompage_distribution!$L$44:$L$53>=Annee_BI,IF(EP_Pompage_distribution!$L$44:$L$53<=Annee_BI+4,EP_Pompage_distribution!$L$44:$L$53)))","v":0},{"$f":"MAX(IF(EP_Pompage_distribution!$L$44:$L$53>=Annee_BI,IF(EP_Pompage_distribution!$L$44:$L$53<=Annee_BI+4,EP_Pompage_distribution!$L$44:$L$53)))","v":0},{"$f":"SUMIFS(EP_Pompage_distribution!$J$44:$J$53,EP_Pompage_distribution!$E$44:$E$53,\"<4\",EP_Pompage_distribution!$F$44:$F$53,\"<4\",EP_Pompage_distribution!$L$44:$L$53,\">=\"&Annee_BI+5,EP_Pompage_distribution!$L$44:$L$53,\"<=\"&Annee_BI+9)","v":0},{"$f":"MIN(IF(EP_Pompage_distribution!$L$44:$L$53>=Annee_BI+5,IF(EP_Pompage_distribution!$L$44:$L$53<=Annee_BI+9,EP_Pompage_distribution!$L$44:$L$53)))","v":0},{"$f":"MAX(IF(EP_Pompage_distribution!$L$44:$L$53>=Annee_BI+5,IF(EP_Pompage_distribution!$L$44:$L$53<=Annee_BI+9,EP_Pompage_distribution!$L$44:$L$53)))","v":0}]
["Eau potable ","Installation de production","Petites installations",{"$f":"IF(Identification!$H$63=\"\",\"\",Identification!$H$63)","v":""},"Pompage de distribution","Instrumentation et contrôle",{"$f":"EP_Pompage_distribution!$B$68","v":""},0,{"$f":"IFERROR(J73/SUM($J70:$J73),0)","v":0},{"$f":"EP_Pompage_distribution!$I$68","v":0},{"$f":"EP_Pompage_distribution!$G$68","v":""},{"$f":"EP_Pompage_distribution!$E$68","v":""},{"$f":"EP_Pompage_distribution!$F$68","v":""},{"$f":"EP_Pompage_distribution!$J$68-SUMIFS(EP_Pompage_distribution!$J$58:$J$67,EP_Pompage_distribution!$E$58:$E$67,\"<4\",EP_Pompage_distribution!$F$58:$F$67,\"<4\")","v":0},{"$f":"SUMIFS(EP_Pompage_distribution!$J$58:$J$67,EP_Pompage_distribution!$E$58:$E$67,\"<4\",EP_Pompage_distribution!$F$58:$F$67,\"<4\",EP_Pompage_distribution!$L$58:$L$67,\">=\"&Annee_BI,EP_Pompage_distribution!$L$58:$L$67,\"<=\"&Annee_BI+4)","v":0},{"$f":"MIN(IF(EP_Pompage_distribution!$L$58:$L$67>=Annee_BI,IF(EP_Pompage_distribution!$L$58:$L$67<=Annee_BI+4,EP_Pompage_distribution!$L$58:$L$67)))","v":0},{"$f":"MAX(IF(EP_Pompage_distribution!$L$58:$L$67>=Annee_BI,IF(EP_Pompage_distribution!$L$58:$L$67<=Annee_BI+4,EP_Pompage_distribution!$L$58:$L$67)))","v":0},{"$f":"SUMIFS(EP_Pompage_distribution!$J$58:$J$67,EP_Pompage_distribution!$E$58:$E$67,\"<4\",EP_Pompage_distribution!$F$58:$F$67,\"<4\",EP_Pompage_distribution!$L$58:$L$67,\">=\"&Annee_BI+5,EP_Pompage_distribution!$L$58:$L$67,\"<=\"&Annee_BI+9)","v":0},{"$f":"MIN(IF(EP_Pompage_distribution!$L$58:$L$67>=Annee_BI+5,IF(EP_Pompage_distribution!$L$58:$L$67<=Annee_BI+9,EP_Pompage_distribution!$L$58:$L$67)))","v":0},{"$f":"MAX(IF(EP_Pompage_distribution!$L$58:$L$67>=Annee_BI+5,IF(EP_Pompage_distribution!$L$58:$L$67<=Annee_BI+9,EP_Pompage_distribution!$L$58:$L$67)))","v":0}]
["Eau potable ","Installation de production","Petites installations",{"$f":"IF(Identification!$H$63=\"\",\"\",Identification!$H$63)","v":""},"Systèmes communs","Civil",{"$f":"Systèmes_communs!$B$26","v":""},{"$f":"IF(G74<>\"\",1,0)","v":0},{"$f":"IFERROR(J74/SUM($J74:$J77),0)","v":0},{"$f":"Systèmes_communs!$I$26","v":0},{"$f":"Systèmes_communs!$G$26","v":""},{"$f":"Systèmes_communs!$E$26","v":""},{"$f":"Systèmes_communs!$F$26","v":""},{"$f":"Systèmes_communs!$J$26-SUMIFS(Systèmes_communs!$J$16:$J$25,Systèmes_communs!$E$16:$E$25,\"<4\",Systèmes_communs!$F$16:$F$25,\"<4\")","v":0},{"$f":"SUMIFS(Systèmes_communs!$J$16:$J$25,Systèmes_communs!$E$16:$E$25,\"<4\",Systèmes_communs!$F$16:$F$25,\"<4\",Systèmes_communs!$L$16:$L$25,\">=\"&Annee_BI,Systèmes_communs!$L$16:$L$25,\"<=\"&Annee_BI+4)","v":0},{"$f":"MIN(IF(Systèmes_communs!$L$16:$L$25>=Annee_BI,IF(Systèmes_communs!$L$16:$L$25<=Annee_BI+4,Systèmes_communs!$L$16:$L$25)))","v":0},{"$f":"MAX(IF(Systèmes_communs!$L$16:$L$25>=Annee_BI,IF(Systèmes_communs!$L$16:$L$25<=Annee_BI+4,Systèmes_communs!$L$16:$L$25)))","v":0},{"$f":"SUMIFS(Systèmes_communs!$J$16:$J$25,Systèmes_communs!$E$16:$E$25,\"<4\",Systèmes_communs!$F$16:$F$25,\"<4\",Systèmes_communs!$L$16:$L$25,\">=\"&Annee_BI+5,Systèmes_communs!$L$16:$L$25,\"<=\"&Annee_BI+9)","v":0},{"$f":"MIN(IF(Systèmes_communs!$L$16:$L$25>=Annee_BI+5,IF(Systèmes_communs!$L$16:$L$25<=Annee_BI+9,Systèmes_communs!$L$16:$L$25)))","v":0},{"$f":"MAX(IF(Systèmes_communs!$L$16:$L$25>=Annee_BI+5,IF(Systèmes_communs!$L$16:$L$25<=Annee_BI+9,Systèmes_communs!$L$16:$L$25)))","v":0}]
["Eau potable ","Installation de production","Petites installations",{"$f":"IF(Identification!$H$63=\"\",\"\",Identification!$H$63)","v":""},"Systèmes communs","Mécanique",{"$f":"Systèmes_communs!$B$40","v":""},0,{"$f":"IFERROR(J75/SUM($J74:$J77),0)","v":0},{"$f":"Systèmes_communs!$I$40","v":0},{"$f":"Systèmes_communs!$G$40","v":""},{"$f":"Systèmes_communs!$E$40","v":""},{"$f":"Systèmes_communs!$F$40","v":""},{"$f":"Systèmes_communs!$J$40-SUMIFS(Systèmes_communs!$J$30:$J$39,Systèmes_communs!$E$30:$E$39,\"<4\",Systèmes_communs!$F$30:$F$39,\"<4\")","v":0},{"$f":"SUMIFS(Systèmes_communs!$J$30:$J$39,Systèmes_communs!$E$30:$E$39,\"<4\",Systèmes_communs!$F$30:$F$39,\"<4\",Systèmes_communs!$L$30:$L$39,\">=\"&Annee_BI,Systèmes_communs!$L$30:$L$39,\"<=\"&Annee_BI+4)","v":0},{"$f":"MIN(IF(Systèmes_communs!$L$30:$L$39>=Annee_BI,IF(Systèmes_communs!$L$30:$L$39<=Annee_BI+4,Systèmes_communs!$L$30:$L$39)))","v":0},{"$f":"MAX(IF(Systèmes_communs!$L$30:$L$39>=Annee_BI,IF(Systèmes_communs!$L$30:$L$39<=Annee_BI+4,Systèmes_communs!$L$30:$L$39)))","v":0},{"$f":"SUMIFS(Systèmes_communs!$J$30:$J$39,Systèmes_communs!$E$30:$E$39,\"<4\",Systèmes_communs!$F$30:$F$39,\"<4\",Systèmes_communs!$L$30:$L$39,\">=\"&Annee_BI+5,Systèmes_communs!$L$30:$L$39,\"<=\"&Annee_BI+9)","v":0},{"$f":"MIN(IF(Systèmes_communs!$L$30:$L$39>=Annee_BI+5,IF(Systèmes_communs!$L$30:$L$39<=Annee_BI+9,Systèmes_communs!$L$30:$L$39)))","v":0},{"$f":"MAX(IF(Systèmes_communs!$L$30:$L$39>=Annee_BI+5,IF(Systèmes_communs!$L$30:$L$39<=Annee_BI+9,Systèmes_communs!$L$30:$L$39)))","v":0}]
["Eau potable ","Installation de production","Petites installations",{"$f":"IF(Identification!$H$63=\"\",\"\",Identification!$H$63)","v":""},"Systèmes communs","Électricité",{"$f":"Systèmes_communs!$B$54","v":""},0,{"$f":"IFERROR(J76/SUM($J74:$J77),0)","v":0},{"$f":"Systèmes_communs!$I$54","v":0},{"$f":"Systèmes_communs!$G$54","v":""},{"$f":"Systèmes_communs!$E$54","v":""},{"$f":"Systèmes_communs!$F$54","v":""},{"$f":"Systèmes_communs!$J$54-SUMIFS(Systèmes_communs!$J$44:$J$53,Systèmes_communs!$E$44:$E$53,\"<4\",Systèmes_communs!$F$44:$F$53,\"<4\")","v":0},{"$f":"SUMIFS(Systèmes_communs!$J$44:$J$53,Systèmes_communs!$E$44:$E$53,\"<4\",Systèmes_communs!$F$44:$F$53,\"<4\",Systèmes_communs!$L$44:$L$53,\">=\"&Annee_BI,Systèmes_communs!$L$44:$L$53,\"<=\"&Annee_BI+4)","v":0},{"$f":"MIN(IF(Systèmes_communs!$L$44:$L$53>=Annee_BI,IF(Systèmes_communs!$L$44:$L$53<=Annee_BI+4,Systèmes_communs!$L$44:$L$53)))","v":0},{"$f":"MAX(IF(Systèmes_communs!$L$44:$L$53>=Annee_BI,IF(Systèmes_communs!$L$44:$L$53<=Annee_BI+4,Systèmes_communs!$L$44:$L$53)))","v":0},{"$f":"SUMIFS(Systèmes_communs!$J$44:$J$53,Systèmes_communs!$E$44:$E$53,\"<4\",Systèmes_communs!$F$44:$F$53,\"<4\",Systèmes_communs!$L$44:$L$53,\">=\"&Annee_BI+5,Systèmes_communs!$L$44:$L$53,\"<=\"&Annee_BI+9)","v":0},{"$f":"MIN(IF(Systèmes_communs!$L$44:$L$53>=Annee_BI+5,IF(Systèmes_communs!$L$44:$L$53<=Annee_BI+9,Systèmes_communs!$L$44:$L$53)))","v":0},{"$f":"MAX(IF(Systèmes_communs!$L$44:$L$53>=Annee_BI+5,IF(Systèmes_communs!$L$44:$L$53<=Annee_BI+9,Systèmes_communs!$L$44:$L$53)))","v":0}]
["Eau potable ","Installation de production","Petites installations",{"$f":"IF(Identification!$H$63=\"\",\"\",Identification!$H$63)","v":""},"Systèmes communs","Instrumentation et contrôle",{"$f":"Systèmes_communs!$B$68","v":""},0,{"$f":"IFERROR(J77/SUM($J74:$J77),0)","v":0},{"$f":"Systèmes_communs!$I$68","v":0},{"$f":"Systèmes_communs!$G$68","v":""},{"$f":"Systèmes_communs!$E$68","v":""},{"$f":"Systèmes_communs!$F$68","v":""},{"$f":"Systèmes_communs!$J$68-SUMIFS(Systèmes_communs!$J$58:$J$67,Systèmes_communs!$E$58:$E$67,\"<4\",Systèmes_communs!$F$58:$F$67,\"<4\")","v":0},{"$f":"SUMIFS(Systèmes_communs!$J$58:$J$67,Systèmes_communs!$E$58:$E$67,\"<4\",Systèmes_communs!$F$58:$F$67,\"<4\",Systèmes_communs!$L$58:$L$67,\">=\"&Annee_BI,Systèmes_communs!$L$58:$L$67,\"<=\"&Annee_BI+4)","v":0},{"$f":"MIN(IF(Systèmes_communs!$L$58:$L$67>=Annee_BI,IF(Systèmes_communs!$L$58:$L$67<=Annee_BI+4,Systèmes_communs!$L$58:$L$67)))","v":0},{"$f":"MAX(IF(Systèmes_communs!$L$58:$L$67>=Annee_BI,IF(Systèmes_communs!$L$58:$L$67<=Annee_BI+4,Systèmes_communs!$L$58:$L$67)))","v":0},{"$f":"SUMIFS(Systèmes_communs!$J$58:$J$67,Systèmes_communs!$E$58:$E$67,\"<4\",Systèmes_communs!$F$58:$F$67,\"<4\",Systèmes_communs!$L$58:$L$67,\">=\"&Annee_BI+5,Systèmes_communs!$L$58:$L$67,\"<=\"&Annee_BI+9)","v":0},{"$f":"MIN(IF(Systèmes_communs!$L$58:$L$67>=Annee_BI+5,IF(Systèmes_communs!$L$58:$L$67<=Annee_BI+9,Systèmes_communs!$L$58:$L$67)))","v":0},{"$f":"MAX(IF(Systèmes_communs!$L$58:$L$67>=Annee_BI+5,IF(Systèmes_communs!$L$58:$L$67<=Annee_BI+9,Systèmes_communs!$L$58:$L$67)))","v":0}]
["Eau potable ","Barrage","Barrage",{"$f":"IF(Identification!$H$63=\"\",\"\",Identification!$H$63)","v":""},"Barrage","Civil",{"$f":"EP_Barrage!$B$26","v":""},0,{"$f":"IFERROR(J78/SUM($J78:$J81),0)","v":0},{"$f":"EP_Barrage!$I$26","v":0},{"$f":"EP_Barrage!$G$26","v":""},{"$f":"EP_Barrage!$E$26","v":""},{"$f":"EP_Barrage!$F$26","v":""},{"$f":"EP_Barrage!$J$26-SUMIFS(EP_Barrage!$J$16:$J$25,EP_Barrage!$E$16:$E$25,\"<4\",EP_Barrage!$F$16:$F$25,\"<4\")","v":0},{"$f":"SUMIFS(EP_Barrage!$J$16:$J$25,EP_Barrage!$E$16:$E$25,\"<4\",EP_Barrage!$F$16:$F$25,\"<4\",EP_Barrage!$L$16:$L$25,\">=\"&Annee_BI,EP_Barrage!$L$16:$L$25,\"<=\"&Annee_BI+4)","v":0},{"$f":"MIN(IF(EP_Barrage!$L$16:$L$25>=Annee_BI,IF(EP_Barrage!$L$16:$L$25<=Annee_BI+4,EP_Barrage!$L$16:$L$25)))","v":0},{"$f":"MAX(IF(EP_Barrage!$L$16:$L$25>=Annee_BI,IF(EP_Barrage!$L$16:$L$25<=Annee_BI+4,EP_Barrage!$L$16:$L$25)))","v":0},{"$f":"SUMIFS(EP_Barrage!$J$16:$J$25,EP_Barrage!$E$16:$E$25,\"<4\",EP_Barrage!$F$16:$F$25,\"<4\",EP_Barrage!$L$16:$L$25,\">=\"&Annee_BI+5,EP_Barrage!$L$16:$L$25,\"<=\"&Annee_BI+9)","v":0},{"$f":"MIN(IF(EP_Barrage!$L$16:$L$25>=Annee_BI+5,IF(EP_Barrage!$L$16:$L$25<=Annee_BI+9,EP_Barrage!$L$16:$L$25)))","v":0},{"$f":"MAX(IF(EP_Barrage!$L$16:$L$25>=Annee_BI+5,IF(EP_Barrage!$L$16:$L$25<=Annee_BI+9,EP_Barrage!$L$16:$L$25)))","v":0}]
["Eau potable ","Barrage","Barrage",{"$f":"IF(Identification!$H$63=\"\",\"\",Identification!$H$63)","v":""},"Barrage","Mécanique",{"$f":"EP_Barrage!$B$40","v":""},0,{"$f":"IFERROR(J79/SUM($J78:$J81),0)","v":0},{"$f":"EP_Barrage!$I$40","v":0},{"$f":"EP_Barrage!$G$40","v":""},{"$f":"EP_Barrage!$E$40","v":""},{"$f":"EP_Barrage!$F$40","v":""},{"$f":"EP_Barrage!$J$40-SUMIFS(EP_Barrage!$J$30:$J$39,EP_Barrage!$E$30:$E$39,\"<4\",EP_Barrage!$F$30:$F$39,\"<4\")","v":0},{"$f":"SUMIFS(EP_Barrage!$J$30:$J$39,EP_Barrage!$E$30:$E$39,\"<4\",EP_Barrage!$F$30:$F$39,\"<4\",EP_Barrage!$L$30:$L$39,\">=\"&Annee_BI,EP_Barrage!$L$30:$L$39,\"<=\"&Annee_BI+4)","v":0},{"$f":"MIN(IF(EP_Barrage!$L$30:$L$39>=Annee_BI,IF(EP_Barrage!$L$30:$L$39<=Annee_BI+4,EP_Barrage!$L$30:$L$39)))","v":0},{"$f":"MAX(IF(EP_Barrage!$L$30:$L$39>=Annee_BI,IF(EP_Barrage!$L$30:$L$39<=Annee_BI+4,EP_Barrage!$L$30:$L$39)))","v":0},{"$f":"SUMIFS(EP_Barrage!$J$30:$J$39,EP_Barrage!$E$30:$E$39,\"<4\",EP_Barrage!$F$30:$F$39,\"<4\",EP_Barrage!$L$30:$L$39,\">=\"&Annee_BI+5,EP_Barrage!$L$30:$L$39,\"<=\"&Annee_BI+9)","v":0},{"$f":"MIN(IF(EP_Barrage!$L$30:$L$39>=Annee_BI+5,IF(EP_Barrage!$L$30:$L$39<=Annee_BI+9,EP_Barrage!$L$30:$L$39)))","v":0},{"$f":"MAX(IF(EP_Barrage!$L$30:$L$39>=Annee_BI+5,IF(EP_Barrage!$L$30:$L$39<=Annee_BI+9,EP_Barrage!$L$30:$L$39)))","v":0}]
["Eau potable ","Barrage","Barrage",{"$f":"IF(Identification!$H$63=\"\",\"\",Identification!$H$63)","v":""},"Barrage","Électricité",{"$f":"EP_Barrage!$B$54","v":""},0,{"$f":"IFERROR(J80/SUM($J78:$J81),0)","v":0},{"$f":"EP_Barrage!$I$54","v":0},{"$f":"EP_Barrage!$G$54","v":""},{"$f":"EP_Barrage!$E$54","v":""},{"$f":"EP_Barrage!$F$54","v":""},{"$f":"EP_Barrage!$J$54-SUMIFS(EP_Barrage!$J$44:$J$53,EP_Barrage!$E$44:$E$53,\"<4\",EP_Barrage!$F$44:$F$53,\"<4\")","v":0},{"$f":"SUMIFS(EP_Barrage!$J$44:$J$53,EP_Barrage!$E$44:$E$53,\"<4\",EP_Barrage!$F$44:$F$53,\"<4\",EP_Barrage!$L$44:$L$53,\">=\"&Annee_BI,EP_Barrage!$L$44:$L$53,\"<=\"&Annee_BI+4)","v":0},{"$f":"MIN(IF(EP_Barrage!$L$44:$L$53>=Annee_BI,IF(EP_Barrage!$L$44:$L$53<=Annee_BI+4,EP_Barrage!$L$44:$L$53)))","v":0},{"$f":"MAX(IF(EP_Barrage!$L$44:$L$53>=Annee_BI,IF(EP_Barrage!$L$44:$L$53<=Annee_BI+4,EP_Barrage!$L$44:$L$53)))","v":0},{"$f":"SUMIFS(EP_Barrage!$J$44:$J$53,EP_Barrage!$E$44:$E$53,\"<4\",EP_Barrage!$F$44:$F$53,\"<4\",EP_Barrage!$L$44:$L$53,\">=\"&Annee_BI+5,EP_Barrage!$L$44:$L$53,\"<=\"&Annee_BI+9)","v":0},{"$f":"MIN(IF(EP_Barrage!$L$44:$L$53>=Annee_BI+5,IF(EP_Barrage!$L$44:$L$53<=Annee_BI+9,EP_Barrage!$L$44:$L$53)))","v":0},{"$f":"MAX(IF(EP_Barrage!$L$44:$L$53>=Annee_BI+5,IF(EP_Barrage!$L$44:$L$53<=Annee_BI+9,EP_Barrage!$L$44:$L$53)))","v":0}]
["Eau potable ","Barrage","Barrage",{"$f":"IF(Identification!$H$63=\"\",\"\",Identification!$H$63)","v":""},"Barrage","Instrumentation et contrôle",{"$f":"EP_Barrage!$B$68","v":""},0,{"$f":"IFERROR(J81/SUM($J78:$J81),0)","v":0},{"$f":"EP_Barrage!$I$68","v":0},{"$f":"EP_Barrage!$G$68","v":""},{"$f":"EP_Barrage!$E$68","v":""},{"$f":"EP_Barrage!$F$68","v":""},{"$f":"EP_Barrage!$J$68-SUMIFS(EP_Barrage!$J$58:$J$67,EP_Barrage!$E$58:$E$67,\"<4\",EP_Barrage!$F$58:$F$67,\"<4\")","v":0},{"$f":"SUMIFS(EP_Barrage!$J$58:$J$67,EP_Barrage!$E$58:$E$67,\"<4\",EP_Barrage!$F$58:$F$67,\"<4\",EP_Barrage!$L$58:$L$67,\">=\"&Annee_BI,EP_Barrage!$L$58:$L$67,\"<=\"&Annee_BI+4)","v":0},{"$f":"MIN(IF(EP_Barrage!$L$58:$L$67>=Annee_BI,IF(EP_Barrage!$L$58:$L$67<=Annee_BI+4,EP_Barrage!$L$58:$L$67)))","v":0},{"$f":"MAX(IF(EP_Barrage!$L$58:$L$67>=Annee_BI,IF(EP_Barrage!$L$58:$L$67<=Annee_BI+4,EP_Barrage!$L$58:$L$67)))","v":0},{"$f":"SUMIFS(EP_Barrage!$J$58:$J$67,EP_Barrage!$E$58:$E$67,\"<4\",EP_Barrage!$F$58:$F$67,\"<4\",EP_Barrage!$L$58:$L$67,\">=\"&Annee_BI+5,EP_Barrage!$L$58:$L$67,\"<=\"&Annee_BI+9)","v":0},{"$f":"MIN(IF(EP_Barrage!$L$58:$L$67>=Annee_BI+5,IF(EP_Barrage!$L$58:$L$67<=Annee_BI+9,EP_Barrage!$L$58:$L$67)))","v":0},{"$f":"MAX(IF(EP_Barrage!$L$58:$L$67>=Annee_BI+5,IF(EP_Barrage!$L$58:$L$67<=Annee_BI+9,EP_Barrage!$L$58:$L$67)))","v":0}]
["Eau potable ","Barrage","Barrage",{"$f":"IF(Identification!$H$63=\"\",\"\",Identification!$H$63)","v":""},"Systèmes communs","Civil",{"$f":"Systèmes_communs!$B$26","v":""},0,{"$f":"IFERROR(J82/SUM($J82:$J85),0)","v":0},{"$f":"Systèmes_communs!$I$26","v":0},{"$f":"Systèmes_communs!$G$26","v":""},{"$f":"Systèmes_communs!$E$26","v":""},{"$f":"Systèmes_communs!$F$26","v":""},{"$f":"Systèmes_communs!$J$26-SUMIFS(Systèmes_communs!$J$16:$J$25,Systèmes_communs!$E$16:$E$25,\"<4\",Systèmes_communs!$F$16:$F$25,\"<4\")","v":0},{"$f":"SUMIFS(Systèmes_communs!$J$16:$J$25,Systèmes_communs!$E$16:$E$25,\"<4\",Systèmes_communs!$F$16:$F$25,\"<4\",Systèmes_communs!$L$16:$L$25,\">=\"&Annee_BI,Systèmes_communs!$L$16:$L$25,\"<=\"&Annee_BI+4)","v":0},{"$f":"MIN(IF(Systèmes_communs!$L$16:$L$25>=Annee_BI,IF(Systèmes_communs!$L$16:$L$25<=Annee_BI+4,Systèmes_communs!$L$16:$L$25)))","v":0},{"$f":"MAX(IF(Systèmes_communs!$L$16:$L$25>=Annee_BI,IF(Systèmes_communs!$L$16:$L$25<=Annee_BI+4,Systèmes_communs!$L$16:$L$25)))","v":0},{"$f":"SUMIFS(Systèmes_communs!$J$16:$J$25,Systèmes_communs!$E$16:$E$25,\"<4\",Systèmes_communs!$F$16:$F$25,\"<4\",Systèmes_communs!$L$16:$L$25,\">=\"&Annee_BI+5,Systèmes_communs!$L$16:$L$25,\"<=\"&Annee_BI+9)","v":0},{"$f":"MIN(IF(Systèmes_communs!$L$16:$L$25>=Annee_BI+5,IF(Systèmes_communs!$L$16:$L$25<=Annee_BI+9,Systèmes_communs!$L$16:$L$25)))","v":0},{"$f":"MAX(IF(Systèmes_communs!$L$16:$L$25>=Annee_BI+5,IF(Systèmes_communs!$L$16:$L$25<=Annee_BI+9,Systèmes_communs!$L$16:$L$25)))","v":0}]
["Eau potable ","Barrage","Barrage",{"$f":"IF(Identification!$H$63=\"\",\"\",Identification!$H$63)","v":""},"Systèmes communs","Mécanique",{"$f":"Systèmes_communs!$B$40","v":""},0,{"$f":"IFERROR(J83/SUM($J82:$J85),0)","v":0},{"$f":"Systèmes_communs!$I$40","v":0},{"$f":"Systèmes_communs!$G$40","v":""},{"$f":"Systèmes_communs!$E$40","v":""},{"$f":"Systèmes_communs!$F$40","v":""},{"$f":"Systèmes_communs!$J$40-SUMIFS(Systèmes_communs!$J$30:$J$39,Systèmes_communs!$E$30:$E$39,\"<4\",Systèmes_communs!$F$30:$F$39,\"<4\")","v":0},{"$f":"SUMIFS(Systèmes_communs!$J$30:$J$39,Systèmes_communs!$E$30:$E$39,\"<4\",Systèmes_communs!$F$30:$F$39,\"<4\",Systèmes_communs!$L$30:$L$39,\">=\"&Annee_BI,Systèmes_communs!$L$30:$L$39,\"<=\"&Annee_BI+4)","v":0},{"$f":"MIN(IF(Systèmes_communs!$L$30:$L$39>=Annee_BI,IF(Systèmes_communs!$L$30:$L$39<=Annee_BI+4,Systèmes_communs!$L$30:$L$39)))","v":0},{"$f":"MAX(IF(Systèmes_communs!$L$30:$L$39>=Annee_BI,IF(Systèmes_communs!$L$30:$L$39<=Annee_BI+4,Systèmes_communs!$L$30:$L$39)))","v":0},{"$f":"SUMIFS(Systèmes_communs!$J$30:$J$39,Systèmes_communs!$E$30:$E$39,\"<4\",Systèmes_communs!$F$30:$F$39,\"<4\",Systèmes_communs!$L$30:$L$39,\">=\"&Annee_BI+5,Systèmes_communs!$L$30:$L$39,\"<=\"&Annee_BI+9)","v":0},{"$f":"MIN(IF(Systèmes_communs!$L$30:$L$39>=Annee_BI+5,IF(Systèmes_communs!$L$30:$L$39<=Annee_BI+9,Systèmes_communs!$L$30:$L$39)))","v":0},{"$f":"MAX(IF(Systèmes_communs!$L$30:$L$39>=Annee_BI+5,IF(Systèmes_communs!$L$30:$L$39<=Annee_BI+9,Systèmes_communs!$L$30:$L$39)))","v":0}]
["Eau potable ","Barrage","Barrage",{"$f":"IF(Identification!$H$63=\"\",\"\",Identification!$H$63)","v":""},"Systèmes communs","Électricité",{"$f":"Systèmes_communs!$B$54","v":""},0,{"$f":"IFERROR(J84/SUM($J82:$J85),0)","v":0},{"$f":"Systèmes_communs!$I$54","v":0},{"$f":"Systèmes_communs!$G$54","v":""},{"$f":"Systèmes_communs!$E$54","v":""},{"$f":"Systèmes_communs!$F$54","v":""},{"$f":"Systèmes_communs!$J$54-SUMIFS(Systèmes_communs!$J$44:$J$53,Systèmes_communs!$E$44:$E$53,\"<4\",Systèmes_communs!$F$44:$F$53,\"<4\")","v":0},{"$f":"SUMIFS(Systèmes_communs!$J$44:$J$53,Systèmes_communs!$E$44:$E$53,\"<4\",Systèmes_communs!$F$44:$F$53,\"<4\",Systèmes_communs!$L$44:$L$53,\">=\"&Annee_BI,Systèmes_communs!$L$44:$L$53,\"<=\"&Annee_BI+4)","v":0},{"$f":"MIN(IF(Systèmes_communs!$L$44:$L$53>=Annee_BI,IF(Systèmes_communs!$L$44:$L$53<=Annee_BI+4,Systèmes_communs!$L$44:$L$53)))","v":0},{"$f":"MAX(IF(Systèmes_communs!$L$44:$L$53>=Annee_BI,IF(Systèmes_communs!$L$44:$L$53<=Annee_BI+4,Systèmes_communs!$L$44:$L$53)))","v":0},{"$f":"SUMIFS(Systèmes_communs!$J$44:$J$53,Systèmes_communs!$E$44:$E$53,\"<4\",Systèmes_communs!$F$44:$F$53,\"<4\",Systèmes_communs!$L$44:$L$53,\">=\"&Annee_BI+5,Systèmes_communs!$L$44:$L$53,\"<=\"&Annee_BI+9)","v":0},{"$f":"MIN(IF(Systèmes_communs!$L$44:$L$53>=Annee_BI+5,IF(Systèmes_communs!$L$44:$L$53<=Annee_BI+9,Systèmes_communs!$L$44:$L$53)))","v":0},{"$f":"MAX(IF(Systèmes_communs!$L$44:$L$53>=Annee_BI+5,IF(Systèmes_communs!$L$44:$L$53<=Annee_BI+9,Systèmes_communs!$L$44:$L$53)))","v":0}]
["Eau potable ","Barrage","Barrage",{"$f":"IF(Identification!$H$63=\"\",\"\",Identification!$H$63)","v":""},"Systèmes communs","Instrumentation et contrôle",{"$f":"Systèmes_communs!$B$68","v":""},0,{"$f":"IFERROR(J85/SUM($J82:$J85),0)","v":0},{"$f":"Systèmes_communs!$I$68","v":0},{"$f":"Systèmes_communs!$G$68","v":""},{"$f":"Systèmes_communs!$E$68","v":""},{"$f":"Systèmes_communs!$F$68","v":""},{"$f":"Systèmes_communs!$J$68-SUMIFS(Systèmes_communs!$J$58:$J$67,Systèmes_communs!$E$58:$E$67,\"<4\",Systèmes_communs!$F$58:$F$67,\"<4\")","v":0},{"$f":"SUMIFS(Systèmes_communs!$J$58:$J$67,Systèmes_communs!$E$58:$E$67,\"<4\",Systèmes_communs!$F$58:$F$67,\"<4\",Systèmes_communs!$L$58:$L$67,\">=\"&Annee_BI,Systèmes_communs!$L$58:$L$67,\"<=\"&Annee_BI+4)","v":0},{"$f":"MIN(IF(Systèmes_communs!$L$58:$L$67>=Annee_BI,IF(Systèmes_communs!$L$58:$L$67<=Annee_BI+4,Systèmes_communs!$L$58:$L$67)))","v":0},{"$f":"MAX(IF(Systèmes_communs!$L$58:$L$67>=Annee_BI,IF(Systèmes_communs!$L$58:$L$67<=Annee_BI+4,Systèmes_communs!$L$58:$L$67)))","v":0},{"$f":"SUMIFS(Systèmes_communs!$J$58:$J$67,Systèmes_communs!$E$58:$E$67,\"<4\",Systèmes_communs!$F$58:$F$67,\"<4\",Systèmes_communs!$L$58:$L$67,\">=\"&Annee_BI+5,Systèmes_communs!$L$58:$L$67,\"<=\"&Annee_BI+9)","v":0},{"$f":"MIN(IF(Systèmes_communs!$L$58:$L$67>=Annee_BI+5,IF(Systèmes_communs!$L$58:$L$67<=Annee_BI+9,Systèmes_communs!$L$58:$L$67)))","v":0},{"$f":"MAX(IF(Systèmes_communs!$L$58:$L$67>=Annee_BI+5,IF(Systèmes_communs!$L$58:$L$67<=Annee_BI+9,Systèmes_communs!$L$58:$L$67)))","v":0}]
["Eau potable ","Poste de gestion de pression et de chloration","Poste de régulation de pression",{"$f":"IF(Identification!$H$63=\"\",\"\",Identification!$H$63)","v":""},"Pompage de distribution","Civil",{"$f":"EP_Pompage_distribution!$B$26","v":""},0,{"$f":"IFERROR(J86/SUM($J86:$J89),0)","v":0},{"$f":"EP_Pompage_distribution!$I$26","v":0},{"$f":"EP_Pompage_distribution!$G$26","v":""},{"$f":"EP_Pompage_distribution!$E$26","v":""},{"$f":"EP_Pompage_distribution!$F$26","v":""},{"$f":"EP_Pompage_distribution!$J$26-SUMIFS(EP_Pompage_distribution!$J$16:$J$25,EP_Pompage_distribution!$E$16:$E$25,\"<4\",EP_Pompage_distribution!$F$16:$F$25,\"<4\")","v":0},{"$f":"SUMIFS(EP_Pompage_distribution!$J$16:$J$25,EP_Pompage_distribution!$E$16:$E$25,\"<4\",EP_Pompage_distribution!$F$16:$F$25,\"<4\",EP_Pompage_distribution!$L$16:$L$25,\">=\"&Annee_BI,EP_Pompage_distribution!$L$16:$L$25,\"<=\"&Annee_BI+4)","v":0},{"$f":"MIN(IF(EP_Pompage_distribution!$L$16:$L$25>=Annee_BI,IF(EP_Pompage_distribution!$L$16:$L$25<=Annee_BI+4,EP_Pompage_distribution!$L$16:$L$25)))","v":0},{"$f":"MAX(IF(EP_Pompage_distribution!$L$16:$L$25>=Annee_BI,IF(EP_Pompage_distribution!$L$16:$L$25<=Annee_BI+4,EP_Pompage_distribution!$L$16:$L$25)))","v":0},{"$f":"SUMIFS(EP_Pompage_distribution!$J$16:$J$25,EP_Pompage_distribution!$E$16:$E$25,\"<4\",EP_Pompage_distribution!$F$16:$F$25,\"<4\",EP_Pompage_distribution!$L$16:$L$25,\">=\"&Annee_BI+5,EP_Pompage_distribution!$L$16:$L$25,\"<=\"&Annee_BI+9)","v":0},{"$f":"MIN(IF(EP_Pompage_distribution!$L$16:$L$25>=Annee_BI+5,IF(EP_Pompage_distribution!$L$16:$L$25<=Annee_BI+9,EP_Pompage_distribution!$L$16:$L$25)))","v":0},{"$f":"MAX(IF(EP_Pompage_distribution!$L$16:$L$25>=Annee_BI+5,IF(EP_Pompage_distribution!$L$16:$L$25<=Annee_BI+9,EP_Pompage_distribution!$L$16:$L$25)))","v":0}]
["Eau potable ","Poste de gestion de pression et de chloration","Poste de régulation de pression",{"$f":"IF(Identification!$H$63=\"\",\"\",Identification!$H$63)","v":""},"Pompage de distribution","Mécanique",{"$f":"EP_Pompage_distribution!$B$40","v":""},0,{"$f":"IFERROR(J87/SUM($J86:$J89),0)","v":0},{"$f":"EP_Pompage_distribution!$I$40","v":0},{"$f":"EP_Pompage_distribution!$G$40","v":""},{"$f":"EP_Pompage_distribution!$E$40","v":""},{"$f":"EP_Pompage_distribution!$F$40","v":""},{"$f":"EP_Pompage_distribution!$J$40-SUMIFS(EP_Pompage_distribution!$J$30:$J$39,EP_Pompage_distribution!$E$30:$E$39,\"<4\",EP_Pompage_distribution!$F$30:$F$39,\"<4\")","v":0},{"$f":"SUMIFS(EP_Pompage_distribution!$J$30:$J$39,EP_Pompage_distribution!$E$30:$E$39,\"<4\",EP_Pompage_distribution!$F$30:$F$39,\"<4\",EP_Pompage_distribution!$L$30:$L$39,\">=\"&Annee_BI,EP_Pompage_distribution!$L$30:$L$39,\"<=\"&Annee_BI+4)","v":0},{"$f":"MIN(IF(EP_Pompage_distribution!$L$30:$L$39>=Annee_BI,IF(EP_Pompage_distribution!$L$30:$L$39<=Annee_BI+4,EP_Pompage_distribution!$L$30:$L$39)))","v":0},{"$f":"MAX(IF(EP_Pompage_distribution!$L$30:$L$39>=Annee_BI,IF(EP_Pompage_distribution!$L$30:$L$39<=Annee_BI+4,EP_Pompage_distribution!$L$30:$L$39)))","v":0},{"$f":"SUMIFS(EP_Pompage_distribution!$J$30:$J$39,EP_Pompage_distribution!$E$30:$E$39,\"<4\",EP_Pompage_distribution!$F$30:$F$39,\"<4\",EP_Pompage_distribution!$L$30:$L$39,\">=\"&Annee_BI+5,EP_Pompage_distribution!$L$30:$L$39,\"<=\"&Annee_BI+9)","v":0},{"$f":"MIN(IF(EP_Pompage_distribution!$L$30:$L$39>=Annee_BI+5,IF(EP_Pompage_distribution!$L$30:$L$39<=Annee_BI+9,EP_Pompage_distribution!$L$30:$L$39)))","v":0},{"$f":"MAX(IF(EP_Pompage_distribution!$L$30:$L$39>=Annee_BI+5,IF(EP_Pompage_distribution!$L$30:$L$39<=Annee_BI+9,EP_Pompage_distribution!$L$30:$L$39)))","v":0}]
["Eau potable ","Poste de gestion de pression et de chloration","Poste de régulation de pression",{"$f":"IF(Identification!$H$63=\"\",\"\",Identification!$H$63)","v":""},"Pompage de distribution","Électricité",{"$f":"EP_Pompage_distribution!$B$54","v":""},0,{"$f":"IFERROR(J88/SUM($J86:$J89),0)","v":0},{"$f":"EP_Pompage_distribution!$I$54","v":0},{"$f":"EP_Pompage_distribution!$G$54","v":""},{"$f":"EP_Pompage_distribution!$E$54","v":""},{"$f":"EP_Pompage_distribution!$F$54","v":""},{"$f":"EP_Pompage_distribution!$J$54-SUMIFS(EP_Pompage_distribution!$J$44:$J$53,EP_Pompage_distribution!$E$44:$E$53,\"<4\",EP_Pompage_distribution!$F$44:$F$53,\"<4\")","v":0},{"$f":"SUMIFS(EP_Pompage_distribution!$J$44:$J$53,EP_Pompage_distribution!$E$44:$E$53,\"<4\",EP_Pompage_distribution!$F$44:$F$53,\"<4\",EP_Pompage_distribution!$L$44:$L$53,\">=\"&Annee_BI,EP_Pompage_distribution!$L$44:$L$53,\"<=\"&Annee_BI+4)","v":0},{"$f":"MIN(IF(EP_Pompage_distribution!$L$44:$L$53>=Annee_BI,IF(EP_Pompage_distribution!$L$44:$L$53<=Annee_BI+4,EP_Pompage_distribution!$L$44:$L$53)))","v":0},{"$f":"MAX(IF(EP_Pompage_distribution!$L$44:$L$53>=Annee_BI,IF(EP_Pompage_distribution!$L$44:$L$53<=Annee_BI+4,EP_Pompage_distribution!$L$44:$L$53)))","v":0},{"$f":"SUMIFS(EP_Pompage_distribution!$J$44:$J$53,EP_Pompage_distribution!$E$44:$E$53,\"<4\",EP_Pompage_distribution!$F$44:$F$53,\"<4\",EP_Pompage_distribution!$L$44:$L$53,\">=\"&Annee_BI+5,EP_Pompage_distribution!$L$44:$L$53,\"<=\"&Annee_BI+9)","v":0},{"$f":"MIN(IF(EP_Pompage_distribution!$L$44:$L$53>=Annee_BI+5,IF(EP_Pompage_distribution!$L$44:$L$53<=Annee_BI+9,EP_Pompage_distribution!$L$44:$L$53)))","v":0},{"$f":"MAX(IF(EP_Pompage_distribution!$L$44:$L$53>=Annee_BI+5,IF(EP_Pompage_distribution!$L$44:$L$53<=Annee_BI+9,EP_Pompage_distribution!$L$44:$L$53)))","v":0}]
["Eau potable ","Poste de gestion de pression et de chloration","Poste de régulation de pression",{"$f":"IF(Identification!$H$63=\"\",\"\",Identification!$H$63)","v":""},"Pompage de distribution","Instrumentation et contrôle",{"$f":"EP_Pompage_distribution!$B$68","v":""},0,{"$f":"IFERROR(J89/SUM($J86:$J89),0)","v":0},{"$f":"EP_Pompage_distribution!$I$68","v":0},{"$f":"EP_Pompage_distribution!$G$68","v":""},{"$f":"EP_Pompage_distribution!$E$68","v":""},{"$f":"EP_Pompage_distribution!$F$68","v":""},{"$f":"EP_Pompage_distribution!$J$68-SUMIFS(EP_Pompage_distribution!$J$58:$J$67,EP_Pompage_distribution!$E$58:$E$67,\"<4\",EP_Pompage_distribution!$F$58:$F$67,\"<4\")","v":0},{"$f":"SUMIFS(EP_Pompage_distribution!$J$58:$J$67,EP_Pompage_distribution!$E$58:$E$67,\"<4\",EP_Pompage_distribution!$F$58:$F$67,\"<4\",EP_Pompage_distribution!$L$58:$L$67,\">=\"&Annee_BI,EP_Pompage_distribution!$L$58:$L$67,\"<=\"&Annee_BI+4)","v":0},{"$f":"MIN(IF(EP_Pompage_distribution!$L$58:$L$67>=Annee_BI,IF(EP_Pompage_distribution!$L$58:$L$67<=Annee_BI+4,EP_Pompage_distribution!$L$58:$L$67)))","v":0},{"$f":"MAX(IF(EP_Pompage_distribution!$L$58:$L$67>=Annee_BI,IF(EP_Pompage_distribution!$L$58:$L$67<=Annee_BI+4,EP_Pompage_distribution!$L$58:$L$67)))","v":0},{"$f":"SUMIFS(EP_Pompage_distribution!$J$58:$J$67,EP_Pompage_distribution!$E$58:$E$67,\"<4\",EP_Pompage_distribution!$F$58:$F$67,\"<4\",EP_Pompage_distribution!$L$58:$L$67,\">=\"&Annee_BI+5,EP_Pompage_distribution!$L$58:$L$67,\"<=\"&Annee_BI+9)","v":0},{"$f":"MIN(IF(EP_Pompage_distribution!$L$58:$L$67>=Annee_BI+5,IF(EP_Pompage_distribution!$L$58:$L$67<=Annee_BI+9,EP_Pompage_distribution!$L$58:$L$67)))","v":0},{"$f":"MAX(IF(EP_Pompage_distribution!$L$58:$L$67>=Annee_BI+5,IF(EP_Pompage_distribution!$L$58:$L$67<=Annee_BI+9,EP_Pompage_distribution!$L$58:$L$67)))","v":0}]
["Eau potable ","Poste de gestion de pression et de chloration","Poste de régulation de pression",{"$f":"IF(Identification!$H$63=\"\",\"\",Identification!$H$63)","v":""},"Désinfection (Chimique)","Civil",{"$f":"EP_Desinfection_CHLO!$B$26","v":""},0,{"$f":"IFERROR(J90/SUM($J90:$J93),0)","v":0},{"$f":"EP_Desinfection_CHLO!$I$26","v":0},{"$f":"EP_Desinfection_CHLO!$G$26","v":""},{"$f":"EP_Desinfection_CHLO!$E$26","v":""},{"$f":"EP_Desinfection_CHLO!$F$26","v":""},{"$f":"EP_Desinfection_CHLO!$J$26-SUMIFS(EP_Desinfection_CHLO!$J$16:$J$25,EP_Desinfection_CHLO!$E$16:$E$25,\"<4\",EP_Desinfection_CHLO!$F$16:$F$25,\"<4\")","v":0},{"$f":"SUMIFS(EP_Desinfection_CHLO!$J$16:$J$25,EP_Desinfection_CHLO!$E$16:$E$25,\"<4\",EP_Desinfection_CHLO!$F$16:$F$25,\"<4\",EP_Desinfection_CHLO!$L$16:$L$25,\">=\"&Annee_BI,EP_Desinfection_CHLO!$L$16:$L$25,\"<=\"&Annee_BI+4)","v":0},{"$f":"MIN(IF(EP_Desinfection_CHLO!$L$16:$L$25>=Annee_BI,IF(EP_Desinfection_CHLO!$L$16:$L$25<=Annee_BI+4,EP_Desinfection_CHLO!$L$16:$L$25)))","v":0},{"$f":"MAX(IF(EP_Desinfection_CHLO!$L$16:$L$25>=Annee_BI,IF(EP_Desinfection_CHLO!$L$16:$L$25<=Annee_BI+4,EP_Desinfection_CHLO!$L$16:$L$25)))","v":0},{"$f":"SUMIFS(EP_Desinfection_CHLO!$J$16:$J$25,EP_Desinfection_CHLO!$E$16:$E$25,\"<4\",EP_Desinfection_CHLO!$F$16:$F$25,\"<4\",EP_Desinfection_CHLO!$L$16:$L$25,\">=\"&Annee_BI+5,EP_Desinfection_CHLO!$L$16:$L$25,\"<=\"&Annee_BI+9)","v":0},{"$f":"MIN(IF(EP_Desinfection_CHLO!$L$16:$L$25>=Annee_BI+5,IF(EP_Desinfection_CHLO!$L$16:$L$25<=Annee_BI+9,EP_Desinfection_CHLO!$L$16:$L$25)))","v":0},{"$f":"MAX(IF(EP_Desinfection_CHLO!$L$16:$L$25>=Annee_BI+5,IF(EP_Desinfection_CHLO!$L$16:$L$25<=Annee_BI+9,EP_Desinfection_CHLO!$L$16:$L$25)))","v":0}]
["Eau potable ","Poste de gestion de pression et de chloration","Poste de régulation de pression",{"$f":"IF(Identification!$H$63=\"\",\"\",Identification!$H$63)","v":""},"Désinfection (Chimique)","Mécanique",{"$f":"EP_Desinfection_CHLO!$B$40","v":""},0,{"$f":"IFERROR(J91/SUM($J90:$J93),0)","v":0},{"$f":"EP_Desinfection_CHLO!$I$40","v":0},{"$f":"EP_Desinfection_CHLO!$G$40","v":""},{"$f":"EP_Desinfection_CHLO!$E$40","v":""},{"$f":"EP_Desinfection_CHLO!$F$40","v":""},{"$f":"EP_Desinfection_CHLO!$J$40-SUMIFS(EP_Desinfection_CHLO!$J$30:$J$39,EP_Desinfection_CHLO!$E$30:$E$39,\"<4\",EP_Desinfection_CHLO!$F$30:$F$39,\"<4\")","v":0},{"$f":"SUMIFS(EP_Desinfection_CHLO!$J$30:$J$39,EP_Desinfection_CHLO!$E$30:$E$39,\"<4\",EP_Desinfection_CHLO!$F$30:$F$39,\"<4\",EP_Desinfection_CHLO!$L$30:$L$39,\">=\"&Annee_BI,EP_Desinfection_CHLO!$L$30:$L$39,\"<=\"&Annee_BI+4)","v":0},{"$f":"MIN(IF(EP_Desinfection_CHLO!$L$30:$L$39>=Annee_BI,IF(EP_Desinfection_CHLO!$L$30:$L$39<=Annee_BI+4,EP_Desinfection_CHLO!$L$30:$L$39)))","v":0},{"$f":"MAX(IF(EP_Desinfection_CHLO!$L$30:$L$39>=Annee_BI,IF(EP_Desinfection_CHLO!$L$30:$L$39<=Annee_BI+4,EP_Desinfection_CHLO!$L$30:$L$39)))","v":0},{"$f":"SUMIFS(EP_Desinfection_CHLO!$J$30:$J$39,EP_Desinfection_CHLO!$E$30:$E$39,\"<4\",EP_Desinfection_CHLO!$F$30:$F$39,\"<4\",EP_Desinfection_CHLO!$L$30:$L$39,\">=\"&Annee_BI+5,EP_Desinfection_CHLO!$L$30:$L$39,\"<=\"&Annee_BI+9)","v":0},{"$f":"MIN(IF(EP_Desinfection_CHLO!$L$30:$L$39>=Annee_BI+5,IF(EP_Desinfection_CHLO!$L$30:$L$39<=Annee_BI+9,EP_Desinfection_CHLO!$L$30:$L$39)))","v":0},{"$f":"MAX(IF(EP_Desinfection_CHLO!$L$30:$L$39>=Annee_BI+5,IF(EP_Desinfection_CHLO!$L$30:$L$39<=Annee_BI+9,EP_Desinfection_CHLO!$L$30:$L$39)))","v":0}]
["Eau potable ","Poste de gestion de pression et de chloration","Poste de régulation de pression",{"$f":"IF(Identification!$H$63=\"\",\"\",Identification!$H$63)","v":""},"Désinfection (Chimique)","Électricité",{"$f":"EP_Desinfection_CHLO!$B$54","v":""},0,{"$f":"IFERROR(J92/SUM($J90:$J93),0)","v":0},{"$f":"EP_Desinfection_CHLO!$I$54","v":0},{"$f":"EP_Desinfection_CHLO!$G$54","v":""},{"$f":"EP_Desinfection_CHLO!$E$54","v":""},{"$f":"EP_Desinfection_CHLO!$F$54","v":""},{"$f":"EP_Desinfection_CHLO!$J$54-SUMIFS(EP_Desinfection_CHLO!$J$44:$J$53,EP_Desinfection_CHLO!$E$44:$E$53,\"<4\",EP_Desinfection_CHLO!$F$44:$F$53,\"<4\")","v":0},{"$f":"SUMIFS(EP_Desinfection_CHLO!$J$44:$J$53,EP_Desinfection_CHLO!$E$44:$E$53,\"<4\",EP_Desinfection_CHLO!$F$44:$F$53,\"<4\",EP_Desinfection_CHLO!$L$44:$L$53,\">=\"&Annee_BI,EP_Desinfection_CHLO!$L$44:$L$53,\"<=\"&Annee_BI+4)","v":0},{"$f":"MIN(IF(EP_Desinfection_CHLO!$L$44:$L$53>=Annee_BI,IF(EP_Desinfection_CHLO!$L$44:$L$53<=Annee_BI+4,EP_Desinfection_CHLO!$L$44:$L$53)))","v":0},{"$f":"MAX(IF(EP_Desinfection_CHLO!$L$44:$L$53>=Annee_BI,IF(EP_Desinfection_CHLO!$L$44:$L$53<=Annee_BI+4,EP_Desinfection_CHLO!$L$44:$L$53)))","v":0},{"$f":"SUMIFS(EP_Desinfection_CHLO!$J$44:$J$53,EP_Desinfection_CHLO!$E$44:$E$53,\"<4\",EP_Desinfection_CHLO!$F$44:$F$53,\"<4\",EP_Desinfection_CHLO!$L$44:$L$53,\">=\"&Annee_BI+5,EP_Desinfection_CHLO!$L$44:$L$53,\"<=\"&Annee_BI+9)","v":0},{"$f":"MIN(IF(EP_Desinfection_CHLO!$L$44:$L$53>=Annee_BI+5,IF(EP_Desinfection_CHLO!$L$44:$L$53<=Annee_BI+9,EP_Desinfection_CHLO!$L$44:$L$53)))","v":0},{"$f":"MAX(IF(EP_Desinfection_CHLO!$L$44:$L$53>=Annee_BI+5,IF(EP_Desinfection_CHLO!$L$44:$L$53<=Annee_BI+9,EP_Desinfection_CHLO!$L$44:$L$53)))","v":0}]
["Eau potable ","Poste de gestion de pression et de chloration","Poste de régulation de pression",{"$f":"IF(Identification!$H$63=\"\",\"\",Identification!$H$63)","v":""},"Désinfection (Chimique)","Instrumentation et contrôle",{"$f":"EP_Desinfection_CHLO!$B$68","v":""},0,{"$f":"IFERROR(J93/SUM($J90:$J93),0)","v":0},{"$f":"EP_Desinfection_CHLO!$I$68","v":0},{"$f":"EP_Desinfection_CHLO!$G$68","v":""},{"$f":"EP_Desinfection_CHLO!$E$68","v":""},{"$f":"EP_Desinfection_CHLO!$F$68","v":""},{"$f":"EP_Desinfection_CHLO!$J$68-SUMIFS(EP_Desinfection_CHLO!$J$58:$J$67,EP_Desinfection_CHLO!$E$58:$E$67,\"<4\",EP_Desinfection_CHLO!$F$58:$F$67,\"<4\")","v":0},{"$f":"SUMIFS(EP_Desinfection_CHLO!$J$58:$J$67,EP_Desinfection_CHLO!$E$58:$E$67,\"<4\",EP_Desinfection_CHLO!$F$58:$F$67,\"<4\",EP_Desinfection_CHLO!$L$58:$L$67,\">=\"&Annee_BI,EP_Desinfection_CHLO!$L$58:$L$67,\"<=\"&Annee_BI+4)","v":0},{"$f":"MIN(IF(EP_Desinfection_CHLO!$L$58:$L$67>=Annee_BI,IF(EP_Desinfection_CHLO!$L$58:$L$67<=Annee_BI+4,EP_Desinfection_CHLO!$L$58:$L$67)))","v":0},{"$f":"MAX(IF(EP_Desinfection_CHLO!$L$58:$L$67>=Annee_BI,IF(EP_Desinfection_CHLO!$L$58:$L$67<=Annee_BI+4,EP_Desinfection_CHLO!$L$58:$L$67)))","v":0},{"$f":"SUMIFS(EP_Desinfection_CHLO!$J$58:$J$67,EP_Desinfection_CHLO!$E$58:$E$67,\"<4\",EP_Desinfection_CHLO!$F$58:$F$67,\"<4\",EP_Desinfection_CHLO!$L$58:$L$67,\">=\"&Annee_BI+5,EP_Desinfection_CHLO!$L$58:$L$67,\"<=\"&Annee_BI+9)","v":0},{"$f":"MIN(IF(EP_Desinfection_CHLO!$L$58:$L$67>=Annee_BI+5,IF(EP_Desinfection_CHLO!$L$58:$L$67<=Annee_BI+9,EP_Desinfection_CHLO!$L$58:$L$67)))","v":0},{"$f":"MAX(IF(EP_Desinfection_CHLO!$L$58:$L$67>=Annee_BI+5,IF(EP_Desinfection_CHLO!$L$58:$L$67<=Annee_BI+9,EP_Desinfection_CHLO!$L$58:$L$67)))","v":0}]
["Eau potable ","Poste de gestion de pression et de chloration","Poste de régulation de pression",{"$f":"IF(Identification!$H$63=\"\",\"\",Identification!$H$63)","v":""},"Régulation de pression","Civil",{"$f":"EP_Regulation_pression!$B$26","v":""},0,{"$f":"IFERROR(J94/SUM($J94:$J97),0)","v":0},{"$f":"EP_Regulation_pression!$I$26","v":0},{"$f":"EP_Regulation_pression!$G$26","v":""},{"$f":"EP_Regulation_pression!$E$26","v":""},{"$f":"EP_Regulation_pression!$F$26","v":""},{"$f":"EP_Regulation_pression!$J$26-SUMIFS(EP_Regulation_pression!$J$16:$J$25,EP_Regulation_pression!$E$16:$E$25,\"<4\",EP_Regulation_pression!$F$16:$F$25,\"<4\")","v":0},{"$f":"SUMIFS(EP_Regulation_pression!$J$16:$J$25,EP_Regulation_pression!$E$16:$E$25,\"<4\",EP_Regulation_pression!$F$16:$F$25,\"<4\",EP_Regulation_pression!$L$16:$L$25,\">=\"&Annee_BI,EP_Regulation_pression!$L$16:$L$25,\"<=\"&Annee_BI+4)","v":0},{"$f":"MIN(IF(EP_Regulation_pression!$L$16:$L$25>=Annee_BI,IF(EP_Regulation_pression!$L$16:$L$25<=Annee_BI+4,EP_Regulation_pression!$L$16:$L$25)))","v":0},{"$f":"MAX(IF(EP_Regulation_pression!$L$16:$L$25>=Annee_BI,IF(EP_Regulation_pression!$L$16:$L$25<=Annee_BI+4,EP_Regulation_pression!$L$16:$L$25)))","v":0},{"$f":"SUMIFS(EP_Regulation_pression!$J$16:$J$25,EP_Regulation_pression!$E$16:$E$25,\"<4\",EP_Regulation_pression!$F$16:$F$25,\"<4\",EP_Regulation_pression!$L$16:$L$25,\">=\"&Annee_BI+5,EP_Regulation_pression!$L$16:$L$25,\"<=\"&Annee_BI+9)","v":0},{"$f":"MIN(IF(EP_Regulation_pression!$L$16:$L$25>=Annee_BI+5,IF(EP_Regulation_pression!$L$16:$L$25<=Annee_BI+9,EP_Regulation_pression!$L$16:$L$25)))","v":0},{"$f":"MAX(IF(EP_Regulation_pression!$L$16:$L$25>=Annee_BI+5,IF(EP_Regulation_pression!$L$16:$L$25<=Annee_BI+9,EP_Regulation_pression!$L$16:$L$25)))","v":0}]
["Eau potable ","Poste de gestion de pression et de chloration","Poste de régulation de pression",{"$f":"IF(Identification!$H$63=\"\",\"\",Identification!$H$63)","v":""},"Régulation de pression","Mécanique",{"$f":"EP_Regulation_pression!$B$40","v":""},0,{"$f":"IFERROR(J95/SUM($J94:$J97),0)","v":0},{"$f":"EP_Regulation_pression!$I$40","v":0},{"$f":"EP_Regulation_pression!$G$40","v":""},{"$f":"EP_Regulation_pression!$E$40","v":""},{"$f":"EP_Regulation_pression!$F$40","v":""},{"$f":"EP_Regulation_pression!$J$40-SUMIFS(EP_Regulation_pression!$J$30:$J$39,EP_Regulation_pression!$E$30:$E$39,\"<4\",EP_Regulation_pression!$F$30:$F$39,\"<4\")","v":0},{"$f":"SUMIFS(EP_Regulation_pression!$J$30:$J$39,EP_Regulation_pression!$E$30:$E$39,\"<4\",EP_Regulation_pression!$F$30:$F$39,\"<4\",EP_Regulation_pression!$L$30:$L$39,\">=\"&Annee_BI,EP_Regulation_pression!$L$30:$L$39,\"<=\"&Annee_BI+4)","v":0},{"$f":"MIN(IF(EP_Regulation_pression!$L$30:$L$39>=Annee_BI,IF(EP_Regulation_pression!$L$30:$L$39<=Annee_BI+4,EP_Regulation_pression!$L$30:$L$39)))","v":0},{"$f":"MAX(IF(EP_Regulation_pression!$L$30:$L$39>=Annee_BI,IF(EP_Regulation_pression!$L$30:$L$39<=Annee_BI+4,EP_Regulation_pression!$L$30:$L$39)))","v":0},{"$f":"SUMIFS(EP_Regulation_pression!$J$30:$J$39,EP_Regulation_pression!$E$30:$E$39,\"<4\",EP_Regulation_pression!$F$30:$F$39,\"<4\",EP_Regulation_pression!$L$30:$L$39,\">=\"&Annee_BI+5,EP_Regulation_pression!$L$30:$L$39,\"<=\"&Annee_BI+9)","v":0},{"$f":"MIN(IF(EP_Regulation_pression!$L$30:$L$39>=Annee_BI+5,IF(EP_Regulation_pression!$L$30:$L$39<=Annee_BI+9,EP_Regulation_pression!$L$30:$L$39)))","v":0},{"$f":"MAX(IF(EP_Regulation_pression!$L$30:$L$39>=Annee_BI+5,IF(EP_Regulation_pression!$L$30:$L$39<=Annee_BI+9,EP_Regulation_pression!$L$30:$L$39)))","v":0}]
["Eau potable ","Poste de gestion de pression et de chloration","Poste de régulation de pression",{"$f":"IF(Identification!$H$63=\"\",\"\",Identification!$H$63)","v":""},"Régulation de pression","Électricité",{"$f":"EP_Regulation_pression!$B$54","v":""},0,{"$f":"IFERROR(J96/SUM($J94:$J97),0)","v":0},{"$f":"EP_Regulation_pression!$I$54","v":0},{"$f":"EP_Regulation_pression!$G$54","v":""},{"$f":"EP_Regulation_pression!$E$54","v":""},{"$f":"EP_Regulation_pression!$F$54","v":""},{"$f":"EP_Regulation_pression!$J$54-SUMIFS(EP_Regulation_pression!$J$44:$J$53,EP_Regulation_pression!$E$44:$E$53,\"<4\",EP_Regulation_pression!$F$44:$F$53,\"<4\")","v":0},{"$f":"SUMIFS(EP_Regulation_pression!$J$44:$J$53,EP_Regulation_pression!$E$44:$E$53,\"<4\",EP_Regulation_pression!$F$44:$F$53,\"<4\",EP_Regulation_pression!$L$44:$L$53,\">=\"&Annee_BI,EP_Regulation_pression!$L$44:$L$53,\"<=\"&Annee_BI+4)","v":0},{"$f":"MIN(IF(EP_Regulation_pression!$L$44:$L$53>=Annee_BI,IF(EP_Regulation_pression!$L$44:$L$53<=Annee_BI+4,EP_Regulation_pression!$L$44:$L$53)))","v":0},{"$f":"MAX(IF(EP_Regulation_pression!$L$44:$L$53>=Annee_BI,IF(EP_Regulation_pression!$L$44:$L$53<=Annee_BI+4,EP_Regulation_pression!$L$44:$L$53)))","v":0},{"$f":"SUMIFS(EP_Regulation_pression!$J$44:$J$53,EP_Regulation_pression!$E$44:$E$53,\"<4\",EP_Regulation_pression!$F$44:$F$53,\"<4\",EP_Regulation_pression!$L$44:$L$53,\">=\"&Annee_BI+5,EP_Regulation_pression!$L$44:$L$53,\"<=\"&Annee_BI+9)","v":0},{"$f":"MIN(IF(EP_Regulation_pression!$L$44:$L$53>=Annee_BI+5,IF(EP_Regulation_pression!$L$44:$L$53<=Annee_BI+9,EP_Regulation_pression!$L$44:$L$53)))","v":0},{"$f":"MAX(IF(EP_Regulation_pression!$L$44:$L$53>=Annee_BI+5,IF(EP_Regulation_pression!$L$44:$L$53<=Annee_BI+9,EP_Regulation_pression!$L$44:$L$53)))","v":0}]
["Eau potable ","Poste de gestion de pression et de chloration","Poste de régulation de pression",{"$f":"IF(Identification!$H$63=\"\",\"\",Identification!$H$63)","v":""},"Régulation de pression","Instrumentation et contrôle",{"$f":"EP_Regulation_pression!$B$68","v":""},0,{"$f":"IFERROR(J97/SUM($J94:$J97),0)","v":0},{"$f":"EP_Regulation_pression!$I$68","v":0},{"$f":"EP_Regulation_pression!$G$68","v":""},{"$f":"EP_Regulation_pression!$E$68","v":""},{"$f":"EP_Regulation_pression!$F$68","v":""},{"$f":"EP_Regulation_pression!$J$68-SUMIFS(EP_Regulation_pression!$J$58:$J$67,EP_Regulation_pression!$E$58:$E$67,\"<4\",EP_Regulation_pression!$F$58:$F$67,\"<4\")","v":0},{"$f":"SUMIFS(EP_Regulation_pression!$J$58:$J$67,EP_Regulation_pression!$E$58:$E$67,\"<4\",EP_Regulation_pression!$F$58:$F$67,\"<4\",EP_Regulation_pression!$L$58:$L$67,\">=\"&Annee_BI,EP_Regulation_pression!$L$58:$L$67,\"<=\"&Annee_BI+4)","v":0},{"$f":"MIN(IF(EP_Regulation_pression!$L$58:$L$67>=Annee_BI,IF(EP_Regulation_pression!$L$58:$L$67<=Annee_BI+4,EP_Regulation_pression!$L$58:$L$67)))","v":0},{"$f":"MAX(IF(EP_Regulation_pression!$L$58:$L$67>=Annee_BI,IF(EP_Regulation_pression!$L$58:$L$67<=Annee_BI+4,EP_Regulation_pression!$L$58:$L$67)))","v":0},{"$f":"SUMIFS(EP_Regulation_pression!$J$58:$J$67,EP_Regulation_pression!$E$58:$E$67,\"<4\",EP_Regulation_pression!$F$58:$F$67,\"<4\",EP_Regulation_pression!$L$58:$L$67,\">=\"&Annee_BI+5,EP_Regulation_pression!$L$58:$L$67,\"<=\"&Annee_BI+9)","v":0},{"$f":"MIN(IF(EP_Regulation_pression!$L$58:$L$67>=Annee_BI+5,IF(EP_Regulation_pression!$L$58:$L$67<=Annee_BI+9,EP_Regulation_pression!$L$58:$L$67)))","v":0},{"$f":"MAX(IF(EP_Regulation_pression!$L$58:$L$67>=Annee_BI+5,IF(EP_Regulation_pression!$L$58:$L$67<=Annee_BI+9,EP_Regulation_pression!$L$58:$L$67)))","v":0}]
["Eau potable ","Poste de gestion de pression et de chloration","Poste de régulation de pression",{"$f":"IF(Identification!$H$63=\"\",\"\",Identification!$H$63)","v":""},"Systèmes communs","Civil",{"$f":"Systèmes_communs!$B$26","v":""},0,{"$f":"IFERROR(J98/SUM($J98:$J101),0)","v":0},{"$f":"Systèmes_communs!$I$26","v":0},{"$f":"Systèmes_communs!$G$26","v":""},{"$f":"Systèmes_communs!$E$26","v":""},{"$f":"Systèmes_communs!$F$26","v":""},{"$f":"Systèmes_communs!$J$26-SUMIFS(Systèmes_communs!$J$16:$J$25,Systèmes_communs!$E$16:$E$25,\"<4\",Systèmes_communs!$F$16:$F$25,\"<4\")","v":0},{"$f":"SUMIFS(Systèmes_communs!$J$16:$J$25,Systèmes_communs!$E$16:$E$25,\"<4\",Systèmes_communs!$F$16:$F$25,\"<4\",Systèmes_communs!$L$16:$L$25,\">=\"&Annee_BI,Systèmes_communs!$L$16:$L$25,\"<=\"&Annee_BI+4)","v":0},{"$f":"MIN(IF(Systèmes_communs!$L$16:$L$25>=Annee_BI,IF(Systèmes_communs!$L$16:$L$25<=Annee_BI+4,Systèmes_communs!$L$16:$L$25)))","v":0},{"$f":"MAX(IF(Systèmes_communs!$L$16:$L$25>=Annee_BI,IF(Systèmes_communs!$L$16:$L$25<=Annee_BI+4,Systèmes_communs!$L$16:$L$25)))","v":0},{"$f":"SUMIFS(Systèmes_communs!$J$16:$J$25,Systèmes_communs!$E$16:$E$25,\"<4\",Systèmes_communs!$F$16:$F$25,\"<4\",Systèmes_communs!$L$16:$L$25,\">=\"&Annee_BI+5,Systèmes_communs!$L$16:$L$25,\"<=\"&Annee_BI+9)","v":0},{"$f":"MIN(IF(Systèmes_communs!$L$16:$L$25>=Annee_BI+5,IF(Systèmes_communs!$L$16:$L$25<=Annee_BI+9,Systèmes_communs!$L$16:$L$25)))","v":0},{"$f":"MAX(IF(Systèmes_communs!$L$16:$L$25>=Annee_BI+5,IF(Systèmes_communs!$L$16:$L$25<=Annee_BI+9,Systèmes_communs!$L$16:$L$25)))","v":0}]
["Eau potable ","Poste de gestion de pression et de chloration","Poste de régulation de pression",{"$f":"IF(Identification!$H$63=\"\",\"\",Identification!$H$63)","v":""},"Systèmes communs","Mécanique",{"$f":"Systèmes_communs!$B$40","v":""},0,{"$f":"IFERROR(J99/SUM($J98:$J101),0)","v":0},{"$f":"Systèmes_communs!$I$40","v":0},{"$f":"Systèmes_communs!$G$40","v":""},{"$f":"Systèmes_communs!$E$40","v":""},{"$f":"Systèmes_communs!$F$40","v":""},{"$f":"Systèmes_communs!$J$40-SUMIFS(Systèmes_communs!$J$30:$J$39,Systèmes_communs!$E$30:$E$39,\"<4\",Systèmes_communs!$F$30:$F$39,\"<4\")","v":0},{"$f":"SUMIFS(Systèmes_communs!$J$30:$J$39,Systèmes_communs!$E$30:$E$39,\"<4\",Systèmes_communs!$F$30:$F$39,\"<4\",Systèmes_communs!$L$30:$L$39,\">=\"&Annee_BI,Systèmes_communs!$L$30:$L$39,\"<=\"&Annee_BI+4)","v":0},{"$f":"MIN(IF(Systèmes_communs!$L$30:$L$39>=Annee_BI,IF(Systèmes_communs!$L$30:$L$39<=Annee_BI+4,Systèmes_communs!$L$30:$L$39)))","v":0},{"$f":"MAX(IF(Systèmes_communs!$L$30:$L$39>=Annee_BI,IF(Systèmes_communs!$L$30:$L$39<=Annee_BI+4,Systèmes_communs!$L$30:$L$39)))","v":0},{"$f":"SUMIFS(Systèmes_communs!$J$30:$J$39,Systèmes_communs!$E$30:$E$39,\"<4\",Systèmes_communs!$F$30:$F$39,\"<4\",Systèmes_communs!$L$30:$L$39,\">=\"&Annee_BI+5,Systèmes_communs!$L$30:$L$39,\"<=\"&Annee_BI+9)","v":0},{"$f":"MIN(IF(Systèmes_communs!$L$30:$L$39>=Annee_BI+5,IF(Systèmes_communs!$L$30:$L$39<=Annee_BI+9,Systèmes_communs!$L$30:$L$39)))","v":0},{"$f":"MAX(IF(Systèmes_communs!$L$30:$L$39>=Annee_BI+5,IF(Systèmes_communs!$L$30:$L$39<=Annee_BI+9,Systèmes_communs!$L$30:$L$39)))","v":0}]
["Eau potable ","Poste de gestion de pression et de chloration","Poste de régulation de pression",{"$f":"IF(Identification!$H$63=\"\",\"\",Identification!$H$63)","v":""},"Systèmes communs","Électricité",{"$f":"Systèmes_communs!$B$54","v":""},0,{"$f":"IFERROR(J100/SUM($J98:$J101),0)","v":0},{"$f":"Systèmes_communs!$I$54","v":0},{"$f":"Systèmes_communs!$G$54","v":""},{"$f":"Systèmes_communs!$E$54","v":""},{"$f":"Systèmes_communs!$F$54","v":""},{"$f":"Systèmes_communs!$J$54-SUMIFS(Systèmes_communs!$J$44:$J$53,Systèmes_communs!$E$44:$E$53,\"<4\",Systèmes_communs!$F$44:$F$53,\"<4\")","v":0},{"$f":"SUMIFS(Systèmes_communs!$J$44:$J$53,Systèmes_communs!$E$44:$E$53,\"<4\",Systèmes_communs!$F$44:$F$53,\"<4\",Systèmes_communs!$L$44:$L$53,\">=\"&Annee_BI,Systèmes_communs!$L$44:$L$53,\"<=\"&Annee_BI+4)","v":0},{"$f":"MIN(IF(Systèmes_communs!$L$44:$L$53>=Annee_BI,IF(Systèmes_communs!$L$44:$L$53<=Annee_BI+4,Systèmes_communs!$L$44:$L$53)))","v":0},{"$f":"MAX(IF(Systèmes_communs!$L$44:$L$53>=Annee_BI,IF(Systèmes_communs!$L$44:$L$53<=Annee_BI+4,Systèmes_communs!$L$44:$L$53)))","v":0},{"$f":"SUMIFS(Systèmes_communs!$J$44:$J$53,Systèmes_communs!$E$44:$E$53,\"<4\",Systèmes_communs!$F$44:$F$53,\"<4\",Systèmes_communs!$L$44:$L$53,\">=\"&Annee_BI+5,Systèmes_communs!$L$44:$L$53,\"<=\"&Annee_BI+9)","v":0},{"$f":"MIN(IF(Systèmes_communs!$L$44:$L$53>=Annee_BI+5,IF(Systèmes_communs!$L$44:$L$53<=Annee_BI+9,Systèmes_communs!$L$44:$L$53)))","v":0},{"$f":"MAX(IF(Systèmes_communs!$L$44:$L$53>=Annee_BI+5,IF(Systèmes_communs!$L$44:$L$53<=Annee_BI+9,Systèmes_communs!$L$44:$L$53)))","v":0}]
["Eau potable ","Poste de gestion de pression et de chloration","Poste de régulation de pression",{"$f":"IF(Identification!$H$63=\"\",\"\",Identification!$H$63)","v":""},"Systèmes communs","Instrumentation et contrôle",{"$f":"Systèmes_communs!$B$68","v":""},0,{"$f":"IFERROR(J101/SUM($J98:$J101),0)","v":0},{"$f":"Systèmes_communs!$I$68","v":0},{"$f":"Systèmes_communs!$G$68","v":""},{"$f":"Systèmes_communs!$E$68","v":""},{"$f":"Systèmes_communs!$F$68","v":""},{"$f":"Systèmes_communs!$J$68-SUMIFS(Systèmes_communs!$J$58:$J$67,Systèmes_communs!$E$58:$E$67,\"<4\",Systèmes_communs!$F$58:$F$67,\"<4\")","v":0},{"$f":"SUMIFS(Systèmes_communs!$J$58:$J$67,Systèmes_communs!$E$58:$E$67,\"<4\",Systèmes_communs!$F$58:$F$67,\"<4\",Systèmes_communs!$L$58:$L$67,\">=\"&Annee_BI,Systèmes_communs!$L$58:$L$67,\"<=\"&Annee_BI+4)","v":0},{"$f":"MIN(IF(Systèmes_communs!$L$58:$L$67>=Annee_BI,IF(Systèmes_communs!$L$58:$L$67<=Annee_BI+4,Systèmes_communs!$L$58:$L$67)))","v":0},{"$f":"MAX(IF(Systèmes_communs!$L$58:$L$67>=Annee_BI,IF(Systèmes_communs!$L$58:$L$67<=Annee_BI+4,Systèmes_communs!$L$58:$L$67)))","v":0},{"$f":"SUMIFS(Systèmes_communs!$J$58:$J$67,Systèmes_communs!$E$58:$E$67,\"<4\",Systèmes_communs!$F$58:$F$67,\"<4\",Systèmes_communs!$L$58:$L$67,\">=\"&Annee_BI+5,Systèmes_communs!$L$58:$L$67,\"<=\"&Annee_BI+9)","v":0},{"$f":"MIN(IF(Systèmes_communs!$L$58:$L$67>=Annee_BI+5,IF(Systèmes_communs!$L$58:$L$67<=Annee_BI+9,Systèmes_communs!$L$58:$L$67)))","v":0},{"$f":"MAX(IF(Systèmes_communs!$L$58:$L$67>=Annee_BI+5,IF(Systèmes_communs!$L$58:$L$67<=Annee_BI+9,Systèmes_communs!$L$58:$L$67)))","v":0}]
["Eau potable ","Poste de gestion de pression et de chloration","Poste de surpression",{"$f":"IF(Identification!$H$63=\"\",\"\",Identification!$H$63)","v":""},"Pompage de distribution","Civil",{"$f":"EP_Pompage_distribution!$B$26","v":""},0,{"$f":"IFERROR(J102/SUM($J102:$J105),0)","v":0},{"$f":"EP_Pompage_distribution!$I$26","v":0},{"$f":"EP_Pompage_distribution!$G$26","v":""},{"$f":"EP_Pompage_distribution!$E$26","v":""},{"$f":"EP_Pompage_distribution!$F$26","v":""},{"$f":"EP_Pompage_distribution!$J$26-SUMIFS(EP_Pompage_distribution!$J$16:$J$25,EP_Pompage_distribution!$E$16:$E$25,\"<4\",EP_Pompage_distribution!$F$16:$F$25,\"<4\")","v":0},{"$f":"SUMIFS(EP_Pompage_distribution!$J$16:$J$25,EP_Pompage_distribution!$E$16:$E$25,\"<4\",EP_Pompage_distribution!$F$16:$F$25,\"<4\",EP_Pompage_distribution!$L$16:$L$25,\">=\"&Annee_BI,EP_Pompage_distribution!$L$16:$L$25,\"<=\"&Annee_BI+4)","v":0},{"$f":"MIN(IF(EP_Pompage_distribution!$L$16:$L$25>=Annee_BI,IF(EP_Pompage_distribution!$L$16:$L$25<=Annee_BI+4,EP_Pompage_distribution!$L$16:$L$25)))","v":0},{"$f":"MAX(IF(EP_Pompage_distribution!$L$16:$L$25>=Annee_BI,IF(EP_Pompage_distribution!$L$16:$L$25<=Annee_BI+4,EP_Pompage_distribution!$L$16:$L$25)))","v":0},{"$f":"SUMIFS(EP_Pompage_distribution!$J$16:$J$25,EP_Pompage_distribution!$E$16:$E$25,\"<4\",EP_Pompage_distribution!$F$16:$F$25,\"<4\",EP_Pompage_distribution!$L$16:$L$25,\">=\"&Annee_BI+5,EP_Pompage_distribution!$L$16:$L$25,\"<=\"&Annee_BI+9)","v":0},{"$f":"MIN(IF(EP_Pompage_distribution!$L$16:$L$25>=Annee_BI+5,IF(EP_Pompage_distribution!$L$16:$L$25<=Annee_BI+9,EP_Pompage_distribution!$L$16:$L$25)))","v":0},{"$f":"MAX(IF(EP_Pompage_distribution!$L$16:$L$25>=Annee_BI+5,IF(EP_Pompage_distribution!$L$16:$L$25<=Annee_BI+9,EP_Pompage_distribution!$L$16:$L$25)))","v":0}]
["Eau potable ","Poste de gestion de pression et de chloration","Poste de surpression",{"$f":"IF(Identification!$H$63=\"\",\"\",Identification!$H$63)","v":""},"Pompage de distribution","Mécanique",{"$f":"EP_Pompage_distribution!$B$40","v":""},0,{"$f":"IFERROR(J103/SUM($J102:$J105),0)","v":0},{"$f":"EP_Pompage_distribution!$I$40","v":0},{"$f":"EP_Pompage_distribution!$G$40","v":""},{"$f":"EP_Pompage_distribution!$E$40","v":""},{"$f":"EP_Pompage_distribution!$F$40","v":""},{"$f":"EP_Pompage_distribution!$J$40-SUMIFS(EP_Pompage_distribution!$J$30:$J$39,EP_Pompage_distribution!$E$30:$E$39,\"<4\",EP_Pompage_distribution!$F$30:$F$39,\"<4\")","v":0},{"$f":"SUMIFS(EP_Pompage_distribution!$J$30:$J$39,EP_Pompage_distribution!$E$30:$E$39,\"<4\",EP_Pompage_distribution!$F$30:$F$39,\"<4\",EP_Pompage_distribution!$L$30:$L$39,\">=\"&Annee_BI,EP_Pompage_distribution!$L$30:$L$39,\"<=\"&Annee_BI+4)","v":0},{"$f":"MIN(IF(EP_Pompage_distribution!$L$30:$L$39>=Annee_BI,IF(EP_Pompage_distribution!$L$30:$L$39<=Annee_BI+4,EP_Pompage_distribution!$L$30:$L$39)))","v":0},{"$f":"MAX(IF(EP_Pompage_distribution!$L$30:$L$39>=Annee_BI,IF(EP_Pompage_distribution!$L$30:$L$39<=Annee_BI+4,EP_Pompage_distribution!$L$30:$L$39)))","v":0},{"$f":"SUMIFS(EP_Pompage_distribution!$J$30:$J$39,EP_Pompage_distribution!$E$30:$E$39,\"<4\",EP_Pompage_distribution!$F$30:$F$39,\"<4\",EP_Pompage_distribution!$L$30:$L$39,\">=\"&Annee_BI+5,EP_Pompage_distribution!$L$30:$L$39,\"<=\"&Annee_BI+9)","v":0},{"$f":"MIN(IF(EP_Pompage_distribution!$L$30:$L$39>=Annee_BI+5,IF(EP_Pompage_distribution!$L$30:$L$39<=Annee_BI+9,EP_Pompage_distribution!$L$30:$L$39)))","v":0},{"$f":"MAX(IF(EP_Pompage_distribution!$L$30:$L$39>=Annee_BI+5,IF(EP_Pompage_distribution!$L$30:$L$39<=Annee_BI+9,EP_Pompage_distribution!$L$30:$L$39)))","v":0}]
["Eau potable ","Poste de gestion de pression et de chloration","Poste de surpression",{"$f":"IF(Identification!$H$63=\"\",\"\",Identification!$H$63)","v":""},"Pompage de distribution","Électricité",{"$f":"EP_Pompage_distribution!$B$54","v":""},0,{"$f":"IFERROR(J104/SUM($J102:$J105),0)","v":0},{"$f":"EP_Pompage_distribution!$I$54","v":0},{"$f":"EP_Pompage_distribution!$G$54","v":""},{"$f":"EP_Pompage_distribution!$E$54","v":""},{"$f":"EP_Pompage_distribution!$F$54","v":""},{"$f":"EP_Pompage_distribution!$J$54-SUMIFS(EP_Pompage_distribution!$J$44:$J$53,EP_Pompage_distribution!$E$44:$E$53,\"<4\",EP_Pompage_distribution!$F$44:$F$53,\"<4\")","v":0},{"$f":"SUMIFS(EP_Pompage_distribution!$J$44:$J$53,EP_Pompage_distribution!$E$44:$E$53,\"<4\",EP_Pompage_distribution!$F$44:$F$53,\"<4\",EP_Pompage_distribution!$L$44:$L$53,\">=\"&Annee_BI,EP_Pompage_distribution!$L$44:$L$53,\"<=\"&Annee_BI+4)","v":0},{"$f":"MIN(IF(EP_Pompage_distribution!$L$44:$L$53>=Annee_BI,IF(EP_Pompage_distribution!$L$44:$L$53<=Annee_BI+4,EP_Pompage_distribution!$L$44:$L$53)))","v":0},{"$f":"MAX(IF(EP_Pompage_distribution!$L$44:$L$53>=Annee_BI,IF(EP_Pompage_distribution!$L$44:$L$53<=Annee_BI+4,EP_Pompage_distribution!$L$44:$L$53)))","v":0},{"$f":"SUMIFS(EP_Pompage_distribution!$J$44:$J$53,EP_Pompage_distribution!$E$44:$E$53,\"<4\",EP_Pompage_distribution!$F$44:$F$53,\"<4\",EP_Pompage_distribution!$L$44:$L$53,\">=\"&Annee_BI+5,EP_Pompage_distribution!$L$44:$L$53,\"<=\"&Annee_BI+9)","v":0},{"$f":"MIN(IF(EP_Pompage_distribution!$L$44:$L$53>=Annee_BI+5,IF(EP_Pompage_distribution!$L$44:$L$53<=Annee_BI+9,EP_Pompage_distribution!$L$44:$L$53)))","v":0},{"$f":"MAX(IF(EP_Pompage_distribution!$L$44:$L$53>=Annee_BI+5,IF(EP_Pompage_distribution!$L$44:$L$53<=Annee_BI+9,EP_Pompage_distribution!$L$44:$L$53)))","v":0}]
["Eau potable ","Poste de gestion de pression et de chloration","Poste de surpression",{"$f":"IF(Identification!$H$63=\"\",\"\",Identification!$H$63)","v":""},"Pompage de distribution","Instrumentation et contrôle",{"$f":"EP_Pompage_distribution!$B$68","v":""},0,{"$f":"IFERROR(J105/SUM($J102:$J105),0)","v":0},{"$f":"EP_Pompage_distribution!$I$68","v":0},{"$f":"EP_Pompage_distribution!$G$68","v":""},{"$f":"EP_Pompage_distribution!$E$68","v":""},{"$f":"EP_Pompage_distribution!$F$68","v":""},{"$f":"EP_Pompage_distribution!$J$68-SUMIFS(EP_Pompage_distribution!$J$58:$J$67,EP_Pompage_distribution!$E$58:$E$67,\"<4\",EP_Pompage_distribution!$F$58:$F$67,\"<4\")","v":0},{"$f":"SUMIFS(EP_Pompage_distribution!$J$58:$J$67,EP_Pompage_distribution!$E$58:$E$67,\"<4\",EP_Pompage_distribution!$F$58:$F$67,\"<4\",EP_Pompage_distribution!$L$58:$L$67,\">=\"&Annee_BI,EP_Pompage_distribution!$L$58:$L$67,\"<=\"&Annee_BI+4)","v":0},{"$f":"MIN(IF(EP_Pompage_distribution!$L$58:$L$67>=Annee_BI,IF(EP_Pompage_distribution!$L$58:$L$67<=Annee_BI+4,EP_Pompage_distribution!$L$58:$L$67)))","v":0},{"$f":"MAX(IF(EP_Pompage_distribution!$L$58:$L$67>=Annee_BI,IF(EP_Pompage_distribution!$L$58:$L$67<=Annee_BI+4,EP_Pompage_distribution!$L$58:$L$67)))","v":0},{"$f":"SUMIFS(EP_Pompage_distribution!$J$58:$J$67,EP_Pompage_distribution!$E$58:$E$67,\"<4\",EP_Pompage_distribution!$F$58:$F$67,\"<4\",EP_Pompage_distribution!$L$58:$L$67,\">=\"&Annee_BI+5,EP_Pompage_distribution!$L$58:$L$67,\"<=\"&Annee_BI+9)","v":0},{"$f":"MIN(IF(EP_Pompage_distribution!$L$58:$L$67>=Annee_BI+5,IF(EP_Pompage_distribution!$L$58:$L$67<=Annee_BI+9,EP_Pompage_distribution!$L$58:$L$67)))","v":0},{"$f":"MAX(IF(EP_Pompage_distribution!$L$58:$L$67>=Annee_BI+5,IF(EP_Pompage_distribution!$L$58:$L$67<=Annee_BI+9,EP_Pompage_distribution!$L$58:$L$67)))","v":0}]
["Eau potable ","Poste de gestion de pression et de chloration","Poste de surpression",{"$f":"IF(Identification!$H$63=\"\",\"\",Identification!$H$63)","v":""},"Désinfection (Chimique)","Civil",{"$f":"EP_Desinfection_CHLO!$B$26","v":""},0,{"$f":"IFERROR(J106/SUM($J106:$J109),0)","v":0},{"$f":"EP_Desinfection_CHLO!$I$26","v":0},{"$f":"EP_Desinfection_CHLO!$G$26","v":""},{"$f":"EP_Desinfection_CHLO!$E$26","v":""},{"$f":"EP_Desinfection_CHLO!$F$26","v":""},{"$f":"EP_Desinfection_CHLO!$J$26-SUMIFS(EP_Desinfection_CHLO!$J$16:$J$25,EP_Desinfection_CHLO!$E$16:$E$25,\"<4\",EP_Desinfection_CHLO!$F$16:$F$25,\"<4\")","v":0},{"$f":"SUMIFS(EP_Desinfection_CHLO!$J$16:$J$25,EP_Desinfection_CHLO!$E$16:$E$25,\"<4\",EP_Desinfection_CHLO!$F$16:$F$25,\"<4\",EP_Desinfection_CHLO!$L$16:$L$25,\">=\"&Annee_BI,EP_Desinfection_CHLO!$L$16:$L$25,\"<=\"&Annee_BI+4)","v":0},{"$f":"MIN(IF(EP_Desinfection_CHLO!$L$16:$L$25>=Annee_BI,IF(EP_Desinfection_CHLO!$L$16:$L$25<=Annee_BI+4,EP_Desinfection_CHLO!$L$16:$L$25)))","v":0},{"$f":"MAX(IF(EP_Desinfection_CHLO!$L$16:$L$25>=Annee_BI,IF(EP_Desinfection_CHLO!$L$16:$L$25<=Annee_BI+4,EP_Desinfection_CHLO!$L$16:$L$25)))","v":0},{"$f":"SUMIFS(EP_Desinfection_CHLO!$J$16:$J$25,EP_Desinfection_CHLO!$E$16:$E$25,\"<4\",EP_Desinfection_CHLO!$F$16:$F$25,\"<4\",EP_Desinfection_CHLO!$L$16:$L$25,\">=\"&Annee_BI+5,EP_Desinfection_CHLO!$L$16:$L$25,\"<=\"&Annee_BI+9)","v":0},{"$f":"MIN(IF(EP_Desinfection_CHLO!$L$16:$L$25>=Annee_BI+5,IF(EP_Desinfection_CHLO!$L$16:$L$25<=Annee_BI+9,EP_Desinfection_CHLO!$L$16:$L$25)))","v":0},{"$f":"MAX(IF(EP_Desinfection_CHLO!$L$16:$L$25>=Annee_BI+5,IF(EP_Desinfection_CHLO!$L$16:$L$25<=Annee_BI+9,EP_Desinfection_CHLO!$L$16:$L$25)))","v":0}]
["Eau potable ","Poste de gestion de pression et de chloration","Poste de surpression",{"$f":"IF(Identification!$H$63=\"\",\"\",Identification!$H$63)","v":""},"Désinfection (Chimique)","Mécanique",{"$f":"EP_Desinfection_CHLO!$B$40","v":""},0,{"$f":"IFERROR(J107/SUM($J106:$J109),0)","v":0},{"$f":"EP_Desinfection_CHLO!$I$40","v":0},{"$f":"EP_Desinfection_CHLO!$G$40","v":""},{"$f":"EP_Desinfection_CHLO!$E$40","v":""},{"$f":"EP_Desinfection_CHLO!$F$40","v":""},{"$f":"EP_Desinfection_CHLO!$J$40-SUMIFS(EP_Desinfection_CHLO!$J$30:$J$39,EP_Desinfection_CHLO!$E$30:$E$39,\"<4\",EP_Desinfection_CHLO!$F$30:$F$39,\"<4\")","v":0},{"$f":"SUMIFS(EP_Desinfection_CHLO!$J$30:$J$39,EP_Desinfection_CHLO!$E$30:$E$39,\"<4\",EP_Desinfection_CHLO!$F$30:$F$39,\"<4\",EP_Desinfection_CHLO!$L$30:$L$39,\">=\"&Annee_BI,EP_Desinfection_CHLO!$L$30:$L$39,\"<=\"&Annee_BI+4)","v":0},{"$f":"MIN(IF(EP_Desinfection_CHLO!$L$30:$L$39>=Annee_BI,IF(EP_Desinfection_CHLO!$L$30:$L$39<=Annee_BI+4,EP_Desinfection_CHLO!$L$30:$L$39)))","v":0},{"$f":"MAX(IF(EP_Desinfection_CHLO!$L$30:$L$39>=Annee_BI,IF(EP_Desinfection_CHLO!$L$30:$L$39<=Annee_BI+4,EP_Desinfection_CHLO!$L$30:$L$39)))","v":0},{"$f":"SUMIFS(EP_Desinfection_CHLO!$J$30:$J$39,EP_Desinfection_CHLO!$E$30:$E$39,\"<4\",EP_Desinfection_CHLO!$F$30:$F$39,\"<4\",EP_Desinfection_CHLO!$L$30:$L$39,\">=\"&Annee_BI+5,EP_Desinfection_CHLO!$L$30:$L$39,\"<=\"&Annee_BI+9)","v":0},{"$f":"MIN(IF(EP_Desinfection_CHLO!$L$30:$L$39>=Annee_BI+5,IF(EP_Desinfection_CHLO!$L$30:$L$39<=Annee_BI+9,EP_Desinfection_CHLO!$L$30:$L$39)))","v":0},{"$f":"MAX(IF(EP_Desinfection_CHLO!$L$30:$L$39>=Annee_BI+5,IF(EP_Desinfection_CHLO!$L$30:$L$39<=Annee_BI+9,EP_Desinfection_CHLO!$L$30:$L$39)))","v":0}]
["Eau potable ","Poste de gestion de pression et de chloration","Poste de surpression",{"$f":"IF(Identification!$H$63=\"\",\"\",Identification!$H$63)","v":""},"Désinfection (Chimique)","Électricité",{"$f":"EP_Desinfection_CHLO!$B$54","v":""},0,{"$f":"IFERROR(J108/SUM($J106:$J109),0)","v":0},{"$f":"EP_Desinfection_CHLO!$I$54","v":0},{"$f":"EP_Desinfection_CHLO!$G$54","v":""},{"$f":"EP_Desinfection_CHLO!$E$54","v":""},{"$f":"EP_Desinfection_CHLO!$F$54","v":""},{"$f":"EP_Desinfection_CHLO!$J$54-SUMIFS(EP_Desinfection_CHLO!$J$44:$J$53,EP_Desinfection_CHLO!$E$44:$E$53,\"<4\",EP_Desinfection_CHLO!$F$44:$F$53,\"<4\")","v":0},{"$f":"SUMIFS(EP_Desinfection_CHLO!$J$44:$J$53,EP_Desinfection_CHLO!$E$44:$E$53,\"<4\",EP_Desinfection_CHLO!$F$44:$F$53,\"<4\",EP_Desinfection_CHLO!$L$44:$L$53,\">=\"&Annee_BI,EP_Desinfection_CHLO!$L$44:$L$53,\"<=\"&Annee_BI+4)","v":0},{"$f":"MIN(IF(EP_Desinfection_CHLO!$L$44:$L$53>=Annee_BI,IF(EP_Desinfection_CHLO!$L$44:$L$53<=Annee_BI+4,EP_Desinfection_CHLO!$L$44:$L$53)))","v":0},{"$f":"MAX(IF(EP_Desinfection_CHLO!$L$44:$L$53>=Annee_BI,IF(EP_Desinfection_CHLO!$L$44:$L$53<=Annee_BI+4,EP_Desinfection_CHLO!$L$44:$L$53)))","v":0},{"$f":"SUMIFS(EP_Desinfection_CHLO!$J$44:$J$53,EP_Desinfection_CHLO!$E$44:$E$53,\"<4\",EP_Desinfection_CHLO!$F$44:$F$53,\"<4\",EP_Desinfection_CHLO!$L$44:$L$53,\">=\"&Annee_BI+5,EP_Desinfection_CHLO!$L$44:$L$53,\"<=\"&Annee_BI+9)","v":0},{"$f":"MIN(IF(EP_Desinfection_CHLO!$L$44:$L$53>=Annee_BI+5,IF(EP_Desinfection_CHLO!$L$44:$L$53<=Annee_BI+9,EP_Desinfection_CHLO!$L$44:$L$53)))","v":0},{"$f":"MAX(IF(EP_Desinfection_CHLO!$L$44:$L$53>=Annee_BI+5,IF(EP_Desinfection_CHLO!$L$44:$L$53<=Annee_BI+9,EP_Desinfection_CHLO!$L$44:$L$53)))","v":0}]
["Eau potable ","Poste de gestion de pression et de chloration","Poste de surpression",{"$f":"IF(Identification!$H$63=\"\",\"\",Identification!$H$63)","v":""},"Désinfection (Chimique)","Instrumentation et contrôle",{"$f":"EP_Desinfection_CHLO!$B$68","v":""},0,{"$f":"IFERROR(J109/SUM($J106:$J109),0)","v":0},{"$f":"EP_Desinfection_CHLO!$I$68","v":0},{"$f":"EP_Desinfection_CHLO!$G$68","v":""},{"$f":"EP_Desinfection_CHLO!$E$68","v":""},{"$f":"EP_Desinfection_CHLO!$F$68","v":""},{"$f":"EP_Desinfection_CHLO!$J$68-SUMIFS(EP_Desinfection_CHLO!$J$58:$J$67,EP_Desinfection_CHLO!$E$58:$E$67,\"<4\",EP_Desinfection_CHLO!$F$58:$F$67,\"<4\")","v":0},{"$f":"SUMIFS(EP_Desinfection_CHLO!$J$58:$J$67,EP_Desinfection_CHLO!$E$58:$E$67,\"<4\",EP_Desinfection_CHLO!$F$58:$F$67,\"<4\",EP_Desinfection_CHLO!$L$58:$L$67,\">=\"&Annee_BI,EP_Desinfection_CHLO!$L$58:$L$67,\"<=\"&Annee_BI+4)","v":0},{"$f":"MIN(IF(EP_Desinfection_CHLO!$L$58:$L$67>=Annee_BI,IF(EP_Desinfection_CHLO!$L$58:$L$67<=Annee_BI+4,EP_Desinfection_CHLO!$L$58:$L$67)))","v":0},{"$f":"MAX(IF(EP_Desinfection_CHLO!$L$58:$L$67>=Annee_BI,IF(EP_Desinfection_CHLO!$L$58:$L$67<=Annee_BI+4,EP_Desinfection_CHLO!$L$58:$L$67)))","v":0},{"$f":"SUMIFS(EP_Desinfection_CHLO!$J$58:$J$67,EP_Desinfection_CHLO!$E$58:$E$67,\"<4\",EP_Desinfection_CHLO!$F$58:$F$67,\"<4\",EP_Desinfection_CHLO!$L$58:$L$67,\">=\"&Annee_BI+5,EP_Desinfection_CHLO!$L$58:$L$67,\"<=\"&Annee_BI+9)","v":0},{"$f":"MIN(IF(EP_Desinfection_CHLO!$L$58:$L$67>=Annee_BI+5,IF(EP_Desinfection_CHLO!$L$58:$L$67<=Annee_BI+9,EP_Desinfection_CHLO!$L$58:$L$67)))","v":0},{"$f":"MAX(IF(EP_Desinfection_CHLO!$L$58:$L$67>=Annee_BI+5,IF(EP_Desinfection_CHLO!$L$58:$L$67<=Annee_BI+9,EP_Desinfection_CHLO!$L$58:$L$67)))","v":0}]
["Eau potable ","Poste de gestion de pression et de chloration","Poste de surpression",{"$f":"IF(Identification!$H$63=\"\",\"\",Identification!$H$63)","v":""},"Régulation de pression","Civil",{"$f":"EP_Regulation_pression!$B$26","v":""},{"$f":"IF(G110<>\"\",1,0)","v":0},{"$f":"IFERROR(J110/SUM($J110:$J113),0)","v":0},{"$f":"EP_Regulation_pression!$I$26","v":0},{"$f":"EP_Regulation_pression!$G$26","v":""},{"$f":"EP_Regulation_pression!$E$26","v":""},{"$f":"EP_Regulation_pression!$F$26","v":""},{"$f":"EP_Regulation_pression!$J$26-SUMIFS(EP_Regulation_pression!$J$16:$J$25,EP_Regulation_pression!$E$16:$E$25,\"<4\",EP_Regulation_pression!$F$16:$F$25,\"<4\")","v":0},{"$f":"SUMIFS(EP_Regulation_pression!$J$16:$J$25,EP_Regulation_pression!$E$16:$E$25,\"<4\",EP_Regulation_pression!$F$16:$F$25,\"<4\",EP_Regulation_pression!$L$16:$L$25,\">=\"&Annee_BI,EP_Regulation_pression!$L$16:$L$25,\"<=\"&Annee_BI+4)","v":0},{"$f":"MIN(IF(EP_Regulation_pression!$L$16:$L$25>=Annee_BI,IF(EP_Regulation_pression!$L$16:$L$25<=Annee_BI+4,EP_Regulation_pression!$L$16:$L$25)))","v":0},{"$f":"MAX(IF(EP_Regulation_pression!$L$16:$L$25>=Annee_BI,IF(EP_Regulation_pression!$L$16:$L$25<=Annee_BI+4,EP_Regulation_pression!$L$16:$L$25)))","v":0},{"$f":"SUMIFS(EP_Regulation_pression!$J$16:$J$25,EP_Regulation_pression!$E$16:$E$25,\"<4\",EP_Regulation_pression!$F$16:$F$25,\"<4\",EP_Regulation_pression!$L$16:$L$25,\">=\"&Annee_BI+5,EP_Regulation_pression!$L$16:$L$25,\"<=\"&Annee_BI+9)","v":0},{"$f":"MIN(IF(EP_Regulation_pression!$L$16:$L$25>=Annee_BI+5,IF(EP_Regulation_pression!$L$16:$L$25<=Annee_BI+9,EP_Regulation_pression!$L$16:$L$25)))","v":0},{"$f":"MAX(IF(EP_Regulation_pression!$L$16:$L$25>=Annee_BI+5,IF(EP_Regulation_pression!$L$16:$L$25<=Annee_BI+9,EP_Regulation_pression!$L$16:$L$25)))","v":0}]
["Eau potable ","Poste de gestion de pression et de chloration","Poste de surpression",{"$f":"IF(Identification!$H$63=\"\",\"\",Identification!$H$63)","v":""},"Régulation de pression","Mécanique",{"$f":"EP_Regulation_pression!$B$40","v":""},0,{"$f":"IFERROR(J111/SUM($J110:$J113),0)","v":0},{"$f":"EP_Regulation_pression!$I$40","v":0},{"$f":"EP_Regulation_pression!$G$40","v":""},{"$f":"EP_Regulation_pression!$E$40","v":""},{"$f":"EP_Regulation_pression!$F$40","v":""},{"$f":"EP_Regulation_pression!$J$40-SUMIFS(EP_Regulation_pression!$J$30:$J$39,EP_Regulation_pression!$E$30:$E$39,\"<4\",EP_Regulation_pression!$F$30:$F$39,\"<4\")","v":0},{"$f":"SUMIFS(EP_Regulation_pression!$J$30:$J$39,EP_Regulation_pression!$E$30:$E$39,\"<4\",EP_Regulation_pression!$F$30:$F$39,\"<4\",EP_Regulation_pression!$L$30:$L$39,\">=\"&Annee_BI,EP_Regulation_pression!$L$30:$L$39,\"<=\"&Annee_BI+4)","v":0},{"$f":"MIN(IF(EP_Regulation_pression!$L$30:$L$39>=Annee_BI,IF(EP_Regulation_pression!$L$30:$L$39<=Annee_BI+4,EP_Regulation_pression!$L$30:$L$39)))","v":0},{"$f":"MAX(IF(EP_Regulation_pression!$L$30:$L$39>=Annee_BI,IF(EP_Regulation_pression!$L$30:$L$39<=Annee_BI+4,EP_Regulation_pression!$L$30:$L$39)))","v":0},{"$f":"SUMIFS(EP_Regulation_pression!$J$30:$J$39,EP_Regulation_pression!$E$30:$E$39,\"<4\",EP_Regulation_pression!$F$30:$F$39,\"<4\",EP_Regulation_pression!$L$30:$L$39,\">=\"&Annee_BI+5,EP_Regulation_pression!$L$30:$L$39,\"<=\"&Annee_BI+9)","v":0},{"$f":"MIN(IF(EP_Regulation_pression!$L$30:$L$39>=Annee_BI+5,IF(EP_Regulation_pression!$L$30:$L$39<=Annee_BI+9,EP_Regulation_pression!$L$30:$L$39)))","v":0},{"$f":"MAX(IF(EP_Regulation_pression!$L$30:$L$39>=Annee_BI+5,IF(EP_Regulation_pression!$L$30:$L$39<=Annee_BI+9,EP_Regulation_pression!$L$30:$L$39)))","v":0}]
["Eau potable ","Poste de gestion de pression et de chloration","Poste de surpression",{"$f":"IF(Identification!$H$63=\"\",\"\",Identification!$H$63)","v":""},"Régulation de pression","Électricité",{"$f":"EP_Regulation_pression!$B$54","v":""},0,{"$f":"IFERROR(J112/SUM($J110:$J113),0)","v":0},{"$f":"EP_Regulation_pression!$I$54","v":0},{"$f":"EP_Regulation_pression!$G$54","v":""},{"$f":"EP_Regulation_pression!$E$54","v":""},{"$f":"EP_Regulation_pression!$F$54","v":""},{"$f":"EP_Regulation_pression!$J$54-SUMIFS(EP_Regulation_pression!$J$44:$J$53,EP_Regulation_pression!$E$44:$E$53,\"<4\",EP_Regulation_pression!$F$44:$F$53,\"<4\")","v":0},{"$f":"SUMIFS(EP_Regulation_pression!$J$44:$J$53,EP_Regulation_pression!$E$44:$E$53,\"<4\",EP_Regulation_pression!$F$44:$F$53,\"<4\",EP_Regulation_pression!$L$44:$L$53,\">=\"&Annee_BI,EP_Regulation_pression!$L$44:$L$53,\"<=\"&Annee_BI+4)","v":0},{"$f":"MIN(IF(EP_Regulation_pression!$L$44:$L$53>=Annee_BI,IF(EP_Regulation_pression!$L$44:$L$53<=Annee_BI+4,EP_Regulation_pression!$L$44:$L$53)))","v":0},{"$f":"MAX(IF(EP_Regulation_pression!$L$44:$L$53>=Annee_BI,IF(EP_Regulation_pression!$L$44:$L$53<=Annee_BI+4,EP_Regulation_pression!$L$44:$L$53)))","v":0},{"$f":"SUMIFS(EP_Regulation_pression!$J$44:$J$53,EP_Regulation_pression!$E$44:$E$53,\"<4\",EP_Regulation_pression!$F$44:$F$53,\"<4\",EP_Regulation_pression!$L$44:$L$53,\">=\"&Annee_BI+5,EP_Regulation_pression!$L$44:$L$53,\"<=\"&Annee_BI+9)","v":0},{"$f":"MIN(IF(EP_Regulation_pression!$L$44:$L$53>=Annee_BI+5,IF(EP_Regulation_pression!$L$44:$L$53<=Annee_BI+9,EP_Regulation_pression!$L$44:$L$53)))","v":0},{"$f":"MAX(IF(EP_Regulation_pression!$L$44:$L$53>=Annee_BI+5,IF(EP_Regulation_pression!$L$44:$L$53<=Annee_BI+9,EP_Regulation_pression!$L$44:$L$53)))","v":0}]
["Eau potable ","Poste de gestion de pression et de chloration","Poste de surpression",{"$f":"IF(Identification!$H$63=\"\",\"\",Identification!$H$63)","v":""},"Régulation de pression","Instrumentation et contrôle",{"$f":"EP_Regulation_pression!$B$68","v":""},0,{"$f":"IFERROR(J113/SUM($J110:$J113),0)","v":0},{"$f":"EP_Regulation_pression!$I$68","v":0},{"$f":"EP_Regulation_pression!$G$68","v":""},{"$f":"EP_Regulation_pression!$E$68","v":""},{"$f":"EP_Regulation_pression!$F$68","v":""},{"$f":"EP_Regulation_pression!$J$68-SUMIFS(EP_Regulation_pression!$J$58:$J$67,EP_Regulation_pression!$E$58:$E$67,\"<4\",EP_Regulation_pression!$F$58:$F$67,\"<4\")","v":0},{"$f":"SUMIFS(EP_Regulation_pression!$J$58:$J$67,EP_Regulation_pression!$E$58:$E$67,\"<4\",EP_Regulation_pression!$F$58:$F$67,\"<4\",EP_Regulation_pression!$L$58:$L$67,\">=\"&Annee_BI,EP_Regulation_pression!$L$58:$L$67,\"<=\"&Annee_BI+4)","v":0},{"$f":"MIN(IF(EP_Regulation_pression!$L$58:$L$67>=Annee_BI,IF(EP_Regulation_pression!$L$58:$L$67<=Annee_BI+4,EP_Regulation_pression!$L$58:$L$67)))","v":0},{"$f":"MAX(IF(EP_Regulation_pression!$L$58:$L$67>=Annee_BI,IF(EP_Regulation_pression!$L$58:$L$67<=Annee_BI+4,EP_Regulation_pression!$L$58:$L$67)))","v":0},{"$f":"SUMIFS(EP_Regulation_pression!$J$58:$J$67,EP_Regulation_pression!$E$58:$E$67,\"<4\",EP_Regulation_pression!$F$58:$F$67,\"<4\",EP_Regulation_pression!$L$58:$L$67,\">=\"&Annee_BI+5,EP_Regulation_pression!$L$58:$L$67,\"<=\"&Annee_BI+9)","v":0},{"$f":"MIN(IF(EP_Regulation_pression!$L$58:$L$67>=Annee_BI+5,IF(EP_Regulation_pression!$L$58:$L$67<=Annee_BI+9,EP_Regulation_pression!$L$58:$L$67)))","v":0},{"$f":"MAX(IF(EP_Regulation_pression!$L$58:$L$67>=Annee_BI+5,IF(EP_Regulation_pression!$L$58:$L$67<=Annee_BI+9,EP_Regulation_pression!$L$58:$L$67)))","v":0}]
["Eau potable ","Poste de gestion de pression et de chloration","Poste de surpression",{"$f":"IF(Identification!$H$63=\"\",\"\",Identification!$H$63)","v":""},"Systèmes communs","Civil",{"$f":"Systèmes_communs!$B$26","v":""},0,{"$f":"IFERROR(J114/SUM($J114:$J117),0)","v":0},{"$f":"Systèmes_communs!$I$26","v":0},{"$f":"Systèmes_communs!$G$26","v":""},{"$f":"Systèmes_communs!$E$26","v":""},{"$f":"Systèmes_communs!$F$26","v":""},{"$f":"Systèmes_communs!$J$26-SUMIFS(Systèmes_communs!$J$16:$J$25,Systèmes_communs!$E$16:$E$25,\"<4\",Systèmes_communs!$F$16:$F$25,\"<4\")","v":0},{"$f":"SUMIFS(Systèmes_communs!$J$16:$J$25,Systèmes_communs!$E$16:$E$25,\"<4\",Systèmes_communs!$F$16:$F$25,\"<4\",Systèmes_communs!$L$16:$L$25,\">=\"&Annee_BI,Systèmes_communs!$L$16:$L$25,\"<=\"&Annee_BI+4)","v":0},{"$f":"MIN(IF(Systèmes_communs!$L$16:$L$25>=Annee_BI,IF(Systèmes_communs!$L$16:$L$25<=Annee_BI+4,Systèmes_communs!$L$16:$L$25)))","v":0},{"$f":"MAX(IF(Systèmes_communs!$L$16:$L$25>=Annee_BI,IF(Systèmes_communs!$L$16:$L$25<=Annee_BI+4,Systèmes_communs!$L$16:$L$25)))","v":0},{"$f":"SUMIFS(Systèmes_communs!$J$16:$J$25,Systèmes_communs!$E$16:$E$25,\"<4\",Systèmes_communs!$F$16:$F$25,\"<4\",Systèmes_communs!$L$16:$L$25,\">=\"&Annee_BI+5,Systèmes_communs!$L$16:$L$25,\"<=\"&Annee_BI+9)","v":0},{"$f":"MIN(IF(Systèmes_communs!$L$16:$L$25>=Annee_BI+5,IF(Systèmes_communs!$L$16:$L$25<=Annee_BI+9,Systèmes_communs!$L$16:$L$25)))","v":0},{"$f":"MAX(IF(Systèmes_communs!$L$16:$L$25>=Annee_BI+5,IF(Systèmes_communs!$L$16:$L$25<=Annee_BI+9,Systèmes_communs!$L$16:$L$25)))","v":0}]
["Eau potable ","Poste de gestion de pression et de chloration","Poste de surpression",{"$f":"IF(Identification!$H$63=\"\",\"\",Identification!$H$63)","v":""},"Systèmes communs","Mécanique",{"$f":"Systèmes_communs!$B$40","v":""},0,{"$f":"IFERROR(J115/SUM($J114:$J117),0)","v":0},{"$f":"Systèmes_communs!$I$40","v":0},{"$f":"Systèmes_communs!$G$40","v":""},{"$f":"Systèmes_communs!$E$40","v":""},{"$f":"Systèmes_communs!$F$40","v":""},{"$f":"Systèmes_communs!$J$40-SUMIFS(Systèmes_communs!$J$30:$J$39,Systèmes_communs!$E$30:$E$39,\"<4\",Systèmes_communs!$F$30:$F$39,\"<4\")","v":0},{"$f":"SUMIFS(Systèmes_communs!$J$30:$J$39,Systèmes_communs!$E$30:$E$39,\"<4\",Systèmes_communs!$F$30:$F$39,\"<4\",Systèmes_communs!$L$30:$L$39,\">=\"&Annee_BI,Systèmes_communs!$L$30:$L$39,\"<=\"&Annee_BI+4)","v":0},{"$f":"MIN(IF(Systèmes_communs!$L$30:$L$39>=Annee_BI,IF(Systèmes_communs!$L$30:$L$39<=Annee_BI+4,Systèmes_communs!$L$30:$L$39)))","v":0},{"$f":"MAX(IF(Systèmes_communs!$L$30:$L$39>=Annee_BI,IF(Systèmes_communs!$L$30:$L$39<=Annee_BI+4,Systèmes_communs!$L$30:$L$39)))","v":0},{"$f":"SUMIFS(Systèmes_communs!$J$30:$J$39,Systèmes_communs!$E$30:$E$39,\"<4\",Systèmes_communs!$F$30:$F$39,\"<4\",Systèmes_communs!$L$30:$L$39,\">=\"&Annee_BI+5,Systèmes_communs!$L$30:$L$39,\"<=\"&Annee_BI+9)","v":0},{"$f":"MIN(IF(Systèmes_communs!$L$30:$L$39>=Annee_BI+5,IF(Systèmes_communs!$L$30:$L$39<=Annee_BI+9,Systèmes_communs!$L$30:$L$39)))","v":0},{"$f":"MAX(IF(Systèmes_communs!$L$30:$L$39>=Annee_BI+5,IF(Systèmes_communs!$L$30:$L$39<=Annee_BI+9,Systèmes_communs!$L$30:$L$39)))","v":0}]
["Eau potable ","Poste de gestion de pression et de chloration","Poste de surpression",{"$f":"IF(Identification!$H$63=\"\",\"\",Identification!$H$63)","v":""},"Systèmes communs","Électricité",{"$f":"Systèmes_communs!$B$54","v":""},0,{"$f":"IFERROR(J116/SUM($J114:$J117),0)","v":0},{"$f":"Systèmes_communs!$I$54","v":0},{"$f":"Systèmes_communs!$G$54","v":""},{"$f":"Systèmes_communs!$E$54","v":""},{"$f":"Systèmes_communs!$F$54","v":""},{"$f":"Systèmes_communs!$J$54-SUMIFS(Systèmes_communs!$J$44:$J$53,Systèmes_communs!$E$44:$E$53,\"<4\",Systèmes_communs!$F$44:$F$53,\"<4\")","v":0},{"$f":"SUMIFS(Systèmes_communs!$J$44:$J$53,Systèmes_communs!$E$44:$E$53,\"<4\",Systèmes_communs!$F$44:$F$53,\"<4\",Systèmes_communs!$L$44:$L$53,\">=\"&Annee_BI,Systèmes_communs!$L$44:$L$53,\"<=\"&Annee_BI+4)","v":0},{"$f":"MIN(IF(Systèmes_communs!$L$44:$L$53>=Annee_BI,IF(Systèmes_communs!$L$44:$L$53<=Annee_BI+4,Systèmes_communs!$L$44:$L$53)))","v":0},{"$f":"MAX(IF(Systèmes_communs!$L$44:$L$53>=Annee_BI,IF(Systèmes_communs!$L$44:$L$53<=Annee_BI+4,Systèmes_communs!$L$44:$L$53)))","v":0},{"$f":"SUMIFS(Systèmes_communs!$J$44:$J$53,Systèmes_communs!$E$44:$E$53,\"<4\",Systèmes_communs!$F$44:$F$53,\"<4\",Systèmes_communs!$L$44:$L$53,\">=\"&Annee_BI+5,Systèmes_communs!$L$44:$L$53,\"<=\"&Annee_BI+9)","v":0},{"$f":"MIN(IF(Systèmes_communs!$L$44:$L$53>=Annee_BI+5,IF(Systèmes_communs!$L$44:$L$53<=Annee_BI+9,Systèmes_communs!$L$44:$L$53)))","v":0},{"$f":"MAX(IF(Systèmes_communs!$L$44:$L$53>=Annee_BI+5,IF(Systèmes_communs!$L$44:$L$53<=Annee_BI+9,Systèmes_communs!$L$44:$L$53)))","v":0}]
["Eau potable ","Poste de gestion de pression et de chloration","Poste de surpression",{"$f":"IF(Identification!$H$63=\"\",\"\",Identification!$H$63)","v":""},"Systèmes communs","Instrumentation et contrôle",{"$f":"Systèmes_communs!$B$68","v":""},0,{"$f":"IFERROR(J117/SUM($J114:$J117),0)","v":0},{"$f":"Systèmes_communs!$I$68","v":0},{"$f":"Systèmes_communs!$G$68","v":""},{"$f":"Systèmes_communs!$E$68","v":""},{"$f":"Systèmes_communs!$F$68","v":""},{"$f":"Systèmes_communs!$J$68-SUMIFS(Systèmes_communs!$J$58:$J$67,Systèmes_communs!$E$58:$E$67,\"<4\",Systèmes_communs!$F$58:$F$67,\"<4\")","v":0},{"$f":"SUMIFS(Systèmes_communs!$J$58:$J$67,Systèmes_communs!$E$58:$E$67,\"<4\",Systèmes_communs!$F$58:$F$67,\"<4\",Systèmes_communs!$L$58:$L$67,\">=\"&Annee_BI,Systèmes_communs!$L$58:$L$67,\"<=\"&Annee_BI+4)","v":0},{"$f":"MIN(IF(Systèmes_communs!$L$58:$L$67>=Annee_BI,IF(Systèmes_communs!$L$58:$L$67<=Annee_BI+4,Systèmes_communs!$L$58:$L$67)))","v":0},{"$f":"MAX(IF(Systèmes_communs!$L$58:$L$67>=Annee_BI,IF(Systèmes_communs!$L$58:$L$67<=Annee_BI+4,Systèmes_communs!$L$58:$L$67)))","v":0},{"$f":"SUMIFS(Systèmes_communs!$J$58:$J$67,Systèmes_communs!$E$58:$E$67,\"<4\",Systèmes_communs!$F$58:$F$67,\"<4\",Systèmes_communs!$L$58:$L$67,\">=\"&Annee_BI+5,Systèmes_communs!$L$58:$L$67,\"<=\"&Annee_BI+9)","v":0},{"$f":"MIN(IF(Systèmes_communs!$L$58:$L$67>=Annee_BI+5,IF(Systèmes_communs!$L$58:$L$67<=Annee_BI+9,Systèmes_communs!$L$58:$L$67)))","v":0},{"$f":"MAX(IF(Systèmes_communs!$L$58:$L$67>=Annee_BI+5,IF(Systèmes_communs!$L$58:$L$67<=Annee_BI+9,Systèmes_communs!$L$58:$L$67)))","v":0}]
["Eau potable ","Poste de gestion de pression et de chloration","Poste de chloration",{"$f":"IF(Identification!$H$63=\"\",\"\",Identification!$H$63)","v":""},"Pompage de distribution","Civil",{"$f":"EP_Pompage_distribution!$B$26","v":""},0,{"$f":"IFERROR(J118/SUM($J118:$J121),0)","v":0},{"$f":"EP_Pompage_distribution!$I$26","v":0},{"$f":"EP_Pompage_distribution!$G$26","v":""},{"$f":"EP_Pompage_distribution!$E$26","v":""},{"$f":"EP_Pompage_distribution!$F$26","v":""},{"$f":"EP_Pompage_distribution!$J$26-SUMIFS(EP_Pompage_distribution!$J$16:$J$25,EP_Pompage_distribution!$E$16:$E$25,\"<4\",EP_Pompage_distribution!$F$16:$F$25,\"<4\")","v":0},{"$f":"SUMIFS(EP_Pompage_distribution!$J$16:$J$25,EP_Pompage_distribution!$E$16:$E$25,\"<4\",EP_Pompage_distribution!$F$16:$F$25,\"<4\",EP_Pompage_distribution!$L$16:$L$25,\">=\"&Annee_BI,EP_Pompage_distribution!$L$16:$L$25,\"<=\"&Annee_BI+4)","v":0},{"$f":"MIN(IF(EP_Pompage_distribution!$L$16:$L$25>=Annee_BI,IF(EP_Pompage_distribution!$L$16:$L$25<=Annee_BI+4,EP_Pompage_distribution!$L$16:$L$25)))","v":0},{"$f":"MAX(IF(EP_Pompage_distribution!$L$16:$L$25>=Annee_BI,IF(EP_Pompage_distribution!$L$16:$L$25<=Annee_BI+4,EP_Pompage_distribution!$L$16:$L$25)))","v":0},{"$f":"SUMIFS(EP_Pompage_distribution!$J$16:$J$25,EP_Pompage_distribution!$E$16:$E$25,\"<4\",EP_Pompage_distribution!$F$16:$F$25,\"<4\",EP_Pompage_distribution!$L$16:$L$25,\">=\"&Annee_BI+5,EP_Pompage_distribution!$L$16:$L$25,\"<=\"&Annee_BI+9)","v":0},{"$f":"MIN(IF(EP_Pompage_distribution!$L$16:$L$25>=Annee_BI+5,IF(EP_Pompage_distribution!$L$16:$L$25<=Annee_BI+9,EP_Pompage_distribution!$L$16:$L$25)))","v":0},{"$f":"MAX(IF(EP_Pompage_distribution!$L$16:$L$25>=Annee_BI+5,IF(EP_Pompage_distribution!$L$16:$L$25<=Annee_BI+9,EP_Pompage_distribution!$L$16:$L$25)))","v":0}]
["Eau potable ","Poste de gestion de pression et de chloration","Poste de chloration",{"$f":"IF(Identification!$H$63=\"\",\"\",Identification!$H$63)","v":""},"Pompage de distribution","Mécanique",{"$f":"EP_Pompage_distribution!$B$40","v":""},0,{"$f":"IFERROR(J119/SUM($J118:$J121),0)","v":0},{"$f":"EP_Pompage_distribution!$I$40","v":0},{"$f":"EP_Pompage_distribution!$G$40","v":""},{"$f":"EP_Pompage_distribution!$E$40","v":""},{"$f":"EP_Pompage_distribution!$F$40","v":""},{"$f":"EP_Pompage_distribution!$J$40-SUMIFS(EP_Pompage_distribution!$J$30:$J$39,EP_Pompage_distribution!$E$30:$E$39,\"<4\",EP_Pompage_distribution!$F$30:$F$39,\"<4\")","v":0},{"$f":"SUMIFS(EP_Pompage_distribution!$J$30:$J$39,EP_Pompage_distribution!$E$30:$E$39,\"<4\",EP_Pompage_distribution!$F$30:$F$39,\"<4\",EP_Pompage_distribution!$L$30:$L$39,\">=\"&Annee_BI,EP_Pompage_distribution!$L$30:$L$39,\"<=\"&Annee_BI+4)","v":0},{"$f":"MIN(IF(EP_Pompage_distribution!$L$30:$L$39>=Annee_BI,IF(EP_Pompage_distribution!$L$30:$L$39<=Annee_BI+4,EP_Pompage_distribution!$L$30:$L$39)))","v":0},{"$f":"MAX(IF(EP_Pompage_distribution!$L$30:$L$39>=Annee_BI,IF(EP_Pompage_distribution!$L$30:$L$39<=Annee_BI+4,EP_Pompage_distribution!$L$30:$L$39)))","v":0},{"$f":"SUMIFS(EP_Pompage_distribution!$J$30:$J$39,EP_Pompage_distribution!$E$30:$E$39,\"<4\",EP_Pompage_distribution!$F$30:$F$39,\"<4\",EP_Pompage_distribution!$L$30:$L$39,\">=\"&Annee_BI+5,EP_Pompage_distribution!$L$30:$L$39,\"<=\"&Annee_BI+9)","v":0},{"$f":"MIN(IF(EP_Pompage_distribution!$L$30:$L$39>=Annee_BI+5,IF(EP_Pompage_distribution!$L$30:$L$39<=Annee_BI+9,EP_Pompage_distribution!$L$30:$L$39)))","v":0},{"$f":"MAX(IF(EP_Pompage_distribution!$L$30:$L$39>=Annee_BI+5,IF(EP_Pompage_distribution!$L$30:$L$39<=Annee_BI+9,EP_Pompage_distribution!$L$30:$L$39)))","v":0}]
["Eau potable ","Poste de gestion de pression et de chloration","Poste de chloration",{"$f":"IF(Identification!$H$63=\"\",\"\",Identification!$H$63)","v":""},"Pompage de distribution","Électricité",{"$f":"EP_Pompage_distribution!$B$54","v":""},0,{"$f":"IFERROR(J120/SUM($J118:$J121),0)","v":0},{"$f":"EP_Pompage_distribution!$I$54","v":0},{"$f":"EP_Pompage_distribution!$G$54","v":""},{"$f":"EP_Pompage_distribution!$E$54","v":""},{"$f":"EP_Pompage_distribution!$F$54","v":""},{"$f":"EP_Pompage_distribution!$J$54-SUMIFS(EP_Pompage_distribution!$J$44:$J$53,EP_Pompage_distribution!$E$44:$E$53,\"<4\",EP_Pompage_distribution!$F$44:$F$53,\"<4\")","v":0},{"$f":"SUMIFS(EP_Pompage_distribution!$J$44:$J$53,EP_Pompage_distribution!$E$44:$E$53,\"<4\",EP_Pompage_distribution!$F$44:$F$53,\"<4\",EP_Pompage_distribution!$L$44:$L$53,\">=\"&Annee_BI,EP_Pompage_distribution!$L$44:$L$53,\"<=\"&Annee_BI+4)","v":0},{"$f":"MIN(IF(EP_Pompage_distribution!$L$44:$L$53>=Annee_BI,IF(EP_Pompage_distribution!$L$44:$L$53<=Annee_BI+4,EP_Pompage_distribution!$L$44:$L$53)))","v":0},{"$f":"MAX(IF(EP_Pompage_distribution!$L$44:$L$53>=Annee_BI,IF(EP_Pompage_distribution!$L$44:$L$53<=Annee_BI+4,EP_Pompage_distribution!$L$44:$L$53)))","v":0},{"$f":"SUMIFS(EP_Pompage_distribution!$J$44:$J$53,EP_Pompage_distribution!$E$44:$E$53,\"<4\",EP_Pompage_distribution!$F$44:$F$53,\"<4\",EP_Pompage_distribution!$L$44:$L$53,\">=\"&Annee_BI+5,EP_Pompage_distribution!$L$44:$L$53,\"<=\"&Annee_BI+9)","v":0},{"$f":"MIN(IF(EP_Pompage_distribution!$L$44:$L$53>=Annee_BI+5,IF(EP_Pompage_distribution!$L$44:$L$53<=Annee_BI+9,EP_Pompage_distribution!$L$44:$L$53)))","v":0},{"$f":"MAX(IF(EP_Pompage_distribution!$L$44:$L$53>=Annee_BI+5,IF(EP_Pompage_distribution!$L$44:$L$53<=Annee_BI+9,EP_Pompage_distribution!$L$44:$L$53)))","v":0}]
["Eau potable ","Poste de gestion de pression et de chloration","Poste de chloration",{"$f":"IF(Identification!$H$63=\"\",\"\",Identification!$H$63)","v":""},"Pompage de distribution","Instrumentation et contrôle",{"$f":"EP_Pompage_distribution!$B$68","v":""},0,{"$f":"IFERROR(J121/SUM($J118:$J121),0)","v":0},{"$f":"EP_Pompage_distribution!$I$68","v":0},{"$f":"EP_Pompage_distribution!$G$68","v":""},{"$f":"EP_Pompage_distribution!$E$68","v":""},{"$f":"EP_Pompage_distribution!$F$68","v":""},{"$f":"EP_Pompage_distribution!$J$68-SUMIFS(EP_Pompage_distribution!$J$58:$J$67,EP_Pompage_distribution!$E$58:$E$67,\"<4\",EP_Pompage_distribution!$F$58:$F$67,\"<4\")","v":0},{"$f":"SUMIFS(EP_Pompage_distribution!$J$58:$J$67,EP_Pompage_distribution!$E$58:$E$67,\"<4\",EP_Pompage_distribution!$F$58:$F$67,\"<4\",EP_Pompage_distribution!$L$58:$L$67,\">=\"&Annee_BI,EP_Pompage_distribution!$L$58:$L$67,\"<=\"&Annee_BI+4)","v":0},{"$f":"MIN(IF(EP_Pompage_distribution!$L$58:$L$67>=Annee_BI,IF(EP_Pompage_distribution!$L$58:$L$67<=Annee_BI+4,EP_Pompage_distribution!$L$58:$L$67)))","v":0},{"$f":"MAX(IF(EP_Pompage_distribution!$L$58:$L$67>=Annee_BI,IF(EP_Pompage_distribution!$L$58:$L$67<=Annee_BI+4,EP_Pompage_distribution!$L$58:$L$67)))","v":0},{"$f":"SUMIFS(EP_Pompage_distribution!$J$58:$J$67,EP_Pompage_distribution!$E$58:$E$67,\"<4\",EP_Pompage_distribution!$F$58:$F$67,\"<4\",EP_Pompage_distribution!$L$58:$L$67,\">=\"&Annee_BI+5,EP_Pompage_distribution!$L$58:$L$67,\"<=\"&Annee_BI+9)","v":0},{"$f":"MIN(IF(EP_Pompage_distribution!$L$58:$L$67>=Annee_BI+5,IF(EP_Pompage_distribution!$L$58:$L$67<=Annee_BI+9,EP_Pompage_distribution!$L$58:$L$67)))","v":0},{"$f":"MAX(IF(EP_Pompage_distribution!$L$58:$L$67>=Annee_BI+5,IF(EP_Pompage_distribution!$L$58:$L$67<=Annee_BI+9,EP_Pompage_distribution!$L$58:$L$67)))","v":0}]
["Eau potable ","Poste de gestion de pression et de chloration","Poste de chloration",{"$f":"IF(Identification!$H$63=\"\",\"\",Identification!$H$63)","v":""},"Désinfection (Chimique)","Civil",{"$f":"EP_Desinfection_CHLO!$B$26","v":""},0,{"$f":"IFERROR(J122/SUM($J122:$J125),0)","v":0},{"$f":"EP_Desinfection_CHLO!$I$26","v":0},{"$f":"EP_Desinfection_CHLO!$G$26","v":""},{"$f":"EP_Desinfection_CHLO!$E$26","v":""},{"$f":"EP_Desinfection_CHLO!$F$26","v":""},{"$f":"EP_Desinfection_CHLO!$J$26-SUMIFS(EP_Desinfection_CHLO!$J$16:$J$25,EP_Desinfection_CHLO!$E$16:$E$25,\"<4\",EP_Desinfection_CHLO!$F$16:$F$25,\"<4\")","v":0},{"$f":"SUMIFS(EP_Desinfection_CHLO!$J$16:$J$25,EP_Desinfection_CHLO!$E$16:$E$25,\"<4\",EP_Desinfection_CHLO!$F$16:$F$25,\"<4\",EP_Desinfection_CHLO!$L$16:$L$25,\">=\"&Annee_BI,EP_Desinfection_CHLO!$L$16:$L$25,\"<=\"&Annee_BI+4)","v":0},{"$f":"MIN(IF(EP_Desinfection_CHLO!$L$16:$L$25>=Annee_BI,IF(EP_Desinfection_CHLO!$L$16:$L$25<=Annee_BI+4,EP_Desinfection_CHLO!$L$16:$L$25)))","v":0},{"$f":"MAX(IF(EP_Desinfection_CHLO!$L$16:$L$25>=Annee_BI,IF(EP_Desinfection_CHLO!$L$16:$L$25<=Annee_BI+4,EP_Desinfection_CHLO!$L$16:$L$25)))","v":0},{"$f":"SUMIFS(EP_Desinfection_CHLO!$J$16:$J$25,EP_Desinfection_CHLO!$E$16:$E$25,\"<4\",EP_Desinfection_CHLO!$F$16:$F$25,\"<4\",EP_Desinfection_CHLO!$L$16:$L$25,\">=\"&Annee_BI+5,EP_Desinfection_CHLO!$L$16:$L$25,\"<=\"&Annee_BI+9)","v":0},{"$f":"MIN(IF(EP_Desinfection_CHLO!$L$16:$L$25>=Annee_BI+5,IF(EP_Desinfection_CHLO!$L$16:$L$25<=Annee_BI+9,EP_Desinfection_CHLO!$L$16:$L$25)))","v":0},{"$f":"MAX(IF(EP_Desinfection_CHLO!$L$16:$L$25>=Annee_BI+5,IF(EP_Desinfection_CHLO!$L$16:$L$25<=Annee_BI+9,EP_Desinfection_CHLO!$L$16:$L$25)))","v":0}]
["Eau potable ","Poste de gestion de pression et de chloration","Poste de chloration",{"$f":"IF(Identification!$H$63=\"\",\"\",Identification!$H$63)","v":""},"Désinfection (Chimique)","Mécanique",{"$f":"EP_Desinfection_CHLO!$B$40","v":""},0,{"$f":"IFERROR(J123/SUM($J122:$J125),0)","v":0},{"$f":"EP_Desinfection_CHLO!$I$40","v":0},{"$f":"EP_Desinfection_CHLO!$G$40","v":""},{"$f":"EP_Desinfection_CHLO!$E$40","v":""},{"$f":"EP_Desinfection_CHLO!$F$40","v":""},{"$f":"EP_Desinfection_CHLO!$J$40-SUMIFS(EP_Desinfection_CHLO!$J$30:$J$39,EP_Desinfection_CHLO!$E$30:$E$39,\"<4\",EP_Desinfection_CHLO!$F$30:$F$39,\"<4\")","v":0},{"$f":"SUMIFS(EP_Desinfection_CHLO!$J$30:$J$39,EP_Desinfection_CHLO!$E$30:$E$39,\"<4\",EP_Desinfection_CHLO!$F$30:$F$39,\"<4\",EP_Desinfection_CHLO!$L$30:$L$39,\">=\"&Annee_BI,EP_Desinfection_CHLO!$L$30:$L$39,\"<=\"&Annee_BI+4)","v":0},{"$f":"MIN(IF(EP_Desinfection_CHLO!$L$30:$L$39>=Annee_BI,IF(EP_Desinfection_CHLO!$L$30:$L$39<=Annee_BI+4,EP_Desinfection_CHLO!$L$30:$L$39)))","v":0},{"$f":"MAX(IF(EP_Desinfection_CHLO!$L$30:$L$39>=Annee_BI,IF(EP_Desinfection_CHLO!$L$30:$L$39<=Annee_BI+4,EP_Desinfection_CHLO!$L$30:$L$39)))","v":0},{"$f":"SUMIFS(EP_Desinfection_CHLO!$J$30:$J$39,EP_Desinfection_CHLO!$E$30:$E$39,\"<4\",EP_Desinfection_CHLO!$F$30:$F$39,\"<4\",EP_Desinfection_CHLO!$L$30:$L$39,\">=\"&Annee_BI+5,EP_Desinfection_CHLO!$L$30:$L$39,\"<=\"&Annee_BI+9)","v":0},{"$f":"MIN(IF(EP_Desinfection_CHLO!$L$30:$L$39>=Annee_BI+5,IF(EP_Desinfection_CHLO!$L$30:$L$39<=Annee_BI+9,EP_Desinfection_CHLO!$L$30:$L$39)))","v":0},{"$f":"MAX(IF(EP_Desinfection_CHLO!$L$30:$L$39>=Annee_BI+5,IF(EP_Desinfection_CHLO!$L$30:$L$39<=Annee_BI+9,EP_Desinfection_CHLO!$L$30:$L$39)))","v":0}]
["Eau potable ","Poste de gestion de pression et de chloration","Poste de chloration",{"$f":"IF(Identification!$H$63=\"\",\"\",Identification!$H$63)","v":""},"Désinfection (Chimique)","Électricité",{"$f":"EP_Desinfection_CHLO!$B$54","v":""},0,{"$f":"IFERROR(J124/SUM($J122:$J125),0)","v":0},{"$f":"EP_Desinfection_CHLO!$I$54","v":0},{"$f":"EP_Desinfection_CHLO!$G$54","v":""},{"$f":"EP_Desinfection_CHLO!$E$54","v":""},{"$f":"EP_Desinfection_CHLO!$F$54","v":""},{"$f":"EP_Desinfection_CHLO!$J$54-SUMIFS(EP_Desinfection_CHLO!$J$44:$J$53,EP_Desinfection_CHLO!$E$44:$E$53,\"<4\",EP_Desinfection_CHLO!$F$44:$F$53,\"<4\")","v":0},{"$f":"SUMIFS(EP_Desinfection_CHLO!$J$44:$J$53,EP_Desinfection_CHLO!$E$44:$E$53,\"<4\",EP_Desinfection_CHLO!$F$44:$F$53,\"<4\",EP_Desinfection_CHLO!$L$44:$L$53,\">=\"&Annee_BI,EP_Desinfection_CHLO!$L$44:$L$53,\"<=\"&Annee_BI+4)","v":0},{"$f":"MIN(IF(EP_Desinfection_CHLO!$L$44:$L$53>=Annee_BI,IF(EP_Desinfection_CHLO!$L$44:$L$53<=Annee_BI+4,EP_Desinfection_CHLO!$L$44:$L$53)))","v":0},{"$f":"MAX(IF(EP_Desinfection_CHLO!$L$44:$L$53>=Annee_BI,IF(EP_Desinfection_CHLO!$L$44:$L$53<=Annee_BI+4,EP_Desinfection_CHLO!$L$44:$L$53)))","v":0},{"$f":"SUMIFS(EP_Desinfection_CHLO!$J$44:$J$53,EP_Desinfection_CHLO!$E$44:$E$53,\"<4\",EP_Desinfection_CHLO!$F$44:$F$53,\"<4\",EP_Desinfection_CHLO!$L$44:$L$53,\">=\"&Annee_BI+5,EP_Desinfection_CHLO!$L$44:$L$53,\"<=\"&Annee_BI+9)","v":0},{"$f":"MIN(IF(EP_Desinfection_CHLO!$L$44:$L$53>=Annee_BI+5,IF(EP_Desinfection_CHLO!$L$44:$L$53<=Annee_BI+9,EP_Desinfection_CHLO!$L$44:$L$53)))","v":0},{"$f":"MAX(IF(EP_Desinfection_CHLO!$L$44:$L$53>=Annee_BI+5,IF(EP_Desinfection_CHLO!$L$44:$L$53<=Annee_BI+9,EP_Desinfection_CHLO!$L$44:$L$53)))","v":0}]
["Eau potable ","Poste de gestion de pression et de chloration","Poste de chloration",{"$f":"IF(Identification!$H$63=\"\",\"\",Identification!$H$63)","v":""},"Désinfection (Chimique)","Instrumentation et contrôle",{"$f":"EP_Desinfection_CHLO!$B$68","v":""},0,{"$f":"IFERROR(J125/SUM($J122:$J125),0)","v":0},{"$f":"EP_Desinfection_CHLO!$I$68","v":0},{"$f":"EP_Desinfection_CHLO!$G$68","v":""},{"$f":"EP_Desinfection_CHLO!$E$68","v":""},{"$f":"EP_Desinfection_CHLO!$F$68","v":""},{"$f":"EP_Desinfection_CHLO!$J$68-SUMIFS(EP_Desinfection_CHLO!$J$58:$J$67,EP_Desinfection_CHLO!$E$58:$E$67,\"<4\",EP_Desinfection_CHLO!$F$58:$F$67,\"<4\")","v":0},{"$f":"SUMIFS(EP_Desinfection_CHLO!$J$58:$J$67,EP_Desinfection_CHLO!$E$58:$E$67,\"<4\",EP_Desinfection_CHLO!$F$58:$F$67,\"<4\",EP_Desinfection_CHLO!$L$58:$L$67,\">=\"&Annee_BI,EP_Desinfection_CHLO!$L$58:$L$67,\"<=\"&Annee_BI+4)","v":0},{"$f":"MIN(IF(EP_Desinfection_CHLO!$L$58:$L$67>=Annee_BI,IF(EP_Desinfection_CHLO!$L$58:$L$67<=Annee_BI+4,EP_Desinfection_CHLO!$L$58:$L$67)))","v":0},{"$f":"MAX(IF(EP_Desinfection_CHLO!$L$58:$L$67>=Annee_BI,IF(EP_Desinfection_CHLO!$L$58:$L$67<=Annee_BI+4,EP_Desinfection_CHLO!$L$58:$L$67)))","v":0},{"$f":"SUMIFS(EP_Desinfection_CHLO!$J$58:$J$67,EP_Desinfection_CHLO!$E$58:$E$67,\"<4\",EP_Desinfection_CHLO!$F$58:$F$67,\"<4\",EP_Desinfection_CHLO!$L$58:$L$67,\">=\"&Annee_BI+5,EP_Desinfection_CHLO!$L$58:$L$67,\"<=\"&Annee_BI+9)","v":0},{"$f":"MIN(IF(EP_Desinfection_CHLO!$L$58:$L$67>=Annee_BI+5,IF(EP_Desinfection_CHLO!$L$58:$L$67<=Annee_BI+9,EP_Desinfection_CHLO!$L$58:$L$67)))","v":0},{"$f":"MAX(IF(EP_Desinfection_CHLO!$L$58:$L$67>=Annee_BI+5,IF(EP_Desinfection_CHLO!$L$58:$L$67<=Annee_BI+9,EP_Desinfection_CHLO!$L$58:$L$67)))","v":0}]
["Eau potable ","Poste de gestion de pression et de chloration","Poste de chloration",{"$f":"IF(Identification!$H$63=\"\",\"\",Identification!$H$63)","v":""},"Régulation de pression","Civil",{"$f":"EP_Regulation_pression!$B$26","v":""},0,{"$f":"IFERROR(J126/SUM($J126:$J129),0)","v":0},{"$f":"EP_Regulation_pression!$I$26","v":0},{"$f":"EP_Regulation_pression!$G$26","v":""},{"$f":"EP_Regulation_pression!$E$26","v":""},{"$f":"EP_Regulation_pression!$F$26","v":""},{"$f":"EP_Regulation_pression!$J$26-SUMIFS(EP_Regulation_pression!$J$16:$J$25,EP_Regulation_pression!$E$16:$E$25,\"<4\",EP_Regulation_pression!$F$16:$F$25,\"<4\")","v":0},{"$f":"SUMIFS(EP_Regulation_pression!$J$16:$J$25,EP_Regulation_pression!$E$16:$E$25,\"<4\",EP_Regulation_pression!$F$16:$F$25,\"<4\",EP_Regulation_pression!$L$16:$L$25,\">=\"&Annee_BI,EP_Regulation_pression!$L$16:$L$25,\"<=\"&Annee_BI+4)","v":0},{"$f":"MIN(IF(EP_Regulation_pression!$L$16:$L$25>=Annee_BI,IF(EP_Regulation_pression!$L$16:$L$25<=Annee_BI+4,EP_Regulation_pression!$L$16:$L$25)))","v":0},{"$f":"MAX(IF(EP_Regulation_pression!$L$16:$L$25>=Annee_BI,IF(EP_Regulation_pression!$L$16:$L$25<=Annee_BI+4,EP_Regulation_pression!$L$16:$L$25)))","v":0},{"$f":"SUMIFS(EP_Regulation_pression!$J$16:$J$25,EP_Regulation_pression!$E$16:$E$25,\"<4\",EP_Regulation_pression!$F$16:$F$25,\"<4\",EP_Regulation_pression!$L$16:$L$25,\">=\"&Annee_BI+5,EP_Regulation_pression!$L$16:$L$25,\"<=\"&Annee_BI+9)","v":0},{"$f":"MIN(IF(EP_Regulation_pression!$L$16:$L$25>=Annee_BI+5,IF(EP_Regulation_pression!$L$16:$L$25<=Annee_BI+9,EP_Regulation_pression!$L$16:$L$25)))","v":0},{"$f":"MAX(IF(EP_Regulation_pression!$L$16:$L$25>=Annee_BI+5,IF(EP_Regulation_pression!$L$16:$L$25<=Annee_BI+9,EP_Regulation_pression!$L$16:$L$25)))","v":0}]
["Eau potable ","Poste de gestion de pression et de chloration","Poste de chloration",{"$f":"IF(Identification!$H$63=\"\",\"\",Identification!$H$63)","v":""},"Régulation de pression","Mécanique",{"$f":"EP_Regulation_pression!$B$40","v":""},0,{"$f":"IFERROR(J127/SUM($J126:$J129),0)","v":0},{"$f":"EP_Regulation_pression!$I$40","v":0},{"$f":"EP_Regulation_pression!$G$40","v":""},{"$f":"EP_Regulation_pression!$E$40","v":""},{"$f":"EP_Regulation_pression!$F$40","v":""},{"$f":"EP_Regulation_pression!$J$40-SUMIFS(EP_Regulation_pression!$J$30:$J$39,EP_Regulation_pression!$E$30:$E$39,\"<4\",EP_Regulation_pression!$F$30:$F$39,\"<4\")","v":0},{"$f":"SUMIFS(EP_Regulation_pression!$J$30:$J$39,EP_Regulation_pression!$E$30:$E$39,\"<4\",EP_Regulation_pression!$F$30:$F$39,\"<4\",EP_Regulation_pression!$L$30:$L$39,\">=\"&Annee_BI,EP_Regulation_pression!$L$30:$L$39,\"<=\"&Annee_BI+4)","v":0},{"$f":"MIN(IF(EP_Regulation_pression!$L$30:$L$39>=Annee_BI,IF(EP_Regulation_pression!$L$30:$L$39<=Annee_BI+4,EP_Regulation_pression!$L$30:$L$39)))","v":0},{"$f":"MAX(IF(EP_Regulation_pression!$L$30:$L$39>=Annee_BI,IF(EP_Regulation_pression!$L$30:$L$39<=Annee_BI+4,EP_Regulation_pression!$L$30:$L$39)))","v":0},{"$f":"SUMIFS(EP_Regulation_pression!$J$30:$J$39,EP_Regulation_pression!$E$30:$E$39,\"<4\",EP_Regulation_pression!$F$30:$F$39,\"<4\",EP_Regulation_pression!$L$30:$L$39,\">=\"&Annee_BI+5,EP_Regulation_pression!$L$30:$L$39,\"<=\"&Annee_BI+9)","v":0},{"$f":"MIN(IF(EP_Regulation_pression!$L$30:$L$39>=Annee_BI+5,IF(EP_Regulation_pression!$L$30:$L$39<=Annee_BI+9,EP_Regulation_pression!$L$30:$L$39)))","v":0},{"$f":"MAX(IF(EP_Regulation_pression!$L$30:$L$39>=Annee_BI+5,IF(EP_Regulation_pression!$L$30:$L$39<=Annee_BI+9,EP_Regulation_pression!$L$30:$L$39)))","v":0}]
["Eau potable ","Poste de gestion de pression et de chloration","Poste de chloration",{"$f":"IF(Identification!$H$63=\"\",\"\",Identification!$H$63)","v":""},"Régulation de pression","Électricité",{"$f":"EP_Regulation_pression!$B$54","v":""},0,{"$f":"IFERROR(J128/SUM($J126:$J129),0)","v":0},{"$f":"EP_Regulation_pression!$I$54","v":0},{"$f":"EP_Regulation_pression!$G$54","v":""},{"$f":"EP_Regulation_pression!$E$54","v":""},{"$f":"EP_Regulation_pression!$F$54","v":""},{"$f":"EP_Regulation_pression!$J$54-SUMIFS(EP_Regulation_pression!$J$44:$J$53,EP_Regulation_pression!$E$44:$E$53,\"<4\",EP_Regulation_pression!$F$44:$F$53,\"<4\")","v":0},{"$f":"SUMIFS(EP_Regulation_pression!$J$44:$J$53,EP_Regulation_pression!$E$44:$E$53,\"<4\",EP_Regulation_pression!$F$44:$F$53,\"<4\",EP_Regulation_pression!$L$44:$L$53,\">=\"&Annee_BI,EP_Regulation_pression!$L$44:$L$53,\"<=\"&Annee_BI+4)","v":0},{"$f":"MIN(IF(EP_Regulation_pression!$L$44:$L$53>=Annee_BI,IF(EP_Regulation_pression!$L$44:$L$53<=Annee_BI+4,EP_Regulation_pression!$L$44:$L$53)))","v":0},{"$f":"MAX(IF(EP_Regulation_pression!$L$44:$L$53>=Annee_BI,IF(EP_Regulation_pression!$L$44:$L$53<=Annee_BI+4,EP_Regulation_pression!$L$44:$L$53)))","v":0},{"$f":"SUMIFS(EP_Regulation_pression!$J$44:$J$53,EP_Regulation_pression!$E$44:$E$53,\"<4\",EP_Regulation_pression!$F$44:$F$53,\"<4\",EP_Regulation_pression!$L$44:$L$53,\">=\"&Annee_BI+5,EP_Regulation_pression!$L$44:$L$53,\"<=\"&Annee_BI+9)","v":0},{"$f":"MIN(IF(EP_Regulation_pression!$L$44:$L$53>=Annee_BI+5,IF(EP_Regulation_pression!$L$44:$L$53<=Annee_BI+9,EP_Regulation_pression!$L$44:$L$53)))","v":0},{"$f":"MAX(IF(EP_Regulation_pression!$L$44:$L$53>=Annee_BI+5,IF(EP_Regulation_pression!$L$44:$L$53<=Annee_BI+9,EP_Regulation_pression!$L$44:$L$53)))","v":0}]
["Eau potable ","Poste de gestion de pression et de chloration","Poste de chloration",{"$f":"IF(Identification!$H$63=\"\",\"\",Identification!$H$63)","v":""},"Régulation de pression","Instrumentation et contrôle",{"$f":"EP_Regulation_pression!$B$68","v":""},0,{"$f":"IFERROR(J129/SUM($J126:$J129),0)","v":0},{"$f":"EP_Regulation_pression!$I$68","v":0},{"$f":"EP_Regulation_pression!$G$68","v":""},{"$f":"EP_Regulation_pression!$E$68","v":""},{"$f":"EP_Regulation_pression!$F$68","v":""},{"$f":"EP_Regulation_pression!$J$68-SUMIFS(EP_Regulation_pression!$J$58:$J$67,EP_Regulation_pression!$E$58:$E$67,\"<4\",EP_Regulation_pression!$F$58:$F$67,\"<4\")","v":0},{"$f":"SUMIFS(EP_Regulation_pression!$J$58:$J$67,EP_Regulation_pression!$E$58:$E$67,\"<4\",EP_Regulation_pression!$F$58:$F$67,\"<4\",EP_Regulation_pression!$L$58:$L$67,\">=\"&Annee_BI,EP_Regulation_pression!$L$58:$L$67,\"<=\"&Annee_BI+4)","v":0},{"$f":"MIN(IF(EP_Regulation_pression!$L$58:$L$67>=Annee_BI,IF(EP_Regulation_pression!$L$58:$L$67<=Annee_BI+4,EP_Regulation_pression!$L$58:$L$67)))","v":0},{"$f":"MAX(IF(EP_Regulation_pression!$L$58:$L$67>=Annee_BI,IF(EP_Regulation_pression!$L$58:$L$67<=Annee_BI+4,EP_Regulation_pression!$L$58:$L$67)))","v":0},{"$f":"SUMIFS(EP_Regulation_pression!$J$58:$J$67,EP_Regulation_pression!$E$58:$E$67,\"<4\",EP_Regulation_pression!$F$58:$F$67,\"<4\",EP_Regulation_pression!$L$58:$L$67,\">=\"&Annee_BI+5,EP_Regulation_pression!$L$58:$L$67,\"<=\"&Annee_BI+9)","v":0},{"$f":"MIN(IF(EP_Regulation_pression!$L$58:$L$67>=Annee_BI+5,IF(EP_Regulation_pression!$L$58:$L$67<=Annee_BI+9,EP_Regulation_pression!$L$58:$L$67)))","v":0},{"$f":"MAX(IF(EP_Regulation_pression!$L$58:$L$67>=Annee_BI+5,IF(EP_Regulation_pression!$L$58:$L$67<=Annee_BI+9,EP_Regulation_pression!$L$58:$L$67)))","v":0}]
["Eau potable ","Poste de gestion de pression et de chloration","Poste de chloration",{"$f":"IF(Identification!$H$63=\"\",\"\",Identification!$H$63)","v":""},"Systèmes communs","Civil",{"$f":"Systèmes_communs!$B$26","v":""},0,{"$f":"IFERROR(J130/SUM($J130:$J133),0)","v":0},{"$f":"Systèmes_communs!$I$26","v":0},{"$f":"Systèmes_communs!$G$26","v":""},{"$f":"Systèmes_communs!$E$26","v":""},{"$f":"Systèmes_communs!$F$26","v":""},{"$f":"Systèmes_communs!$J$26-SUMIFS(Systèmes_communs!$J$16:$J$25,Systèmes_communs!$E$16:$E$25,\"<4\",Systèmes_communs!$F$16:$F$25,\"<4\")","v":0},{"$f":"SUMIFS(Systèmes_communs!$J$16:$J$25,Systèmes_communs!$E$16:$E$25,\"<4\",Systèmes_communs!$F$16:$F$25,\"<4\",Systèmes_communs!$L$16:$L$25,\">=\"&Annee_BI,Systèmes_communs!$L$16:$L$25,\"<=\"&Annee_BI+4)","v":0},{"$f":"MIN(IF(Systèmes_communs!$L$16:$L$25>=Annee_BI,IF(Systèmes_communs!$L$16:$L$25<=Annee_BI+4,Systèmes_communs!$L$16:$L$25)))","v":0},{"$f":"MAX(IF(Systèmes_communs!$L$16:$L$25>=Annee_BI,IF(Systèmes_communs!$L$16:$L$25<=Annee_BI+4,Systèmes_communs!$L$16:$L$25)))","v":0},{"$f":"SUMIFS(Systèmes_communs!$J$16:$J$25,Systèmes_communs!$E$16:$E$25,\"<4\",Systèmes_communs!$F$16:$F$25,\"<4\",Systèmes_communs!$L$16:$L$25,\">=\"&Annee_BI+5,Systèmes_communs!$L$16:$L$25,\"<=\"&Annee_BI+9)","v":0},{"$f":"MIN(IF(Systèmes_communs!$L$16:$L$25>=Annee_BI+5,IF(Systèmes_communs!$L$16:$L$25<=Annee_BI+9,Systèmes_communs!$L$16:$L$25)))","v":0},{"$f":"MAX(IF(Systèmes_communs!$L$16:$L$25>=Annee_BI+5,IF(Systèmes_communs!$L$16:$L$25<=Annee_BI+9,Systèmes_communs!$L$16:$L$25)))","v":0}]
["Eau potable ","Poste de gestion de pression et de chloration","Poste de chloration",{"$f":"IF(Identification!$H$63=\"\",\"\",Identification!$H$63)","v":""},"Systèmes communs","Mécanique",{"$f":"Systèmes_communs!$B$40","v":""},0,{"$f":"IFERROR(J131/SUM($J130:$J133),0)","v":0},{"$f":"Systèmes_communs!$I$40","v":0},{"$f":"Systèmes_communs!$G$40","v":""},{"$f":"Systèmes_communs!$E$40","v":""},{"$f":"Systèmes_communs!$F$40","v":""},{"$f":"Systèmes_communs!$J$40-SUMIFS(Systèmes_communs!$J$30:$J$39,Systèmes_communs!$E$30:$E$39,\"<4\",Systèmes_communs!$F$30:$F$39,\"<4\")","v":0},{"$f":"SUMIFS(Systèmes_communs!$J$30:$J$39,Systèmes_communs!$E$30:$E$39,\"<4\",Systèmes_communs!$F$30:$F$39,\"<4\",Systèmes_communs!$L$30:$L$39,\">=\"&Annee_BI,Systèmes_communs!$L$30:$L$39,\"<=\"&Annee_BI+4)","v":0},{"$f":"MIN(IF(Systèmes_communs!$L$30:$L$39>=Annee_BI,IF(Systèmes_communs!$L$30:$L$39<=Annee_BI+4,Systèmes_communs!$L$30:$L$39)))","v":0},{"$f":"MAX(IF(Systèmes_communs!$L$30:$L$39>=Annee_BI,IF(Systèmes_communs!$L$30:$L$39<=Annee_BI+4,Systèmes_communs!$L$30:$L$39)))","v":0},{"$f":"SUMIFS(Systèmes_communs!$J$30:$J$39,Systèmes_communs!$E$30:$E$39,\"<4\",Systèmes_communs!$F$30:$F$39,\"<4\",Systèmes_communs!$L$30:$L$39,\">=\"&Annee_BI+5,Systèmes_communs!$L$30:$L$39,\"<=\"&Annee_BI+9)","v":0},{"$f":"MIN(IF(Systèmes_communs!$L$30:$L$39>=Annee_BI+5,IF(Systèmes_communs!$L$30:$L$39<=Annee_BI+9,Systèmes_communs!$L$30:$L$39)))","v":0},{"$f":"MAX(IF(Systèmes_communs!$L$30:$L$39>=Annee_BI+5,IF(Systèmes_communs!$L$30:$L$39<=Annee_BI+9,Systèmes_communs!$L$30:$L$39)))","v":0}]
["Eau potable ","Poste de gestion de pression et de chloration","Poste de chloration",{"$f":"IF(Identification!$H$63=\"\",\"\",Identification!$H$63)","v":""},"Systèmes communs","Électricité",{"$f":"Systèmes_communs!$B$54","v":""},0,{"$f":"IFERROR(J132/SUM($J130:$J133),0)","v":0},{"$f":"Systèmes_communs!$I$54","v":0},{"$f":"Systèmes_communs!$G$54","v":""},{"$f":"Systèmes_communs!$E$54","v":""},{"$f":"Systèmes_communs!$F$54","v":""},{"$f":"Systèmes_communs!$J$54-SUMIFS(Systèmes_communs!$J$44:$J$53,Systèmes_communs!$E$44:$E$53,\"<4\",Systèmes_communs!$F$44:$F$53,\"<4\")","v":0},{"$f":"SUMIFS(Systèmes_communs!$J$44:$J$53,Systèmes_communs!$E$44:$E$53,\"<4\",Systèmes_communs!$F$44:$F$53,\"<4\",Systèmes_communs!$L$44:$L$53,\">=\"&Annee_BI,Systèmes_communs!$L$44:$L$53,\"<=\"&Annee_BI+4)","v":0},{"$f":"MIN(IF(Systèmes_communs!$L$44:$L$53>=Annee_BI,IF(Systèmes_communs!$L$44:$L$53<=Annee_BI+4,Systèmes_communs!$L$44:$L$53)))","v":0},{"$f":"MAX(IF(Systèmes_communs!$L$44:$L$53>=Annee_BI,IF(Systèmes_communs!$L$44:$L$53<=Annee_BI+4,Systèmes_communs!$L$44:$L$53)))","v":0},{"$f":"SUMIFS(Systèmes_communs!$J$44:$J$53,Systèmes_communs!$E$44:$E$53,\"<4\",Systèmes_communs!$F$44:$F$53,\"<4\",Systèmes_communs!$L$44:$L$53,\">=\"&Annee_BI+5,Systèmes_communs!$L$44:$L$53,\"<=\"&Annee_BI+9)","v":0},{"$f":"MIN(IF(Systèmes_communs!$L$44:$L$53>=Annee_BI+5,IF(Systèmes_communs!$L$44:$L$53<=Annee_BI+9,Systèmes_communs!$L$44:$L$53)))","v":0},{"$f":"MAX(IF(Systèmes_communs!$L$44:$L$53>=Annee_BI+5,IF(Systèmes_communs!$L$44:$L$53<=Annee_BI+9,Systèmes_communs!$L$44:$L$53)))","v":0}]
["Eau potable ","Poste de gestion de pression et de chloration","Poste de chloration",{"$f":"IF(Identification!$H$63=\"\",\"\",Identification!$H$63)","v":""},"Systèmes communs","Instrumentation et contrôle",{"$f":"Systèmes_communs!$B$68","v":""},0,{"$f":"IFERROR(J133/SUM($J130:$J133),0)","v":0},{"$f":"Systèmes_communs!$I$68","v":0},{"$f":"Systèmes_communs!$G$68","v":""},{"$f":"Systèmes_communs!$E$68","v":""},{"$f":"Systèmes_communs!$F$68","v":""},{"$f":"Systèmes_communs!$J$68-SUMIFS(Systèmes_communs!$J$58:$J$67,Systèmes_communs!$E$58:$E$67,\"<4\",Systèmes_communs!$F$58:$F$67,\"<4\")","v":0},{"$f":"SUMIFS(Systèmes_communs!$J$58:$J$67,Systèmes_communs!$E$58:$E$67,\"<4\",Systèmes_communs!$F$58:$F$67,\"<4\",Systèmes_communs!$L$58:$L$67,\">=\"&Annee_BI,Systèmes_communs!$L$58:$L$67,\"<=\"&Annee_BI+4)","v":0},{"$f":"MIN(IF(Systèmes_communs!$L$58:$L$67>=Annee_BI,IF(Systèmes_communs!$L$58:$L$67<=Annee_BI+4,Systèmes_communs!$L$58:$L$67)))","v":0},{"$f":"MAX(IF(Systèmes_communs!$L$58:$L$67>=Annee_BI,IF(Systèmes_communs!$L$58:$L$67<=Annee_BI+4,Systèmes_communs!$L$58:$L$67)))","v":0},{"$f":"SUMIFS(Systèmes_communs!$J$58:$J$67,Systèmes_communs!$E$58:$E$67,\"<4\",Systèmes_communs!$F$58:$F$67,\"<4\",Systèmes_communs!$L$58:$L$67,\">=\"&Annee_BI+5,Systèmes_communs!$L$58:$L$67,\"<=\"&Annee_BI+9)","v":0},{"$f":"MIN(IF(Systèmes_communs!$L$58:$L$67>=Annee_BI+5,IF(Systèmes_communs!$L$58:$L$67<=Annee_BI+9,Systèmes_communs!$L$58:$L$67)))","v":0},{"$f":"MAX(IF(Systèmes_communs!$L$58:$L$67>=Annee_BI+5,IF(Systèmes_communs!$L$58:$L$67<=Annee_BI+9,Systèmes_communs!$L$58:$L$67)))","v":0}]
["Eau potable ","Réservoir","Réservoir",{"$f":"IF(Identification!$H$63=\"\",\"\",Identification!$H$63)","v":""},"Réserve d'eau","Civil",{"$f":"EP_Reserve_eau!$B$26","v":""},0,{"$f":"IFERROR(J134/SUM($J134:$J137),0)","v":0},{"$f":"EP_Reserve_eau!$I$26","v":0},{"$f":"EP_Reserve_eau!$G$26","v":""},{"$f":"EP_Reserve_eau!$E$26","v":""},{"$f":"EP_Reserve_eau!$F$26","v":""},{"$f":"EP_Reserve_eau!$J$26-SUMIFS(EP_Reserve_eau!$J$16:$J$25,EP_Reserve_eau!$E$16:$E$25,\"<4\",EP_Reserve_eau!$F$16:$F$25,\"<4\")","v":0},{"$f":"SUMIFS(EP_Reserve_eau!$J$16:$J$25,EP_Reserve_eau!$E$16:$E$25,\"<4\",EP_Reserve_eau!$F$16:$F$25,\"<4\",EP_Reserve_eau!$L$16:$L$25,\">=\"&Annee_BI,EP_Reserve_eau!$L$16:$L$25,\"<=\"&Annee_BI+4)","v":0},{"$f":"MIN(IF(EP_Reserve_eau!$L$16:$L$25>=Annee_BI,IF(EP_Reserve_eau!$L$16:$L$25<=Annee_BI+4,EP_Reserve_eau!$L$16:$L$25)))","v":0},{"$f":"MAX(IF(EP_Reserve_eau!$L$16:$L$25>=Annee_BI,IF(EP_Reserve_eau!$L$16:$L$25<=Annee_BI+4,EP_Reserve_eau!$L$16:$L$25)))","v":0},{"$f":"SUMIFS(EP_Reserve_eau!$J$16:$J$25,EP_Reserve_eau!$E$16:$E$25,\"<4\",EP_Reserve_eau!$F$16:$F$25,\"<4\",EP_Reserve_eau!$L$16:$L$25,\">=\"&Annee_BI+5,EP_Reserve_eau!$L$16:$L$25,\"<=\"&Annee_BI+9)","v":0},{"$f":"MIN(IF(EP_Reserve_eau!$L$16:$L$25>=Annee_BI+5,IF(EP_Reserve_eau!$L$16:$L$25<=Annee_BI+9,EP_Reserve_eau!$L$16:$L$25)))","v":0},{"$f":"MAX(IF(EP_Reserve_eau!$L$16:$L$25>=Annee_BI+5,IF(EP_Reserve_eau!$L$16:$L$25<=Annee_BI+9,EP_Reserve_eau!$L$16:$L$25)))","v":0}]
["Eau potable ","Réservoir","Réservoir",{"$f":"IF(Identification!$H$63=\"\",\"\",Identification!$H$63)","v":""},"Réserve d'eau","Mécanique",{"$f":"EP_Reserve_eau!$B$40","v":""},0,{"$f":"IFERROR(J135/SUM($J134:$J137),0)","v":0},{"$f":"EP_Reserve_eau!$I$40","v":0},{"$f":"EP_Reserve_eau!$G$40","v":""},{"$f":"EP_Reserve_eau!$E$40","v":""},{"$f":"EP_Reserve_eau!$F$40","v":""},{"$f":"EP_Reserve_eau!$J$40-SUMIFS(EP_Reserve_eau!$J$30:$J$39,EP_Reserve_eau!$E$30:$E$39,\"<4\",EP_Reserve_eau!$F$30:$F$39,\"<4\")","v":0},{"$f":"SUMIFS(EP_Reserve_eau!$J$30:$J$39,EP_Reserve_eau!$E$30:$E$39,\"<4\",EP_Reserve_eau!$F$30:$F$39,\"<4\",EP_Reserve_eau!$L$30:$L$39,\">=\"&Annee_BI,EP_Reserve_eau!$L$30:$L$39,\"<=\"&Annee_BI+4)","v":0},{"$f":"MIN(IF(EP_Reserve_eau!$L$30:$L$39>=Annee_BI,IF(EP_Reserve_eau!$L$30:$L$39<=Annee_BI+4,EP_Reserve_eau!$L$30:$L$39)))","v":0},{"$f":"MAX(IF(EP_Reserve_eau!$L$30:$L$39>=Annee_BI,IF(EP_Reserve_eau!$L$30:$L$39<=Annee_BI+4,EP_Reserve_eau!$L$30:$L$39)))","v":0},{"$f":"SUMIFS(EP_Reserve_eau!$J$30:$J$39,EP_Reserve_eau!$E$30:$E$39,\"<4\",EP_Reserve_eau!$F$30:$F$39,\"<4\",EP_Reserve_eau!$L$30:$L$39,\">=\"&Annee_BI+5,EP_Reserve_eau!$L$30:$L$39,\"<=\"&Annee_BI+9)","v":0},{"$f":"MIN(IF(EP_Reserve_eau!$L$30:$L$39>=Annee_BI+5,IF(EP_Reserve_eau!$L$30:$L$39<=Annee_BI+9,EP_Reserve_eau!$L$30:$L$39)))","v":0},{"$f":"MAX(IF(EP_Reserve_eau!$L$30:$L$39>=Annee_BI+5,IF(EP_Reserve_eau!$L$30:$L$39<=Annee_BI+9,EP_Reserve_eau!$L$30:$L$39)))","v":0}]
["Eau potable ","Réservoir","Réservoir",{"$f":"IF(Identification!$H$63=\"\",\"\",Identification!$H$63)","v":""},"Réserve d'eau","Électricité",{"$f":"EP_Reserve_eau!$B$54","v":""},0,{"$f":"IFERROR(J136/SUM($J134:$J137),0)","v":0},{"$f":"EP_Reserve_eau!$I$54","v":0},{"$f":"EP_Reserve_eau!$G$54","v":""},{"$f":"EP_Reserve_eau!$E$54","v":""},{"$f":"EP_Reserve_eau!$F$54","v":""},{"$f":"EP_Reserve_eau!$J$54-SUMIFS(EP_Reserve_eau!$J$44:$J$53,EP_Reserve_eau!$E$44:$E$53,\"<4\",EP_Reserve_eau!$F$44:$F$53,\"<4\")","v":0},{"$f":"SUMIFS(EP_Reserve_eau!$J$44:$J$53,EP_Reserve_eau!$E$44:$E$53,\"<4\",EP_Reserve_eau!$F$44:$F$53,\"<4\",EP_Reserve_eau!$L$44:$L$53,\">=\"&Annee_BI,EP_Reserve_eau!$L$44:$L$53,\"<=\"&Annee_BI+4)","v":0},{"$f":"MIN(IF(EP_Reserve_eau!$L$44:$L$53>=Annee_BI,IF(EP_Reserve_eau!$L$44:$L$53<=Annee_BI+4,EP_Reserve_eau!$L$44:$L$53)))","v":0},{"$f":"MAX(IF(EP_Reserve_eau!$L$44:$L$53>=Annee_BI,IF(EP_Reserve_eau!$L$44:$L$53<=Annee_BI+4,EP_Reserve_eau!$L$44:$L$53)))","v":0},{"$f":"SUMIFS(EP_Reserve_eau!$J$44:$J$53,EP_Reserve_eau!$E$44:$E$53,\"<4\",EP_Reserve_eau!$F$44:$F$53,\"<4\",EP_Reserve_eau!$L$44:$L$53,\">=\"&Annee_BI+5,EP_Reserve_eau!$L$44:$L$53,\"<=\"&Annee_BI+9)","v":0},{"$f":"MIN(IF(EP_Reserve_eau!$L$44:$L$53>=Annee_BI+5,IF(EP_Reserve_eau!$L$44:$L$53<=Annee_BI+9,EP_Reserve_eau!$L$44:$L$53)))","v":0},{"$f":"MAX(IF(EP_Reserve_eau!$L$44:$L$53>=Annee_BI+5,IF(EP_Reserve_eau!$L$44:$L$53<=Annee_BI+9,EP_Reserve_eau!$L$44:$L$53)))","v":0}]
["Eau potable ","Réservoir","Réservoir",{"$f":"IF(Identification!$H$63=\"\",\"\",Identification!$H$63)","v":""},"Réserve d'eau","Instrumentation et contrôle",{"$f":"EP_Reserve_eau!$B$68","v":""},0,{"$f":"IFERROR(J137/SUM($J134:$J137),0)","v":0},{"$f":"EP_Reserve_eau!$I$68","v":0},{"$f":"EP_Reserve_eau!$G$68","v":""},{"$f":"EP_Reserve_eau!$E$68","v":""},{"$f":"EP_Reserve_eau!$F$68","v":""},{"$f":"EP_Reserve_eau!$J$68-SUMIFS(EP_Reserve_eau!$J$58:$J$67,EP_Reserve_eau!$E$58:$E$67,\"<4\",EP_Reserve_eau!$F$58:$F$67,\"<4\")","v":0},{"$f":"SUMIFS(EP_Reserve_eau!$J$58:$J$67,EP_Reserve_eau!$E$58:$E$67,\"<4\",EP_Reserve_eau!$F$58:$F$67,\"<4\",EP_Reserve_eau!$L$58:$L$67,\">=\"&Annee_BI,EP_Reserve_eau!$L$58:$L$67,\"<=\"&Annee_BI+4)","v":0},{"$f":"MIN(IF(EP_Reserve_eau!$L$58:$L$67>=Annee_BI,IF(EP_Reserve_eau!$L$58:$L$67<=Annee_BI+4,EP_Reserve_eau!$L$58:$L$67)))","v":0},{"$f":"MAX(IF(EP_Reserve_eau!$L$58:$L$67>=Annee_BI,IF(EP_Reserve_eau!$L$58:$L$67<=Annee_BI+4,EP_Reserve_eau!$L$58:$L$67)))","v":0},{"$f":"SUMIFS(EP_Reserve_eau!$J$58:$J$67,EP_Reserve_eau!$E$58:$E$67,\"<4\",EP_Reserve_eau!$F$58:$F$67,\"<4\",EP_Reserve_eau!$L$58:$L$67,\">=\"&Annee_BI+5,EP_Reserve_eau!$L$58:$L$67,\"<=\"&Annee_BI+9)","v":0},{"$f":"MIN(IF(EP_Reserve_eau!$L$58:$L$67>=Annee_BI+5,IF(EP_Reserve_eau!$L$58:$L$67<=Annee_BI+9,EP_Reserve_eau!$L$58:$L$67)))","v":0},{"$f":"MAX(IF(EP_Reserve_eau!$L$58:$L$67>=Annee_BI+5,IF(EP_Reserve_eau!$L$58:$L$67<=Annee_BI+9,EP_Reserve_eau!$L$58:$L$67)))","v":0}]
["Eau potable ","Réservoir","Réservoir",{"$f":"IF(Identification!$H$63=\"\",\"\",Identification!$H$63)","v":""},"Pompage de distribution","Civil",{"$f":"EP_Pompage_distribution!$B$26","v":""},0,{"$f":"IFERROR(J138/SUM($J138:$J141),0)","v":0},{"$f":"EP_Pompage_distribution!$I$26","v":0},{"$f":"EP_Pompage_distribution!$G$26","v":""},{"$f":"EP_Pompage_distribution!$E$26","v":""},{"$f":"EP_Pompage_distribution!$F$26","v":""},{"$f":"EP_Pompage_distribution!$J$26-SUMIFS(EP_Pompage_distribution!$J$16:$J$25,EP_Pompage_distribution!$E$16:$E$25,\"<4\",EP_Pompage_distribution!$F$16:$F$25,\"<4\")","v":0},{"$f":"SUMIFS(EP_Pompage_distribution!$J$16:$J$25,EP_Pompage_distribution!$E$16:$E$25,\"<4\",EP_Pompage_distribution!$F$16:$F$25,\"<4\",EP_Pompage_distribution!$L$16:$L$25,\">=\"&Annee_BI,EP_Pompage_distribution!$L$16:$L$25,\"<=\"&Annee_BI+4)","v":0},{"$f":"MIN(IF(EP_Pompage_distribution!$L$16:$L$25>=Annee_BI,IF(EP_Pompage_distribution!$L$16:$L$25<=Annee_BI+4,EP_Pompage_distribution!$L$16:$L$25)))","v":0},{"$f":"MAX(IF(EP_Pompage_distribution!$L$16:$L$25>=Annee_BI,IF(EP_Pompage_distribution!$L$16:$L$25<=Annee_BI+4,EP_Pompage_distribution!$L$16:$L$25)))","v":0},{"$f":"SUMIFS(EP_Pompage_distribution!$J$16:$J$25,EP_Pompage_distribution!$E$16:$E$25,\"<4\",EP_Pompage_distribution!$F$16:$F$25,\"<4\",EP_Pompage_distribution!$L$16:$L$25,\">=\"&Annee_BI+5,EP_Pompage_distribution!$L$16:$L$25,\"<=\"&Annee_BI+9)","v":0},{"$f":"MIN(IF(EP_Pompage_distribution!$L$16:$L$25>=Annee_BI+5,IF(EP_Pompage_distribution!$L$16:$L$25<=Annee_BI+9,EP_Pompage_distribution!$L$16:$L$25)))","v":0},{"$f":"MAX(IF(EP_Pompage_distribution!$L$16:$L$25>=Annee_BI+5,IF(EP_Pompage_distribution!$L$16:$L$25<=Annee_BI+9,EP_Pompage_distribution!$L$16:$L$25)))","v":0}]
["Eau potable ","Réservoir","Réservoir",{"$f":"IF(Identification!$H$63=\"\",\"\",Identification!$H$63)","v":""},"Pompage de distribution","Mécanique",{"$f":"EP_Pompage_distribution!$B$40","v":""},0,{"$f":"IFERROR(J139/SUM($J138:$J141),0)","v":0},{"$f":"EP_Pompage_distribution!$I$40","v":0},{"$f":"EP_Pompage_distribution!$G$40","v":""},{"$f":"EP_Pompage_distribution!$E$40","v":""},{"$f":"EP_Pompage_distribution!$F$40","v":""},{"$f":"EP_Pompage_distribution!$J$40-SUMIFS(EP_Pompage_distribution!$J$30:$J$39,EP_Pompage_distribution!$E$30:$E$39,\"<4\",EP_Pompage_distribution!$F$30:$F$39,\"<4\")","v":0},{"$f":"SUMIFS(EP_Pompage_distribution!$J$30:$J$39,EP_Pompage_distribution!$E$30:$E$39,\"<4\",EP_Pompage_distribution!$F$30:$F$39,\"<4\",EP_Pompage_distribution!$L$30:$L$39,\">=\"&Annee_BI,EP_Pompage_distribution!$L$30:$L$39,\"<=\"&Annee_BI+4)","v":0},{"$f":"MIN(IF(EP_Pompage_distribution!$L$30:$L$39>=Annee_BI,IF(EP_Pompage_distribution!$L$30:$L$39<=Annee_BI+4,EP_Pompage_distribution!$L$30:$L$39)))","v":0},{"$f":"MAX(IF(EP_Pompage_distribution!$L$30:$L$39>=Annee_BI,IF(EP_Pompage_distribution!$L$30:$L$39<=Annee_BI+4,EP_Pompage_distribution!$L$30:$L$39)))","v":0},{"$f":"SUMIFS(EP_Pompage_distribution!$J$30:$J$39,EP_Pompage_distribution!$E$30:$E$39,\"<4\",EP_Pompage_distribution!$F$30:$F$39,\"<4\",EP_Pompage_distribution!$L$30:$L$39,\">=\"&Annee_BI+5,EP_Pompage_distribution!$L$30:$L$39,\"<=\"&Annee_BI+9)","v":0},{"$f":"MIN(IF(EP_Pompage_distribution!$L$30:$L$39>=Annee_BI+5,IF(EP_Pompage_distribution!$L$30:$L$39<=Annee_BI+9,EP_Pompage_distribution!$L$30:$L$39)))","v":0},{"$f":"MAX(IF(EP_Pompage_distribution!$L$30:$L$39>=Annee_BI+5,IF(EP_Pompage_distribution!$L$30:$L$39<=Annee_BI+9,EP_Pompage_distribution!$L$30:$L$39)))","v":0}]
["Eau potable ","Réservoir","Réservoir",{"$f":"IF(Identification!$H$63=\"\",\"\",Identification!$H$63)","v":""},"Pompage de distribution","Électricité",{"$f":"EP_Pompage_distribution!$B$54","v":""},0,{"$f":"IFERROR(J140/SUM($J138:$J141),0)","v":0},{"$f":"EP_Pompage_distribution!$I$54","v":0},{"$f":"EP_Pompage_distribution!$G$54","v":""},{"$f":"EP_Pompage_distribution!$E$54","v":""},{"$f":"EP_Pompage_distribution!$F$54","v":""},{"$f":"EP_Pompage_distribution!$J$54-SUMIFS(EP_Pompage_distribution!$J$44:$J$53,EP_Pompage_distribution!$E$44:$E$53,\"<4\",EP_Pompage_distribution!$F$44:$F$53,\"<4\")","v":0},{"$f":"SUMIFS(EP_Pompage_distribution!$J$44:$J$53,EP_Pompage_distribution!$E$44:$E$53,\"<4\",EP_Pompage_distribution!$F$44:$F$53,\"<4\",EP_Pompage_distribution!$L$44:$L$53,\">=\"&Annee_BI,EP_Pompage_distribution!$L$44:$L$53,\"<=\"&Annee_BI+4)","v":0},{"$f":"MIN(IF(EP_Pompage_distribution!$L$44:$L$53>=Annee_BI,IF(EP_Pompage_distribution!$L$44:$L$53<=Annee_BI+4,EP_Pompage_distribution!$L$44:$L$53)))","v":0},{"$f":"MAX(IF(EP_Pompage_distribution!$L$44:$L$53>=Annee_BI,IF(EP_Pompage_distribution!$L$44:$L$53<=Annee_BI+4,EP_Pompage_distribution!$L$44:$L$53)))","v":0},{"$f":"SUMIFS(EP_Pompage_distribution!$J$44:$J$53,EP_Pompage_distribution!$E$44:$E$53,\"<4\",EP_Pompage_distribution!$F$44:$F$53,\"<4\",EP_Pompage_distribution!$L$44:$L$53,\">=\"&Annee_BI+5,EP_Pompage_distribution!$L$44:$L$53,\"<=\"&Annee_BI+9)","v":0},{"$f":"MIN(IF(EP_Pompage_distribution!$L$44:$L$53>=Annee_BI+5,IF(EP_Pompage_distribution!$L$44:$L$53<=Annee_BI+9,EP_Pompage_distribution!$L$44:$L$53)))","v":0},{"$f":"MAX(IF(EP_Pompage_distribution!$L$44:$L$53>=Annee_BI+5,IF(EP_Pompage_distribution!$L$44:$L$53<=Annee_BI+9,EP_Pompage_distribution!$L$44:$L$53)))","v":0}]
["Eau potable ","Réservoir","Réservoir",{"$f":"IF(Identification!$H$63=\"\",\"\",Identification!$H$63)","v":""},"Pompage de distribution","Instrumentation et contrôle",{"$f":"EP_Pompage_distribution!$B$68","v":""},0,{"$f":"IFERROR(J141/SUM($J138:$J141),0)","v":0},{"$f":"EP_Pompage_distribution!$I$68","v":0},{"$f":"EP_Pompage_distribution!$G$68","v":""},{"$f":"EP_Pompage_distribution!$E$68","v":""},{"$f":"EP_Pompage_distribution!$F$68","v":""},{"$f":"EP_Pompage_distribution!$J$68-SUMIFS(EP_Pompage_distribution!$J$58:$J$67,EP_Pompage_distribution!$E$58:$E$67,\"<4\",EP_Pompage_distribution!$F$58:$F$67,\"<4\")","v":0},{"$f":"SUMIFS(EP_Pompage_distribution!$J$58:$J$67,EP_Pompage_distribution!$E$58:$E$67,\"<4\",EP_Pompage_distribution!$F$58:$F$67,\"<4\",EP_Pompage_distribution!$L$58:$L$67,\">=\"&Annee_BI,EP_Pompage_distribution!$L$58:$L$67,\"<=\"&Annee_BI+4)","v":0},{"$f":"MIN(IF(EP_Pompage_distribution!$L$58:$L$67>=Annee_BI,IF(EP_Pompage_distribution!$L$58:$L$67<=Annee_BI+4,EP_Pompage_distribution!$L$58:$L$67)))","v":0},{"$f":"MAX(IF(EP_Pompage_distribution!$L$58:$L$67>=Annee_BI,IF(EP_Pompage_distribution!$L$58:$L$67<=Annee_BI+4,EP_Pompage_distribution!$L$58:$L$67)))","v":0},{"$f":"SUMIFS(EP_Pompage_distribution!$J$58:$J$67,EP_Pompage_distribution!$E$58:$E$67,\"<4\",EP_Pompage_distribution!$F$58:$F$67,\"<4\",EP_Pompage_distribution!$L$58:$L$67,\">=\"&Annee_BI+5,EP_Pompage_distribution!$L$58:$L$67,\"<=\"&Annee_BI+9)","v":0},{"$f":"MIN(IF(EP_Pompage_distribution!$L$58:$L$67>=Annee_BI+5,IF(EP_Pompage_distribution!$L$58:$L$67<=Annee_BI+9,EP_Pompage_distribution!$L$58:$L$67)))","v":0},{"$f":"MAX(IF(EP_Pompage_distribution!$L$58:$L$67>=Annee_BI+5,IF(EP_Pompage_distribution!$L$58:$L$67<=Annee_BI+9,EP_Pompage_distribution!$L$58:$L$67)))","v":0}]
["Eau potable ","Réservoir","Réservoir",{"$f":"IF(Identification!$H$63=\"\",\"\",Identification!$H$63)","v":""},"Désinfection (Chimique)","Civil",{"$f":"EP_Desinfection_CHLO!$B$26","v":""},{"$f":"IF(G142<>\"\",1,0)","v":0},{"$f":"IFERROR(J142/SUM($J142:$J145),0)","v":0},{"$f":"EP_Desinfection_CHLO!$I$26","v":0},{"$f":"EP_Desinfection_CHLO!$G$26","v":""},{"$f":"EP_Desinfection_CHLO!$E$26","v":""},{"$f":"EP_Desinfection_CHLO!$F$26","v":""},{"$f":"EP_Desinfection_CHLO!$J$26-SUMIFS(EP_Desinfection_CHLO!$J$16:$J$25,EP_Desinfection_CHLO!$E$16:$E$25,\"<4\",EP_Desinfection_CHLO!$F$16:$F$25,\"<4\")","v":0},{"$f":"SUMIFS(EP_Desinfection_CHLO!$J$16:$J$25,EP_Desinfection_CHLO!$E$16:$E$25,\"<4\",EP_Desinfection_CHLO!$F$16:$F$25,\"<4\",EP_Desinfection_CHLO!$L$16:$L$25,\">=\"&Annee_BI,EP_Desinfection_CHLO!$L$16:$L$25,\"<=\"&Annee_BI+4)","v":0},{"$f":"MIN(IF(EP_Desinfection_CHLO!$L$16:$L$25>=Annee_BI,IF(EP_Desinfection_CHLO!$L$16:$L$25<=Annee_BI+4,EP_Desinfection_CHLO!$L$16:$L$25)))","v":0},{"$f":"MAX(IF(EP_Desinfection_CHLO!$L$16:$L$25>=Annee_BI,IF(EP_Desinfection_CHLO!$L$16:$L$25<=Annee_BI+4,EP_Desinfection_CHLO!$L$16:$L$25)))","v":0},{"$f":"SUMIFS(EP_Desinfection_CHLO!$J$16:$J$25,EP_Desinfection_CHLO!$E$16:$E$25,\"<4\",EP_Desinfection_CHLO!$F$16:$F$25,\"<4\",EP_Desinfection_CHLO!$L$16:$L$25,\">=\"&Annee_BI+5,EP_Desinfection_CHLO!$L$16:$L$25,\"<=\"&Annee_BI+9)","v":0},{"$f":"MIN(IF(EP_Desinfection_CHLO!$L$16:$L$25>=Annee_BI+5,IF(EP_Desinfection_CHLO!$L$16:$L$25<=Annee_BI+9,EP_Desinfection_CHLO!$L$16:$L$25)))","v":0},{"$f":"MAX(IF(EP_Desinfection_CHLO!$L$16:$L$25>=Annee_BI+5,IF(EP_Desinfection_CHLO!$L$16:$L$25<=Annee_BI+9,EP_Desinfection_CHLO!$L$16:$L$25)))","v":0}]
["Eau potable ","Réservoir","Réservoir",{"$f":"IF(Identification!$H$63=\"\",\"\",Identification!$H$63)","v":""},"Désinfection (Chimique)","Mécanique",{"$f":"EP_Desinfection_CHLO!$B$40","v":""},{"$f":"IF(G143<>\"\",1,0)","v":0},{"$f":"IFERROR(J143/SUM($J142:$J145),0)","v":0},{"$f":"EP_Desinfection_CHLO!$I$40","v":0},{"$f":"EP_Desinfection_CHLO!$G$40","v":""},{"$f":"EP_Desinfection_CHLO!$E$40","v":""},{"$f":"EP_Desinfection_CHLO!$F$40","v":""},{"$f":"EP_Desinfection_CHLO!$J$40-SUMIFS(EP_Desinfection_CHLO!$J$30:$J$39,EP_Desinfection_CHLO!$E$30:$E$39,\"<4\",EP_Desinfection_CHLO!$F$30:$F$39,\"<4\")","v":0},{"$f":"SUMIFS(EP_Desinfection_CHLO!$J$30:$J$39,EP_Desinfection_CHLO!$E$30:$E$39,\"<4\",EP_Desinfection_CHLO!$F$30:$F$39,\"<4\",EP_Desinfection_CHLO!$L$30:$L$39,\">=\"&Annee_BI,EP_Desinfection_CHLO!$L$30:$L$39,\"<=\"&Annee_BI+4)","v":0},{"$f":"MIN(IF(EP_Desinfection_CHLO!$L$30:$L$39>=Annee_BI,IF(EP_Desinfection_CHLO!$L$30:$L$39<=Annee_BI+4,EP_Desinfection_CHLO!$L$30:$L$39)))","v":0},{"$f":"MAX(IF(EP_Desinfection_CHLO!$L$30:$L$39>=Annee_BI,IF(EP_Desinfection_CHLO!$L$30:$L$39<=Annee_BI+4,EP_Desinfection_CHLO!$L$30:$L$39)))","v":0},{"$f":"SUMIFS(EP_Desinfection_CHLO!$J$30:$J$39,EP_Desinfection_CHLO!$E$30:$E$39,\"<4\",EP_Desinfection_CHLO!$F$30:$F$39,\"<4\",EP_Desinfection_CHLO!$L$30:$L$39,\">=\"&Annee_BI+5,EP_Desinfection_CHLO!$L$30:$L$39,\"<=\"&Annee_BI+9)","v":0},{"$f":"MIN(IF(EP_Desinfection_CHLO!$L$30:$L$39>=Annee_BI+5,IF(EP_Desinfection_CHLO!$L$30:$L$39<=Annee_BI+9,EP_Desinfection_CHLO!$L$30:$L$39)))","v":0},{"$f":"MAX(IF(EP_Desinfection_CHLO!$L$30:$L$39>=Annee_BI+5,IF(EP_Desinfection_CHLO!$L$30:$L$39<=Annee_BI+9,EP_Desinfection_CHLO!$L$30:$L$39)))","v":0}]
["Eau potable ","Réservoir","Réservoir",{"$f":"IF(Identification!$H$63=\"\",\"\",Identification!$H$63)","v":""},"Désinfection (Chimique)","Électricité",{"$f":"EP_Desinfection_CHLO!$B$54","v":""},{"$f":"IF(G144<>\"\",1,0)","v":0},{"$f":"IFERROR(J144/SUM($J142:$J145),0)","v":0},{"$f":"EP_Desinfection_CHLO!$I$54","v":0},{"$f":"EP_Desinfection_CHLO!$G$54","v":""},{"$f":"EP_Desinfection_CHLO!$E$54","v":""},{"$f":"EP_Desinfection_CHLO!$F$54","v":""},{"$f":"EP_Desinfection_CHLO!$J$54-SUMIFS(EP_Desinfection_CHLO!$J$44:$J$53,EP_Desinfection_CHLO!$E$44:$E$53,\"<4\",EP_Desinfection_CHLO!$F$44:$F$53,\"<4\")","v":0},{"$f":"SUMIFS(EP_Desinfection_CHLO!$J$44:$J$53,EP_Desinfection_CHLO!$E$44:$E$53,\"<4\",EP_Desinfection_CHLO!$F$44:$F$53,\"<4\",EP_Desinfection_CHLO!$L$44:$L$53,\">=\"&Annee_BI,EP_Desinfection_CHLO!$L$44:$L$53,\"<=\"&Annee_BI+4)","v":0},{"$f":"MIN(IF(EP_Desinfection_CHLO!$L$44:$L$53>=Annee_BI,IF(EP_Desinfection_CHLO!$L$44:$L$53<=Annee_BI+4,EP_Desinfection_CHLO!$L$44:$L$53)))","v":0},{"$f":"MAX(IF(EP_Desinfection_CHLO!$L$44:$L$53>=Annee_BI,IF(EP_Desinfection_CHLO!$L$44:$L$53<=Annee_BI+4,EP_Desinfection_CHLO!$L$44:$L$53)))","v":0},{"$f":"SUMIFS(EP_Desinfection_CHLO!$J$44:$J$53,EP_Desinfection_CHLO!$E$44:$E$53,\"<4\",EP_Desinfection_CHLO!$F$44:$F$53,\"<4\",EP_Desinfection_CHLO!$L$44:$L$53,\">=\"&Annee_BI+5,EP_Desinfection_CHLO!$L$44:$L$53,\"<=\"&Annee_BI+9)","v":0},{"$f":"MIN(IF(EP_Desinfection_CHLO!$L$44:$L$53>=Annee_BI+5,IF(EP_Desinfection_CHLO!$L$44:$L$53<=Annee_BI+9,EP_Desinfection_CHLO!$L$44:$L$53)))","v":0},{"$f":"MAX(IF(EP_Desinfection_CHLO!$L$44:$L$53>=Annee_BI+5,IF(EP_Desinfection_CHLO!$L$44:$L$53<=Annee_BI+9,EP_Desinfection_CHLO!$L$44:$L$53)))","v":0}]
["Eau potable ","Réservoir","Réservoir",{"$f":"IF(Identification!$H$63=\"\",\"\",Identification!$H$63)","v":""},"Désinfection (Chimique)","Instrumentation et contrôle",{"$f":"EP_Desinfection_CHLO!$B$68","v":""},{"$f":"IF(G145<>\"\",1,0)","v":0},{"$f":"IFERROR(J145/SUM($J142:$J145),0)","v":0},{"$f":"EP_Desinfection_CHLO!$I$68","v":0},{"$f":"EP_Desinfection_CHLO!$G$68","v":""},{"$f":"EP_Desinfection_CHLO!$E$68","v":""},{"$f":"EP_Desinfection_CHLO!$F$68","v":""},{"$f":"EP_Desinfection_CHLO!$J$68-SUMIFS(EP_Desinfection_CHLO!$J$58:$J$67,EP_Desinfection_CHLO!$E$58:$E$67,\"<4\",EP_Desinfection_CHLO!$F$58:$F$67,\"<4\")","v":0},{"$f":"SUMIFS(EP_Desinfection_CHLO!$J$58:$J$67,EP_Desinfection_CHLO!$E$58:$E$67,\"<4\",EP_Desinfection_CHLO!$F$58:$F$67,\"<4\",EP_Desinfection_CHLO!$L$58:$L$67,\">=\"&Annee_BI,EP_Desinfection_CHLO!$L$58:$L$67,\"<=\"&Annee_BI+4)","v":0},{"$f":"MIN(IF(EP_Desinfection_CHLO!$L$58:$L$67>=Annee_BI,IF(EP_Desinfection_CHLO!$L$58:$L$67<=Annee_BI+4,EP_Desinfection_CHLO!$L$58:$L$67)))","v":0},{"$f":"MAX(IF(EP_Desinfection_CHLO!$L$58:$L$67>=Annee_BI,IF(EP_Desinfection_CHLO!$L$58:$L$67<=Annee_BI+4,EP_Desinfection_CHLO!$L$58:$L$67)))","v":0},{"$f":"SUMIFS(EP_Desinfection_CHLO!$J$58:$J$67,EP_Desinfection_CHLO!$E$58:$E$67,\"<4\",EP_Desinfection_CHLO!$F$58:$F$67,\"<4\",EP_Desinfection_CHLO!$L$58:$L$67,\">=\"&Annee_BI+5,EP_Desinfection_CHLO!$L$58:$L$67,\"<=\"&Annee_BI+9)","v":0},{"$f":"MIN(IF(EP_Desinfection_CHLO!$L$58:$L$67>=Annee_BI+5,IF(EP_Desinfection_CHLO!$L$58:$L$67<=Annee_BI+9,EP_Desinfection_CHLO!$L$58:$L$67)))","v":0},{"$f":"MAX(IF(EP_Desinfection_CHLO!$L$58:$L$67>=Annee_BI+5,IF(EP_Desinfection_CHLO!$L$58:$L$67<=Annee_BI+9,EP_Desinfection_CHLO!$L$58:$L$67)))","v":0}]
["Eau potable ","Réservoir","Réservoir",{"$f":"IF(Identification!$H$63=\"\",\"\",Identification!$H$63)","v":""},"Systèmes communs","Civil",{"$f":"Systèmes_communs!$B$26","v":""},{"$f":"IF(G146<>\"\",1,0)","v":0},{"$f":"IFERROR(J146/SUM($J146:$J149),0)","v":0},{"$f":"Systèmes_communs!$I$26","v":0},{"$f":"Systèmes_communs!$G$26","v":""},{"$f":"Systèmes_communs!$E$26","v":""},{"$f":"Systèmes_communs!$F$26","v":""},{"$f":"Systèmes_communs!$J$26-SUMIFS(Systèmes_communs!$J$16:$J$25,Systèmes_communs!$E$16:$E$25,\"<4\",Systèmes_communs!$F$16:$F$25,\"<4\")","v":0},{"$f":"SUMIFS(Systèmes_communs!$J$16:$J$25,Systèmes_communs!$E$16:$E$25,\"<4\",Systèmes_communs!$F$16:$F$25,\"<4\",Systèmes_communs!$L$16:$L$25,\">=\"&Annee_BI,Systèmes_communs!$L$16:$L$25,\"<=\"&Annee_BI+4)","v":0},{"$f":"MIN(IF(Systèmes_communs!$L$16:$L$25>=Annee_BI,IF(Systèmes_communs!$L$16:$L$25<=Annee_BI+4,Systèmes_communs!$L$16:$L$25)))","v":0},{"$f":"MAX(IF(Systèmes_communs!$L$16:$L$25>=Annee_BI,IF(Systèmes_communs!$L$16:$L$25<=Annee_BI+4,Systèmes_communs!$L$16:$L$25)))","v":0},{"$f":"SUMIFS(Systèmes_communs!$J$16:$J$25,Systèmes_communs!$E$16:$E$25,\"<4\",Systèmes_communs!$F$16:$F$25,\"<4\",Systèmes_communs!$L$16:$L$25,\">=\"&Annee_BI+5,Systèmes_communs!$L$16:$L$25,\"<=\"&Annee_BI+9)","v":0},{"$f":"MIN(IF(Systèmes_communs!$L$16:$L$25>=Annee_BI+5,IF(Systèmes_communs!$L$16:$L$25<=Annee_BI+9,Systèmes_communs!$L$16:$L$25)))","v":0},{"$f":"MAX(IF(Systèmes_communs!$L$16:$L$25>=Annee_BI+5,IF(Systèmes_communs!$L$16:$L$25<=Annee_BI+9,Systèmes_communs!$L$16:$L$25)))","v":0}]
["Eau potable ","Réservoir","Réservoir",{"$f":"IF(Identification!$H$63=\"\",\"\",Identification!$H$63)","v":""},"Systèmes communs","Mécanique",{"$f":"Systèmes_communs!$B$40","v":""},{"$f":"IF(G147<>\"\",1,0)","v":0},{"$f":"IFERROR(J147/SUM($J146:$J149),0)","v":0},{"$f":"Systèmes_communs!$I$40","v":0},{"$f":"Systèmes_communs!$G$40","v":""},{"$f":"Systèmes_communs!$E$40","v":""},{"$f":"Systèmes_communs!$F$40","v":""},{"$f":"Systèmes_communs!$J$40-SUMIFS(Systèmes_communs!$J$30:$J$39,Systèmes_communs!$E$30:$E$39,\"<4\",Systèmes_communs!$F$30:$F$39,\"<4\")","v":0},{"$f":"SUMIFS(Systèmes_communs!$J$30:$J$39,Systèmes_communs!$E$30:$E$39,\"<4\",Systèmes_communs!$F$30:$F$39,\"<4\",Systèmes_communs!$L$30:$L$39,\">=\"&Annee_BI,Systèmes_communs!$L$30:$L$39,\"<=\"&Annee_BI+4)","v":0},{"$f":"MIN(IF(Systèmes_communs!$L$30:$L$39>=Annee_BI,IF(Systèmes_communs!$L$30:$L$39<=Annee_BI+4,Systèmes_communs!$L$30:$L$39)))","v":0},{"$f":"MAX(IF(Systèmes_communs!$L$30:$L$39>=Annee_BI,IF(Systèmes_communs!$L$30:$L$39<=Annee_BI+4,Systèmes_communs!$L$30:$L$39)))","v":0},{"$f":"SUMIFS(Systèmes_communs!$J$30:$J$39,Systèmes_communs!$E$30:$E$39,\"<4\",Systèmes_communs!$F$30:$F$39,\"<4\",Systèmes_communs!$L$30:$L$39,\">=\"&Annee_BI+5,Systèmes_communs!$L$30:$L$39,\"<=\"&Annee_BI+9)","v":0},{"$f":"MIN(IF(Systèmes_communs!$L$30:$L$39>=Annee_BI+5,IF(Systèmes_communs!$L$30:$L$39<=Annee_BI+9,Systèmes_communs!$L$30:$L$39)))","v":0},{"$f":"MAX(IF(Systèmes_communs!$L$30:$L$39>=Annee_BI+5,IF(Systèmes_communs!$L$30:$L$39<=Annee_BI+9,Systèmes_communs!$L$30:$L$39)))","v":0}]
["Eau potable ","Réservoir","Réservoir",{"$f":"IF(Identification!$H$63=\"\",\"\",Identification!$H$63)","v":""},"Systèmes communs","Électricité",{"$f":"Systèmes_communs!$B$54","v":""},0,{"$f":"IFERROR(J148/SUM($J146:$J149),0)","v":0},{"$f":"Systèmes_communs!$I$54","v":0},{"$f":"Systèmes_communs!$G$54","v":""},{"$f":"Systèmes_communs!$E$54","v":""},{"$f":"Systèmes_communs!$F$54","v":""},{"$f":"Systèmes_communs!$J$54-SUMIFS(Systèmes_communs!$J$44:$J$53,Systèmes_communs!$E$44:$E$53,\"<4\",Systèmes_communs!$F$44:$F$53,\"<4\")","v":0},{"$f":"SUMIFS(Systèmes_communs!$J$44:$J$53,Systèmes_communs!$E$44:$E$53,\"<4\",Systèmes_communs!$F$44:$F$53,\"<4\",Systèmes_communs!$L$44:$L$53,\">=\"&Annee_BI,Systèmes_communs!$L$44:$L$53,\"<=\"&Annee_BI+4)","v":0},{"$f":"MIN(IF(Systèmes_communs!$L$44:$L$53>=Annee_BI,IF(Systèmes_communs!$L$44:$L$53<=Annee_BI+4,Systèmes_communs!$L$44:$L$53)))","v":0},{"$f":"MAX(IF(Systèmes_communs!$L$44:$L$53>=Annee_BI,IF(Systèmes_communs!$L$44:$L$53<=Annee_BI+4,Systèmes_communs!$L$44:$L$53)))","v":0},{"$f":"SUMIFS(Systèmes_communs!$J$44:$J$53,Systèmes_communs!$E$44:$E$53,\"<4\",Systèmes_communs!$F$44:$F$53,\"<4\",Systèmes_communs!$L$44:$L$53,\">=\"&Annee_BI+5,Systèmes_communs!$L$44:$L$53,\"<=\"&Annee_BI+9)","v":0},{"$f":"MIN(IF(Systèmes_communs!$L$44:$L$53>=Annee_BI+5,IF(Systèmes_communs!$L$44:$L$53<=Annee_BI+9,Systèmes_communs!$L$44:$L$53)))","v":0},{"$f":"MAX(IF(Systèmes_communs!$L$44:$L$53>=Annee_BI+5,IF(Systèmes_communs!$L$44:$L$53<=Annee_BI+9,Systèmes_communs!$L$44:$L$53)))","v":0}]
["Eau potable ","Réservoir","Réservoir",{"$f":"IF(Identification!$H$63=\"\",\"\",Identification!$H$63)","v":""},"Systèmes communs","Instrumentation et contrôle",{"$f":"Systèmes_communs!$B$68","v":""},0,{"$f":"IFERROR(J149/SUM($J146:$J149),0)","v":0},{"$f":"Systèmes_communs!$I$68","v":0},{"$f":"Systèmes_communs!$G$68","v":""},{"$f":"Systèmes_communs!$E$68","v":""},{"$f":"Systèmes_communs!$F$68","v":""},{"$f":"Systèmes_communs!$J$68-SUMIFS(Systèmes_communs!$J$58:$J$67,Systèmes_communs!$E$58:$E$67,\"<4\",Systèmes_communs!$F$58:$F$67,\"<4\")","v":0},{"$f":"SUMIFS(Systèmes_communs!$J$58:$J$67,Systèmes_communs!$E$58:$E$67,\"<4\",Systèmes_communs!$F$58:$F$67,\"<4\",Systèmes_communs!$L$58:$L$67,\">=\"&Annee_BI,Systèmes_communs!$L$58:$L$67,\"<=\"&Annee_BI+4)","v":0},{"$f":"MIN(IF(Systèmes_communs!$L$58:$L$67>=Annee_BI,IF(Systèmes_communs!$L$58:$L$67<=Annee_BI+4,Systèmes_communs!$L$58:$L$67)))","v":0},{"$f":"MAX(IF(Systèmes_communs!$L$58:$L$67>=Annee_BI,IF(Systèmes_communs!$L$58:$L$67<=Annee_BI+4,Systèmes_communs!$L$58:$L$67)))","v":0},{"$f":"SUMIFS(Systèmes_communs!$J$58:$J$67,Systèmes_communs!$E$58:$E$67,\"<4\",Systèmes_communs!$F$58:$F$67,\"<4\",Systèmes_communs!$L$58:$L$67,\">=\"&Annee_BI+5,Systèmes_communs!$L$58:$L$67,\"<=\"&Annee_BI+9)","v":0},{"$f":"MIN(IF(Systèmes_communs!$L$58:$L$67>=Annee_BI+5,IF(Systèmes_communs!$L$58:$L$67<=Annee_BI+9,Systèmes_communs!$L$58:$L$67)))","v":0},{"$f":"MAX(IF(Systèmes_communs!$L$58:$L$67>=Annee_BI+5,IF(Systèmes_communs!$L$58:$L$67<=Annee_BI+9,Systèmes_communs!$L$58:$L$67)))","v":0}]
["Eau potable ","Chambre majeure (EP)","Chambre majeure (EP)",{"$f":"IF(Identification!$H$63=\"\",\"\",Identification!$H$63)","v":""},"Chambre","Civil",{"$f":"EP_Chambre!$B$26","v":""},0,{"$f":"IFERROR(J150/SUM($J150:$J153),0)","v":0},{"$f":"EP_Chambre!$I$26","v":0},{"$f":"EP_Chambre!$G$26","v":""},{"$f":"EP_Chambre!$E$26","v":""},{"$f":"EP_Chambre!$F$26","v":""},{"$f":"EP_Chambre!$J$26-SUMIFS(EP_Chambre!$J$16:$J$25,EP_Chambre!$E$16:$E$25,\"<4\",EP_Chambre!$F$16:$F$25,\"<4\")","v":0},{"$f":"SUMIFS(EP_Chambre!$J$16:$J$25,EP_Chambre!$E$16:$E$25,\"<4\",EP_Chambre!$F$16:$F$25,\"<4\",EP_Chambre!$L$16:$L$25,\">=\"&Annee_BI,EP_Chambre!$L$16:$L$25,\"<=\"&Annee_BI+4)","v":0},{"$f":"MIN(IF(EP_Chambre!$L$16:$L$25>=Annee_BI,IF(EP_Chambre!$L$16:$L$25<=Annee_BI+4,EP_Chambre!$L$16:$L$25)))","v":0},{"$f":"MAX(IF(EP_Chambre!$L$16:$L$25>=Annee_BI,IF(EP_Chambre!$L$16:$L$25<=Annee_BI+4,EP_Chambre!$L$16:$L$25)))","v":0},{"$f":"SUMIFS(EP_Chambre!$J$16:$J$25,EP_Chambre!$E$16:$E$25,\"<4\",EP_Chambre!$F$16:$F$25,\"<4\",EP_Chambre!$L$16:$L$25,\">=\"&Annee_BI+5,EP_Chambre!$L$16:$L$25,\"<=\"&Annee_BI+9)","v":0},{"$f":"MIN(IF(EP_Chambre!$L$16:$L$25>=Annee_BI+5,IF(EP_Chambre!$L$16:$L$25<=Annee_BI+9,EP_Chambre!$L$16:$L$25)))","v":0},{"$f":"MAX(IF(EP_Chambre!$L$16:$L$25>=Annee_BI+5,IF(EP_Chambre!$L$16:$L$25<=Annee_BI+9,EP_Chambre!$L$16:$L$25)))","v":0}]
["Eau potable ","Chambre majeure (EP)","Chambre majeure (EP)",{"$f":"IF(Identification!$H$63=\"\",\"\",Identification!$H$63)","v":""},"Chambre","Mécanique",{"$f":"EP_Chambre!$B$40","v":""},0,{"$f":"IFERROR(J151/SUM($J150:$J153),0)","v":0},{"$f":"EP_Chambre!$I$40","v":0},{"$f":"EP_Chambre!$G$40","v":""},{"$f":"EP_Chambre!$E$40","v":""},{"$f":"EP_Chambre!$F$40","v":""},{"$f":"EP_Chambre!$J$40-SUMIFS(EP_Chambre!$J$30:$J$39,EP_Chambre!$E$30:$E$39,\"<4\",EP_Chambre!$F$30:$F$39,\"<4\")","v":0},{"$f":"SUMIFS(EP_Chambre!$J$30:$J$39,EP_Chambre!$E$30:$E$39,\"<4\",EP_Chambre!$F$30:$F$39,\"<4\",EP_Chambre!$L$30:$L$39,\">=\"&Annee_BI,EP_Chambre!$L$30:$L$39,\"<=\"&Annee_BI+4)","v":0},{"$f":"MIN(IF(EP_Chambre!$L$30:$L$39>=Annee_BI,IF(EP_Chambre!$L$30:$L$39<=Annee_BI+4,EP_Chambre!$L$30:$L$39)))","v":0},{"$f":"MAX(IF(EP_Chambre!$L$30:$L$39>=Annee_BI,IF(EP_Chambre!$L$30:$L$39<=Annee_BI+4,EP_Chambre!$L$30:$L$39)))","v":0},{"$f":"SUMIFS(EP_Chambre!$J$30:$J$39,EP_Chambre!$E$30:$E$39,\"<4\",EP_Chambre!$F$30:$F$39,\"<4\",EP_Chambre!$L$30:$L$39,\">=\"&Annee_BI+5,EP_Chambre!$L$30:$L$39,\"<=\"&Annee_BI+9)","v":0},{"$f":"MIN(IF(EP_Chambre!$L$30:$L$39>=Annee_BI+5,IF(EP_Chambre!$L$30:$L$39<=Annee_BI+9,EP_Chambre!$L$30:$L$39)))","v":0},{"$f":"MAX(IF(EP_Chambre!$L$30:$L$39>=Annee_BI+5,IF(EP_Chambre!$L$30:$L$39<=Annee_BI+9,EP_Chambre!$L$30:$L$39)))","v":0}]
["Eau potable ","Chambre majeure (EP)","Chambre majeure (EP)",{"$f":"IF(Identification!$H$63=\"\",\"\",Identification!$H$63)","v":""},"Chambre","Électricité",{"$f":"EP_Chambre!$B$54","v":""},0,{"$f":"IFERROR(J152/SUM($J150:$J153),0)","v":0},{"$f":"EP_Chambre!$I$54","v":0},{"$f":"EP_Chambre!$G$54","v":""},{"$f":"EP_Chambre!$E$54","v":""},{"$f":"EP_Chambre!$F$54","v":""},{"$f":"EP_Chambre!$J$54-SUMIFS(EP_Chambre!$J$44:$J$53,EP_Chambre!$E$44:$E$53,\"<4\",EP_Chambre!$F$44:$F$53,\"<4\")","v":0},{"$f":"SUMIFS(EP_Chambre!$J$44:$J$53,EP_Chambre!$E$44:$E$53,\"<4\",EP_Chambre!$F$44:$F$53,\"<4\",EP_Chambre!$L$44:$L$53,\">=\"&Annee_BI,EP_Chambre!$L$44:$L$53,\"<=\"&Annee_BI+4)","v":0},{"$f":"MIN(IF(EP_Chambre!$L$44:$L$53>=Annee_BI,IF(EP_Chambre!$L$44:$L$53<=Annee_BI+4,EP_Chambre!$L$44:$L$53)))","v":0},{"$f":"MAX(IF(EP_Chambre!$L$44:$L$53>=Annee_BI,IF(EP_Chambre!$L$44:$L$53<=Annee_BI+4,EP_Chambre!$L$44:$L$53)))","v":0},{"$f":"SUMIFS(EP_Chambre!$J$44:$J$53,EP_Chambre!$E$44:$E$53,\"<4\",EP_Chambre!$F$44:$F$53,\"<4\",EP_Chambre!$L$44:$L$53,\">=\"&Annee_BI+5,EP_Chambre!$L$44:$L$53,\"<=\"&Annee_BI+9)","v":0},{"$f":"MIN(IF(EP_Chambre!$L$44:$L$53>=Annee_BI+5,IF(EP_Chambre!$L$44:$L$53<=Annee_BI+9,EP_Chambre!$L$44:$L$53)))","v":0},{"$f":"MAX(IF(EP_Chambre!$L$44:$L$53>=Annee_BI+5,IF(EP_Chambre!$L$44:$L$53<=Annee_BI+9,EP_Chambre!$L$44:$L$53)))","v":0}]
["Eau potable ","Chambre majeure (EP)","Chambre majeure (EP)",{"$f":"IF(Identification!$H$63=\"\",\"\",Identification!$H$63)","v":""},"Chambre","Instrumentation et contrôle",{"$f":"EP_Chambre!$B$68","v":""},0,{"$f":"IFERROR(J153/SUM($J150:$J153),0)","v":0},{"$f":"EP_Chambre!$I$68","v":0},{"$f":"EP_Chambre!$G$68","v":""},{"$f":"EP_Chambre!$E$68","v":""},{"$f":"EP_Chambre!$F$68","v":""},{"$f":"EP_Chambre!$J$68-SUMIFS(EP_Chambre!$J$58:$J$67,EP_Chambre!$E$58:$E$67,\"<4\",EP_Chambre!$F$58:$F$67,\"<4\")","v":0},{"$f":"SUMIFS(EP_Chambre!$J$58:$J$67,EP_Chambre!$E$58:$E$67,\"<4\",EP_Chambre!$F$58:$F$67,\"<4\",EP_Chambre!$L$58:$L$67,\">=\"&Annee_BI,EP_Chambre!$L$58:$L$67,\"<=\"&Annee_BI+4)","v":0},{"$f":"MIN(IF(EP_Chambre!$L$58:$L$67>=Annee_BI,IF(EP_Chambre!$L$58:$L$67<=Annee_BI+4,EP_Chambre!$L$58:$L$67)))","v":0},{"$f":"MAX(IF(EP_Chambre!$L$58:$L$67>=Annee_BI,IF(EP_Chambre!$L$58:$L$67<=Annee_BI+4,EP_Chambre!$L$58:$L$67)))","v":0},{"$f":"SUMIFS(EP_Chambre!$J$58:$J$67,EP_Chambre!$E$58:$E$67,\"<4\",EP_Chambre!$F$58:$F$67,\"<4\",EP_Chambre!$L$58:$L$67,\">=\"&Annee_BI+5,EP_Chambre!$L$58:$L$67,\"<=\"&Annee_BI+9)","v":0},{"$f":"MIN(IF(EP_Chambre!$L$58:$L$67>=Annee_BI+5,IF(EP_Chambre!$L$58:$L$67<=Annee_BI+9,EP_Chambre!$L$58:$L$67)))","v":0},{"$f":"MAX(IF(EP_Chambre!$L$58:$L$67>=Annee_BI+5,IF(EP_Chambre!$L$58:$L$67<=Annee_BI+9,EP_Chambre!$L$58:$L$67)))","v":0}]
["Eau potable ","Chambre majeure (EP)","Parc de compteurs d'eau",{"$f":"IF(Identification!$H$63=\"\",\"\",Identification!$H$63)","v":""},"Mesure de débit","Civil",{"$f":"EP_Chambre!$B$26","v":""},{"$f":"IF(G154<>\"\",1,0)","v":0},{"$f":"IFERROR(J154/SUM($J154:$J157),0)","v":0},{"$f":"EP_Chambre!$I$26","v":0},{"$f":"EP_Chambre!$G$26","v":""},{"$f":"EP_OZONATION!$E$26","v":""},{"$f":"EP_OZONATION!$F$26","v":""},{"$f":"EP_Chambre!$J$26-SUMIFS(EP_Chambre!$J$16:$J$25,EP_Chambre!$E$16:$E$25,\"<4\",EP_Chambre!$F$16:$F$25,\"<4\")","v":0},{"$f":"SUMIFS(EP_Chambre!$J$16:$J$25,EP_Chambre!$E$16:$E$25,\"<4\",EP_Chambre!$F$16:$F$25,\"<4\",EP_Chambre!$L$16:$L$25,\">=\"&Annee_BI,EP_Chambre!$L$16:$L$25,\"<=\"&Annee_BI+4)","v":0},{"$f":"MIN(IF(EP_Chambre!$L$16:$L$25>=Annee_BI,IF(EP_Chambre!$L$16:$L$25<=Annee_BI+4,EP_Chambre!$L$16:$L$25)))","v":0},{"$f":"MAX(IF(EP_Chambre!$L$16:$L$25>=Annee_BI,IF(EP_Chambre!$L$16:$L$25<=Annee_BI+4,EP_Chambre!$L$16:$L$25)))","v":0},{"$f":"SUMIFS(EP_Chambre!$J$16:$J$25,EP_Chambre!$E$16:$E$25,\"<4\",EP_Chambre!$F$16:$F$25,\"<4\",EP_Chambre!$L$16:$L$25,\">=\"&Annee_BI+5,EP_Chambre!$L$16:$L$25,\"<=\"&Annee_BI+9)","v":0},{"$f":"MIN(IF(EP_Chambre!$L$16:$L$25>=Annee_BI+5,IF(EP_Chambre!$L$16:$L$25<=Annee_BI+9,EP_Chambre!$L$16:$L$25)))","v":0},{"$f":"MAX(IF(EP_Chambre!$L$16:$L$25>=Annee_BI+5,IF(EP_Chambre!$L$16:$L$25<=Annee_BI+9,EP_Chambre!$L$16:$L$25)))","v":0}]
["Eau potable ","Chambre majeure (EP)","Parc de compteurs d'eau",{"$f":"IF(Identification!$H$63=\"\",\"\",Identification!$H$63)","v":""},"Mesure de débit","Mécanique",{"$f":"EP_Chambre!$B$40","v":""},0,{"$f":"IFERROR(J155/SUM($J154:$J157),0)","v":0},{"$f":"EP_Chambre!$I$40","v":0},{"$f":"EP_Chambre!$G$40","v":""},{"$f":"EP_OZONATION!$E$40","v":""},{"$f":"EP_OZONATION!$F$40","v":""},{"$f":"EP_Chambre!$J$40-SUMIFS(EP_Chambre!$J$30:$J$39,EP_Chambre!$E$30:$E$39,\"<4\",EP_Chambre!$F$30:$F$39,\"<4\")","v":0},{"$f":"SUMIFS(EP_Chambre!$J$30:$J$39,EP_Chambre!$E$30:$E$39,\"<4\",EP_Chambre!$F$30:$F$39,\"<4\",EP_Chambre!$L$30:$L$39,\">=\"&Annee_BI,EP_Chambre!$L$30:$L$39,\"<=\"&Annee_BI+4)","v":0},{"$f":"MIN(IF(EP_Chambre!$L$30:$L$39>=Annee_BI,IF(EP_Chambre!$L$30:$L$39<=Annee_BI+4,EP_Chambre!$L$30:$L$39)))","v":0},{"$f":"MAX(IF(EP_Chambre!$L$30:$L$39>=Annee_BI,IF(EP_Chambre!$L$30:$L$39<=Annee_BI+4,EP_Chambre!$L$30:$L$39)))","v":0},{"$f":"SUMIFS(EP_Chambre!$J$30:$J$39,EP_Chambre!$E$30:$E$39,\"<4\",EP_Chambre!$F$30:$F$39,\"<4\",EP_Chambre!$L$30:$L$39,\">=\"&Annee_BI+5,EP_Chambre!$L$30:$L$39,\"<=\"&Annee_BI+9)","v":0},{"$f":"MIN(IF(EP_Chambre!$L$30:$L$39>=Annee_BI+5,IF(EP_Chambre!$L$30:$L$39<=Annee_BI+9,EP_Chambre!$L$30:$L$39)))","v":0},{"$f":"MAX(IF(EP_Chambre!$L$30:$L$39>=Annee_BI+5,IF(EP_Chambre!$L$30:$L$39<=Annee_BI+9,EP_Chambre!$L$30:$L$39)))","v":0}]
["Eau potable ","Chambre majeure (EP)","Parc de compteurs d'eau",{"$f":"IF(Identification!$H$63=\"\",\"\",Identification!$H$63)","v":""},"Mesure de débit","Électricité",{"$f":"EP_Chambre!$B$54","v":""},0,{"$f":"IFERROR(J156/SUM($J154:$J157),0)","v":0},{"$f":"EP_Chambre!$I$54","v":0},{"$f":"EP_Chambre!$G$54","v":""},{"$f":"EP_OZONATION!$E$54","v":""},{"$f":"EP_OZONATION!$F$54","v":""},{"$f":"EP_Chambre!$J$54-SUMIFS(EP_Chambre!$J$44:$J$53,EP_Chambre!$E$44:$E$53,\"<4\",EP_Chambre!$F$44:$F$53,\"<4\")","v":0},{"$f":"SUMIFS(EP_Chambre!$J$44:$J$53,EP_Chambre!$E$44:$E$53,\"<4\",EP_Chambre!$F$44:$F$53,\"<4\",EP_Chambre!$L$44:$L$53,\">=\"&Annee_BI,EP_Chambre!$L$44:$L$53,\"<=\"&Annee_BI+4)","v":0},{"$f":"MIN(IF(EP_Chambre!$L$44:$L$53>=Annee_BI,IF(EP_Chambre!$L$44:$L$53<=Annee_BI+4,EP_Chambre!$L$44:$L$53)))","v":0},{"$f":"MAX(IF(EP_Chambre!$L$44:$L$53>=Annee_BI,IF(EP_Chambre!$L$44:$L$53<=Annee_BI+4,EP_Chambre!$L$44:$L$53)))","v":0},{"$f":"SUMIFS(EP_Chambre!$J$44:$J$53,EP_Chambre!$E$44:$E$53,\"<4\",EP_Chambre!$F$44:$F$53,\"<4\",EP_Chambre!$L$44:$L$53,\">=\"&Annee_BI+5,EP_Chambre!$L$44:$L$53,\"<=\"&Annee_BI+9)","v":0},{"$f":"MIN(IF(EP_Chambre!$L$44:$L$53>=Annee_BI+5,IF(EP_Chambre!$L$44:$L$53<=Annee_BI+9,EP_Chambre!$L$44:$L$53)))","v":0},{"$f":"MAX(IF(EP_Chambre!$L$44:$L$53>=Annee_BI+5,IF(EP_Chambre!$L$44:$L$53<=Annee_BI+9,EP_Chambre!$L$44:$L$53)))","v":0}]
["Eau potable ","Chambre majeure (EP)","Parc de compteurs d'eau",{"$f":"IF(Identification!$H$63=\"\",\"\",Identification!$H$63)","v":""},"Mesure de débit","Instrumentation et contrôle",{"$f":"EP_Chambre!$B$68","v":""},0,{"$f":"IFERROR(J157/SUM($J154:$J157),0)","v":0},{"$f":"EP_Chambre!$I$68","v":0},{"$f":"EP_Chambre!$G$68","v":""},{"$f":"EP_OZONATION!$E$68","v":""},{"$f":"EP_OZONATION!$F$68","v":""},{"$f":"EP_Chambre!$J$68-SUMIFS(EP_Chambre!$J$58:$J$67,EP_Chambre!$E$58:$E$67,\"<4\",EP_Chambre!$F$58:$F$67,\"<4\")","v":0},{"$f":"SUMIFS(EP_Chambre!$J$58:$J$67,EP_Chambre!$E$58:$E$67,\"<4\",EP_Chambre!$F$58:$F$67,\"<4\",EP_Chambre!$L$58:$L$67,\">=\"&Annee_BI,EP_Chambre!$L$58:$L$67,\"<=\"&Annee_BI+4)","v":0},{"$f":"MIN(IF(EP_Chambre!$L$58:$L$67>=Annee_BI,IF(EP_Chambre!$L$58:$L$67<=Annee_BI+4,EP_Chambre!$L$58:$L$67)))","v":0},{"$f":"MAX(IF(EP_Chambre!$L$58:$L$67>=Annee_BI,IF(EP_Chambre!$L$58:$L$67<=Annee_BI+4,EP_Chambre!$L$58:$L$67)))","v":0},{"$f":"SUMIFS(EP_Chambre!$J$58:$J$67,EP_Chambre!$E$58:$E$67,\"<4\",EP_Chambre!$F$58:$F$67,\"<4\",EP_Chambre!$L$58:$L$67,\">=\"&Annee_BI+5,EP_Chambre!$L$58:$L$67,\"<=\"&Annee_BI+9)","v":0},{"$f":"MIN(IF(EP_Chambre!$L$58:$L$67>=Annee_BI+5,IF(EP_Chambre!$L$58:$L$67<=Annee_BI+9,EP_Chambre!$L$58:$L$67)))","v":0},{"$f":"MAX(IF(EP_Chambre!$L$58:$L$67>=Annee_BI+5,IF(EP_Chambre!$L$58:$L$67<=Annee_BI+9,EP_Chambre!$L$58:$L$67)))","v":0}]
["Eaux usées","Poste de pompage (EU)","Poste de pompage (EU)",{"$f":"IF(Identification!$H$63=\"\",\"\",Identification!$H$63)","v":""},"Pompage","Civil",{"$f":"EU_Pompage!$B$26","v":""},0,{"$f":"IFERROR(J158/SUM($J158:$J161),0)","v":0},{"$f":"EU_Pompage!$I$26","v":0},{"$f":"EU_Pompage!$G$26","v":""},{"$f":"EU_Pompage!$E$26","v":""},{"$f":"EU_Pompage!$F$26","v":""},{"$f":"EU_Pompage!$J$26-SUMIFS(EU_Pompage!$J$16:$J$25,EU_Pompage!$E$16:$E$25,\"<4\",EU_Pompage!$F$16:$F$25,\"<4\")","v":0},{"$f":"SUMIFS(EU_Pompage!$J$16:$J$25,EU_Pompage!$E$16:$E$25,\"<4\",EU_Pompage!$F$16:$F$25,\"<4\",EU_Pompage!$L$16:$L$25,\">=\"&Annee_BI,EU_Pompage!$L$16:$L$25,\"<=\"&Annee_BI+4)","v":0},{"$f":"MIN(IF(EU_Pompage!$L$16:$L$25>=Annee_BI,IF(EU_Pompage!$L$16:$L$25<=Annee_BI+4,EU_Pompage!$L$16:$L$25)))","v":0},{"$f":"MAX(IF(EU_Pompage!$L$16:$L$25>=Annee_BI,IF(EU_Pompage!$L$16:$L$25<=Annee_BI+4,EU_Pompage!$L$16:$L$25)))","v":0},{"$f":"SUMIFS(EU_Pompage!$J$16:$J$25,EU_Pompage!$E$16:$E$25,\"<4\",EU_Pompage!$F$16:$F$25,\"<4\",EU_Pompage!$L$16:$L$25,\">=\"&Annee_BI+5,EU_Pompage!$L$16:$L$25,\"<=\"&Annee_BI+9)","v":0},{"$f":"MIN(IF(EU_Pompage!$L$16:$L$25>=Annee_BI+5,IF(EU_Pompage!$L$16:$L$25<=Annee_BI+9,EU_Pompage!$L$16:$L$25)))","v":0},{"$f":"MAX(IF(EU_Pompage!$L$16:$L$25>=Annee_BI+5,IF(EU_Pompage!$L$16:$L$25<=Annee_BI+9,EU_Pompage!$L$16:$L$25)))","v":0}]
["Eaux usées","Poste de pompage (EU)","Poste de pompage (EU)",{"$f":"IF(Identification!$H$63=\"\",\"\",Identification!$H$63)","v":""},"Pompage","Mécanique",{"$f":"EU_Pompage!$B$40","v":""},0,{"$f":"IFERROR(J159/SUM($J158:$J161),0)","v":0},{"$f":"EU_Pompage!$I$40","v":0},{"$f":"EU_Pompage!$G$40","v":""},{"$f":"EU_Pompage!$E$40","v":""},{"$f":"EU_Pompage!$F$40","v":""},{"$f":"EU_Pompage!$J$40-SUMIFS(EU_Pompage!$J$30:$J$39,EU_Pompage!$E$30:$E$39,\"<4\",EU_Pompage!$F$30:$F$39,\"<4\")","v":0},{"$f":"SUMIFS(EU_Pompage!$J$30:$J$39,EU_Pompage!$E$30:$E$39,\"<4\",EU_Pompage!$F$30:$F$39,\"<4\",EU_Pompage!$L$30:$L$39,\">=\"&Annee_BI,EU_Pompage!$L$30:$L$39,\"<=\"&Annee_BI+4)","v":0},{"$f":"MIN(IF(EU_Pompage!$L$30:$L$39>=Annee_BI,IF(EU_Pompage!$L$30:$L$39<=Annee_BI+4,EU_Pompage!$L$30:$L$39)))","v":0},{"$f":"MAX(IF(EU_Pompage!$L$30:$L$39>=Annee_BI,IF(EU_Pompage!$L$30:$L$39<=Annee_BI+4,EU_Pompage!$L$30:$L$39)))","v":0},{"$f":"SUMIFS(EU_Pompage!$J$30:$J$39,EU_Pompage!$E$30:$E$39,\"<4\",EU_Pompage!$F$30:$F$39,\"<4\",EU_Pompage!$L$30:$L$39,\">=\"&Annee_BI+5,EU_Pompage!$L$30:$L$39,\"<=\"&Annee_BI+9)","v":0},{"$f":"MIN(IF(EU_Pompage!$L$30:$L$39>=Annee_BI+5,IF(EU_Pompage!$L$30:$L$39<=Annee_BI+9,EU_Pompage!$L$30:$L$39)))","v":0},{"$f":"MAX(IF(EU_Pompage!$L$30:$L$39>=Annee_BI+5,IF(EU_Pompage!$L$30:$L$39<=Annee_BI+9,EU_Pompage!$L$30:$L$39)))","v":0}]
["Eaux usées","Poste de pompage (EU)","Poste de pompage (EU)",{"$f":"IF(Identification!$H$63=\"\",\"\",Identification!$H$63)","v":""},"Pompage","Électricité",{"$f":"EU_Pompage!$B$54","v":""},0,{"$f":"IFERROR(J160/SUM($J158:$J161),0)","v":0},{"$f":"EU_Pompage!$I$54","v":0},{"$f":"EU_Pompage!$G$54","v":""},{"$f":"EU_Pompage!$E$54","v":""},{"$f":"EU_Pompage!$F$54","v":""},{"$f":"EU_Pompage!$J$54-SUMIFS(EU_Pompage!$J$44:$J$53,EU_Pompage!$E$44:$E$53,\"<4\",EU_Pompage!$F$44:$F$53,\"<4\")","v":0},{"$f":"SUMIFS(EU_Pompage!$J$44:$J$53,EU_Pompage!$E$44:$E$53,\"<4\",EU_Pompage!$F$44:$F$53,\"<4\",EU_Pompage!$L$44:$L$53,\">=\"&Annee_BI,EU_Pompage!$L$44:$L$53,\"<=\"&Annee_BI+4)","v":0},{"$f":"MIN(IF(EU_Pompage!$L$44:$L$53>=Annee_BI,IF(EU_Pompage!$L$44:$L$53<=Annee_BI+4,EU_Pompage!$L$44:$L$53)))","v":0},{"$f":"MAX(IF(EU_Pompage!$L$44:$L$53>=Annee_BI,IF(EU_Pompage!$L$44:$L$53<=Annee_BI+4,EU_Pompage!$L$44:$L$53)))","v":0},{"$f":"SUMIFS(EU_Pompage!$J$44:$J$53,EU_Pompage!$E$44:$E$53,\"<4\",EU_Pompage!$F$44:$F$53,\"<4\",EU_Pompage!$L$44:$L$53,\">=\"&Annee_BI+5,EU_Pompage!$L$44:$L$53,\"<=\"&Annee_BI+9)","v":0},{"$f":"MIN(IF(EU_Pompage!$L$44:$L$53>=Annee_BI+5,IF(EU_Pompage!$L$44:$L$53<=Annee_BI+9,EU_Pompage!$L$44:$L$53)))","v":0},{"$f":"MAX(IF(EU_Pompage!$L$44:$L$53>=Annee_BI+5,IF(EU_Pompage!$L$44:$L$53<=Annee_BI+9,EU_Pompage!$L$44:$L$53)))","v":0}]
["Eaux usées","Poste de pompage (EU)","Poste de pompage (EU)",{"$f":"IF(Identification!$H$63=\"\",\"\",Identification!$H$63)","v":""},"Pompage","Instrumentation et contrôle",{"$f":"EU_Pompage!$B$68","v":""},0,{"$f":"IFERROR(J161/SUM($J158:$J161),0)","v":0},{"$f":"EU_Pompage!$I$68","v":0},{"$f":"EU_Pompage!$G$68","v":""},{"$f":"EU_Pompage!$E$68","v":""},{"$f":"EU_Pompage!$F$68","v":""},{"$f":"EU_Pompage!$J$68-SUMIFS(EU_Pompage!$J$58:$J$67,EU_Pompage!$E$58:$E$67,\"<4\",EU_Pompage!$F$58:$F$67,\"<4\")","v":0},{"$f":"SUMIFS(EU_Pompage!$J$58:$J$67,EU_Pompage!$E$58:$E$67,\"<4\",EU_Pompage!$F$58:$F$67,\"<4\",EU_Pompage!$L$58:$L$67,\">=\"&Annee_BI,EU_Pompage!$L$58:$L$67,\"<=\"&Annee_BI+4)","v":0},{"$f":"MIN(IF(EU_Pompage!$L$58:$L$67>=Annee_BI,IF(EU_Pompage!$L$58:$L$67<=Annee_BI+4,EU_Pompage!$L$58:$L$67)))","v":0},{"$f":"MAX(IF(EU_Pompage!$L$58:$L$67>=Annee_BI,IF(EU_Pompage!$L$58:$L$67<=Annee_BI+4,EU_Pompage!$L$58:$L$67)))","v":0},{"$f":"SUMIFS(EU_Pompage!$J$58:$J$67,EU_Pompage!$E$58:$E$67,\"<4\",EU_Pompage!$F$58:$F$67,\"<4\",EU_Pompage!$L$58:$L$67,\">=\"&Annee_BI+5,EU_Pompage!$L$58:$L$67,\"<=\"&Annee_BI+9)","v":0},{"$f":"MIN(IF(EU_Pompage!$L$58:$L$67>=Annee_BI+5,IF(EU_Pompage!$L$58:$L$67<=Annee_BI+9,EU_Pompage!$L$58:$L$67)))","v":0},{"$f":"MAX(IF(EU_Pompage!$L$58:$L$67>=Annee_BI+5,IF(EU_Pompage!$L$58:$L$67<=Annee_BI+9,EU_Pompage!$L$58:$L$67)))","v":0}]
["Eaux usées","Poste de pompage (EU)","Poste de pompage (EU)",{"$f":"IF(Identification!$H$63=\"\",\"\",Identification!$H$63)","v":""},"Systèmes communs","Civil",{"$f":"Systèmes_communs!$B$26","v":""},0,{"$f":"IFERROR(J162/SUM($J162:$J165),0)","v":0},{"$f":"Systèmes_communs!$I$26","v":0},{"$f":"Systèmes_communs!$G$26","v":""},{"$f":"Systèmes_communs!$E$26","v":""},{"$f":"Systèmes_communs!$F$26","v":""},{"$f":"Systèmes_communs!$J$26-SUMIFS(Systèmes_communs!$J$16:$J$25,Systèmes_communs!$E$16:$E$25,\"<4\",Systèmes_communs!$F$16:$F$25,\"<4\")","v":0},{"$f":"SUMIFS(Systèmes_communs!$J$16:$J$25,Systèmes_communs!$E$16:$E$25,\"<4\",Systèmes_communs!$F$16:$F$25,\"<4\",Systèmes_communs!$L$16:$L$25,\">=\"&Annee_BI,Systèmes_communs!$L$16:$L$25,\"<=\"&Annee_BI+4)","v":0},{"$f":"MIN(IF(Systèmes_communs!$L$16:$L$25>=Annee_BI,IF(Systèmes_communs!$L$16:$L$25<=Annee_BI+4,Systèmes_communs!$L$16:$L$25)))","v":0},{"$f":"MAX(IF(Systèmes_communs!$L$16:$L$25>=Annee_BI,IF(Systèmes_communs!$L$16:$L$25<=Annee_BI+4,Systèmes_communs!$L$16:$L$25)))","v":0},{"$f":"SUMIFS(Systèmes_communs!$J$16:$J$25,Systèmes_communs!$E$16:$E$25,\"<4\",Systèmes_communs!$F$16:$F$25,\"<4\",Systèmes_communs!$L$16:$L$25,\">=\"&Annee_BI+5,Systèmes_communs!$L$16:$L$25,\"<=\"&Annee_BI+9)","v":0},{"$f":"MIN(IF(Systèmes_communs!$L$16:$L$25>=Annee_BI+5,IF(Systèmes_communs!$L$16:$L$25<=Annee_BI+9,Systèmes_communs!$L$16:$L$25)))","v":0},{"$f":"MAX(IF(Systèmes_communs!$L$16:$L$25>=Annee_BI+5,IF(Systèmes_communs!$L$16:$L$25<=Annee_BI+9,Systèmes_communs!$L$16:$L$25)))","v":0}]
["Eaux usées","Poste de pompage (EU)","Poste de pompage (EU)",{"$f":"IF(Identification!$H$63=\"\",\"\",Identification!$H$63)","v":""},"Systèmes communs","Mécanique",{"$f":"Systèmes_communs!$B$40","v":""},{"$f":"IF(G163<>\"\",1,0)","v":0},{"$f":"IFERROR(J163/SUM($J162:$J165),0)","v":0},{"$f":"Systèmes_communs!$I$40","v":0},{"$f":"Systèmes_communs!$G$40","v":""},{"$f":"Systèmes_communs!$E$40","v":""},{"$f":"Systèmes_communs!$F$40","v":""},{"$f":"Systèmes_communs!$J$40-SUMIFS(Systèmes_communs!$J$30:$J$39,Systèmes_communs!$E$30:$E$39,\"<4\",Systèmes_communs!$F$30:$F$39,\"<4\")","v":0},{"$f":"SUMIFS(Systèmes_communs!$J$30:$J$39,Systèmes_communs!$E$30:$E$39,\"<4\",Systèmes_communs!$F$30:$F$39,\"<4\",Systèmes_communs!$L$30:$L$39,\">=\"&Annee_BI,Systèmes_communs!$L$30:$L$39,\"<=\"&Annee_BI+4)","v":0},{"$f":"MIN(IF(Systèmes_communs!$L$30:$L$39>=Annee_BI,IF(Systèmes_communs!$L$30:$L$39<=Annee_BI+4,Systèmes_communs!$L$30:$L$39)))","v":0},{"$f":"MAX(IF(Systèmes_communs!$L$30:$L$39>=Annee_BI,IF(Systèmes_communs!$L$30:$L$39<=Annee_BI+4,Systèmes_communs!$L$30:$L$39)))","v":0},{"$f":"SUMIFS(Systèmes_communs!$J$30:$J$39,Systèmes_communs!$E$30:$E$39,\"<4\",Systèmes_communs!$F$30:$F$39,\"<4\",Systèmes_communs!$L$30:$L$39,\">=\"&Annee_BI+5,Systèmes_communs!$L$30:$L$39,\"<=\"&Annee_BI+9)","v":0},{"$f":"MIN(IF(Systèmes_communs!$L$30:$L$39>=Annee_BI+5,IF(Systèmes_communs!$L$30:$L$39<=Annee_BI+9,Systèmes_communs!$L$30:$L$39)))","v":0},{"$f":"MAX(IF(Systèmes_communs!$L$30:$L$39>=Annee_BI+5,IF(Systèmes_communs!$L$30:$L$39<=Annee_BI+9,Systèmes_communs!$L$30:$L$39)))","v":0}]
["Eaux usées","Poste de pompage (EU)","Poste de pompage (EU)",{"$f":"IF(Identification!$H$63=\"\",\"\",Identification!$H$63)","v":""},"Systèmes communs","Électricité",{"$f":"Systèmes_communs!$B$54","v":""},0,{"$f":"IFERROR(J164/SUM($J162:$J165),0)","v":0},{"$f":"Systèmes_communs!$I$54","v":0},{"$f":"Systèmes_communs!$G$54","v":""},{"$f":"Systèmes_communs!$E$54","v":""},{"$f":"Systèmes_communs!$F$54","v":""},{"$f":"Systèmes_communs!$J$54-SUMIFS(Systèmes_communs!$J$44:$J$53,Systèmes_communs!$E$44:$E$53,\"<4\",Systèmes_communs!$F$44:$F$53,\"<4\")","v":0},{"$f":"SUMIFS(Systèmes_communs!$J$44:$J$53,Systèmes_communs!$E$44:$E$53,\"<4\",Systèmes_communs!$F$44:$F$53,\"<4\",Systèmes_communs!$L$44:$L$53,\">=\"&Annee_BI,Systèmes_communs!$L$44:$L$53,\"<=\"&Annee_BI+4)","v":0},{"$f":"MIN(IF(Systèmes_communs!$L$44:$L$53>=Annee_BI,IF(Systèmes_communs!$L$44:$L$53<=Annee_BI+4,Systèmes_communs!$L$44:$L$53)))","v":0},{"$f":"MAX(IF(Systèmes_communs!$L$44:$L$53>=Annee_BI,IF(Systèmes_communs!$L$44:$L$53<=Annee_BI+4,Systèmes_communs!$L$44:$L$53)))","v":0},{"$f":"SUMIFS(Systèmes_communs!$J$44:$J$53,Systèmes_communs!$E$44:$E$53,\"<4\",Systèmes_communs!$F$44:$F$53,\"<4\",Systèmes_communs!$L$44:$L$53,\">=\"&Annee_BI+5,Systèmes_communs!$L$44:$L$53,\"<=\"&Annee_BI+9)","v":0},{"$f":"MIN(IF(Systèmes_communs!$L$44:$L$53>=Annee_BI+5,IF(Systèmes_communs!$L$44:$L$53<=Annee_BI+9,Systèmes_communs!$L$44:$L$53)))","v":0},{"$f":"MAX(IF(Systèmes_communs!$L$44:$L$53>=Annee_BI+5,IF(Systèmes_communs!$L$44:$L$53<=Annee_BI+9,Systèmes_communs!$L$44:$L$53)))","v":0}]
["Eaux usées","Poste de pompage (EU)","Poste de pompage (EU)",{"$f":"IF(Identification!$H$63=\"\",\"\",Identification!$H$63)","v":""},"Systèmes communs","Instrumentation et contrôle",{"$f":"Systèmes_communs!$B$68","v":""},0,{"$f":"IFERROR(J165/SUM($J162:$J165),0)","v":0},{"$f":"Systèmes_communs!$I$68","v":0},{"$f":"Systèmes_communs!$G$68","v":""},{"$f":"Systèmes_communs!$E$68","v":""},{"$f":"Systèmes_communs!$F$68","v":""},{"$f":"Systèmes_communs!$J$68-SUMIFS(Systèmes_communs!$J$58:$J$67,Systèmes_communs!$E$58:$E$67,\"<4\",Systèmes_communs!$F$58:$F$67,\"<4\")","v":0},{"$f":"SUMIFS(Systèmes_communs!$J$58:$J$67,Systèmes_communs!$E$58:$E$67,\"<4\",Systèmes_communs!$F$58:$F$67,\"<4\",Systèmes_communs!$L$58:$L$67,\">=\"&Annee_BI,Systèmes_communs!$L$58:$L$67,\"<=\"&Annee_BI+4)","v":0},{"$f":"MIN(IF(Systèmes_communs!$L$58:$L$67>=Annee_BI,IF(Systèmes_communs!$L$58:$L$67<=Annee_BI+4,Systèmes_communs!$L$58:$L$67)))","v":0},{"$f":"MAX(IF(Systèmes_communs!$L$58:$L$67>=Annee_BI,IF(Systèmes_communs!$L$58:$L$67<=Annee_BI+4,Systèmes_communs!$L$58:$L$67)))","v":0},{"$f":"SUMIFS(Systèmes_communs!$J$58:$J$67,Systèmes_communs!$E$58:$E$67,\"<4\",Systèmes_communs!$F$58:$F$67,\"<4\",Systèmes_communs!$L$58:$L$67,\">=\"&Annee_BI+5,Systèmes_communs!$L$58:$L$67,\"<=\"&Annee_BI+9)","v":0},{"$f":"MIN(IF(Systèmes_communs!$L$58:$L$67>=Annee_BI+5,IF(Systèmes_communs!$L$58:$L$67<=Annee_BI+9,Systèmes_communs!$L$58:$L$67)))","v":0},{"$f":"MAX(IF(Systèmes_communs!$L$58:$L$67>=Annee_BI+5,IF(Systèmes_communs!$L$58:$L$67<=Annee_BI+9,Systèmes_communs!$L$58:$L$67)))","v":0}]
["Eaux usées","Ouvrage de rétention","Réservoir de rétention",{"$f":"IF(Identification!$H$63=\"\",\"\",Identification!$H$63)","v":""},"Stockage","Civil",{"$f":"EU_Stockage!$B$26","v":""},0,{"$f":"IFERROR(J166/SUM($J166:$J169),0)","v":0},{"$f":"EU_Stockage!$I$26","v":0},{"$f":"EU_Stockage!$G$26","v":""},{"$f":"EU_Stockage!$E$26","v":""},{"$f":"EU_Stockage!$F$26","v":""},{"$f":"EU_Stockage!$J$26-SUMIFS(EU_Stockage!$J$16:$J$25,EU_Stockage!$E$16:$E$25,\"<4\",EU_Stockage!$F$16:$F$25,\"<4\")","v":0},{"$f":"SUMIFS(EU_Stockage!$J$16:$J$25,EU_Stockage!$E$16:$E$25,\"<4\",EU_Stockage!$F$16:$F$25,\"<4\",EU_Stockage!$L$16:$L$25,\">=\"&Annee_BI,EU_Stockage!$L$16:$L$25,\"<=\"&Annee_BI+4)","v":0},{"$f":"MIN(IF(EU_Stockage!$L$16:$L$25>=Annee_BI,IF(EU_Stockage!$L$16:$L$25<=Annee_BI+4,EU_Stockage!$L$16:$L$25)))","v":0},{"$f":"MAX(IF(EU_Stockage!$L$16:$L$25>=Annee_BI,IF(EU_Stockage!$L$16:$L$25<=Annee_BI+4,EU_Stockage!$L$16:$L$25)))","v":0},{"$f":"SUMIFS(EU_Stockage!$J$16:$J$25,EU_Stockage!$E$16:$E$25,\"<4\",EU_Stockage!$F$16:$F$25,\"<4\",EU_Stockage!$L$16:$L$25,\">=\"&Annee_BI+5,EU_Stockage!$L$16:$L$25,\"<=\"&Annee_BI+9)","v":0},{"$f":"MIN(IF(EU_Stockage!$L$16:$L$25>=Annee_BI+5,IF(EU_Stockage!$L$16:$L$25<=Annee_BI+9,EU_Stockage!$L$16:$L$25)))","v":0},{"$f":"MAX(IF(EU_Stockage!$L$16:$L$25>=Annee_BI+5,IF(EU_Stockage!$L$16:$L$25<=Annee_BI+9,EU_Stockage!$L$16:$L$25)))","v":0}]
["Eaux usées","Ouvrage de rétention","Réservoir de rétention",{"$f":"IF(Identification!$H$63=\"\",\"\",Identification!$H$63)","v":""},"Stockage","Mécanique",{"$f":"EU_Stockage!$B$40","v":""},0,{"$f":"IFERROR(J167/SUM($J166:$J169),0)","v":0},{"$f":"EU_Stockage!$I$40","v":0},{"$f":"EU_Stockage!$G$40","v":""},{"$f":"EU_Stockage!$E$40","v":""},{"$f":"EU_Stockage!$F$40","v":""},{"$f":"EU_Stockage!$J$40-SUMIFS(EU_Stockage!$J$30:$J$39,EU_Stockage!$E$30:$E$39,\"<4\",EU_Stockage!$F$30:$F$39,\"<4\")","v":0},{"$f":"SUMIFS(EU_Stockage!$J$30:$J$39,EU_Stockage!$E$30:$E$39,\"<4\",EU_Stockage!$F$30:$F$39,\"<4\",EU_Stockage!$L$30:$L$39,\">=\"&Annee_BI,EU_Stockage!$L$30:$L$39,\"<=\"&Annee_BI+4)","v":0},{"$f":"MIN(IF(EU_Stockage!$L$30:$L$39>=Annee_BI,IF(EU_Stockage!$L$30:$L$39<=Annee_BI+4,EU_Stockage!$L$30:$L$39)))","v":0},{"$f":"MAX(IF(EU_Stockage!$L$30:$L$39>=Annee_BI,IF(EU_Stockage!$L$30:$L$39<=Annee_BI+4,EU_Stockage!$L$30:$L$39)))","v":0},{"$f":"SUMIFS(EU_Stockage!$J$30:$J$39,EU_Stockage!$E$30:$E$39,\"<4\",EU_Stockage!$F$30:$F$39,\"<4\",EU_Stockage!$L$30:$L$39,\">=\"&Annee_BI+5,EU_Stockage!$L$30:$L$39,\"<=\"&Annee_BI+9)","v":0},{"$f":"MIN(IF(EU_Stockage!$L$30:$L$39>=Annee_BI+5,IF(EU_Stockage!$L$30:$L$39<=Annee_BI+9,EU_Stockage!$L$30:$L$39)))","v":0},{"$f":"MAX(IF(EU_Stockage!$L$30:$L$39>=Annee_BI+5,IF(EU_Stockage!$L$30:$L$39<=Annee_BI+9,EU_Stockage!$L$30:$L$39)))","v":0}]
["Eaux usées","Ouvrage de rétention","Réservoir de rétention",{"$f":"IF(Identification!$H$63=\"\",\"\",Identification!$H$63)","v":""},"Stockage","Électricité",{"$f":"EU_Stockage!$B$54","v":""},0,{"$f":"IFERROR(J168/SUM($J166:$J169),0)","v":0},{"$f":"EU_Stockage!$I$54","v":0},{"$f":"EU_Stockage!$G$54","v":""},{"$f":"EU_Stockage!$E$54","v":""},{"$f":"EU_Stockage!$F$54","v":""},{"$f":"EU_Stockage!$J$54-SUMIFS(EU_Stockage!$J$44:$J$53,EU_Stockage!$E$44:$E$53,\"<4\",EU_Stockage!$F$44:$F$53,\"<4\")","v":0},{"$f":"SUMIFS(EU_Stockage!$J$44:$J$53,EU_Stockage!$E$44:$E$53,\"<4\",EU_Stockage!$F$44:$F$53,\"<4\",EU_Stockage!$L$44:$L$53,\">=\"&Annee_BI,EU_Stockage!$L$44:$L$53,\"<=\"&Annee_BI+4)","v":0},{"$f":"MIN(IF(EU_Stockage!$L$44:$L$53>=Annee_BI,IF(EU_Stockage!$L$44:$L$53<=Annee_BI+4,EU_Stockage!$L$44:$L$53)))","v":0},{"$f":"MAX(IF(EU_Stockage!$L$44:$L$53>=Annee_BI,IF(EU_Stockage!$L$44:$L$53<=Annee_BI+4,EU_Stockage!$L$44:$L$53)))","v":0},{"$f":"SUMIFS(EU_Stockage!$J$44:$J$53,EU_Stockage!$E$44:$E$53,\"<4\",EU_Stockage!$F$44:$F$53,\"<4\",EU_Stockage!$L$44:$L$53,\">=\"&Annee_BI+5,EU_Stockage!$L$44:$L$53,\"<=\"&Annee_BI+9)","v":0},{"$f":"MIN(IF(EU_Stockage!$L$44:$L$53>=Annee_BI+5,IF(EU_Stockage!$L$44:$L$53<=Annee_BI+9,EU_Stockage!$L$44:$L$53)))","v":0},{"$f":"MAX(IF(EU_Stockage!$L$44:$L$53>=Annee_BI+5,IF(EU_Stockage!$L$44:$L$53<=Annee_BI+9,EU_Stockage!$L$44:$L$53)))","v":0}]
["Eaux usées","Ouvrage de rétention","Réservoir de rétention",{"$f":"IF(Identification!$H$63=\"\",\"\",Identification!$H$63)","v":""},"Stockage","Instrumentation et contrôle",{"$f":"EU_Stockage!$B$68","v":""},0,{"$f":"IFERROR(J169/SUM($J166:$J169),0)","v":0},{"$f":"EU_Stockage!$I$68","v":0},{"$f":"EU_Stockage!$G$68","v":""},{"$f":"EU_Stockage!$E$68","v":""},{"$f":"EU_Stockage!$F$68","v":""},{"$f":"EU_Stockage!$J$68-SUMIFS(EU_Stockage!$J$58:$J$67,EU_Stockage!$E$58:$E$67,\"<4\",EU_Stockage!$F$58:$F$67,\"<4\")","v":0},{"$f":"SUMIFS(EU_Stockage!$J$58:$J$67,EU_Stockage!$E$58:$E$67,\"<4\",EU_Stockage!$F$58:$F$67,\"<4\",EU_Stockage!$L$58:$L$67,\">=\"&Annee_BI,EU_Stockage!$L$58:$L$67,\"<=\"&Annee_BI+4)","v":0},{"$f":"MIN(IF(EU_Stockage!$L$58:$L$67>=Annee_BI,IF(EU_Stockage!$L$58:$L$67<=Annee_BI+4,EU_Stockage!$L$58:$L$67)))","v":0},{"$f":"MAX(IF(EU_Stockage!$L$58:$L$67>=Annee_BI,IF(EU_Stockage!$L$58:$L$67<=Annee_BI+4,EU_Stockage!$L$58:$L$67)))","v":0},{"$f":"SUMIFS(EU_Stockage!$J$58:$J$67,EU_Stockage!$E$58:$E$67,\"<4\",EU_Stockage!$F$58:$F$67,\"<4\",EU_Stockage!$L$58:$L$67,\">=\"&Annee_BI+5,EU_Stockage!$L$58:$L$67,\"<=\"&Annee_BI+9)","v":0},{"$f":"MIN(IF(EU_Stockage!$L$58:$L$67>=Annee_BI+5,IF(EU_Stockage!$L$58:$L$67<=Annee_BI+9,EU_Stockage!$L$58:$L$67)))","v":0},{"$f":"MAX(IF(EU_Stockage!$L$58:$L$67>=Annee_BI+5,IF(EU_Stockage!$L$58:$L$67<=Annee_BI+9,EU_Stockage!$L$58:$L$67)))","v":0}]
["Eaux usées","Ouvrage de rétention","Réservoir de rétention",{"$f":"IF(Identification!$H$63=\"\",\"\",Identification!$H$63)","v":""},"Pompage","Civil",{"$f":"EU_Pompage!$B$26","v":""},{"$f":"IF(G170<>\"\",1,0)","v":0},{"$f":"IFERROR(J170/SUM($J170:$J173),0)","v":0},{"$f":"EU_Pompage!$I$26","v":0},{"$f":"EU_Pompage!$G$26","v":""},{"$f":"EU_Pompage!$E$26","v":""},{"$f":"EU_Pompage!$F$26","v":""},{"$f":"EU_Pompage!$J$26-SUMIFS(EU_Pompage!$J$16:$J$25,EU_Pompage!$E$16:$E$25,\"<4\",EU_Pompage!$F$16:$F$25,\"<4\")","v":0},{"$f":"SUMIFS(EU_Pompage!$J$16:$J$25,EU_Pompage!$E$16:$E$25,\"<4\",EU_Pompage!$F$16:$F$25,\"<4\",EU_Pompage!$L$16:$L$25,\">=\"&Annee_BI,EU_Pompage!$L$16:$L$25,\"<=\"&Annee_BI+4)","v":0},{"$f":"MIN(IF(EU_Pompage!$L$16:$L$25>=Annee_BI,IF(EU_Pompage!$L$16:$L$25<=Annee_BI+4,EU_Pompage!$L$16:$L$25)))","v":0},{"$f":"MAX(IF(EU_Pompage!$L$16:$L$25>=Annee_BI,IF(EU_Pompage!$L$16:$L$25<=Annee_BI+4,EU_Pompage!$L$16:$L$25)))","v":0},{"$f":"SUMIFS(EU_Pompage!$J$16:$J$25,EU_Pompage!$E$16:$E$25,\"<4\",EU_Pompage!$F$16:$F$25,\"<4\",EU_Pompage!$L$16:$L$25,\">=\"&Annee_BI+5,EU_Pompage!$L$16:$L$25,\"<=\"&Annee_BI+9)","v":0},{"$f":"MIN(IF(EU_Pompage!$L$16:$L$25>=Annee_BI+5,IF(EU_Pompage!$L$16:$L$25<=Annee_BI+9,EU_Pompage!$L$16:$L$25)))","v":0},{"$f":"MAX(IF(EU_Pompage!$L$16:$L$25>=Annee_BI+5,IF(EU_Pompage!$L$16:$L$25<=Annee_BI+9,EU_Pompage!$L$16:$L$25)))","v":0}]
["Eaux usées","Ouvrage de rétention","Réservoir de rétention",{"$f":"IF(Identification!$H$63=\"\",\"\",Identification!$H$63)","v":""},"Pompage","Mécanique",{"$f":"EU_Pompage!$B$40","v":""},0,{"$f":"IFERROR(J171/SUM($J170:$J173),0)","v":0},{"$f":"EU_Pompage!$I$40","v":0},{"$f":"EU_Pompage!$G$40","v":""},{"$f":"EU_Pompage!$E$40","v":""},{"$f":"EU_Pompage!$F$40","v":""},{"$f":"EU_Pompage!$J$40-SUMIFS(EU_Pompage!$J$30:$J$39,EU_Pompage!$E$30:$E$39,\"<4\",EU_Pompage!$F$30:$F$39,\"<4\")","v":0},{"$f":"SUMIFS(EU_Pompage!$J$30:$J$39,EU_Pompage!$E$30:$E$39,\"<4\",EU_Pompage!$F$30:$F$39,\"<4\",EU_Pompage!$L$30:$L$39,\">=\"&Annee_BI,EU_Pompage!$L$30:$L$39,\"<=\"&Annee_BI+4)","v":0},{"$f":"MIN(IF(EU_Pompage!$L$30:$L$39>=Annee_BI,IF(EU_Pompage!$L$30:$L$39<=Annee_BI+4,EU_Pompage!$L$30:$L$39)))","v":0},{"$f":"MAX(IF(EU_Pompage!$L$30:$L$39>=Annee_BI,IF(EU_Pompage!$L$30:$L$39<=Annee_BI+4,EU_Pompage!$L$30:$L$39)))","v":0},{"$f":"SUMIFS(EU_Pompage!$J$30:$J$39,EU_Pompage!$E$30:$E$39,\"<4\",EU_Pompage!$F$30:$F$39,\"<4\",EU_Pompage!$L$30:$L$39,\">=\"&Annee_BI+5,EU_Pompage!$L$30:$L$39,\"<=\"&Annee_BI+9)","v":0},{"$f":"MIN(IF(EU_Pompage!$L$30:$L$39>=Annee_BI+5,IF(EU_Pompage!$L$30:$L$39<=Annee_BI+9,EU_Pompage!$L$30:$L$39)))","v":0},{"$f":"MAX(IF(EU_Pompage!$L$30:$L$39>=Annee_BI+5,IF(EU_Pompage!$L$30:$L$39<=Annee_BI+9,EU_Pompage!$L$30:$L$39)))","v":0}]
["Eaux usées","Ouvrage de rétention","Réservoir de rétention",{"$f":"IF(Identification!$H$63=\"\",\"\",Identification!$H$63)","v":""},"Pompage","Électricité",{"$f":"EU_Pompage!$B$54","v":""},0,{"$f":"IFERROR(J172/SUM($J170:$J173),0)","v":0},{"$f":"EU_Pompage!$I$54","v":0},{"$f":"EU_Pompage!$G$54","v":""},{"$f":"EU_Pompage!$E$54","v":""},{"$f":"EU_Pompage!$F$54","v":""},{"$f":"EU_Pompage!$J$54-SUMIFS(EU_Pompage!$J$44:$J$53,EU_Pompage!$E$44:$E$53,\"<4\",EU_Pompage!$F$44:$F$53,\"<4\")","v":0},{"$f":"SUMIFS(EU_Pompage!$J$44:$J$53,EU_Pompage!$E$44:$E$53,\"<4\",EU_Pompage!$F$44:$F$53,\"<4\",EU_Pompage!$L$44:$L$53,\">=\"&Annee_BI,EU_Pompage!$L$44:$L$53,\"<=\"&Annee_BI+4)","v":0},{"$f":"MIN(IF(EU_Pompage!$L$44:$L$53>=Annee_BI,IF(EU_Pompage!$L$44:$L$53<=Annee_BI+4,EU_Pompage!$L$44:$L$53)))","v":0},{"$f":"MAX(IF(EU_Pompage!$L$44:$L$53>=Annee_BI,IF(EU_Pompage!$L$44:$L$53<=Annee_BI+4,EU_Pompage!$L$44:$L$53)))","v":0},{"$f":"SUMIFS(EU_Pompage!$J$44:$J$53,EU_Pompage!$E$44:$E$53,\"<4\",EU_Pompage!$F$44:$F$53,\"<4\",EU_Pompage!$L$44:$L$53,\">=\"&Annee_BI+5,EU_Pompage!$L$44:$L$53,\"<=\"&Annee_BI+9)","v":0},{"$f":"MIN(IF(EU_Pompage!$L$44:$L$53>=Annee_BI+5,IF(EU_Pompage!$L$44:$L$53<=Annee_BI+9,EU_Pompage!$L$44:$L$53)))","v":0},{"$f":"MAX(IF(EU_Pompage!$L$44:$L$53>=Annee_BI+5,IF(EU_Pompage!$L$44:$L$53<=Annee_BI+9,EU_Pompage!$L$44:$L$53)))","v":0}]
["Eaux usées","Ouvrage de rétention","Réservoir de rétention",{"$f":"IF(Identification!$H$63=\"\",\"\",Identification!$H$63)","v":""},"Pompage","Instrumentation et contrôle",{"$f":"EU_Pompage!$B$68","v":""},0,{"$f":"IFERROR(J173/SUM($J170:$J173),0)","v":0},{"$f":"EU_Pompage!$I$68","v":0},{"$f":"EU_Pompage!$G$68","v":""},{"$f":"EU_Pompage!$E$68","v":""},{"$f":"EU_Pompage!$F$68","v":""},{"$f":"EU_Pompage!$J$68-SUMIFS(EU_Pompage!$J$58:$J$67,EU_Pompage!$E$58:$E$67,\"<4\",EU_Pompage!$F$58:$F$67,\"<4\")","v":0},{"$f":"SUMIFS(EU_Pompage!$J$58:$J$67,EU_Pompage!$E$58:$E$67,\"<4\",EU_Pompage!$F$58:$F$67,\"<4\",EU_Pompage!$L$58:$L$67,\">=\"&Annee_BI,EU_Pompage!$L$58:$L$67,\"<=\"&Annee_BI+4)","v":0},{"$f":"MIN(IF(EU_Pompage!$L$58:$L$67>=Annee_BI,IF(EU_Pompage!$L$58:$L$67<=Annee_BI+4,EU_Pompage!$L$58:$L$67)))","v":0},{"$f":"MAX(IF(EU_Pompage!$L$58:$L$67>=Annee_BI,IF(EU_Pompage!$L$58:$L$67<=Annee_BI+4,EU_Pompage!$L$58:$L$67)))","v":0},{"$f":"SUMIFS(EU_Pompage!$J$58:$J$67,EU_Pompage!$E$58:$E$67,\"<4\",EU_Pompage!$F$58:$F$67,\"<4\",EU_Pompage!$L$58:$L$67,\">=\"&Annee_BI+5,EU_Pompage!$L$58:$L$67,\"<=\"&Annee_BI+9)","v":0},{"$f":"MIN(IF(EU_Pompage!$L$58:$L$67>=Annee_BI+5,IF(EU_Pompage!$L$58:$L$67<=Annee_BI+9,EU_Pompage!$L$58:$L$67)))","v":0},{"$f":"MAX(IF(EU_Pompage!$L$58:$L$67>=Annee_BI+5,IF(EU_Pompage!$L$58:$L$67<=Annee_BI+9,EU_Pompage!$L$58:$L$67)))","v":0}]
["Eaux usées","Ouvrage de rétention","Réservoir de rétention",{"$f":"IF(Identification!$H$63=\"\",\"\",Identification!$H$63)","v":""},"Systèmes communs","Civil",{"$f":"Systèmes_communs!$B$26","v":""},0,{"$f":"IFERROR(J174/SUM($J174:$J177),0)","v":0},{"$f":"Systèmes_communs!$I$26","v":0},{"$f":"Systèmes_communs!$G$26","v":""},{"$f":"Systèmes_communs!$E$26","v":""},{"$f":"Systèmes_communs!$F$26","v":""},{"$f":"Systèmes_communs!$J$26-SUMIFS(Systèmes_communs!$J$16:$J$25,Systèmes_communs!$E$16:$E$25,\"<4\",Systèmes_communs!$F$16:$F$25,\"<4\")","v":0},{"$f":"SUMIFS(Systèmes_communs!$J$16:$J$25,Systèmes_communs!$E$16:$E$25,\"<4\",Systèmes_communs!$F$16:$F$25,\"<4\",Systèmes_communs!$L$16:$L$25,\">=\"&Annee_BI,Systèmes_communs!$L$16:$L$25,\"<=\"&Annee_BI+4)","v":0},{"$f":"MIN(IF(Systèmes_communs!$L$16:$L$25>=Annee_BI,IF(Systèmes_communs!$L$16:$L$25<=Annee_BI+4,Systèmes_communs!$L$16:$L$25)))","v":0},{"$f":"MAX(IF(Systèmes_communs!$L$16:$L$25>=Annee_BI,IF(Systèmes_communs!$L$16:$L$25<=Annee_BI+4,Systèmes_communs!$L$16:$L$25)))","v":0},{"$f":"SUMIFS(Systèmes_communs!$J$16:$J$25,Systèmes_communs!$E$16:$E$25,\"<4\",Systèmes_communs!$F$16:$F$25,\"<4\",Systèmes_communs!$L$16:$L$25,\">=\"&Annee_BI+5,Systèmes_communs!$L$16:$L$25,\"<=\"&Annee_BI+9)","v":0},{"$f":"MIN(IF(Systèmes_communs!$L$16:$L$25>=Annee_BI+5,IF(Systèmes_communs!$L$16:$L$25<=Annee_BI+9,Systèmes_communs!$L$16:$L$25)))","v":0},{"$f":"MAX(IF(Systèmes_communs!$L$16:$L$25>=Annee_BI+5,IF(Systèmes_communs!$L$16:$L$25<=Annee_BI+9,Systèmes_communs!$L$16:$L$25)))","v":0}]
["Eaux usées","Ouvrage de rétention","Réservoir de rétention",{"$f":"IF(Identification!$H$63=\"\",\"\",Identification!$H$63)","v":""},"Systèmes communs","Mécanique",{"$f":"Systèmes_communs!$B$40","v":""},0,{"$f":"IFERROR(J175/SUM($J174:$J177),0)","v":0},{"$f":"Systèmes_communs!$I$40","v":0},{"$f":"Systèmes_communs!$G$40","v":""},{"$f":"Systèmes_communs!$E$40","v":""},{"$f":"Systèmes_communs!$F$40","v":""},{"$f":"Systèmes_communs!$J$40-SUMIFS(Systèmes_communs!$J$30:$J$39,Systèmes_communs!$E$30:$E$39,\"<4\",Systèmes_communs!$F$30:$F$39,\"<4\")","v":0},{"$f":"SUMIFS(Systèmes_communs!$J$30:$J$39,Systèmes_communs!$E$30:$E$39,\"<4\",Systèmes_communs!$F$30:$F$39,\"<4\",Systèmes_communs!$L$30:$L$39,\">=\"&Annee_BI,Systèmes_communs!$L$30:$L$39,\"<=\"&Annee_BI+4)","v":0},{"$f":"MIN(IF(Systèmes_communs!$L$30:$L$39>=Annee_BI,IF(Systèmes_communs!$L$30:$L$39<=Annee_BI+4,Systèmes_communs!$L$30:$L$39)))","v":0},{"$f":"MAX(IF(Systèmes_communs!$L$30:$L$39>=Annee_BI,IF(Systèmes_communs!$L$30:$L$39<=Annee_BI+4,Systèmes_communs!$L$30:$L$39)))","v":0},{"$f":"SUMIFS(Systèmes_communs!$J$30:$J$39,Systèmes_communs!$E$30:$E$39,\"<4\",Systèmes_communs!$F$30:$F$39,\"<4\",Systèmes_communs!$L$30:$L$39,\">=\"&Annee_BI+5,Systèmes_communs!$L$30:$L$39,\"<=\"&Annee_BI+9)","v":0},{"$f":"MIN(IF(Systèmes_communs!$L$30:$L$39>=Annee_BI+5,IF(Systèmes_communs!$L$30:$L$39<=Annee_BI+9,Systèmes_communs!$L$30:$L$39)))","v":0},{"$f":"MAX(IF(Systèmes_communs!$L$30:$L$39>=Annee_BI+5,IF(Systèmes_communs!$L$30:$L$39<=Annee_BI+9,Systèmes_communs!$L$30:$L$39)))","v":0}]
["Eaux usées","Ouvrage de rétention","Réservoir de rétention",{"$f":"IF(Identification!$H$63=\"\",\"\",Identification!$H$63)","v":""},"Systèmes communs","Électricité",{"$f":"Systèmes_communs!$B$54","v":""},0,{"$f":"IFERROR(J176/SUM($J174:$J177),0)","v":0},{"$f":"Systèmes_communs!$I$54","v":0},{"$f":"Systèmes_communs!$G$54","v":""},{"$f":"Systèmes_communs!$E$54","v":""},{"$f":"Systèmes_communs!$F$54","v":""},{"$f":"Systèmes_communs!$J$54-SUMIFS(Systèmes_communs!$J$44:$J$53,Systèmes_communs!$E$44:$E$53,\"<4\",Systèmes_communs!$F$44:$F$53,\"<4\")","v":0},{"$f":"SUMIFS(Systèmes_communs!$J$44:$J$53,Systèmes_communs!$E$44:$E$53,\"<4\",Systèmes_communs!$F$44:$F$53,\"<4\",Systèmes_communs!$L$44:$L$53,\">=\"&Annee_BI,Systèmes_communs!$L$44:$L$53,\"<=\"&Annee_BI+4)","v":0},{"$f":"MIN(IF(Systèmes_communs!$L$44:$L$53>=Annee_BI,IF(Systèmes_communs!$L$44:$L$53<=Annee_BI+4,Systèmes_communs!$L$44:$L$53)))","v":0},{"$f":"MAX(IF(Systèmes_communs!$L$44:$L$53>=Annee_BI,IF(Systèmes_communs!$L$44:$L$53<=Annee_BI+4,Systèmes_communs!$L$44:$L$53)))","v":0},{"$f":"SUMIFS(Systèmes_communs!$J$44:$J$53,Systèmes_communs!$E$44:$E$53,\"<4\",Systèmes_communs!$F$44:$F$53,\"<4\",Systèmes_communs!$L$44:$L$53,\">=\"&Annee_BI+5,Systèmes_communs!$L$44:$L$53,\"<=\"&Annee_BI+9)","v":0},{"$f":"MIN(IF(Systèmes_communs!$L$44:$L$53>=Annee_BI+5,IF(Systèmes_communs!$L$44:$L$53<=Annee_BI+9,Systèmes_communs!$L$44:$L$53)))","v":0},{"$f":"MAX(IF(Systèmes_communs!$L$44:$L$53>=Annee_BI+5,IF(Systèmes_communs!$L$44:$L$53<=Annee_BI+9,Systèmes_communs!$L$44:$L$53)))","v":0}]
["Eaux usées","Ouvrage de rétention","Réservoir de rétention",{"$f":"IF(Identification!$H$63=\"\",\"\",Identification!$H$63)","v":""},"Systèmes communs","Instrumentation et contrôle",{"$f":"Systèmes_communs!$B$68","v":""},0,{"$f":"IFERROR(J177/SUM($J174:$J177),0)","v":0},{"$f":"Systèmes_communs!$I$68","v":0},{"$f":"Systèmes_communs!$G$68","v":""},{"$f":"Systèmes_communs!$E$68","v":""},{"$f":"Systèmes_communs!$F$68","v":""},{"$f":"Systèmes_communs!$J$68-SUMIFS(Systèmes_communs!$J$58:$J$67,Systèmes_communs!$E$58:$E$67,\"<4\",Systèmes_communs!$F$58:$F$67,\"<4\")","v":0},{"$f":"SUMIFS(Systèmes_communs!$J$58:$J$67,Systèmes_communs!$E$58:$E$67,\"<4\",Systèmes_communs!$F$58:$F$67,\"<4\",Systèmes_communs!$L$58:$L$67,\">=\"&Annee_BI,Systèmes_communs!$L$58:$L$67,\"<=\"&Annee_BI+4)","v":0},{"$f":"MIN(IF(Systèmes_communs!$L$58:$L$67>=Annee_BI,IF(Systèmes_communs!$L$58:$L$67<=Annee_BI+4,Systèmes_communs!$L$58:$L$67)))","v":0},{"$f":"MAX(IF(Systèmes_communs!$L$58:$L$67>=Annee_BI,IF(Systèmes_communs!$L$58:$L$67<=Annee_BI+4,Systèmes_communs!$L$58:$L$67)))","v":0},{"$f":"SUMIFS(Systèmes_communs!$J$58:$J$67,Systèmes_communs!$E$58:$E$67,\"<4\",Systèmes_communs!$F$58:$F$67,\"<4\",Systèmes_communs!$L$58:$L$67,\">=\"&Annee_BI+5,Systèmes_communs!$L$58:$L$67,\"<=\"&Annee_BI+9)","v":0},{"$f":"MIN(IF(Systèmes_communs!$L$58:$L$67>=Annee_BI+5,IF(Systèmes_communs!$L$58:$L$67<=Annee_BI+9,Systèmes_communs!$L$58:$L$67)))","v":0},{"$f":"MAX(IF(Systèmes_communs!$L$58:$L$67>=Annee_BI+5,IF(Systèmes_communs!$L$58:$L$67<=Annee_BI+9,Systèmes_communs!$L$58:$L$67)))","v":0}]
["Eaux usées","Chambre majeure (EU)","Chambre majeure (EU)",{"$f":"IF(Identification!$H$63=\"\",\"\",Identification!$H$63)","v":""},"Chambre","Civil",{"$f":"EU_Chambre!$B$26","v":""},0,{"$f":"IFERROR(J178/SUM($J178:$J181),0)","v":0},{"$f":"EU_Chambre!$I$26","v":0},{"$f":"EU_Chambre!$G$26","v":""},{"$f":"EU_Chambre!$E$26","v":""},{"$f":"EU_Chambre!$F$26","v":""},{"$f":"EU_Chambre!$J$26-SUMIFS(EU_Chambre!$J$16:$J$25,EU_Chambre!$E$16:$E$25,\"<4\",EU_Chambre!$F$16:$F$25,\"<4\")","v":0},{"$f":"SUMIFS(EU_Chambre!$J$16:$J$25,EU_Chambre!$E$16:$E$25,\"<4\",EU_Chambre!$F$16:$F$25,\"<4\",EU_Chambre!$L$16:$L$25,\">=\"&Annee_BI,EU_Chambre!$L$16:$L$25,\"<=\"&Annee_BI+4)","v":0},{"$f":"MIN(IF(EU_Chambre!$L$16:$L$25>=Annee_BI,IF(EU_Chambre!$L$16:$L$25<=Annee_BI+4,EU_Chambre!$L$16:$L$25)))","v":0},{"$f":"MAX(IF(EU_Chambre!$L$16:$L$25>=Annee_BI,IF(EU_Chambre!$L$16:$L$25<=Annee_BI+4,EU_Chambre!$L$16:$L$25)))","v":0},{"$f":"SUMIFS(EU_Chambre!$J$16:$J$25,EU_Chambre!$E$16:$E$25,\"<4\",EU_Chambre!$F$16:$F$25,\"<4\",EU_Chambre!$L$16:$L$25,\">=\"&Annee_BI+5,EU_Chambre!$L$16:$L$25,\"<=\"&Annee_BI+9)","v":0},{"$f":"MIN(IF(EU_Chambre!$L$16:$L$25>=Annee_BI+5,IF(EU_Chambre!$L$16:$L$25<=Annee_BI+9,EU_Chambre!$L$16:$L$25)))","v":0},{"$f":"MAX(IF(EU_Chambre!$L$16:$L$25>=Annee_BI+5,IF(EU_Chambre!$L$16:$L$25<=Annee_BI+9,EU_Chambre!$L$16:$L$25)))","v":0}]
["Eaux usées","Chambre majeure (EU)","Chambre majeure (EU)",{"$f":"IF(Identification!$H$63=\"\",\"\",Identification!$H$63)","v":""},"Chambre","Mécanique",{"$f":"EU_Chambre!$B$40","v":""},0,{"$f":"IFERROR(J179/SUM($J178:$J181),0)","v":0},{"$f":"EU_Chambre!$I$40","v":0},{"$f":"EU_Chambre!$G$40","v":""},{"$f":"EU_Chambre!$E$40","v":""},{"$f":"EU_Chambre!$F$40","v":""},{"$f":"EU_Chambre!$J$40-SUMIFS(EU_Chambre!$J$30:$J$39,EU_Chambre!$E$30:$E$39,\"<4\",EU_Chambre!$F$30:$F$39,\"<4\")","v":0},{"$f":"SUMIFS(EU_Chambre!$J$30:$J$39,EU_Chambre!$E$30:$E$39,\"<4\",EU_Chambre!$F$30:$F$39,\"<4\",EU_Chambre!$L$30:$L$39,\">=\"&Annee_BI,EU_Chambre!$L$30:$L$39,\"<=\"&Annee_BI+4)","v":0},{"$f":"MIN(IF(EU_Chambre!$L$30:$L$39>=Annee_BI,IF(EU_Chambre!$L$30:$L$39<=Annee_BI+4,EU_Chambre!$L$30:$L$39)))","v":0},{"$f":"MAX(IF(EU_Chambre!$L$30:$L$39>=Annee_BI,IF(EU_Chambre!$L$30:$L$39<=Annee_BI+4,EU_Chambre!$L$30:$L$39)))","v":0},{"$f":"SUMIFS(EU_Chambre!$J$30:$J$39,EU_Chambre!$E$30:$E$39,\"<4\",EU_Chambre!$F$30:$F$39,\"<4\",EU_Chambre!$L$30:$L$39,\">=\"&Annee_BI+5,EU_Chambre!$L$30:$L$39,\"<=\"&Annee_BI+9)","v":0},{"$f":"MIN(IF(EU_Chambre!$L$30:$L$39>=Annee_BI+5,IF(EU_Chambre!$L$30:$L$39<=Annee_BI+9,EU_Chambre!$L$30:$L$39)))","v":0},{"$f":"MAX(IF(EU_Chambre!$L$30:$L$39>=Annee_BI+5,IF(EU_Chambre!$L$30:$L$39<=Annee_BI+9,EU_Chambre!$L$30:$L$39)))","v":0}]
["Eaux usées","Chambre majeure (EU)","Chambre majeure (EU)",{"$f":"IF(Identification!$H$63=\"\",\"\",Identification!$H$63)","v":""},"Chambre","Électricité",{"$f":"EU_Chambre!$B$54","v":""},0,{"$f":"IFERROR(J180/SUM($J178:$J181),0)","v":0},{"$f":"EU_Chambre!$I$54","v":0},{"$f":"EU_Chambre!$G$54","v":""},{"$f":"EU_Chambre!$E$54","v":""},{"$f":"EU_Chambre!$F$54","v":""},{"$f":"EU_Chambre!$J$54-SUMIFS(EU_Chambre!$J$44:$J$53,EU_Chambre!$E$44:$E$53,\"<4\",EU_Chambre!$F$44:$F$53,\"<4\")","v":0},{"$f":"SUMIFS(EU_Chambre!$J$44:$J$53,EU_Chambre!$E$44:$E$53,\"<4\",EU_Chambre!$F$44:$F$53,\"<4\",EU_Chambre!$L$44:$L$53,\">=\"&Annee_BI,EU_Chambre!$L$44:$L$53,\"<=\"&Annee_BI+4)","v":0},{"$f":"MIN(IF(EU_Chambre!$L$44:$L$53>=Annee_BI,IF(EU_Chambre!$L$44:$L$53<=Annee_BI+4,EU_Chambre!$L$44:$L$53)))","v":0},{"$f":"MAX(IF(EU_Chambre!$L$44:$L$53>=Annee_BI,IF(EU_Chambre!$L$44:$L$53<=Annee_BI+4,EU_Chambre!$L$44:$L$53)))","v":0},{"$f":"SUMIFS(EU_Chambre!$J$44:$J$53,EU_Chambre!$E$44:$E$53,\"<4\",EU_Chambre!$F$44:$F$53,\"<4\",EU_Chambre!$L$44:$L$53,\">=\"&Annee_BI+5,EU_Chambre!$L$44:$L$53,\"<=\"&Annee_BI+9)","v":0},{"$f":"MIN(IF(EU_Chambre!$L$44:$L$53>=Annee_BI+5,IF(EU_Chambre!$L$44:$L$53<=Annee_BI+9,EU_Chambre!$L$44:$L$53)))","v":0},{"$f":"MAX(IF(EU_Chambre!$L$44:$L$53>=Annee_BI+5,IF(EU_Chambre!$L$44:$L$53<=Annee_BI+9,EU_Chambre!$L$44:$L$53)))","v":0}]
["Eaux usées","Chambre majeure (EU)","Chambre majeure (EU)",{"$f":"IF(Identification!$H$63=\"\",\"\",Identification!$H$63)","v":""},"Chambre","Instrumentation et contrôle",{"$f":"EU_Chambre!$B$68","v":""},0,{"$f":"IFERROR(J181/SUM($J178:$J181),0)","v":0},{"$f":"EU_Chambre!$I$68","v":0},{"$f":"EU_Chambre!$G$68","v":""},{"$f":"EU_Chambre!$E$68","v":""},{"$f":"EU_Chambre!$F$68","v":""},{"$f":"EU_Chambre!$J$68-SUMIFS(EU_Chambre!$J$58:$J$67,EU_Chambre!$E$58:$E$67,\"<4\",EU_Chambre!$F$58:$F$67,\"<4\")","v":0},{"$f":"SUMIFS(EU_Chambre!$J$58:$J$67,EU_Chambre!$E$58:$E$67,\"<4\",EU_Chambre!$F$58:$F$67,\"<4\",EU_Chambre!$L$58:$L$67,\">=\"&Annee_BI,EU_Chambre!$L$58:$L$67,\"<=\"&Annee_BI+4)","v":0},{"$f":"MIN(IF(EU_Chambre!$L$58:$L$67>=Annee_BI,IF(EU_Chambre!$L$58:$L$67<=Annee_BI+4,EU_Chambre!$L$58:$L$67)))","v":0},{"$f":"MAX(IF(EU_Chambre!$L$58:$L$67>=Annee_BI,IF(EU_Chambre!$L$58:$L$67<=Annee_BI+4,EU_Chambre!$L$58:$L$67)))","v":0},{"$f":"SUMIFS(EU_Chambre!$J$58:$J$67,EU_Chambre!$E$58:$E$67,\"<4\",EU_Chambre!$F$58:$F$67,\"<4\",EU_Chambre!$L$58:$L$67,\">=\"&Annee_BI+5,EU_Chambre!$L$58:$L$67,\"<=\"&Annee_BI+9)","v":0},{"$f":"MIN(IF(EU_Chambre!$L$58:$L$67>=Annee_BI+5,IF(EU_Chambre!$L$58:$L$67<=Annee_BI+9,EU_Chambre!$L$58:$L$67)))","v":0},{"$f":"MAX(IF(EU_Chambre!$L$58:$L$67>=Annee_BI+5,IF(EU_Chambre!$L$58:$L$67<=Annee_BI+9,EU_Chambre!$L$58:$L$67)))","v":0}]
["Eaux usées","Ouvrage de surverse (EU)","Ouvrage de surverse (EU)",{"$f":"IF(Identification!$H$63=\"\",\"\",Identification!$H$63)","v":""},"Régulation de débit","Civil",{"$f":"EU_Régulation_débit!$B$26","v":""},0,{"$f":"IFERROR(J182/SUM($J182:$J185),0)","v":0},{"$f":"EU_Régulation_débit!$I$26","v":0},{"$f":"EU_Régulation_débit!$G$26","v":""},{"$f":"EU_Régulation_débit!$E$26","v":""},{"$f":"EU_Régulation_débit!$F$26","v":""},{"$f":"EU_Régulation_débit!$J$26-SUMIFS(EU_Régulation_débit!$J$16:$J$25,EU_Régulation_débit!$E$16:$E$25,\"<4\",EU_Régulation_débit!$F$16:$F$25,\"<4\")","v":0},{"$f":"SUMIFS(EU_Régulation_débit!$J$16:$J$25,EU_Régulation_débit!$E$16:$E$25,\"<4\",EU_Régulation_débit!$F$16:$F$25,\"<4\",EU_Régulation_débit!$L$16:$L$25,\">=\"&Annee_BI,EU_Régulation_débit!$L$16:$L$25,\"<=\"&Annee_BI+4)","v":0},{"$f":"MIN(IF(EU_Régulation_débit!$L$16:$L$25>=Annee_BI,IF(EU_Régulation_débit!$L$16:$L$25<=Annee_BI+4,EU_Régulation_débit!$L$16:$L$25)))","v":0},{"$f":"MAX(IF(EU_Régulation_débit!$L$16:$L$25>=Annee_BI,IF(EU_Régulation_débit!$L$16:$L$25<=Annee_BI+4,EU_Régulation_débit!$L$16:$L$25)))","v":0},{"$f":"SUMIFS(EU_Régulation_débit!$J$16:$J$25,EU_Régulation_débit!$E$16:$E$25,\"<4\",EU_Régulation_débit!$F$16:$F$25,\"<4\",EU_Régulation_débit!$L$16:$L$25,\">=\"&Annee_BI+5,EU_Régulation_débit!$L$16:$L$25,\"<=\"&Annee_BI+9)","v":0},{"$f":"MIN(IF(EU_Régulation_débit!$L$16:$L$25>=Annee_BI+5,IF(EU_Régulation_débit!$L$16:$L$25<=Annee_BI+9,EU_Régulation_débit!$L$16:$L$25)))","v":0},{"$f":"MAX(IF(EU_Régulation_débit!$L$16:$L$25>=Annee_BI+5,IF(EU_Régulation_débit!$L$16:$L$25<=Annee_BI+9,EU_Régulation_débit!$L$16:$L$25)))","v":0}]
["Eaux usées","Ouvrage de surverse (EU)","Ouvrage de surverse (EU)",{"$f":"IF(Identification!$H$63=\"\",\"\",Identification!$H$63)","v":""},"Régulation de débit","Mécanique",{"$f":"EU_Régulation_débit!$B$40","v":""},0,{"$f":"IFERROR(J183/SUM($J182:$J185),0)","v":0},{"$f":"EU_Régulation_débit!$I$40","v":0},{"$f":"EU_Régulation_débit!$G$40","v":""},{"$f":"EU_Régulation_débit!$E$40","v":""},{"$f":"EU_Régulation_débit!$F$40","v":""},{"$f":"EU_Régulation_débit!$J$40-SUMIFS(EU_Régulation_débit!$J$30:$J$39,EU_Régulation_débit!$E$30:$E$39,\"<4\",EU_Régulation_débit!$F$30:$F$39,\"<4\")","v":0},{"$f":"SUMIFS(EU_Régulation_débit!$J$30:$J$39,EU_Régulation_débit!$E$30:$E$39,\"<4\",EU_Régulation_débit!$F$30:$F$39,\"<4\",EU_Régulation_débit!$L$30:$L$39,\">=\"&Annee_BI,EU_Régulation_débit!$L$30:$L$39,\"<=\"&Annee_BI+4)","v":0},{"$f":"MIN(IF(EU_Régulation_débit!$L$30:$L$39>=Annee_BI,IF(EU_Régulation_débit!$L$30:$L$39<=Annee_BI+4,EU_Régulation_débit!$L$30:$L$39)))","v":0},{"$f":"MAX(IF(EU_Régulation_débit!$L$30:$L$39>=Annee_BI,IF(EU_Régulation_débit!$L$30:$L$39<=Annee_BI+4,EU_Régulation_débit!$L$30:$L$39)))","v":0},{"$f":"SUMIFS(EU_Régulation_débit!$J$30:$J$39,EU_Régulation_débit!$E$30:$E$39,\"<4\",EU_Régulation_débit!$F$30:$F$39,\"<4\",EU_Régulation_débit!$L$30:$L$39,\">=\"&Annee_BI+5,EU_Régulation_débit!$L$30:$L$39,\"<=\"&Annee_BI+9)","v":0},{"$f":"MIN(IF(EU_Régulation_débit!$L$30:$L$39>=Annee_BI+5,IF(EU_Régulation_débit!$L$30:$L$39<=Annee_BI+9,EU_Régulation_débit!$L$30:$L$39)))","v":0},{"$f":"MAX(IF(EU_Régulation_débit!$L$30:$L$39>=Annee_BI+5,IF(EU_Régulation_débit!$L$30:$L$39<=Annee_BI+9,EU_Régulation_débit!$L$30:$L$39)))","v":0}]
["Eaux usées","Ouvrage de surverse (EU)","Ouvrage de surverse (EU)",{"$f":"IF(Identification!$H$63=\"\",\"\",Identification!$H$63)","v":""},"Régulation de débit","Électricité",{"$f":"EU_Régulation_débit!$B$54","v":""},0,{"$f":"IFERROR(J184/SUM($J182:$J185),0)","v":0},{"$f":"EU_Régulation_débit!$I$54","v":0},{"$f":"EU_Régulation_débit!$G$54","v":""},{"$f":"EU_Régulation_débit!$E$54","v":""},{"$f":"EU_Régulation_débit!$F$54","v":""},{"$f":"EU_Régulation_débit!$J$54-SUMIFS(EU_Régulation_débit!$J$44:$J$53,EU_Régulation_débit!$E$44:$E$53,\"<4\",EU_Régulation_débit!$F$44:$F$53,\"<4\")","v":0},{"$f":"SUMIFS(EU_Régulation_débit!$J$44:$J$53,EU_Régulation_débit!$E$44:$E$53,\"<4\",EU_Régulation_débit!$F$44:$F$53,\"<4\",EU_Régulation_débit!$L$44:$L$53,\">=\"&Annee_BI,EU_Régulation_débit!$L$44:$L$53,\"<=\"&Annee_BI+4)","v":0},{"$f":"MIN(IF(EU_Régulation_débit!$L$44:$L$53>=Annee_BI,IF(EU_Régulation_débit!$L$44:$L$53<=Annee_BI+4,EU_Régulation_débit!$L$44:$L$53)))","v":0},{"$f":"MAX(IF(EU_Régulation_débit!$L$44:$L$53>=Annee_BI,IF(EU_Régulation_débit!$L$44:$L$53<=Annee_BI+4,EU_Régulation_débit!$L$44:$L$53)))","v":0},{"$f":"SUMIFS(EU_Régulation_débit!$J$44:$J$53,EU_Régulation_débit!$E$44:$E$53,\"<4\",EU_Régulation_débit!$F$44:$F$53,\"<4\",EU_Régulation_débit!$L$44:$L$53,\">=\"&Annee_BI+5,EU_Régulation_débit!$L$44:$L$53,\"<=\"&Annee_BI+9)","v":0},{"$f":"MIN(IF(EU_Régulation_débit!$L$44:$L$53>=Annee_BI+5,IF(EU_Régulation_débit!$L$44:$L$53<=Annee_BI+9,EU_Régulation_débit!$L$44:$L$53)))","v":0},{"$f":"MAX(IF(EU_Régulation_débit!$L$44:$L$53>=Annee_BI+5,IF(EU_Régulation_débit!$L$44:$L$53<=Annee_BI+9,EU_Régulation_débit!$L$44:$L$53)))","v":0}]
["Eaux usées","Ouvrage de surverse (EU)","Ouvrage de surverse (EU)",{"$f":"IF(Identification!$H$63=\"\",\"\",Identification!$H$63)","v":""},"Régulation de débit","Instrumentation et contrôle",{"$f":"EU_Régulation_débit!$B$68","v":""},0,{"$f":"IFERROR(J185/SUM($J182:$J185),0)","v":0},{"$f":"EU_Régulation_débit!$I$68","v":0},{"$f":"EU_Régulation_débit!$G$68","v":""},{"$f":"EU_Régulation_débit!$E$68","v":""},{"$f":"EU_Régulation_débit!$F$68","v":""},{"$f":"EU_Régulation_débit!$J$68-SUMIFS(EU_Régulation_débit!$J$58:$J$67,EU_Régulation_débit!$E$58:$E$67,\"<4\",EU_Régulation_débit!$F$58:$F$67,\"<4\")","v":0},{"$f":"SUMIFS(EU_Régulation_débit!$J$58:$J$67,EU_Régulation_débit!$E$58:$E$67,\"<4\",EU_Régulation_débit!$F$58:$F$67,\"<4\",EU_Régulation_débit!$L$58:$L$67,\">=\"&Annee_BI,EU_Régulation_débit!$L$58:$L$67,\"<=\"&Annee_BI+4)","v":0},{"$f":"MIN(IF(EU_Régulation_débit!$L$58:$L$67>=Annee_BI,IF(EU_Régulation_débit!$L$58:$L$67<=Annee_BI+4,EU_Régulation_débit!$L$58:$L$67)))","v":0},{"$f":"MAX(IF(EU_Régulation_débit!$L$58:$L$67>=Annee_BI,IF(EU_Régulation_débit!$L$58:$L$67<=Annee_BI+4,EU_Régulation_débit!$L$58:$L$67)))","v":0},{"$f":"SUMIFS(EU_Régulation_débit!$J$58:$J$67,EU_Régulation_débit!$E$58:$E$67,\"<4\",EU_Régulation_débit!$F$58:$F$67,\"<4\",EU_Régulation_débit!$L$58:$L$67,\">=\"&Annee_BI+5,EU_Régulation_débit!$L$58:$L$67,\"<=\"&Annee_BI+9)","v":0},{"$f":"MIN(IF(EU_Régulation_débit!$L$58:$L$67>=Annee_BI+5,IF(EU_Régulation_débit!$L$58:$L$67<=Annee_BI+9,EU_Régulation_débit!$L$58:$L$67)))","v":0},{"$f":"MAX(IF(EU_Régulation_débit!$L$58:$L$67>=Annee_BI+5,IF(EU_Régulation_débit!$L$58:$L$67<=Annee_BI+9,EU_Régulation_débit!$L$58:$L$67)))","v":0}]
["Eaux usées","Installation de traitement","Stations mécanisées",{"$f":"IF(Identification!$H$63=\"\",\"\",Identification!$H$63)","v":""},"Affluent","Civil",{"$f":"EU_Affluent!$B$26","v":""},0,{"$f":"IFERROR(J186/SUM($J186:$J189),0)","v":0},{"$f":"EU_Affluent!$I$26","v":0},{"$f":"EU_Affluent!$G$26","v":""},{"$f":"EU_Affluent!$E$26","v":""},{"$f":"EU_Affluent!$F$26","v":""},{"$f":"EU_Affluent!$J$26-SUMIFS(EU_Affluent!$J$16:$J$25,EU_Affluent!$E$16:$E$25,\"<4\",EU_Affluent!$F$16:$F$25,\"<4\")","v":0},{"$f":"SUMIFS(EU_Affluent!$J$16:$J$25,EU_Affluent!$E$16:$E$25,\"<4\",EU_Affluent!$F$16:$F$25,\"<4\",EU_Affluent!$L$16:$L$25,\">=\"&Annee_BI,EU_Affluent!$L$16:$L$25,\"<=\"&Annee_BI+4)","v":0},{"$f":"MIN(IF(EU_Affluent!$L$16:$L$25>=Annee_BI,IF(EU_Affluent!$L$16:$L$25<=Annee_BI+4,EU_Affluent!$L$16:$L$25)))","v":0},{"$f":"MAX(IF(EU_Affluent!$L$16:$L$25>=Annee_BI,IF(EU_Affluent!$L$16:$L$25<=Annee_BI+4,EU_Affluent!$L$16:$L$25)))","v":0},{"$f":"SUMIFS(EU_Affluent!$J$16:$J$25,EU_Affluent!$E$16:$E$25,\"<4\",EU_Affluent!$F$16:$F$25,\"<4\",EU_Affluent!$L$16:$L$25,\">=\"&Annee_BI+5,EU_Affluent!$L$16:$L$25,\"<=\"&Annee_BI+9)","v":0},{"$f":"MIN(IF(EU_Affluent!$L$16:$L$25>=Annee_BI+5,IF(EU_Affluent!$L$16:$L$25<=Annee_BI+9,EU_Affluent!$L$16:$L$25)))","v":0},{"$f":"MAX(IF(EU_Affluent!$L$16:$L$25>=Annee_BI+5,IF(EU_Affluent!$L$16:$L$25<=Annee_BI+9,EU_Affluent!$L$16:$L$25)))","v":0}]
["Eaux usées","Installation de traitement","Stations mécanisées",{"$f":"IF(Identification!$H$63=\"\",\"\",Identification!$H$63)","v":""},"Affluent","Mécanique",{"$f":"EU_Affluent!$B$40","v":""},0,{"$f":"IFERROR(J187/SUM($J186:$J189),0)","v":0},{"$f":"EU_Affluent!$I$40","v":0},{"$f":"EU_Affluent!$G$40","v":""},{"$f":"EU_Affluent!$E$40","v":""},{"$f":"EU_Affluent!$F$40","v":""},{"$f":"EU_Affluent!$J$40-SUMIFS(EU_Affluent!$J$30:$J$39,EU_Affluent!$E$30:$E$39,\"<4\",EU_Affluent!$F$30:$F$39,\"<4\")","v":0},{"$f":"SUMIFS(EU_Affluent!$J$30:$J$39,EU_Affluent!$E$30:$E$39,\"<4\",EU_Affluent!$F$30:$F$39,\"<4\",EU_Affluent!$L$30:$L$39,\">=\"&Annee_BI,EU_Affluent!$L$30:$L$39,\"<=\"&Annee_BI+4)","v":0},{"$f":"MIN(IF(EU_Affluent!$L$30:$L$39>=Annee_BI,IF(EU_Affluent!$L$30:$L$39<=Annee_BI+4,EU_Affluent!$L$30:$L$39)))","v":0},{"$f":"MAX(IF(EU_Affluent!$L$30:$L$39>=Annee_BI,IF(EU_Affluent!$L$30:$L$39<=Annee_BI+4,EU_Affluent!$L$30:$L$39)))","v":0},{"$f":"SUMIFS(EU_Affluent!$J$30:$J$39,EU_Affluent!$E$30:$E$39,\"<4\",EU_Affluent!$F$30:$F$39,\"<4\",EU_Affluent!$L$30:$L$39,\">=\"&Annee_BI+5,EU_Affluent!$L$30:$L$39,\"<=\"&Annee_BI+9)","v":0},{"$f":"MIN(IF(EU_Affluent!$L$30:$L$39>=Annee_BI+5,IF(EU_Affluent!$L$30:$L$39<=Annee_BI+9,EU_Affluent!$L$30:$L$39)))","v":0},{"$f":"MAX(IF(EU_Affluent!$L$30:$L$39>=Annee_BI+5,IF(EU_Affluent!$L$30:$L$39<=Annee_BI+9,EU_Affluent!$L$30:$L$39)))","v":0}]
["Eaux usées","Installation de traitement","Stations mécanisées",{"$f":"IF(Identification!$H$63=\"\",\"\",Identification!$H$63)","v":""},"Affluent","Électricité",{"$f":"EU_Affluent!$B$54","v":""},0,{"$f":"IFERROR(J188/SUM($J186:$J189),0)","v":0},{"$f":"EU_Affluent!$I$54","v":0},{"$f":"EU_Affluent!$G$54","v":""},{"$f":"EU_Affluent!$E$54","v":""},{"$f":"EU_Affluent!$F$54","v":""},{"$f":"EU_Affluent!$J$54-SUMIFS(EU_Affluent!$J$44:$J$53,EU_Affluent!$E$44:$E$53,\"<4\",EU_Affluent!$F$44:$F$53,\"<4\")","v":0},{"$f":"SUMIFS(EU_Affluent!$J$44:$J$53,EU_Affluent!$E$44:$E$53,\"<4\",EU_Affluent!$F$44:$F$53,\"<4\",EU_Affluent!$L$44:$L$53,\">=\"&Annee_BI,EU_Affluent!$L$44:$L$53,\"<=\"&Annee_BI+4)","v":0},{"$f":"MIN(IF(EU_Affluent!$L$44:$L$53>=Annee_BI,IF(EU_Affluent!$L$44:$L$53<=Annee_BI+4,EU_Affluent!$L$44:$L$53)))","v":0},{"$f":"MAX(IF(EU_Affluent!$L$44:$L$53>=Annee_BI,IF(EU_Affluent!$L$44:$L$53<=Annee_BI+4,EU_Affluent!$L$44:$L$53)))","v":0},{"$f":"SUMIFS(EU_Affluent!$J$44:$J$53,EU_Affluent!$E$44:$E$53,\"<4\",EU_Affluent!$F$44:$F$53,\"<4\",EU_Affluent!$L$44:$L$53,\">=\"&Annee_BI+5,EU_Affluent!$L$44:$L$53,\"<=\"&Annee_BI+9)","v":0},{"$f":"MIN(IF(EU_Affluent!$L$44:$L$53>=Annee_BI+5,IF(EU_Affluent!$L$44:$L$53<=Annee_BI+9,EU_Affluent!$L$44:$L$53)))","v":0},{"$f":"MAX(IF(EU_Affluent!$L$44:$L$53>=Annee_BI+5,IF(EU_Affluent!$L$44:$L$53<=Annee_BI+9,EU_Affluent!$L$44:$L$53)))","v":0}]
["Eaux usées","Installation de traitement","Stations mécanisées",{"$f":"IF(Identification!$H$63=\"\",\"\",Identification!$H$63)","v":""},"Affluent","Instrumentation et contrôle",{"$f":"EU_Affluent!$B$68","v":""},0,{"$f":"IFERROR(J189/SUM($J186:$J189),0)","v":0},{"$f":"EU_Affluent!$I$68","v":0},{"$f":"EU_Affluent!$G$68","v":""},{"$f":"EU_Affluent!$E$68","v":""},{"$f":"EU_Affluent!$F$68","v":""},{"$f":"EU_Affluent!$J$68-SUMIFS(EU_Affluent!$J$58:$J$67,EU_Affluent!$E$58:$E$67,\"<4\",EU_Affluent!$F$58:$F$67,\"<4\")","v":0},{"$f":"SUMIFS(EU_Affluent!$J$58:$J$67,EU_Affluent!$E$58:$E$67,\"<4\",EU_Affluent!$F$58:$F$67,\"<4\",EU_Affluent!$L$58:$L$67,\">=\"&Annee_BI,EU_Affluent!$L$58:$L$67,\"<=\"&Annee_BI+4)","v":0},{"$f":"MIN(IF(EU_Affluent!$L$58:$L$67>=Annee_BI,IF(EU_Affluent!$L$58:$L$67<=Annee_BI+4,EU_Affluent!$L$58:$L$67)))","v":0},{"$f":"MAX(IF(EU_Affluent!$L$58:$L$67>=Annee_BI,IF(EU_Affluent!$L$58:$L$67<=Annee_BI+4,EU_Affluent!$L$58:$L$67)))","v":0},{"$f":"SUMIFS(EU_Affluent!$J$58:$J$67,EU_Affluent!$E$58:$E$67,\"<4\",EU_Affluent!$F$58:$F$67,\"<4\",EU_Affluent!$L$58:$L$67,\">=\"&Annee_BI+5,EU_Affluent!$L$58:$L$67,\"<=\"&Annee_BI+9)","v":0},{"$f":"MIN(IF(EU_Affluent!$L$58:$L$67>=Annee_BI+5,IF(EU_Affluent!$L$58:$L$67<=Annee_BI+9,EU_Affluent!$L$58:$L$67)))","v":0},{"$f":"MAX(IF(EU_Affluent!$L$58:$L$67>=Annee_BI+5,IF(EU_Affluent!$L$58:$L$67<=Annee_BI+9,EU_Affluent!$L$58:$L$67)))","v":0}]
["Eaux usées","Installation de traitement","Stations mécanisées",{"$f":"IF(Identification!$H$63=\"\",\"\",Identification!$H$63)","v":""},"Dégrillage","Civil",{"$f":"EU_Dégrillage!$B$26","v":""},0,{"$f":"IFERROR(J190/SUM($J190:$J193),0)","v":0},{"$f":"EU_Dégrillage!$I$26","v":0},{"$f":"EU_Dégrillage!$G$26","v":""},{"$f":"EU_Dégrillage!$E$26","v":""},{"$f":"EU_Dégrillage!$F$26","v":""},{"$f":"EU_Dégrillage!$J$26-SUMIFS(EU_Dégrillage!$J$16:$J$25,EU_Dégrillage!$E$16:$E$25,\"<4\",EU_Dégrillage!$F$16:$F$25,\"<4\")","v":0},{"$f":"SUMIFS(EU_Dégrillage!$J$16:$J$25,EU_Dégrillage!$E$16:$E$25,\"<4\",EU_Dégrillage!$F$16:$F$25,\"<4\",EU_Dégrillage!$L$16:$L$25,\">=\"&Annee_BI,EU_Dégrillage!$L$16:$L$25,\"<=\"&Annee_BI+4)","v":0},{"$f":"MIN(IF(EU_Dégrillage!$L$16:$L$25>=Annee_BI,IF(EU_Dégrillage!$L$16:$L$25<=Annee_BI+4,EU_Dégrillage!$L$16:$L$25)))","v":0},{"$f":"MAX(IF(EU_Dégrillage!$L$16:$L$25>=Annee_BI,IF(EU_Dégrillage!$L$16:$L$25<=Annee_BI+4,EU_Dégrillage!$L$16:$L$25)))","v":0},{"$f":"SUMIFS(EU_Dégrillage!$J$16:$J$25,EU_Dégrillage!$E$16:$E$25,\"<4\",EU_Dégrillage!$F$16:$F$25,\"<4\",EU_Dégrillage!$L$16:$L$25,\">=\"&Annee_BI+5,EU_Dégrillage!$L$16:$L$25,\"<=\"&Annee_BI+9)","v":0},{"$f":"MIN(IF(EU_Dégrillage!$L$16:$L$25>=Annee_BI+5,IF(EU_Dégrillage!$L$16:$L$25<=Annee_BI+9,EU_Dégrillage!$L$16:$L$25)))","v":0},{"$f":"MAX(IF(EU_Dégrillage!$L$16:$L$25>=Annee_BI+5,IF(EU_Dégrillage!$L$16:$L$25<=Annee_BI+9,EU_Dégrillage!$L$16:$L$25)))","v":0}]
["Eaux usées","Installation de traitement","Stations mécanisées",{"$f":"IF(Identification!$H$63=\"\",\"\",Identification!$H$63)","v":""},"Dégrillage","Mécanique",{"$f":"EU_Dégrillage!$B$40","v":""},0,{"$f":"IFERROR(J191/SUM($J190:$J193),0)","v":0},{"$f":"EU_Dégrillage!$I$40","v":0},{"$f":"EU_Dégrillage!$G$40","v":""},{"$f":"EU_Dégrillage!$E$40","v":""},{"$f":"EU_Dégrillage!$F$40","v":""},{"$f":"EU_Dégrillage!$J$40-SUMIFS(EU_Dégrillage!$J$30:$J$39,EU_Dégrillage!$E$30:$E$39,\"<4\",EU_Dégrillage!$F$30:$F$39,\"<4\")","v":0},{"$f":"SUMIFS(EU_Dégrillage!$J$30:$J$39,EU_Dégrillage!$E$30:$E$39,\"<4\",EU_Dégrillage!$F$30:$F$39,\"<4\",EU_Dégrillage!$L$30:$L$39,\">=\"&Annee_BI,EU_Dégrillage!$L$30:$L$39,\"<=\"&Annee_BI+4)","v":0},{"$f":"MIN(IF(EU_Dégrillage!$L$30:$L$39>=Annee_BI,IF(EU_Dégrillage!$L$30:$L$39<=Annee_BI+4,EU_Dégrillage!$L$30:$L$39)))","v":0},{"$f":"MAX(IF(EU_Dégrillage!$L$30:$L$39>=Annee_BI,IF(EU_Dégrillage!$L$30:$L$39<=Annee_BI+4,EU_Dégrillage!$L$30:$L$39)))","v":0},{"$f":"SUMIFS(EU_Dégrillage!$J$30:$J$39,EU_Dégrillage!$E$30:$E$39,\"<4\",EU_Dégrillage!$F$30:$F$39,\"<4\",EU_Dégrillage!$L$30:$L$39,\">=\"&Annee_BI+5,EU_Dégrillage!$L$30:$L$39,\"<=\"&Annee_BI+9)","v":0},{"$f":"MIN(IF(EU_Dégrillage!$L$30:$L$39>=Annee_BI+5,IF(EU_Dégrillage!$L$30:$L$39<=Annee_BI+9,EU_Dégrillage!$L$30:$L$39)))","v":0},{"$f":"MAX(IF(EU_Dégrillage!$L$30:$L$39>=Annee_BI+5,IF(EU_Dégrillage!$L$30:$L$39<=Annee_BI+9,EU_Dégrillage!$L$30:$L$39)))","v":0}]
["Eaux usées","Installation de traitement","Stations mécanisées",{"$f":"IF(Identification!$H$63=\"\",\"\",Identification!$H$63)","v":""},"Dégrillage","Électricité",{"$f":"EU_Dégrillage!$B$54","v":""},0,{"$f":"IFERROR(J192/SUM($J190:$J193),0)","v":0},{"$f":"EU_Dégrillage!$I$54","v":0},{"$f":"EU_Dégrillage!$G$54","v":""},{"$f":"EU_Dégrillage!$E$54","v":""},{"$f":"EU_Dégrillage!$F$54","v":""},{"$f":"EU_Dégrillage!$J$54-SUMIFS(EU_Dégrillage!$J$44:$J$53,EU_Dégrillage!$E$44:$E$53,\"<4\",EU_Dégrillage!$F$44:$F$53,\"<4\")","v":0},{"$f":"SUMIFS(EU_Dégrillage!$J$44:$J$53,EU_Dégrillage!$E$44:$E$53,\"<4\",EU_Dégrillage!$F$44:$F$53,\"<4\",EU_Dégrillage!$L$44:$L$53,\">=\"&Annee_BI,EU_Dégrillage!$L$44:$L$53,\"<=\"&Annee_BI+4)","v":0},{"$f":"MIN(IF(EU_Dégrillage!$L$44:$L$53>=Annee_BI,IF(EU_Dégrillage!$L$44:$L$53<=Annee_BI+4,EU_Dégrillage!$L$44:$L$53)))","v":0},{"$f":"MAX(IF(EU_Dégrillage!$L$44:$L$53>=Annee_BI,IF(EU_Dégrillage!$L$44:$L$53<=Annee_BI+4,EU_Dégrillage!$L$44:$L$53)))","v":0},{"$f":"SUMIFS(EU_Dégrillage!$J$44:$J$53,EU_Dégrillage!$E$44:$E$53,\"<4\",EU_Dégrillage!$F$44:$F$53,\"<4\",EU_Dégrillage!$L$44:$L$53,\">=\"&Annee_BI+5,EU_Dégrillage!$L$44:$L$53,\"<=\"&Annee_BI+9)","v":0},{"$f":"MIN(IF(EU_Dégrillage!$L$44:$L$53>=Annee_BI+5,IF(EU_Dégrillage!$L$44:$L$53<=Annee_BI+9,EU_Dégrillage!$L$44:$L$53)))","v":0},{"$f":"MAX(IF(EU_Dégrillage!$L$44:$L$53>=Annee_BI+5,IF(EU_Dégrillage!$L$44:$L$53<=Annee_BI+9,EU_Dégrillage!$L$44:$L$53)))","v":0}]
["Eaux usées","Installation de traitement","Stations mécanisées",{"$f":"IF(Identification!$H$63=\"\",\"\",Identification!$H$63)","v":""},"Dégrillage","Instrumentation et contrôle",{"$f":"EU_Dégrillage!$B$68","v":""},0,{"$f":"IFERROR(J193/SUM($J190:$J193),0)","v":0},{"$f":"EU_Dégrillage!$I$68","v":0},{"$f":"EU_Dégrillage!$G$68","v":""},{"$f":"EU_Dégrillage!$E$68","v":""},{"$f":"EU_Dégrillage!$F$68","v":""},{"$f":"EU_Dégrillage!$J$68-SUMIFS(EU_Dégrillage!$J$58:$J$67,EU_Dégrillage!$E$58:$E$67,\"<4\",EU_Dégrillage!$F$58:$F$67,\"<4\")","v":0},{"$f":"SUMIFS(EU_Dégrillage!$J$58:$J$67,EU_Dégrillage!$E$58:$E$67,\"<4\",EU_Dégrillage!$F$58:$F$67,\"<4\",EU_Dégrillage!$L$58:$L$67,\">=\"&Annee_BI,EU_Dégrillage!$L$58:$L$67,\"<=\"&Annee_BI+4)","v":0},{"$f":"MIN(IF(EU_Dégrillage!$L$58:$L$67>=Annee_BI,IF(EU_Dégrillage!$L$58:$L$67<=Annee_BI+4,EU_Dégrillage!$L$58:$L$67)))","v":0},{"$f":"MAX(IF(EU_Dégrillage!$L$58:$L$67>=Annee_BI,IF(EU_Dégrillage!$L$58:$L$67<=Annee_BI+4,EU_Dégrillage!$L$58:$L$67)))","v":0},{"$f":"SUMIFS(EU_Dégrillage!$J$58:$J$67,EU_Dégrillage!$E$58:$E$67,\"<4\",EU_Dégrillage!$F$58:$F$67,\"<4\",EU_Dégrillage!$L$58:$L$67,\">=\"&Annee_BI+5,EU_Dégrillage!$L$58:$L$67,\"<=\"&Annee_BI+9)","v":0},{"$f":"MIN(IF(EU_Dégrillage!$L$58:$L$67>=Annee_BI+5,IF(EU_Dégrillage!$L$58:$L$67<=Annee_BI+9,EU_Dégrillage!$L$58:$L$67)))","v":0},{"$f":"MAX(IF(EU_Dégrillage!$L$58:$L$67>=Annee_BI+5,IF(EU_Dégrillage!$L$58:$L$67<=Annee_BI+9,EU_Dégrillage!$L$58:$L$67)))","v":0}]
["Eaux usées","Installation de traitement","Stations mécanisées",{"$f":"IF(Identification!$H$63=\"\",\"\",Identification!$H$63)","v":""},"Dessablage","Civil",{"$f":"EU_Dessablage!$B$26","v":""},0,{"$f":"IFERROR(J194/SUM($J194:$J197),0)","v":0},{"$f":"EU_Dessablage!$I$26","v":0},{"$f":"EU_Dessablage!$G$26","v":""},{"$f":"EU_Dessablage!$E$26","v":""},{"$f":"EU_Dessablage!$F$26","v":""},{"$f":"EU_Dessablage!$J$26-SUMIFS(EU_Dessablage!$J$16:$J$25,EU_Dessablage!$E$16:$E$25,\"<4\",EU_Dessablage!$F$16:$F$25,\"<4\")","v":0},{"$f":"SUMIFS(EU_Dessablage!$J$16:$J$25,EU_Dessablage!$E$16:$E$25,\"<4\",EU_Dessablage!$F$16:$F$25,\"<4\",EU_Dessablage!$L$16:$L$25,\">=\"&Annee_BI,EU_Dessablage!$L$16:$L$25,\"<=\"&Annee_BI+4)","v":0},{"$f":"MIN(IF(EU_Dessablage!$L$16:$L$25>=Annee_BI,IF(EU_Dessablage!$L$16:$L$25<=Annee_BI+4,EU_Dessablage!$L$16:$L$25)))","v":0},{"$f":"MAX(IF(EU_Dessablage!$L$16:$L$25>=Annee_BI,IF(EU_Dessablage!$L$16:$L$25<=Annee_BI+4,EU_Dessablage!$L$16:$L$25)))","v":0},{"$f":"SUMIFS(EU_Dessablage!$J$16:$J$25,EU_Dessablage!$E$16:$E$25,\"<4\",EU_Dessablage!$F$16:$F$25,\"<4\",EU_Dessablage!$L$16:$L$25,\">=\"&Annee_BI+5,EU_Dessablage!$L$16:$L$25,\"<=\"&Annee_BI+9)","v":0},{"$f":"MIN(IF(EU_Dessablage!$L$16:$L$25>=Annee_BI+5,IF(EU_Dessablage!$L$16:$L$25<=Annee_BI+9,EU_Dessablage!$L$16:$L$25)))","v":0},{"$f":"MAX(IF(EU_Dessablage!$L$16:$L$25>=Annee_BI+5,IF(EU_Dessablage!$L$16:$L$25<=Annee_BI+9,EU_Dessablage!$L$16:$L$25)))","v":0}]
["Eaux usées","Installation de traitement","Stations mécanisées",{"$f":"IF(Identification!$H$63=\"\",\"\",Identification!$H$63)","v":""},"Dessablage","Mécanique",{"$f":"EU_Dessablage!$B$40","v":""},0,{"$f":"IFERROR(J195/SUM($J194:$J197),0)","v":0},{"$f":"EU_Dessablage!$I$40","v":0},{"$f":"EU_Dessablage!$G$40","v":""},{"$f":"EU_Dessablage!$E$40","v":""},{"$f":"EU_Dessablage!$F$40","v":""},{"$f":"EU_Dessablage!$J$40-SUMIFS(EU_Dessablage!$J$30:$J$39,EU_Dessablage!$E$30:$E$39,\"<4\",EU_Dessablage!$F$30:$F$39,\"<4\")","v":0},{"$f":"SUMIFS(EU_Dessablage!$J$30:$J$39,EU_Dessablage!$E$30:$E$39,\"<4\",EU_Dessablage!$F$30:$F$39,\"<4\",EU_Dessablage!$L$30:$L$39,\">=\"&Annee_BI,EU_Dessablage!$L$30:$L$39,\"<=\"&Annee_BI+4)","v":0},{"$f":"MIN(IF(EU_Dessablage!$L$30:$L$39>=Annee_BI,IF(EU_Dessablage!$L$30:$L$39<=Annee_BI+4,EU_Dessablage!$L$30:$L$39)))","v":0},{"$f":"MAX(IF(EU_Dessablage!$L$30:$L$39>=Annee_BI,IF(EU_Dessablage!$L$30:$L$39<=Annee_BI+4,EU_Dessablage!$L$30:$L$39)))","v":0},{"$f":"SUMIFS(EU_Dessablage!$J$30:$J$39,EU_Dessablage!$E$30:$E$39,\"<4\",EU_Dessablage!$F$30:$F$39,\"<4\",EU_Dessablage!$L$30:$L$39,\">=\"&Annee_BI+5,EU_Dessablage!$L$30:$L$39,\"<=\"&Annee_BI+9)","v":0},{"$f":"MIN(IF(EU_Dessablage!$L$30:$L$39>=Annee_BI+5,IF(EU_Dessablage!$L$30:$L$39<=Annee_BI+9,EU_Dessablage!$L$30:$L$39)))","v":0},{"$f":"MAX(IF(EU_Dessablage!$L$30:$L$39>=Annee_BI+5,IF(EU_Dessablage!$L$30:$L$39<=Annee_BI+9,EU_Dessablage!$L$30:$L$39)))","v":0}]
["Eaux usées","Installation de traitement","Stations mécanisées",{"$f":"IF(Identification!$H$63=\"\",\"\",Identification!$H$63)","v":""},"Dessablage","Électricité",{"$f":"EU_Dessablage!$B$54","v":""},0,{"$f":"IFERROR(J196/SUM($J194:$J197),0)","v":0},{"$f":"EU_Dessablage!$I$54","v":0},{"$f":"EU_Dessablage!$G$54","v":""},{"$f":"EU_Dessablage!$E$54","v":""},{"$f":"EU_Dessablage!$F$54","v":""},{"$f":"EU_Dessablage!$J$54-SUMIFS(EU_Dessablage!$J$44:$J$53,EU_Dessablage!$E$44:$E$53,\"<4\",EU_Dessablage!$F$44:$F$53,\"<4\")","v":0},{"$f":"SUMIFS(EU_Dessablage!$J$44:$J$53,EU_Dessablage!$E$44:$E$53,\"<4\",EU_Dessablage!$F$44:$F$53,\"<4\",EU_Dessablage!$L$44:$L$53,\">=\"&Annee_BI,EU_Dessablage!$L$44:$L$53,\"<=\"&Annee_BI+4)","v":0},{"$f":"MIN(IF(EU_Dessablage!$L$44:$L$53>=Annee_BI,IF(EU_Dessablage!$L$44:$L$53<=Annee_BI+4,EU_Dessablage!$L$44:$L$53)))","v":0},{"$f":"MAX(IF(EU_Dessablage!$L$44:$L$53>=Annee_BI,IF(EU_Dessablage!$L$44:$L$53<=Annee_BI+4,EU_Dessablage!$L$44:$L$53)))","v":0},{"$f":"SUMIFS(EU_Dessablage!$J$44:$J$53,EU_Dessablage!$E$44:$E$53,\"<4\",EU_Dessablage!$F$44:$F$53,\"<4\",EU_Dessablage!$L$44:$L$53,\">=\"&Annee_BI+5,EU_Dessablage!$L$44:$L$53,\"<=\"&Annee_BI+9)","v":0},{"$f":"MIN(IF(EU_Dessablage!$L$44:$L$53>=Annee_BI+5,IF(EU_Dessablage!$L$44:$L$53<=Annee_BI+9,EU_Dessablage!$L$44:$L$53)))","v":0},{"$f":"MAX(IF(EU_Dessablage!$L$44:$L$53>=Annee_BI+5,IF(EU_Dessablage!$L$44:$L$53<=Annee_BI+9,EU_Dessablage!$L$44:$L$53)))","v":0}]
["Eaux usées","Installation de traitement","Stations mécanisées",{"$f":"IF(Identification!$H$63=\"\",\"\",Identification!$H$63)","v":""},"Dessablage","Instrumentation et contrôle",{"$f":"EU_Dessablage!$B$68","v":""},0,{"$f":"IFERROR(J197/SUM($J194:$J197),0)","v":0},{"$f":"EU_Dessablage!$I$68","v":0},{"$f":"EU_Dessablage!$G$68","v":""},{"$f":"EU_Dessablage!$E$68","v":""},{"$f":"EU_Dessablage!$F$68","v":""},{"$f":"EU_Dessablage!$J$68-SUMIFS(EU_Dessablage!$J$58:$J$67,EU_Dessablage!$E$58:$E$67,\"<4\",EU_Dessablage!$F$58:$F$67,\"<4\")","v":0},{"$f":"SUMIFS(EU_Dessablage!$J$58:$J$67,EU_Dessablage!$E$58:$E$67,\"<4\",EU_Dessablage!$F$58:$F$67,\"<4\",EU_Dessablage!$L$58:$L$67,\">=\"&Annee_BI,EU_Dessablage!$L$58:$L$67,\"<=\"&Annee_BI+4)","v":0},{"$f":"MIN(IF(EU_Dessablage!$L$58:$L$67>=Annee_BI,IF(EU_Dessablage!$L$58:$L$67<=Annee_BI+4,EU_Dessablage!$L$58:$L$67)))","v":0},{"$f":"MAX(IF(EU_Dessablage!$L$58:$L$67>=Annee_BI,IF(EU_Dessablage!$L$58:$L$67<=Annee_BI+4,EU_Dessablage!$L$58:$L$67)))","v":0},{"$f":"SUMIFS(EU_Dessablage!$J$58:$J$67,EU_Dessablage!$E$58:$E$67,\"<4\",EU_Dessablage!$F$58:$F$67,\"<4\",EU_Dessablage!$L$58:$L$67,\">=\"&Annee_BI+5,EU_Dessablage!$L$58:$L$67,\"<=\"&Annee_BI+9)","v":0},{"$f":"MIN(IF(EU_Dessablage!$L$58:$L$67>=Annee_BI+5,IF(EU_Dessablage!$L$58:$L$67<=Annee_BI+9,EU_Dessablage!$L$58:$L$67)))","v":0},{"$f":"MAX(IF(EU_Dessablage!$L$58:$L$67>=Annee_BI+5,IF(EU_Dessablage!$L$58:$L$67<=Annee_BI+9,EU_Dessablage!$L$58:$L$67)))","v":0}]
["Eaux usées","Installation de traitement","Stations mécanisées",{"$f":"IF(Identification!$H$63=\"\",\"\",Identification!$H$63)","v":""},"Régulation de débit","Civil",{"$f":"EU_Régulation_débit!$B$26","v":""},0,{"$f":"IFERROR(J198/SUM($J198:$J201),0)","v":0},{"$f":"EU_Régulation_débit!$I$26","v":0},{"$f":"EU_Régulation_débit!$G$26","v":""},{"$f":"EU_Régulation_débit!$E$26","v":""},{"$f":"EU_Régulation_débit!$F$26","v":""},{"$f":"EU_Régulation_débit!$J$26-SUMIFS(EU_Régulation_débit!$J$16:$J$25,EU_Régulation_débit!$E$16:$E$25,\"<4\",EU_Régulation_débit!$F$16:$F$25,\"<4\")","v":0},{"$f":"SUMIFS(EU_Régulation_débit!$J$16:$J$25,EU_Régulation_débit!$E$16:$E$25,\"<4\",EU_Régulation_débit!$F$16:$F$25,\"<4\",EU_Régulation_débit!$L$16:$L$25,\">=\"&Annee_BI,EU_Régulation_débit!$L$16:$L$25,\"<=\"&Annee_BI+4)","v":0},{"$f":"MIN(IF(EU_Régulation_débit!$L$16:$L$25>=Annee_BI,IF(EU_Régulation_débit!$L$16:$L$25<=Annee_BI+4,EU_Régulation_débit!$L$16:$L$25)))","v":0},{"$f":"MAX(IF(EU_Régulation_débit!$L$16:$L$25>=Annee_BI,IF(EU_Régulation_débit!$L$16:$L$25<=Annee_BI+4,EU_Régulation_débit!$L$16:$L$25)))","v":0},{"$f":"SUMIFS(EU_Régulation_débit!$J$16:$J$25,EU_Régulation_débit!$E$16:$E$25,\"<4\",EU_Régulation_débit!$F$16:$F$25,\"<4\",EU_Régulation_débit!$L$16:$L$25,\">=\"&Annee_BI+5,EU_Régulation_débit!$L$16:$L$25,\"<=\"&Annee_BI+9)","v":0},{"$f":"MIN(IF(EU_Régulation_débit!$L$16:$L$25>=Annee_BI+5,IF(EU_Régulation_débit!$L$16:$L$25<=Annee_BI+9,EU_Régulation_débit!$L$16:$L$25)))","v":0},{"$f":"MAX(IF(EU_Régulation_débit!$L$16:$L$25>=Annee_BI+5,IF(EU_Régulation_débit!$L$16:$L$25<=Annee_BI+9,EU_Régulation_débit!$L$16:$L$25)))","v":0}]
["Eaux usées","Installation de traitement","Stations mécanisées",{"$f":"IF(Identification!$H$63=\"\",\"\",Identification!$H$63)","v":""},"Régulation de débit","Mécanique",{"$f":"EU_Régulation_débit!$B$40","v":""},0,{"$f":"IFERROR(J199/SUM($J198:$J201),0)","v":0},{"$f":"EU_Régulation_débit!$I$40","v":0},{"$f":"EU_Régulation_débit!$G$40","v":""},{"$f":"EU_Régulation_débit!$E$40","v":""},{"$f":"EU_Régulation_débit!$F$40","v":""},{"$f":"EU_Régulation_débit!$J$40-SUMIFS(EU_Régulation_débit!$J$30:$J$39,EU_Régulation_débit!$E$30:$E$39,\"<4\",EU_Régulation_débit!$F$30:$F$39,\"<4\")","v":0},{"$f":"SUMIFS(EU_Régulation_débit!$J$30:$J$39,EU_Régulation_débit!$E$30:$E$39,\"<4\",EU_Régulation_débit!$F$30:$F$39,\"<4\",EU_Régulation_débit!$L$30:$L$39,\">=\"&Annee_BI,EU_Régulation_débit!$L$30:$L$39,\"<=\"&Annee_BI+4)","v":0},{"$f":"MIN(IF(EU_Régulation_débit!$L$30:$L$39>=Annee_BI,IF(EU_Régulation_débit!$L$30:$L$39<=Annee_BI+4,EU_Régulation_débit!$L$30:$L$39)))","v":0},{"$f":"MAX(IF(EU_Régulation_débit!$L$30:$L$39>=Annee_BI,IF(EU_Régulation_débit!$L$30:$L$39<=Annee_BI+4,EU_Régulation_débit!$L$30:$L$39)))","v":0},{"$f":"SUMIFS(EU_Régulation_débit!$J$30:$J$39,EU_Régulation_débit!$E$30:$E$39,\"<4\",EU_Régulation_débit!$F$30:$F$39,\"<4\",EU_Régulation_débit!$L$30:$L$39,\">=\"&Annee_BI+5,EU_Régulation_débit!$L$30:$L$39,\"<=\"&Annee_BI+9)","v":0},{"$f":"MIN(IF(EU_Régulation_débit!$L$30:$L$39>=Annee_BI+5,IF(EU_Régulation_débit!$L$30:$L$39<=Annee_BI+9,EU_Régulation_débit!$L$30:$L$39)))","v":0},{"$f":"MAX(IF(EU_Régulation_débit!$L$30:$L$39>=Annee_BI+5,IF(EU_Régulation_débit!$L$30:$L$39<=Annee_BI+9,EU_Régulation_débit!$L$30:$L$39)))","v":0}]
["Eaux usées","Installation de traitement","Stations mécanisées",{"$f":"IF(Identification!$H$63=\"\",\"\",Identification!$H$63)","v":""},"Régulation de débit","Électricité",{"$f":"EU_Régulation_débit!$B$54","v":""},0,{"$f":"IFERROR(J200/SUM($J198:$J201),0)","v":0},{"$f":"EU_Régulation_débit!$I$54","v":0},{"$f":"EU_Régulation_débit!$G$54","v":""},{"$f":"EU_Régulation_débit!$E$54","v":""},{"$f":"EU_Régulation_débit!$F$54","v":""},{"$f":"EU_Régulation_débit!$J$54-SUMIFS(EU_Régulation_débit!$J$44:$J$53,EU_Régulation_débit!$E$44:$E$53,\"<4\",EU_Régulation_débit!$F$44:$F$53,\"<4\")","v":0},{"$f":"SUMIFS(EU_Régulation_débit!$J$44:$J$53,EU_Régulation_débit!$E$44:$E$53,\"<4\",EU_Régulation_débit!$F$44:$F$53,\"<4\",EU_Régulation_débit!$L$44:$L$53,\">=\"&Annee_BI,EU_Régulation_débit!$L$44:$L$53,\"<=\"&Annee_BI+4)","v":0},{"$f":"MIN(IF(EU_Régulation_débit!$L$44:$L$53>=Annee_BI,IF(EU_Régulation_débit!$L$44:$L$53<=Annee_BI+4,EU_Régulation_débit!$L$44:$L$53)))","v":0},{"$f":"MAX(IF(EU_Régulation_débit!$L$44:$L$53>=Annee_BI,IF(EU_Régulation_débit!$L$44:$L$53<=Annee_BI+4,EU_Régulation_débit!$L$44:$L$53)))","v":0},{"$f":"SUMIFS(EU_Régulation_débit!$J$44:$J$53,EU_Régulation_débit!$E$44:$E$53,\"<4\",EU_Régulation_débit!$F$44:$F$53,\"<4\",EU_Régulation_débit!$L$44:$L$53,\">=\"&Annee_BI+5,EU_Régulation_débit!$L$44:$L$53,\"<=\"&Annee_BI+9)","v":0},{"$f":"MIN(IF(EU_Régulation_débit!$L$44:$L$53>=Annee_BI+5,IF(EU_Régulation_débit!$L$44:$L$53<=Annee_BI+9,EU_Régulation_débit!$L$44:$L$53)))","v":0},{"$f":"MAX(IF(EU_Régulation_débit!$L$44:$L$53>=Annee_BI+5,IF(EU_Régulation_débit!$L$44:$L$53<=Annee_BI+9,EU_Régulation_débit!$L$44:$L$53)))","v":0}]
["Eaux usées","Installation de traitement","Stations mécanisées",{"$f":"IF(Identification!$H$63=\"\",\"\",Identification!$H$63)","v":""},"Régulation de débit","Instrumentation et contrôle",{"$f":"EU_Régulation_débit!$B$68","v":""},0,{"$f":"IFERROR(J201/SUM($J198:$J201),0)","v":0},{"$f":"EU_Régulation_débit!$I$68","v":0},{"$f":"EU_Régulation_débit!$G$68","v":""},{"$f":"EU_Régulation_débit!$E$68","v":""},{"$f":"EU_Régulation_débit!$F$68","v":""},{"$f":"EU_Régulation_débit!$J$68-SUMIFS(EU_Régulation_débit!$J$58:$J$67,EU_Régulation_débit!$E$58:$E$67,\"<4\",EU_Régulation_débit!$F$58:$F$67,\"<4\")","v":0},{"$f":"SUMIFS(EU_Régulation_débit!$J$58:$J$67,EU_Régulation_débit!$E$58:$E$67,\"<4\",EU_Régulation_débit!$F$58:$F$67,\"<4\",EU_Régulation_débit!$L$58:$L$67,\">=\"&Annee_BI,EU_Régulation_débit!$L$58:$L$67,\"<=\"&Annee_BI+4)","v":0},{"$f":"MIN(IF(EU_Régulation_débit!$L$58:$L$67>=Annee_BI,IF(EU_Régulation_débit!$L$58:$L$67<=Annee_BI+4,EU_Régulation_débit!$L$58:$L$67)))","v":0},{"$f":"MAX(IF(EU_Régulation_débit!$L$58:$L$67>=Annee_BI,IF(EU_Régulation_débit!$L$58:$L$67<=Annee_BI+4,EU_Régulation_débit!$L$58:$L$67)))","v":0},{"$f":"SUMIFS(EU_Régulation_débit!$J$58:$J$67,EU_Régulation_débit!$E$58:$E$67,\"<4\",EU_Régulation_débit!$F$58:$F$67,\"<4\",EU_Régulation_débit!$L$58:$L$67,\">=\"&Annee_BI+5,EU_Régulation_débit!$L$58:$L$67,\"<=\"&Annee_BI+9)","v":0},{"$f":"MIN(IF(EU_Régulation_débit!$L$58:$L$67>=Annee_BI+5,IF(EU_Régulation_débit!$L$58:$L$67<=Annee_BI+9,EU_Régulation_débit!$L$58:$L$67)))","v":0},{"$f":"MAX(IF(EU_Régulation_débit!$L$58:$L$67>=Annee_BI+5,IF(EU_Régulation_débit!$L$58:$L$67<=Annee_BI+9,EU_Régulation_débit!$L$58:$L$67)))","v":0}]
["Eaux usées","Installation de traitement","Stations mécanisées",{"$f":"IF(Identification!$H$63=\"\",\"\",Identification!$H$63)","v":""},"Décantation primaire","Civil",{"$f":"EU_Décantation_primaire!$B$26","v":""},0,{"$f":"IFERROR(J202/SUM($J202:$J205),0)","v":0},{"$f":"EU_Décantation_primaire!$I$26","v":0},{"$f":"EU_Décantation_primaire!$G$26","v":""},{"$f":"EU_Décantation_primaire!$E$26","v":""},{"$f":"EU_Décantation_primaire!$F$26","v":""},{"$f":"EU_Décantation_primaire!$J$26-SUMIFS(EU_Décantation_primaire!$J$16:$J$25,EU_Décantation_primaire!$E$16:$E$25,\"<4\",EU_Décantation_primaire!$F$16:$F$25,\"<4\")","v":0},{"$f":"SUMIFS(EU_Décantation_primaire!$J$16:$J$25,EU_Décantation_primaire!$E$16:$E$25,\"<4\",EU_Décantation_primaire!$F$16:$F$25,\"<4\",EU_Décantation_primaire!$L$16:$L$25,\">=\"&Annee_BI,EU_Décantation_primaire!$L$16:$L$25,\"<=\"&Annee_BI+4)","v":0},{"$f":"MIN(IF(EU_Décantation_primaire!$L$16:$L$25>=Annee_BI,IF(EU_Décantation_primaire!$L$16:$L$25<=Annee_BI+4,EU_Décantation_primaire!$L$16:$L$25)))","v":0},{"$f":"MAX(IF(EU_Décantation_primaire!$L$16:$L$25>=Annee_BI,IF(EU_Décantation_primaire!$L$16:$L$25<=Annee_BI+4,EU_Décantation_primaire!$L$16:$L$25)))","v":0},{"$f":"SUMIFS(EU_Décantation_primaire!$J$16:$J$25,EU_Décantation_primaire!$E$16:$E$25,\"<4\",EU_Décantation_primaire!$F$16:$F$25,\"<4\",EU_Décantation_primaire!$L$16:$L$25,\">=\"&Annee_BI+5,EU_Décantation_primaire!$L$16:$L$25,\"<=\"&Annee_BI+9)","v":0},{"$f":"MIN(IF(EU_Décantation_primaire!$L$16:$L$25>=Annee_BI+5,IF(EU_Décantation_primaire!$L$16:$L$25<=Annee_BI+9,EU_Décantation_primaire!$L$16:$L$25)))","v":0},{"$f":"MAX(IF(EU_Décantation_primaire!$L$16:$L$25>=Annee_BI+5,IF(EU_Décantation_primaire!$L$16:$L$25<=Annee_BI+9,EU_Décantation_primaire!$L$16:$L$25)))","v":0}]
["Eaux usées","Installation de traitement","Stations mécanisées",{"$f":"IF(Identification!$H$63=\"\",\"\",Identification!$H$63)","v":""},"Décantation primaire","Mécanique",{"$f":"EU_Décantation_primaire!$B$40","v":""},0,{"$f":"IFERROR(J203/SUM($J202:$J205),0)","v":0},{"$f":"EU_Décantation_primaire!$I$40","v":0},{"$f":"EU_Décantation_primaire!$G$40","v":""},{"$f":"EU_Décantation_primaire!$E$40","v":""},{"$f":"EU_Décantation_primaire!$F$40","v":""},{"$f":"EU_Décantation_primaire!$J$40-SUMIFS(EU_Décantation_primaire!$J$30:$J$39,EU_Décantation_primaire!$E$30:$E$39,\"<4\",EU_Décantation_primaire!$F$30:$F$39,\"<4\")","v":0},{"$f":"SUMIFS(EU_Décantation_primaire!$J$30:$J$39,EU_Décantation_primaire!$E$30:$E$39,\"<4\",EU_Décantation_primaire!$F$30:$F$39,\"<4\",EU_Décantation_primaire!$L$30:$L$39,\">=\"&Annee_BI,EU_Décantation_primaire!$L$30:$L$39,\"<=\"&Annee_BI+4)","v":0},{"$f":"MIN(IF(EU_Décantation_primaire!$L$30:$L$39>=Annee_BI,IF(EU_Décantation_primaire!$L$30:$L$39<=Annee_BI+4,EU_Décantation_primaire!$L$30:$L$39)))","v":0},{"$f":"MAX(IF(EU_Décantation_primaire!$L$30:$L$39>=Annee_BI,IF(EU_Décantation_primaire!$L$30:$L$39<=Annee_BI+4,EU_Décantation_primaire!$L$30:$L$39)))","v":0},{"$f":"SUMIFS(EU_Décantation_primaire!$J$30:$J$39,EU_Décantation_primaire!$E$30:$E$39,\"<4\",EU_Décantation_primaire!$F$30:$F$39,\"<4\",EU_Décantation_primaire!$L$30:$L$39,\">=\"&Annee_BI+5,EU_Décantation_primaire!$L$30:$L$39,\"<=\"&Annee_BI+9)","v":0},{"$f":"MIN(IF(EU_Décantation_primaire!$L$30:$L$39>=Annee_BI+5,IF(EU_Décantation_primaire!$L$30:$L$39<=Annee_BI+9,EU_Décantation_primaire!$L$30:$L$39)))","v":0},{"$f":"MAX(IF(EU_Décantation_primaire!$L$30:$L$39>=Annee_BI+5,IF(EU_Décantation_primaire!$L$30:$L$39<=Annee_BI+9,EU_Décantation_primaire!$L$30:$L$39)))","v":0}]
["Eaux usées","Installation de traitement","Stations mécanisées",{"$f":"IF(Identification!$H$63=\"\",\"\",Identification!$H$63)","v":""},"Décantation primaire","Électricité",{"$f":"EU_Décantation_primaire!$B$54","v":""},0,{"$f":"IFERROR(J204/SUM($J202:$J205),0)","v":0},{"$f":"EU_Décantation_primaire!$I$54","v":0},{"$f":"EU_Décantation_primaire!$G$54","v":""},{"$f":"EU_Décantation_primaire!$E$54","v":""},{"$f":"EU_Décantation_primaire!$F$54","v":""},{"$f":"EU_Décantation_primaire!$J$54-SUMIFS(EU_Décantation_primaire!$J$44:$J$53,EU_Décantation_primaire!$E$44:$E$53,\"<4\",EU_Décantation_primaire!$F$44:$F$53,\"<4\")","v":0},{"$f":"SUMIFS(EU_Décantation_primaire!$J$44:$J$53,EU_Décantation_primaire!$E$44:$E$53,\"<4\",EU_Décantation_primaire!$F$44:$F$53,\"<4\",EU_Décantation_primaire!$L$44:$L$53,\">=\"&Annee_BI,EU_Décantation_primaire!$L$44:$L$53,\"<=\"&Annee_BI+4)","v":0},{"$f":"MIN(IF(EU_Décantation_primaire!$L$44:$L$53>=Annee_BI,IF(EU_Décantation_primaire!$L$44:$L$53<=Annee_BI+4,EU_Décantation_primaire!$L$44:$L$53)))","v":0},{"$f":"MAX(IF(EU_Décantation_primaire!$L$44:$L$53>=Annee_BI,IF(EU_Décantation_primaire!$L$44:$L$53<=Annee_BI+4,EU_Décantation_primaire!$L$44:$L$53)))","v":0},{"$f":"SUMIFS(EU_Décantation_primaire!$J$44:$J$53,EU_Décantation_primaire!$E$44:$E$53,\"<4\",EU_Décantation_primaire!$F$44:$F$53,\"<4\",EU_Décantation_primaire!$L$44:$L$53,\">=\"&Annee_BI+5,EU_Décantation_primaire!$L$44:$L$53,\"<=\"&Annee_BI+9)","v":0},{"$f":"MIN(IF(EU_Décantation_primaire!$L$44:$L$53>=Annee_BI+5,IF(EU_Décantation_primaire!$L$44:$L$53<=Annee_BI+9,EU_Décantation_primaire!$L$44:$L$53)))","v":0},{"$f":"MAX(IF(EU_Décantation_primaire!$L$44:$L$53>=Annee_BI+5,IF(EU_Décantation_primaire!$L$44:$L$53<=Annee_BI+9,EU_Décantation_primaire!$L$44:$L$53)))","v":0}]
["Eaux usées","Installation de traitement","Stations mécanisées",{"$f":"IF(Identification!$H$63=\"\",\"\",Identification!$H$63)","v":""},"Décantation primaire","Instrumentation et contrôle",{"$f":"EU_Décantation_primaire!$B$68","v":""},0,{"$f":"IFERROR(J205/SUM($J202:$J205),0)","v":0},{"$f":"EU_Décantation_primaire!$I$68","v":0},{"$f":"EU_Décantation_primaire!$G$68","v":""},{"$f":"EU_Décantation_primaire!$E$68","v":""},{"$f":"EU_Décantation_primaire!$F$68","v":""},{"$f":"EU_Décantation_primaire!$J$68-SUMIFS(EU_Décantation_primaire!$J$58:$J$67,EU_Décantation_primaire!$E$58:$E$67,\"<4\",EU_Décantation_primaire!$F$58:$F$67,\"<4\")","v":0},{"$f":"SUMIFS(EU_Décantation_primaire!$J$58:$J$67,EU_Décantation_primaire!$E$58:$E$67,\"<4\",EU_Décantation_primaire!$F$58:$F$67,\"<4\",EU_Décantation_primaire!$L$58:$L$67,\">=\"&Annee_BI,EU_Décantation_primaire!$L$58:$L$67,\"<=\"&Annee_BI+4)","v":0},{"$f":"MIN(IF(EU_Décantation_primaire!$L$58:$L$67>=Annee_BI,IF(EU_Décantation_primaire!$L$58:$L$67<=Annee_BI+4,EU_Décantation_primaire!$L$58:$L$67)))","v":0},{"$f":"MAX(IF(EU_Décantation_primaire!$L$58:$L$67>=Annee_BI,IF(EU_Décantation_primaire!$L$58:$L$67<=Annee_BI+4,EU_Décantation_primaire!$L$58:$L$67)))","v":0},{"$f":"SUMIFS(EU_Décantation_primaire!$J$58:$J$67,EU_Décantation_primaire!$E$58:$E$67,\"<4\",EU_Décantation_primaire!$F$58:$F$67,\"<4\",EU_Décantation_primaire!$L$58:$L$67,\">=\"&Annee_BI+5,EU_Décantation_primaire!$L$58:$L$67,\"<=\"&Annee_BI+9)","v":0},{"$f":"MIN(IF(EU_Décantation_primaire!$L$58:$L$67>=Annee_BI+5,IF(EU_Décantation_primaire!$L$58:$L$67<=Annee_BI+9,EU_Décantation_primaire!$L$58:$L$67)))","v":0},{"$f":"MAX(IF(EU_Décantation_primaire!$L$58:$L$67>=Annee_BI+5,IF(EU_Décantation_primaire!$L$58:$L$67<=Annee_BI+9,EU_Décantation_primaire!$L$58:$L$67)))","v":0}]
["Eaux usées","Installation de traitement","Stations mécanisées",{"$f":"IF(Identification!$H$63=\"\",\"\",Identification!$H$63)","v":""},"Traitement secondaire","Civil",{"$f":"EU_Traitement_secondaire!$B$26","v":""},0,{"$f":"IFERROR(J206/SUM($J206:$J209),0)","v":0},{"$f":"EU_Traitement_secondaire!$I$26","v":0},{"$f":"EU_Traitement_secondaire!$G$26","v":""},{"$f":"EU_Traitement_secondaire!$E$26","v":""},{"$f":"EU_Traitement_secondaire!$F$26","v":""},{"$f":"EU_Traitement_secondaire!$J$26-SUMIFS(EU_Traitement_secondaire!$J$16:$J$25,EU_Traitement_secondaire!$E$16:$E$25,\"<4\",EU_Traitement_secondaire!$F$16:$F$25,\"<4\")","v":0},{"$f":"SUMIFS(EU_Traitement_secondaire!$J$16:$J$25,EU_Traitement_secondaire!$E$16:$E$25,\"<4\",EU_Traitement_secondaire!$F$16:$F$25,\"<4\",EU_Traitement_secondaire!$L$16:$L$25,\">=\"&Annee_BI,EU_Traitement_secondaire!$L$16:$L$25,\"<=\"&Annee_BI+4)","v":0},{"$f":"MIN(IF(EU_Traitement_secondaire!$L$16:$L$25>=Annee_BI,IF(EU_Traitement_secondaire!$L$16:$L$25<=Annee_BI+4,EU_Traitement_secondaire!$L$16:$L$25)))","v":0},{"$f":"MAX(IF(EU_Traitement_secondaire!$L$16:$L$25>=Annee_BI,IF(EU_Traitement_secondaire!$L$16:$L$25<=Annee_BI+4,EU_Traitement_secondaire!$L$16:$L$25)))","v":0},{"$f":"SUMIFS(EU_Traitement_secondaire!$J$16:$J$25,EU_Traitement_secondaire!$E$16:$E$25,\"<4\",EU_Traitement_secondaire!$F$16:$F$25,\"<4\",EU_Traitement_secondaire!$L$16:$L$25,\">=\"&Annee_BI+5,EU_Traitement_secondaire!$L$16:$L$25,\"<=\"&Annee_BI+9)","v":0},{"$f":"MIN(IF(EU_Traitement_secondaire!$L$16:$L$25>=Annee_BI+5,IF(EU_Traitement_secondaire!$L$16:$L$25<=Annee_BI+9,EU_Traitement_secondaire!$L$16:$L$25)))","v":0},{"$f":"MAX(IF(EU_Traitement_secondaire!$L$16:$L$25>=Annee_BI+5,IF(EU_Traitement_secondaire!$L$16:$L$25<=Annee_BI+9,EU_Traitement_secondaire!$L$16:$L$25)))","v":0}]
["Eaux usées","Installation de traitement","Stations mécanisées",{"$f":"IF(Identification!$H$63=\"\",\"\",Identification!$H$63)","v":""},"Traitement secondaire","Mécanique",{"$f":"EU_Traitement_secondaire!$B$40","v":""},0,{"$f":"IFERROR(J207/SUM($J206:$J209),0)","v":0},{"$f":"EU_Traitement_secondaire!$I$40","v":0},{"$f":"EU_Traitement_secondaire!$G$40","v":""},{"$f":"EU_Traitement_secondaire!$E$40","v":""},{"$f":"EU_Traitement_secondaire!$F$40","v":""},{"$f":"EU_Traitement_secondaire!$J$40-SUMIFS(EU_Traitement_secondaire!$J$30:$J$39,EU_Traitement_secondaire!$E$30:$E$39,\"<4\",EU_Traitement_secondaire!$F$30:$F$39,\"<4\")","v":0},{"$f":"SUMIFS(EU_Traitement_secondaire!$J$30:$J$39,EU_Traitement_secondaire!$E$30:$E$39,\"<4\",EU_Traitement_secondaire!$F$30:$F$39,\"<4\",EU_Traitement_secondaire!$L$30:$L$39,\">=\"&Annee_BI,EU_Traitement_secondaire!$L$30:$L$39,\"<=\"&Annee_BI+4)","v":0},{"$f":"MIN(IF(EU_Traitement_secondaire!$L$30:$L$39>=Annee_BI,IF(EU_Traitement_secondaire!$L$30:$L$39<=Annee_BI+4,EU_Traitement_secondaire!$L$30:$L$39)))","v":0},{"$f":"MAX(IF(EU_Traitement_secondaire!$L$30:$L$39>=Annee_BI,IF(EU_Traitement_secondaire!$L$30:$L$39<=Annee_BI+4,EU_Traitement_secondaire!$L$30:$L$39)))","v":0},{"$f":"SUMIFS(EU_Traitement_secondaire!$J$30:$J$39,EU_Traitement_secondaire!$E$30:$E$39,\"<4\",EU_Traitement_secondaire!$F$30:$F$39,\"<4\",EU_Traitement_secondaire!$L$30:$L$39,\">=\"&Annee_BI+5,EU_Traitement_secondaire!$L$30:$L$39,\"<=\"&Annee_BI+9)","v":0},{"$f":"MIN(IF(EU_Traitement_secondaire!$L$30:$L$39>=Annee_BI+5,IF(EU_Traitement_secondaire!$L$30:$L$39<=Annee_BI+9,EU_Traitement_secondaire!$L$30:$L$39)))","v":0},{"$f":"MAX(IF(EU_Traitement_secondaire!$L$30:$L$39>=Annee_BI+5,IF(EU_Traitement_secondaire!$L$30:$L$39<=Annee_BI+9,EU_Traitement_secondaire!$L$30:$L$39)))","v":0}]
["Eaux usées","Installation de traitement","Stations mécanisées",{"$f":"IF(Identification!$H$63=\"\",\"\",Identification!$H$63)","v":""},"Traitement secondaire","Électricité",{"$f":"EU_Traitement_secondaire!$B$54","v":""},0,{"$f":"IFERROR(J208/SUM($J206:$J209),0)","v":0},{"$f":"EU_Traitement_secondaire!$I$54","v":0},{"$f":"EU_Traitement_secondaire!$G$54","v":""},{"$f":"EU_Traitement_secondaire!$E$54","v":""},{"$f":"EU_Traitement_secondaire!$F$54","v":""},{"$f":"EU_Traitement_secondaire!$J$54-SUMIFS(EU_Traitement_secondaire!$J$44:$J$53,EU_Traitement_secondaire!$E$44:$E$53,\"<4\",EU_Traitement_secondaire!$F$44:$F$53,\"<4\")","v":0},{"$f":"SUMIFS(EU_Traitement_secondaire!$J$44:$J$53,EU_Traitement_secondaire!$E$44:$E$53,\"<4\",EU_Traitement_secondaire!$F$44:$F$53,\"<4\",EU_Traitement_secondaire!$L$44:$L$53,\">=\"&Annee_BI,EU_Traitement_secondaire!$L$44:$L$53,\"<=\"&Annee_BI+4)","v":0},{"$f":"MIN(IF(EU_Traitement_secondaire!$L$44:$L$53>=Annee_BI,IF(EU_Traitement_secondaire!$L$44:$L$53<=Annee_BI+4,EU_Traitement_secondaire!$L$44:$L$53)))","v":0},{"$f":"MAX(IF(EU_Traitement_secondaire!$L$44:$L$53>=Annee_BI,IF(EU_Traitement_secondaire!$L$44:$L$53<=Annee_BI+4,EU_Traitement_secondaire!$L$44:$L$53)))","v":0},{"$f":"SUMIFS(EU_Traitement_secondaire!$J$44:$J$53,EU_Traitement_secondaire!$E$44:$E$53,\"<4\",EU_Traitement_secondaire!$F$44:$F$53,\"<4\",EU_Traitement_secondaire!$L$44:$L$53,\">=\"&Annee_BI+5,EU_Traitement_secondaire!$L$44:$L$53,\"<=\"&Annee_BI+9)","v":0},{"$f":"MIN(IF(EU_Traitement_secondaire!$L$44:$L$53>=Annee_BI+5,IF(EU_Traitement_secondaire!$L$44:$L$53<=Annee_BI+9,EU_Traitement_secondaire!$L$44:$L$53)))","v":0},{"$f":"MAX(IF(EU_Traitement_secondaire!$L$44:$L$53>=Annee_BI+5,IF(EU_Traitement_secondaire!$L$44:$L$53<=Annee_BI+9,EU_Traitement_secondaire!$L$44:$L$53)))","v":0}]
["Eaux usées","Installation de traitement","Stations mécanisées",{"$f":"IF(Identification!$H$63=\"\",\"\",Identification!$H$63)","v":""},"Traitement secondaire","Instrumentation et contrôle",{"$f":"EU_Traitement_secondaire!$B$68","v":""},0,{"$f":"IFERROR(J209/SUM($J206:$J209),0)","v":0},{"$f":"EU_Traitement_secondaire!$I$68","v":0},{"$f":"EU_Traitement_secondaire!$G$68","v":""},{"$f":"EU_Traitement_secondaire!$E$68","v":""},{"$f":"EU_Traitement_secondaire!$F$68","v":""},{"$f":"EU_Traitement_secondaire!$J$68-SUMIFS(EU_Traitement_secondaire!$J$58:$J$67,EU_Traitement_secondaire!$E$58:$E$67,\"<4\",EU_Traitement_secondaire!$F$58:$F$67,\"<4\")","v":0},{"$f":"SUMIFS(EU_Traitement_secondaire!$J$58:$J$67,EU_Traitement_secondaire!$E$58:$E$67,\"<4\",EU_Traitement_secondaire!$F$58:$F$67,\"<4\",EU_Traitement_secondaire!$L$58:$L$67,\">=\"&Annee_BI,EU_Traitement_secondaire!$L$58:$L$67,\"<=\"&Annee_BI+4)","v":0},{"$f":"MIN(IF(EU_Traitement_secondaire!$L$58:$L$67>=Annee_BI,IF(EU_Traitement_secondaire!$L$58:$L$67<=Annee_BI+4,EU_Traitement_secondaire!$L$58:$L$67)))","v":0},{"$f":"MAX(IF(EU_Traitement_secondaire!$L$58:$L$67>=Annee_BI,IF(EU_Traitement_secondaire!$L$58:$L$67<=Annee_BI+4,EU_Traitement_secondaire!$L$58:$L$67)))","v":0},{"$f":"SUMIFS(EU_Traitement_secondaire!$J$58:$J$67,EU_Traitement_secondaire!$E$58:$E$67,\"<4\",EU_Traitement_secondaire!$F$58:$F$67,\"<4\",EU_Traitement_secondaire!$L$58:$L$67,\">=\"&Annee_BI+5,EU_Traitement_secondaire!$L$58:$L$67,\"<=\"&Annee_BI+9)","v":0},{"$f":"MIN(IF(EU_Traitement_secondaire!$L$58:$L$67>=Annee_BI+5,IF(EU_Traitement_secondaire!$L$58:$L$67<=Annee_BI+9,EU_Traitement_secondaire!$L$58:$L$67)))","v":0},{"$f":"MAX(IF(EU_Traitement_secondaire!$L$58:$L$67>=Annee_BI+5,IF(EU_Traitement_secondaire!$L$58:$L$67<=Annee_BI+9,EU_Traitement_secondaire!$L$58:$L$67)))","v":0}]
["Eaux usées","Installation de traitement","Stations mécanisées",{"$f":"IF(Identification!$H$63=\"\",\"\",Identification!$H$63)","v":""},"Décantation secondaire","Civil",{"$f":"EU_Décantation_secondaire!$B$26","v":""},0,{"$f":"IFERROR(J210/SUM($J210:$J213),0)","v":0},{"$f":"EU_Décantation_secondaire!$I$26","v":0},{"$f":"EU_Décantation_secondaire!$G$26","v":""},{"$f":"EU_Décantation_secondaire!$E$26","v":""},{"$f":"EU_Décantation_secondaire!$F$26","v":""},{"$f":"EU_Décantation_secondaire!$J$26-SUMIFS(EU_Décantation_secondaire!$J$16:$J$25,EU_Décantation_secondaire!$E$16:$E$25,\"<4\",EU_Décantation_secondaire!$F$16:$F$25,\"<4\")","v":0},{"$f":"SUMIFS(EU_Décantation_secondaire!$J$16:$J$25,EU_Décantation_secondaire!$E$16:$E$25,\"<4\",EU_Décantation_secondaire!$F$16:$F$25,\"<4\",EU_Décantation_secondaire!$L$16:$L$25,\">=\"&Annee_BI,EU_Décantation_secondaire!$L$16:$L$25,\"<=\"&Annee_BI+4)","v":0},{"$f":"MIN(IF(EU_Décantation_secondaire!$L$16:$L$25>=Annee_BI,IF(EU_Décantation_secondaire!$L$16:$L$25<=Annee_BI+4,EU_Décantation_secondaire!$L$16:$L$25)))","v":0},{"$f":"MAX(IF(EU_Décantation_secondaire!$L$16:$L$25>=Annee_BI,IF(EU_Décantation_secondaire!$L$16:$L$25<=Annee_BI+4,EU_Décantation_secondaire!$L$16:$L$25)))","v":0},{"$f":"SUMIFS(EU_Décantation_secondaire!$J$16:$J$25,EU_Décantation_secondaire!$E$16:$E$25,\"<4\",EU_Décantation_secondaire!$F$16:$F$25,\"<4\",EU_Décantation_secondaire!$L$16:$L$25,\">=\"&Annee_BI+5,EU_Décantation_secondaire!$L$16:$L$25,\"<=\"&Annee_BI+9)","v":0},{"$f":"MIN(IF(EU_Décantation_secondaire!$L$16:$L$25>=Annee_BI+5,IF(EU_Décantation_secondaire!$L$16:$L$25<=Annee_BI+9,EU_Décantation_secondaire!$L$16:$L$25)))","v":0},{"$f":"MAX(IF(EU_Décantation_secondaire!$L$16:$L$25>=Annee_BI+5,IF(EU_Décantation_secondaire!$L$16:$L$25<=Annee_BI+9,EU_Décantation_secondaire!$L$16:$L$25)))","v":0}]
["Eaux usées","Installation de traitement","Stations mécanisées",{"$f":"IF(Identification!$H$63=\"\",\"\",Identification!$H$63)","v":""},"Décantation secondaire","Mécanique",{"$f":"EU_Décantation_secondaire!$B$40","v":""},0,{"$f":"IFERROR(J211/SUM($J210:$J213),0)","v":0},{"$f":"EU_Décantation_secondaire!$I$40","v":0},{"$f":"EU_Décantation_secondaire!$G$40","v":""},{"$f":"EU_Décantation_secondaire!$E$40","v":""},{"$f":"EU_Décantation_secondaire!$F$40","v":""},{"$f":"EU_Décantation_secondaire!$J$40-SUMIFS(EU_Décantation_secondaire!$J$30:$J$39,EU_Décantation_secondaire!$E$30:$E$39,\"<4\",EU_Décantation_secondaire!$F$30:$F$39,\"<4\")","v":0},{"$f":"SUMIFS(EU_Décantation_secondaire!$J$30:$J$39,EU_Décantation_secondaire!$E$30:$E$39,\"<4\",EU_Décantation_secondaire!$F$30:$F$39,\"<4\",EU_Décantation_secondaire!$L$30:$L$39,\">=\"&Annee_BI,EU_Décantation_secondaire!$L$30:$L$39,\"<=\"&Annee_BI+4)","v":0},{"$f":"MIN(IF(EU_Décantation_secondaire!$L$30:$L$39>=Annee_BI,IF(EU_Décantation_secondaire!$L$30:$L$39<=Annee_BI+4,EU_Décantation_secondaire!$L$30:$L$39)))","v":0},{"$f":"MAX(IF(EU_Décantation_secondaire!$L$30:$L$39>=Annee_BI,IF(EU_Décantation_secondaire!$L$30:$L$39<=Annee_BI+4,EU_Décantation_secondaire!$L$30:$L$39)))","v":0},{"$f":"SUMIFS(EU_Décantation_secondaire!$J$30:$J$39,EU_Décantation_secondaire!$E$30:$E$39,\"<4\",EU_Décantation_secondaire!$F$30:$F$39,\"<4\",EU_Décantation_secondaire!$L$30:$L$39,\">=\"&Annee_BI+5,EU_Décantation_secondaire!$L$30:$L$39,\"<=\"&Annee_BI+9)","v":0},{"$f":"MIN(IF(EU_Décantation_secondaire!$L$30:$L$39>=Annee_BI+5,IF(EU_Décantation_secondaire!$L$30:$L$39<=Annee_BI+9,EU_Décantation_secondaire!$L$30:$L$39)))","v":0},{"$f":"MAX(IF(EU_Décantation_secondaire!$L$30:$L$39>=Annee_BI+5,IF(EU_Décantation_secondaire!$L$30:$L$39<=Annee_BI+9,EU_Décantation_secondaire!$L$30:$L$39)))","v":0}]
["Eaux usées","Installation de traitement","Stations mécanisées",{"$f":"IF(Identification!$H$63=\"\",\"\",Identification!$H$63)","v":""},"Décantation secondaire","Électricité",{"$f":"EU_Décantation_secondaire!$B$54","v":""},0,{"$f":"IFERROR(J212/SUM($J210:$J213),0)","v":0},{"$f":"EU_Décantation_secondaire!$I$54","v":0},{"$f":"EU_Décantation_secondaire!$G$54","v":""},{"$f":"EU_Décantation_secondaire!$E$54","v":""},{"$f":"EU_Décantation_secondaire!$F$54","v":""},{"$f":"EU_Décantation_secondaire!$J$54-SUMIFS(EU_Décantation_secondaire!$J$44:$J$53,EU_Décantation_secondaire!$E$44:$E$53,\"<4\",EU_Décantation_secondaire!$F$44:$F$53,\"<4\")","v":0},{"$f":"SUMIFS(EU_Décantation_secondaire!$J$44:$J$53,EU_Décantation_secondaire!$E$44:$E$53,\"<4\",EU_Décantation_secondaire!$F$44:$F$53,\"<4\",EU_Décantation_secondaire!$L$44:$L$53,\">=\"&Annee_BI,EU_Décantation_secondaire!$L$44:$L$53,\"<=\"&Annee_BI+4)","v":0},{"$f":"MIN(IF(EU_Décantation_secondaire!$L$44:$L$53>=Annee_BI,IF(EU_Décantation_secondaire!$L$44:$L$53<=Annee_BI+4,EU_Décantation_secondaire!$L$44:$L$53)))","v":0},{"$f":"MAX(IF(EU_Décantation_secondaire!$L$44:$L$53>=Annee_BI,IF(EU_Décantation_secondaire!$L$44:$L$53<=Annee_BI+4,EU_Décantation_secondaire!$L$44:$L$53)))","v":0},{"$f":"SUMIFS(EU_Décantation_secondaire!$J$44:$J$53,EU_Décantation_secondaire!$E$44:$E$53,\"<4\",EU_Décantation_secondaire!$F$44:$F$53,\"<4\",EU_Décantation_secondaire!$L$44:$L$53,\">=\"&Annee_BI+5,EU_Décantation_secondaire!$L$44:$L$53,\"<=\"&Annee_BI+9)","v":0},{"$f":"MIN(IF(EU_Décantation_secondaire!$L$44:$L$53>=Annee_BI+5,IF(EU_Décantation_secondaire!$L$44:$L$53<=Annee_BI+9,EU_Décantation_secondaire!$L$44:$L$53)))","v":0},{"$f":"MAX(IF(EU_Décantation_secondaire!$L$44:$L$53>=Annee_BI+5,IF(EU_Décantation_secondaire!$L$44:$L$53<=Annee_BI+9,EU_Décantation_secondaire!$L$44:$L$53)))","v":0}]
["Eaux usées","Installation de traitement","Stations mécanisées",{"$f":"IF(Identification!$H$63=\"\",\"\",Identification!$H$63)","v":""},"Décantation secondaire","Instrumentation et contrôle",{"$f":"EU_Décantation_secondaire!$B$68","v":""},0,{"$f":"IFERROR(J213/SUM($J210:$J213),0)","v":0},{"$f":"EU_Décantation_secondaire!$I$68","v":0},{"$f":"EU_Décantation_secondaire!$G$68","v":""},{"$f":"EU_Décantation_secondaire!$E$68","v":""},{"$f":"EU_Décantation_secondaire!$F$68","v":""},{"$f":"EU_Décantation_secondaire!$J$68-SUMIFS(EU_Décantation_secondaire!$J$58:$J$67,EU_Décantation_secondaire!$E$58:$E$67,\"<4\",EU_Décantation_secondaire!$F$58:$F$67,\"<4\")","v":0},{"$f":"SUMIFS(EU_Décantation_secondaire!$J$58:$J$67,EU_Décantation_secondaire!$E$58:$E$67,\"<4\",EU_Décantation_secondaire!$F$58:$F$67,\"<4\",EU_Décantation_secondaire!$L$58:$L$67,\">=\"&Annee_BI,EU_Décantation_secondaire!$L$58:$L$67,\"<=\"&Annee_BI+4)","v":0},{"$f":"MIN(IF(EU_Décantation_secondaire!$L$58:$L$67>=Annee_BI,IF(EU_Décantation_secondaire!$L$58:$L$67<=Annee_BI+4,EU_Décantation_secondaire!$L$58:$L$67)))","v":0},{"$f":"MAX(IF(EU_Décantation_secondaire!$L$58:$L$67>=Annee_BI,IF(EU_Décantation_secondaire!$L$58:$L$67<=Annee_BI+4,EU_Décantation_secondaire!$L$58:$L$67)))","v":0},{"$f":"SUMIFS(EU_Décantation_secondaire!$J$58:$J$67,EU_Décantation_secondaire!$E$58:$E$67,\"<4\",EU_Décantation_secondaire!$F$58:$F$67,\"<4\",EU_Décantation_secondaire!$L$58:$L$67,\">=\"&Annee_BI+5,EU_Décantation_secondaire!$L$58:$L$67,\"<=\"&Annee_BI+9)","v":0},{"$f":"MIN(IF(EU_Décantation_secondaire!$L$58:$L$67>=Annee_BI+5,IF(EU_Décantation_secondaire!$L$58:$L$67<=Annee_BI+9,EU_Décantation_secondaire!$L$58:$L$67)))","v":0},{"$f":"MAX(IF(EU_Décantation_secondaire!$L$58:$L$67>=Annee_BI+5,IF(EU_Décantation_secondaire!$L$58:$L$67<=Annee_BI+9,EU_Décantation_secondaire!$L$58:$L$67)))","v":0}]
["Eaux usées","Installation de traitement","Stations mécanisées",{"$f":"IF(Identification!$H$63=\"\",\"\",Identification!$H$63)","v":""},"Filtration","Civil",{"$f":"EU_Filtration!$B$26","v":""},0,{"$f":"IFERROR(J214/SUM($J214:$J217),0)","v":0},{"$f":"EU_Filtration!$I$26","v":0},{"$f":"EU_Filtration!$G$26","v":""},{"$f":"EU_Filtration!$E$26","v":""},{"$f":"EU_Filtration!$F$26","v":""},{"$f":"EP_Filtration!$J$26-SUMIFS(EP_Filtration!$J$16:$J$25,EP_Filtration!$E$16:$E$25,\"<4\",EP_Filtration!$F$16:$F$25,\"<4\")","v":0},{"$f":"SUMIFS(EP_Filtration!$J$16:$J$25,EP_Filtration!$E$16:$E$25,\"<4\",EP_Filtration!$F$16:$F$25,\"<4\",EP_Filtration!$L$16:$L$25,\">=\"&Annee_BI,EP_Filtration!$L$16:$L$25,\"<=\"&Annee_BI+4)","v":0},{"$f":"MIN(IF(EP_Filtration!$L$16:$L$25>=Annee_BI,IF(EP_Filtration!$L$16:$L$25<=Annee_BI+4,EP_Filtration!$L$16:$L$25)))","v":0},{"$f":"MAX(IF(EP_Filtration!$L$16:$L$25>=Annee_BI,IF(EP_Filtration!$L$16:$L$25<=Annee_BI+4,EP_Filtration!$L$16:$L$25)))","v":0},{"$f":"SUMIFS(EP_Filtration!$J$16:$J$25,EP_Filtration!$E$16:$E$25,\"<4\",EP_Filtration!$F$16:$F$25,\"<4\",EP_Filtration!$L$16:$L$25,\">=\"&Annee_BI+5,EP_Filtration!$L$16:$L$25,\"<=\"&Annee_BI+9)","v":0},{"$f":"MIN(IF(EP_Filtration!$L$16:$L$25>=Annee_BI+5,IF(EP_Filtration!$L$16:$L$25<=Annee_BI+9,EP_Filtration!$L$16:$L$25)))","v":0},{"$f":"MAX(IF(EP_Filtration!$L$16:$L$25>=Annee_BI+5,IF(EP_Filtration!$L$16:$L$25<=Annee_BI+9,EP_Filtration!$L$16:$L$25)))","v":0}]
["Eaux usées","Installation de traitement","Stations mécanisées",{"$f":"IF(Identification!$H$63=\"\",\"\",Identification!$H$63)","v":""},"Filtration","Mécanique",{"$f":"EU_Filtration!$B$40","v":""},0,{"$f":"IFERROR(J215/SUM($J214:$J217),0)","v":0},{"$f":"EU_Filtration!$I$40","v":0},{"$f":"EU_Filtration!$G$40","v":""},{"$f":"EU_Filtration!$E$40","v":""},{"$f":"EU_Filtration!$F$40","v":""},{"$f":"EP_Filtration!$J$40-SUMIFS(EP_Filtration!$J$30:$J$39,EP_Filtration!$E$30:$E$39,\"<4\",EP_Filtration!$F$30:$F$39,\"<4\")","v":0},{"$f":"SUMIFS(EP_Filtration!$J$30:$J$39,EP_Filtration!$E$30:$E$39,\"<4\",EP_Filtration!$F$30:$F$39,\"<4\",EP_Filtration!$L$30:$L$39,\">=\"&Annee_BI,EP_Filtration!$L$30:$L$39,\"<=\"&Annee_BI+4)","v":0},{"$f":"MIN(IF(EP_Filtration!$L$30:$L$39>=Annee_BI,IF(EP_Filtration!$L$30:$L$39<=Annee_BI+4,EP_Filtration!$L$30:$L$39)))","v":0},{"$f":"MAX(IF(EP_Filtration!$L$30:$L$39>=Annee_BI,IF(EP_Filtration!$L$30:$L$39<=Annee_BI+4,EP_Filtration!$L$30:$L$39)))","v":0},{"$f":"SUMIFS(EP_Filtration!$J$30:$J$39,EP_Filtration!$E$30:$E$39,\"<4\",EP_Filtration!$F$30:$F$39,\"<4\",EP_Filtration!$L$30:$L$39,\">=\"&Annee_BI+5,EP_Filtration!$L$30:$L$39,\"<=\"&Annee_BI+9)","v":0},{"$f":"MIN(IF(EP_Filtration!$L$30:$L$39>=Annee_BI+5,IF(EP_Filtration!$L$30:$L$39<=Annee_BI+9,EP_Filtration!$L$30:$L$39)))","v":0},{"$f":"MAX(IF(EP_Filtration!$L$30:$L$39>=Annee_BI+5,IF(EP_Filtration!$L$30:$L$39<=Annee_BI+9,EP_Filtration!$L$30:$L$39)))","v":0}]
["Eaux usées","Installation de traitement","Stations mécanisées",{"$f":"IF(Identification!$H$63=\"\",\"\",Identification!$H$63)","v":""},"Filtration","Électricité",{"$f":"EU_Filtration!$B$54","v":""},0,{"$f":"IFERROR(J216/SUM($J214:$J217),0)","v":0},{"$f":"EU_Filtration!$I$54","v":0},{"$f":"EU_Filtration!$G$54","v":""},{"$f":"EU_Filtration!$E$54","v":""},{"$f":"EU_Filtration!$F$54","v":""},{"$f":"EP_Filtration!$J$54-SUMIFS(EP_Filtration!$J$44:$J$53,EP_Filtration!$E$44:$E$53,\"<4\",EP_Filtration!$F$44:$F$53,\"<4\")","v":0},{"$f":"SUMIFS(EP_Filtration!$J$44:$J$53,EP_Filtration!$E$44:$E$53,\"<4\",EP_Filtration!$F$44:$F$53,\"<4\",EP_Filtration!$L$44:$L$53,\">=\"&Annee_BI,EP_Filtration!$L$44:$L$53,\"<=\"&Annee_BI+4)","v":0},{"$f":"MIN(IF(EP_Filtration!$L$44:$L$53>=Annee_BI,IF(EP_Filtration!$L$44:$L$53<=Annee_BI+4,EP_Filtration!$L$44:$L$53)))","v":0},{"$f":"MAX(IF(EP_Filtration!$L$44:$L$53>=Annee_BI,IF(EP_Filtration!$L$44:$L$53<=Annee_BI+4,EP_Filtration!$L$44:$L$53)))","v":0},{"$f":"SUMIFS(EP_Filtration!$J$44:$J$53,EP_Filtration!$E$44:$E$53,\"<4\",EP_Filtration!$F$44:$F$53,\"<4\",EP_Filtration!$L$44:$L$53,\">=\"&Annee_BI+5,EP_Filtration!$L$44:$L$53,\"<=\"&Annee_BI+9)","v":0},{"$f":"MIN(IF(EP_Filtration!$L$44:$L$53>=Annee_BI+5,IF(EP_Filtration!$L$44:$L$53<=Annee_BI+9,EP_Filtration!$L$44:$L$53)))","v":0},{"$f":"MAX(IF(EP_Filtration!$L$44:$L$53>=Annee_BI+5,IF(EP_Filtration!$L$44:$L$53<=Annee_BI+9,EP_Filtration!$L$44:$L$53)))","v":0}]
["Eaux usées","Installation de traitement","Stations mécanisées",{"$f":"IF(Identification!$H$63=\"\",\"\",Identification!$H$63)","v":""},"Filtration","Instrumentation et contrôle",{"$f":"EU_Filtration!$B$68","v":""},0,{"$f":"IFERROR(J217/SUM($J214:$J217),0)","v":0},{"$f":"EU_Filtration!$I$68","v":0},{"$f":"EU_Filtration!$G$68","v":""},{"$f":"EU_Filtration!$E$68","v":""},{"$f":"EU_Filtration!$F$68","v":""},{"$f":"EP_Filtration!$J$68-SUMIFS(EP_Filtration!$J$58:$J$67,EP_Filtration!$E$58:$E$67,\"<4\",EP_Filtration!$F$58:$F$67,\"<4\")","v":0},{"$f":"SUMIFS(EP_Filtration!$J$58:$J$67,EP_Filtration!$E$58:$E$67,\"<4\",EP_Filtration!$F$58:$F$67,\"<4\",EP_Filtration!$L$58:$L$67,\">=\"&Annee_BI,EP_Filtration!$L$58:$L$67,\"<=\"&Annee_BI+4)","v":0},{"$f":"MIN(IF(EP_Filtration!$L$58:$L$67>=Annee_BI,IF(EP_Filtration!$L$58:$L$67<=Annee_BI+4,EP_Filtration!$L$58:$L$67)))","v":0},{"$f":"MAX(IF(EP_Filtration!$L$58:$L$67>=Annee_BI,IF(EP_Filtration!$L$58:$L$67<=Annee_BI+4,EP_Filtration!$L$58:$L$67)))","v":0},{"$f":"SUMIFS(EP_Filtration!$J$58:$J$67,EP_Filtration!$E$58:$E$67,\"<4\",EP_Filtration!$F$58:$F$67,\"<4\",EP_Filtration!$L$58:$L$67,\">=\"&Annee_BI+5,EP_Filtration!$L$58:$L$67,\"<=\"&Annee_BI+9)","v":0},{"$f":"MIN(IF(EP_Filtration!$L$58:$L$67>=Annee_BI+5,IF(EP_Filtration!$L$58:$L$67<=Annee_BI+9,EP_Filtration!$L$58:$L$67)))","v":0},{"$f":"MAX(IF(EP_Filtration!$L$58:$L$67>=Annee_BI+5,IF(EP_Filtration!$L$58:$L$67<=Annee_BI+9,EP_Filtration!$L$58:$L$67)))","v":0}]
["Eaux usées","Installation de traitement","Stations mécanisées",{"$f":"IF(Identification!$H$63=\"\",\"\",Identification!$H$63)","v":""},"Désinfection (U.V., O3)","Civil",{"$f":"EU_Desinfection!$B$26","v":""},0,{"$f":"IFERROR(J218/SUM($J218:$J221),0)","v":0},{"$f":"EU_Desinfection!$I$26","v":0},{"$f":"EU_Desinfection!$G$26","v":""},{"$f":"EU_Desinfection!$E$26","v":""},{"$f":"EU_Desinfection!$F$26","v":""},{"$f":"EU_Desinfection!$J$26-SUMIFS(EU_Desinfection!$J$16:$J$25,EU_Desinfection!$E$16:$E$25,\"<4\",EU_Desinfection!$F$16:$F$25,\"<4\")","v":0},{"$f":"SUMIFS(EU_Desinfection!$J$16:$J$25,EU_Desinfection!$E$16:$E$25,\"<4\",EU_Desinfection!$F$16:$F$25,\"<4\",EU_Desinfection!$L$16:$L$25,\">=\"&Annee_BI,EU_Desinfection!$L$16:$L$25,\"<=\"&Annee_BI+4)","v":0},{"$f":"MIN(IF(EU_Desinfection!$L$16:$L$25>=Annee_BI,IF(EU_Desinfection!$L$16:$L$25<=Annee_BI+4,EU_Desinfection!$L$16:$L$25)))","v":0},{"$f":"MAX(IF(EU_Desinfection!$L$16:$L$25>=Annee_BI,IF(EU_Desinfection!$L$16:$L$25<=Annee_BI+4,EU_Desinfection!$L$16:$L$25)))","v":0},{"$f":"SUMIFS(EU_Desinfection!$J$16:$J$25,EU_Desinfection!$E$16:$E$25,\"<4\",EU_Desinfection!$F$16:$F$25,\"<4\",EU_Desinfection!$L$16:$L$25,\">=\"&Annee_BI+5,EU_Desinfection!$L$16:$L$25,\"<=\"&Annee_BI+9)","v":0},{"$f":"MIN(IF(EU_Desinfection!$L$16:$L$25>=Annee_BI+5,IF(EU_Desinfection!$L$16:$L$25<=Annee_BI+9,EU_Desinfection!$L$16:$L$25)))","v":0},{"$f":"MAX(IF(EU_Desinfection!$L$16:$L$25>=Annee_BI+5,IF(EU_Desinfection!$L$16:$L$25<=Annee_BI+9,EU_Desinfection!$L$16:$L$25)))","v":0}]
["Eaux usées","Installation de traitement","Stations mécanisées",{"$f":"IF(Identification!$H$63=\"\",\"\",Identification!$H$63)","v":""},"Désinfection (U.V., O3)","Mécanique",{"$f":"EU_Desinfection!$B$40","v":""},0,{"$f":"IFERROR(J219/SUM($J218:$J221),0)","v":0},{"$f":"EU_Desinfection!$I$40","v":0},{"$f":"EU_Desinfection!$G$40","v":""},{"$f":"EU_Desinfection!$E$40","v":""},{"$f":"EU_Desinfection!$F$40","v":""},{"$f":"EU_Desinfection!$J$40-SUMIFS(EU_Desinfection!$J$30:$J$39,EU_Desinfection!$E$30:$E$39,\"<4\",EU_Desinfection!$F$30:$F$39,\"<4\")","v":0},{"$f":"SUMIFS(EU_Desinfection!$J$30:$J$39,EU_Desinfection!$E$30:$E$39,\"<4\",EU_Desinfection!$F$30:$F$39,\"<4\",EU_Desinfection!$L$30:$L$39,\">=\"&Annee_BI,EU_Desinfection!$L$30:$L$39,\"<=\"&Annee_BI+4)","v":0},{"$f":"MIN(IF(EU_Desinfection!$L$30:$L$39>=Annee_BI,IF(EU_Desinfection!$L$30:$L$39<=Annee_BI+4,EU_Desinfection!$L$30:$L$39)))","v":0},{"$f":"MAX(IF(EU_Desinfection!$L$30:$L$39>=Annee_BI,IF(EU_Desinfection!$L$30:$L$39<=Annee_BI+4,EU_Desinfection!$L$30:$L$39)))","v":0},{"$f":"SUMIFS(EU_Desinfection!$J$30:$J$39,EU_Desinfection!$E$30:$E$39,\"<4\",EU_Desinfection!$F$30:$F$39,\"<4\",EU_Desinfection!$L$30:$L$39,\">=\"&Annee_BI+5,EU_Desinfection!$L$30:$L$39,\"<=\"&Annee_BI+9)","v":0},{"$f":"MIN(IF(EU_Desinfection!$L$30:$L$39>=Annee_BI+5,IF(EU_Desinfection!$L$30:$L$39<=Annee_BI+9,EU_Desinfection!$L$30:$L$39)))","v":0},{"$f":"MAX(IF(EU_Desinfection!$L$30:$L$39>=Annee_BI+5,IF(EU_Desinfection!$L$30:$L$39<=Annee_BI+9,EU_Desinfection!$L$30:$L$39)))","v":0}]
["Eaux usées","Installation de traitement","Stations mécanisées",{"$f":"IF(Identification!$H$63=\"\",\"\",Identification!$H$63)","v":""},"Désinfection (U.V., O3)","Électricité",{"$f":"EU_Desinfection!$B$54","v":""},0,{"$f":"IFERROR(J220/SUM($J218:$J221),0)","v":0},{"$f":"EU_Desinfection!$I$54","v":0},{"$f":"EU_Desinfection!$G$54","v":""},{"$f":"EU_Desinfection!$E$54","v":""},{"$f":"EU_Desinfection!$F$54","v":""},{"$f":"EU_Desinfection!$J$54-SUMIFS(EU_Desinfection!$J$44:$J$53,EU_Desinfection!$E$44:$E$53,\"<4\",EU_Desinfection!$F$44:$F$53,\"<4\")","v":0},{"$f":"SUMIFS(EU_Desinfection!$J$44:$J$53,EU_Desinfection!$E$44:$E$53,\"<4\",EU_Desinfection!$F$44:$F$53,\"<4\",EU_Desinfection!$L$44:$L$53,\">=\"&Annee_BI,EU_Desinfection!$L$44:$L$53,\"<=\"&Annee_BI+4)","v":0},{"$f":"MIN(IF(EU_Desinfection!$L$44:$L$53>=Annee_BI,IF(EU_Desinfection!$L$44:$L$53<=Annee_BI+4,EU_Desinfection!$L$44:$L$53)))","v":0},{"$f":"MAX(IF(EU_Desinfection!$L$44:$L$53>=Annee_BI,IF(EU_Desinfection!$L$44:$L$53<=Annee_BI+4,EU_Desinfection!$L$44:$L$53)))","v":0},{"$f":"SUMIFS(EU_Desinfection!$J$44:$J$53,EU_Desinfection!$E$44:$E$53,\"<4\",EU_Desinfection!$F$44:$F$53,\"<4\",EU_Desinfection!$L$44:$L$53,\">=\"&Annee_BI+5,EU_Desinfection!$L$44:$L$53,\"<=\"&Annee_BI+9)","v":0},{"$f":"MIN(IF(EU_Desinfection!$L$44:$L$53>=Annee_BI+5,IF(EU_Desinfection!$L$44:$L$53<=Annee_BI+9,EU_Desinfection!$L$44:$L$53)))","v":0},{"$f":"MAX(IF(EU_Desinfection!$L$44:$L$53>=Annee_BI+5,IF(EU_Desinfection!$L$44:$L$53<=Annee_BI+9,EU_Desinfection!$L$44:$L$53)))","v":0}]
["Eaux usées","Installation de traitement","Stations mécanisées",{"$f":"IF(Identification!$H$63=\"\",\"\",Identification!$H$63)","v":""},"Désinfection (U.V., O3)","Instrumentation et contrôle",{"$f":"EU_Desinfection!$B$68","v":""},0,{"$f":"IFERROR(J221/SUM($J218:$J221),0)","v":0},{"$f":"EU_Desinfection!$I$68","v":0},{"$f":"EU_Desinfection!$G$68","v":""},{"$f":"EU_Desinfection!$E$68","v":""},{"$f":"EU_Desinfection!$F$68","v":""},{"$f":"EU_Desinfection!$J$68-SUMIFS(EU_Desinfection!$J$58:$J$67,EU_Desinfection!$E$58:$E$67,\"<4\",EU_Desinfection!$F$58:$F$67,\"<4\")","v":0},{"$f":"SUMIFS(EU_Desinfection!$J$58:$J$67,EU_Desinfection!$E$58:$E$67,\"<4\",EU_Desinfection!$F$58:$F$67,\"<4\",EU_Desinfection!$L$58:$L$67,\">=\"&Annee_BI,EU_Desinfection!$L$58:$L$67,\"<=\"&Annee_BI+4)","v":0},{"$f":"MIN(IF(EU_Desinfection!$L$58:$L$67>=Annee_BI,IF(EU_Desinfection!$L$58:$L$67<=Annee_BI+4,EU_Desinfection!$L$58:$L$67)))","v":0},{"$f":"MAX(IF(EU_Desinfection!$L$58:$L$67>=Annee_BI,IF(EU_Desinfection!$L$58:$L$67<=Annee_BI+4,EU_Desinfection!$L$58:$L$67)))","v":0},{"$f":"SUMIFS(EU_Desinfection!$J$58:$J$67,EU_Desinfection!$E$58:$E$67,\"<4\",EU_Desinfection!$F$58:$F$67,\"<4\",EU_Desinfection!$L$58:$L$67,\">=\"&Annee_BI+5,EU_Desinfection!$L$58:$L$67,\"<=\"&Annee_BI+9)","v":0},{"$f":"MIN(IF(EU_Desinfection!$L$58:$L$67>=Annee_BI+5,IF(EU_Desinfection!$L$58:$L$67<=Annee_BI+9,EU_Desinfection!$L$58:$L$67)))","v":0},{"$f":"MAX(IF(EU_Desinfection!$L$58:$L$67>=Annee_BI+5,IF(EU_Desinfection!$L$58:$L$67<=Annee_BI+9,EU_Desinfection!$L$58:$L$67)))","v":0}]
["Eaux usées","Installation de traitement","Stations mécanisées",{"$f":"IF(Identification!$H$63=\"\",\"\",Identification!$H$63)","v":""},"Effluent","Civil",{"$f":"EU_Effluent!$B$26","v":""},0,{"$f":"IFERROR(J222/SUM($J222:$J225),0)","v":0},{"$f":"EU_Effluent!$I$26","v":0},{"$f":"EU_Effluent!$G$26","v":""},{"$f":"EU_Effluent!$E$26","v":""},{"$f":"EU_Effluent!$F$26","v":""},{"$f":"EU_Effluent!$J$26-SUMIFS(EU_Effluent!$J$16:$J$25,EU_Effluent!$E$16:$E$25,\"<4\",EU_Effluent!$F$16:$F$25,\"<4\")","v":0},{"$f":"SUMIFS(EU_Effluent!$J$16:$J$25,EU_Effluent!$E$16:$E$25,\"<4\",EU_Effluent!$F$16:$F$25,\"<4\",EU_Effluent!$L$16:$L$25,\">=\"&Annee_BI,EU_Effluent!$L$16:$L$25,\"<=\"&Annee_BI+4)","v":0},{"$f":"MIN(IF(EU_Effluent!$L$16:$L$25>=Annee_BI,IF(EU_Effluent!$L$16:$L$25<=Annee_BI+4,EU_Effluent!$L$16:$L$25)))","v":0},{"$f":"MAX(IF(EU_Effluent!$L$16:$L$25>=Annee_BI,IF(EU_Effluent!$L$16:$L$25<=Annee_BI+4,EU_Effluent!$L$16:$L$25)))","v":0},{"$f":"SUMIFS(EU_Effluent!$J$16:$J$25,EU_Effluent!$E$16:$E$25,\"<4\",EU_Effluent!$F$16:$F$25,\"<4\",EU_Effluent!$L$16:$L$25,\">=\"&Annee_BI+5,EU_Effluent!$L$16:$L$25,\"<=\"&Annee_BI+9)","v":0},{"$f":"MIN(IF(EU_Effluent!$L$16:$L$25>=Annee_BI+5,IF(EU_Effluent!$L$16:$L$25<=Annee_BI+9,EU_Effluent!$L$16:$L$25)))","v":0},{"$f":"MAX(IF(EU_Effluent!$L$16:$L$25>=Annee_BI+5,IF(EU_Effluent!$L$16:$L$25<=Annee_BI+9,EU_Effluent!$L$16:$L$25)))","v":0}]
["Eaux usées","Installation de traitement","Stations mécanisées",{"$f":"IF(Identification!$H$63=\"\",\"\",Identification!$H$63)","v":""},"Effluent","Mécanique",{"$f":"EU_Effluent!$B$40","v":""},0,{"$f":"IFERROR(J223/SUM($J222:$J225),0)","v":0},{"$f":"EU_Effluent!$I$40","v":0},{"$f":"EU_Effluent!$G$40","v":""},{"$f":"EU_Effluent!$E$40","v":""},{"$f":"EU_Effluent!$F$40","v":""},{"$f":"EU_Effluent!$J$40-SUMIFS(EU_Effluent!$J$30:$J$39,EU_Effluent!$E$30:$E$39,\"<4\",EU_Effluent!$F$30:$F$39,\"<4\")","v":0},{"$f":"SUMIFS(EU_Effluent!$J$30:$J$39,EU_Effluent!$E$30:$E$39,\"<4\",EU_Effluent!$F$30:$F$39,\"<4\",EU_Effluent!$L$30:$L$39,\">=\"&Annee_BI,EU_Effluent!$L$30:$L$39,\"<=\"&Annee_BI+4)","v":0},{"$f":"MIN(IF(EU_Effluent!$L$30:$L$39>=Annee_BI,IF(EU_Effluent!$L$30:$L$39<=Annee_BI+4,EU_Effluent!$L$30:$L$39)))","v":0},{"$f":"MAX(IF(EU_Effluent!$L$30:$L$39>=Annee_BI,IF(EU_Effluent!$L$30:$L$39<=Annee_BI+4,EU_Effluent!$L$30:$L$39)))","v":0},{"$f":"SUMIFS(EU_Effluent!$J$30:$J$39,EU_Effluent!$E$30:$E$39,\"<4\",EU_Effluent!$F$30:$F$39,\"<4\",EU_Effluent!$L$30:$L$39,\">=\"&Annee_BI+5,EU_Effluent!$L$30:$L$39,\"<=\"&Annee_BI+9)","v":0},{"$f":"MIN(IF(EU_Effluent!$L$30:$L$39>=Annee_BI+5,IF(EU_Effluent!$L$30:$L$39<=Annee_BI+9,EU_Effluent!$L$30:$L$39)))","v":0},{"$f":"MAX(IF(EU_Effluent!$L$30:$L$39>=Annee_BI+5,IF(EU_Effluent!$L$30:$L$39<=Annee_BI+9,EU_Effluent!$L$30:$L$39)))","v":0}]
["Eaux usées","Installation de traitement","Stations mécanisées",{"$f":"IF(Identification!$H$63=\"\",\"\",Identification!$H$63)","v":""},"Effluent","Électricité",{"$f":"EU_Effluent!$B$54","v":""},0,{"$f":"IFERROR(J224/SUM($J222:$J225),0)","v":0},{"$f":"EU_Effluent!$I$54","v":0},{"$f":"EU_Effluent!$G$54","v":""},{"$f":"EU_Effluent!$E$54","v":""},{"$f":"EU_Effluent!$F$54","v":""},{"$f":"EU_Effluent!$J$54-SUMIFS(EU_Effluent!$J$44:$J$53,EU_Effluent!$E$44:$E$53,\"<4\",EU_Effluent!$F$44:$F$53,\"<4\")","v":0},{"$f":"SUMIFS(EU_Effluent!$J$44:$J$53,EU_Effluent!$E$44:$E$53,\"<4\",EU_Effluent!$F$44:$F$53,\"<4\",EU_Effluent!$L$44:$L$53,\">=\"&Annee_BI,EU_Effluent!$L$44:$L$53,\"<=\"&Annee_BI+4)","v":0},{"$f":"MIN(IF(EU_Effluent!$L$44:$L$53>=Annee_BI,IF(EU_Effluent!$L$44:$L$53<=Annee_BI+4,EU_Effluent!$L$44:$L$53)))","v":0},{"$f":"MAX(IF(EU_Effluent!$L$44:$L$53>=Annee_BI,IF(EU_Effluent!$L$44:$L$53<=Annee_BI+4,EU_Effluent!$L$44:$L$53)))","v":0},{"$f":"SUMIFS(EU_Effluent!$J$44:$J$53,EU_Effluent!$E$44:$E$53,\"<4\",EU_Effluent!$F$44:$F$53,\"<4\",EU_Effluent!$L$44:$L$53,\">=\"&Annee_BI+5,EU_Effluent!$L$44:$L$53,\"<=\"&Annee_BI+9)","v":0},{"$f":"MIN(IF(EU_Effluent!$L$44:$L$53>=Annee_BI+5,IF(EU_Effluent!$L$44:$L$53<=Annee_BI+9,EU_Effluent!$L$44:$L$53)))","v":0},{"$f":"MAX(IF(EU_Effluent!$L$44:$L$53>=Annee_BI+5,IF(EU_Effluent!$L$44:$L$53<=Annee_BI+9,EU_Effluent!$L$44:$L$53)))","v":0}]
["Eaux usées","Installation de traitement","Stations mécanisées",{"$f":"IF(Identification!$H$63=\"\",\"\",Identification!$H$63)","v":""},"Effluent","Instrumentation et contrôle",{"$f":"EU_Effluent!$B$68","v":""},0,{"$f":"IFERROR(J225/SUM($J222:$J225),0)","v":0},{"$f":"EU_Effluent!$I$68","v":0},{"$f":"EU_Effluent!$G$68","v":""},{"$f":"EU_Effluent!$E$68","v":""},{"$f":"EU_Effluent!$F$68","v":""},{"$f":"EU_Effluent!$J$68-SUMIFS(EU_Effluent!$J$58:$J$67,EU_Effluent!$E$58:$E$67,\"<4\",EU_Effluent!$F$58:$F$67,\"<4\")","v":0},{"$f":"SUMIFS(EU_Effluent!$J$58:$J$67,EU_Effluent!$E$58:$E$67,\"<4\",EU_Effluent!$F$58:$F$67,\"<4\",EU_Effluent!$L$58:$L$67,\">=\"&Annee_BI,EU_Effluent!$L$58:$L$67,\"<=\"&Annee_BI+4)","v":0},{"$f":"MIN(IF(EU_Effluent!$L$58:$L$67>=Annee_BI,IF(EU_Effluent!$L$58:$L$67<=Annee_BI+4,EU_Effluent!$L$58:$L$67)))","v":0},{"$f":"MAX(IF(EU_Effluent!$L$58:$L$67>=Annee_BI,IF(EU_Effluent!$L$58:$L$67<=Annee_BI+4,EU_Effluent!$L$58:$L$67)))","v":0},{"$f":"SUMIFS(EU_Effluent!$J$58:$J$67,EU_Effluent!$E$58:$E$67,\"<4\",EU_Effluent!$F$58:$F$67,\"<4\",EU_Effluent!$L$58:$L$67,\">=\"&Annee_BI+5,EU_Effluent!$L$58:$L$67,\"<=\"&Annee_BI+9)","v":0},{"$f":"MIN(IF(EU_Effluent!$L$58:$L$67>=Annee_BI+5,IF(EU_Effluent!$L$58:$L$67<=Annee_BI+9,EU_Effluent!$L$58:$L$67)))","v":0},{"$f":"MAX(IF(EU_Effluent!$L$58:$L$67>=Annee_BI+5,IF(EU_Effluent!$L$58:$L$67<=Annee_BI+9,EU_Effluent!$L$58:$L$67)))","v":0}]
["Eaux usées","Installation de traitement","Stations mécanisées",{"$f":"IF(Identification!$H$63=\"\",\"\",Identification!$H$63)","v":""},"Épaississement des boues","Civil",{"$f":"EU_Epaississement!$B$26","v":""},0,{"$f":"IFERROR(J226/SUM($J226:$J229),0)","v":0},{"$f":"EU_Epaississement!$I$26","v":0},{"$f":"EU_Epaississement!$G$26","v":""},{"$f":"EU_Epaississement!$E$26","v":""},{"$f":"EU_Epaississement!$F$26","v":""},{"$f":"EU_Epaississement!$J$26-SUMIFS(EU_Epaississement!$J$16:$J$25,EU_Epaississement!$E$16:$E$25,\"<4\",EU_Epaississement!$F$16:$F$25,\"<4\")","v":0},{"$f":"SUMIFS(EU_Epaississement!$J$16:$J$25,EU_Epaississement!$E$16:$E$25,\"<4\",EU_Epaississement!$F$16:$F$25,\"<4\",EU_Epaississement!$L$16:$L$25,\">=\"&Annee_BI,EU_Epaississement!$L$16:$L$25,\"<=\"&Annee_BI+4)","v":0},{"$f":"MIN(IF(EU_Epaississement!$L$16:$L$25>=Annee_BI,IF(EU_Epaississement!$L$16:$L$25<=Annee_BI+4,EU_Epaississement!$L$16:$L$25)))","v":0},{"$f":"MAX(IF(EU_Epaississement!$L$16:$L$25>=Annee_BI,IF(EU_Epaississement!$L$16:$L$25<=Annee_BI+4,EU_Epaississement!$L$16:$L$25)))","v":0},{"$f":"SUMIFS(EU_Epaississement!$J$16:$J$25,EU_Epaississement!$E$16:$E$25,\"<4\",EU_Epaississement!$F$16:$F$25,\"<4\",EU_Epaississement!$L$16:$L$25,\">=\"&Annee_BI+5,EU_Epaississement!$L$16:$L$25,\"<=\"&Annee_BI+9)","v":0},{"$f":"MIN(IF(EU_Epaississement!$L$16:$L$25>=Annee_BI+5,IF(EU_Epaississement!$L$16:$L$25<=Annee_BI+9,EU_Epaississement!$L$16:$L$25)))","v":0},{"$f":"MAX(IF(EU_Epaississement!$L$16:$L$25>=Annee_BI+5,IF(EU_Epaississement!$L$16:$L$25<=Annee_BI+9,EU_Epaississement!$L$16:$L$25)))","v":0}]
["Eaux usées","Installation de traitement","Stations mécanisées",{"$f":"IF(Identification!$H$63=\"\",\"\",Identification!$H$63)","v":""},"Épaississement des boues","Mécanique",{"$f":"EU_Epaississement!$B$40","v":""},0,{"$f":"IFERROR(J227/SUM($J226:$J229),0)","v":0},{"$f":"EU_Epaississement!$I$40","v":0},{"$f":"EU_Epaississement!$G$40","v":""},{"$f":"EU_Epaississement!$E$40","v":""},{"$f":"EU_Epaississement!$F$40","v":""},{"$f":"EU_Epaississement!$J$40-SUMIFS(EU_Epaississement!$J$30:$J$39,EU_Epaississement!$E$30:$E$39,\"<4\",EU_Epaississement!$F$30:$F$39,\"<4\")","v":0},{"$f":"SUMIFS(EU_Epaississement!$J$30:$J$39,EU_Epaississement!$E$30:$E$39,\"<4\",EU_Epaississement!$F$30:$F$39,\"<4\",EU_Epaississement!$L$30:$L$39,\">=\"&Annee_BI,EU_Epaississement!$L$30:$L$39,\"<=\"&Annee_BI+4)","v":0},{"$f":"MIN(IF(EU_Epaississement!$L$30:$L$39>=Annee_BI,IF(EU_Epaississement!$L$30:$L$39<=Annee_BI+4,EU_Epaississement!$L$30:$L$39)))","v":0},{"$f":"MAX(IF(EU_Epaississement!$L$30:$L$39>=Annee_BI,IF(EU_Epaississement!$L$30:$L$39<=Annee_BI+4,EU_Epaississement!$L$30:$L$39)))","v":0},{"$f":"SUMIFS(EU_Epaississement!$J$30:$J$39,EU_Epaississement!$E$30:$E$39,\"<4\",EU_Epaississement!$F$30:$F$39,\"<4\",EU_Epaississement!$L$30:$L$39,\">=\"&Annee_BI+5,EU_Epaississement!$L$30:$L$39,\"<=\"&Annee_BI+9)","v":0},{"$f":"MIN(IF(EU_Epaississement!$L$30:$L$39>=Annee_BI+5,IF(EU_Epaississement!$L$30:$L$39<=Annee_BI+9,EU_Epaississement!$L$30:$L$39)))","v":0},{"$f":"MAX(IF(EU_Epaississement!$L$30:$L$39>=Annee_BI+5,IF(EU_Epaississement!$L$30:$L$39<=Annee_BI+9,EU_Epaississement!$L$30:$L$39)))","v":0}]
["Eaux usées","Installation de traitement","Stations mécanisées",{"$f":"IF(Identification!$H$63=\"\",\"\",Identification!$H$63)","v":""},"Épaississement des boues","Électricité",{"$f":"EU_Epaississement!$B$54","v":""},0,{"$f":"IFERROR(J228/SUM($J226:$J229),0)","v":0},{"$f":"EU_Epaississement!$I$54","v":0},{"$f":"EU_Epaississement!$G$54","v":""},{"$f":"EU_Epaississement!$E$54","v":""},{"$f":"EU_Epaississement!$F$54","v":""},{"$f":"EU_Epaississement!$J$54-SUMIFS(EU_Epaississement!$J$44:$J$53,EU_Epaississement!$E$44:$E$53,\"<4\",EU_Epaississement!$F$44:$F$53,\"<4\")","v":0},{"$f":"SUMIFS(EU_Epaississement!$J$44:$J$53,EU_Epaississement!$E$44:$E$53,\"<4\",EU_Epaississement!$F$44:$F$53,\"<4\",EU_Epaississement!$L$44:$L$53,\">=\"&Annee_BI,EU_Epaississement!$L$44:$L$53,\"<=\"&Annee_BI+4)","v":0},{"$f":"MIN(IF(EU_Epaississement!$L$44:$L$53>=Annee_BI,IF(EU_Epaississement!$L$44:$L$53<=Annee_BI+4,EU_Epaississement!$L$44:$L$53)))","v":0},{"$f":"MAX(IF(EU_Epaississement!$L$44:$L$53>=Annee_BI,IF(EU_Epaississement!$L$44:$L$53<=Annee_BI+4,EU_Epaississement!$L$44:$L$53)))","v":0},{"$f":"SUMIFS(EU_Epaississement!$J$44:$J$53,EU_Epaississement!$E$44:$E$53,\"<4\",EU_Epaississement!$F$44:$F$53,\"<4\",EU_Epaississement!$L$44:$L$53,\">=\"&Annee_BI+5,EU_Epaississement!$L$44:$L$53,\"<=\"&Annee_BI+9)","v":0},{"$f":"MIN(IF(EU_Epaississement!$L$44:$L$53>=Annee_BI+5,IF(EU_Epaississement!$L$44:$L$53<=Annee_BI+9,EU_Epaississement!$L$44:$L$53)))","v":0},{"$f":"MAX(IF(EU_Epaississement!$L$44:$L$53>=Annee_BI+5,IF(EU_Epaississement!$L$44:$L$53<=Annee_BI+9,EU_Epaississement!$L$44:$L$53)))","v":0}]
["Eaux usées","Installation de traitement","Stations mécanisées",{"$f":"IF(Identification!$H$63=\"\",\"\",Identification!$H$63)","v":""},"Épaississement des boues","Instrumentation et contrôle",{"$f":"EU_Epaississement!$B$68","v":""},0,{"$f":"IFERROR(J229/SUM($J226:$J229),0)","v":0},{"$f":"EU_Epaississement!$I$68","v":0},{"$f":"EU_Epaississement!$G$68","v":""},{"$f":"EU_Epaississement!$E$68","v":""},{"$f":"EU_Epaississement!$F$68","v":""},{"$f":"EU_Epaississement!$J$68-SUMIFS(EU_Epaississement!$J$58:$J$67,EU_Epaississement!$E$58:$E$67,\"<4\",EU_Epaississement!$F$58:$F$67,\"<4\")","v":0},{"$f":"SUMIFS(EU_Epaississement!$J$58:$J$67,EU_Epaississement!$E$58:$E$67,\"<4\",EU_Epaississement!$F$58:$F$67,\"<4\",EU_Epaississement!$L$58:$L$67,\">=\"&Annee_BI,EU_Epaississement!$L$58:$L$67,\"<=\"&Annee_BI+4)","v":0},{"$f":"MIN(IF(EU_Epaississement!$L$58:$L$67>=Annee_BI,IF(EU_Epaississement!$L$58:$L$67<=Annee_BI+4,EU_Epaississement!$L$58:$L$67)))","v":0},{"$f":"MAX(IF(EU_Epaississement!$L$58:$L$67>=Annee_BI,IF(EU_Epaississement!$L$58:$L$67<=Annee_BI+4,EU_Epaississement!$L$58:$L$67)))","v":0},{"$f":"SUMIFS(EU_Epaississement!$J$58:$J$67,EU_Epaississement!$E$58:$E$67,\"<4\",EU_Epaississement!$F$58:$F$67,\"<4\",EU_Epaississement!$L$58:$L$67,\">=\"&Annee_BI+5,EU_Epaississement!$L$58:$L$67,\"<=\"&Annee_BI+9)","v":0},{"$f":"MIN(IF(EU_Epaississement!$L$58:$L$67>=Annee_BI+5,IF(EU_Epaississement!$L$58:$L$67<=Annee_BI+9,EU_Epaississement!$L$58:$L$67)))","v":0},{"$f":"MAX(IF(EU_Epaississement!$L$58:$L$67>=Annee_BI+5,IF(EU_Epaississement!$L$58:$L$67<=Annee_BI+9,EU_Epaississement!$L$58:$L$67)))","v":0}]
["Eaux usées","Installation de traitement","Stations mécanisées",{"$f":"IF(Identification!$H$63=\"\",\"\",Identification!$H$63)","v":""},"Stabilisation des boues","Civil",{"$f":"EU_Stabilisation!$B$26","v":""},0,{"$f":"IFERROR(J230/SUM($J230:$J233),0)","v":0},{"$f":"EU_Stabilisation!$I$26","v":0},{"$f":"EU_Stabilisation!$G$26","v":""},{"$f":"EU_Stabilisation!$E$26","v":""},{"$f":"EU_Stabilisation!$F$26","v":""},{"$f":"EU_Stabilisation!$J$26-SUMIFS(EU_Stabilisation!$J$16:$J$25,EU_Stabilisation!$E$16:$E$25,\"<4\",EU_Stabilisation!$F$16:$F$25,\"<4\")","v":0},{"$f":"SUMIFS(EU_Stabilisation!$J$16:$J$25,EU_Stabilisation!$E$16:$E$25,\"<4\",EU_Stabilisation!$F$16:$F$25,\"<4\",EU_Stabilisation!$L$16:$L$25,\">=\"&Annee_BI,EU_Stabilisation!$L$16:$L$25,\"<=\"&Annee_BI+4)","v":0},{"$f":"MIN(IF(EU_Stabilisation!$L$16:$L$25>=Annee_BI,IF(EU_Stabilisation!$L$16:$L$25<=Annee_BI+4,EU_Stabilisation!$L$16:$L$25)))","v":0},{"$f":"MAX(IF(EU_Stabilisation!$L$16:$L$25>=Annee_BI,IF(EU_Stabilisation!$L$16:$L$25<=Annee_BI+4,EU_Stabilisation!$L$16:$L$25)))","v":0},{"$f":"SUMIFS(EU_Stabilisation!$J$16:$J$25,EU_Stabilisation!$E$16:$E$25,\"<4\",EU_Stabilisation!$F$16:$F$25,\"<4\",EU_Stabilisation!$L$16:$L$25,\">=\"&Annee_BI+5,EU_Stabilisation!$L$16:$L$25,\"<=\"&Annee_BI+9)","v":0},{"$f":"MIN(IF(EU_Stabilisation!$L$16:$L$25>=Annee_BI+5,IF(EU_Stabilisation!$L$16:$L$25<=Annee_BI+9,EU_Stabilisation!$L$16:$L$25)))","v":0},{"$f":"MAX(IF(EU_Stabilisation!$L$16:$L$25>=Annee_BI+5,IF(EU_Stabilisation!$L$16:$L$25<=Annee_BI+9,EU_Stabilisation!$L$16:$L$25)))","v":0}]
["Eaux usées","Installation de traitement","Stations mécanisées",{"$f":"IF(Identification!$H$63=\"\",\"\",Identification!$H$63)","v":""},"Stabilisation des boues","Mécanique",{"$f":"EU_Stabilisation!$B$40","v":""},0,{"$f":"IFERROR(J231/SUM($J230:$J233),0)","v":0},{"$f":"EU_Stabilisation!$I$40","v":0},{"$f":"EU_Stabilisation!$G$40","v":""},{"$f":"EU_Stabilisation!$E$40","v":""},{"$f":"EU_Stabilisation!$F$40","v":""},{"$f":"EU_Stabilisation!$J$40-SUMIFS(EU_Stabilisation!$J$30:$J$39,EU_Stabilisation!$E$30:$E$39,\"<4\",EU_Stabilisation!$F$30:$F$39,\"<4\")","v":0},{"$f":"SUMIFS(EU_Stabilisation!$J$30:$J$39,EU_Stabilisation!$E$30:$E$39,\"<4\",EU_Stabilisation!$F$30:$F$39,\"<4\",EU_Stabilisation!$L$30:$L$39,\">=\"&Annee_BI,EU_Stabilisation!$L$30:$L$39,\"<=\"&Annee_BI+4)","v":0},{"$f":"MIN(IF(EU_Stabilisation!$L$30:$L$39>=Annee_BI,IF(EU_Stabilisation!$L$30:$L$39<=Annee_BI+4,EU_Stabilisation!$L$30:$L$39)))","v":0},{"$f":"MAX(IF(EU_Stabilisation!$L$30:$L$39>=Annee_BI,IF(EU_Stabilisation!$L$30:$L$39<=Annee_BI+4,EU_Stabilisation!$L$30:$L$39)))","v":0},{"$f":"SUMIFS(EU_Stabilisation!$J$30:$J$39,EU_Stabilisation!$E$30:$E$39,\"<4\",EU_Stabilisation!$F$30:$F$39,\"<4\",EU_Stabilisation!$L$30:$L$39,\">=\"&Annee_BI+5,EU_Stabilisation!$L$30:$L$39,\"<=\"&Annee_BI+9)","v":0},{"$f":"MIN(IF(EU_Stabilisation!$L$30:$L$39>=Annee_BI+5,IF(EU_Stabilisation!$L$30:$L$39<=Annee_BI+9,EU_Stabilisation!$L$30:$L$39)))","v":0},{"$f":"MAX(IF(EU_Stabilisation!$L$30:$L$39>=Annee_BI+5,IF(EU_Stabilisation!$L$30:$L$39<=Annee_BI+9,EU_Stabilisation!$L$30:$L$39)))","v":0}]
["Eaux usées","Installation de traitement","Stations mécanisées",{"$f":"IF(Identification!$H$63=\"\",\"\",Identification!$H$63)","v":""},"Stabilisation des boues","Électricité",{"$f":"EU_Stabilisation!$B$54","v":""},0,{"$f":"IFERROR(J232/SUM($J230:$J233),0)","v":0},{"$f":"EU_Stabilisation!$I$54","v":0},{"$f":"EU_Stabilisation!$G$54","v":""},{"$f":"EU_Stabilisation!$E$54","v":""},{"$f":"EU_Stabilisation!$F$54","v":""},{"$f":"EU_Stabilisation!$J$54-SUMIFS(EU_Stabilisation!$J$44:$J$53,EU_Stabilisation!$E$44:$E$53,\"<4\",EU_Stabilisation!$F$44:$F$53,\"<4\")","v":0},{"$f":"SUMIFS(EU_Stabilisation!$J$44:$J$53,EU_Stabilisation!$E$44:$E$53,\"<4\",EU_Stabilisation!$F$44:$F$53,\"<4\",EU_Stabilisation!$L$44:$L$53,\">=\"&Annee_BI,EU_Stabilisation!$L$44:$L$53,\"<=\"&Annee_BI+4)","v":0},{"$f":"MIN(IF(EU_Stabilisation!$L$44:$L$53>=Annee_BI,IF(EU_Stabilisation!$L$44:$L$53<=Annee_BI+4,EU_Stabilisation!$L$44:$L$53)))","v":0},{"$f":"MAX(IF(EU_Stabilisation!$L$44:$L$53>=Annee_BI,IF(EU_Stabilisation!$L$44:$L$53<=Annee_BI+4,EU_Stabilisation!$L$44:$L$53)))","v":0},{"$f":"SUMIFS(EU_Stabilisation!$J$44:$J$53,EU_Stabilisation!$E$44:$E$53,\"<4\",EU_Stabilisation!$F$44:$F$53,\"<4\",EU_Stabilisation!$L$44:$L$53,\">=\"&Annee_BI+5,EU_Stabilisation!$L$44:$L$53,\"<=\"&Annee_BI+9)","v":0},{"$f":"MIN(IF(EU_Stabilisation!$L$44:$L$53>=Annee_BI+5,IF(EU_Stabilisation!$L$44:$L$53<=Annee_BI+9,EU_Stabilisation!$L$44:$L$53)))","v":0},{"$f":"MAX(IF(EU_Stabilisation!$L$44:$L$53>=Annee_BI+5,IF(EU_Stabilisation!$L$44:$L$53<=Annee_BI+9,EU_Stabilisation!$L$44:$L$53)))","v":0}]
["Eaux usées","Installation de traitement","Stations mécanisées",{"$f":"IF(Identification!$H$63=\"\",\"\",Identification!$H$63)","v":""},"Stabilisation des boues","Instrumentation et contrôle",{"$f":"EU_Stabilisation!$B$68","v":""},0,{"$f":"IFERROR(J233/SUM($J230:$J233),0)","v":0},{"$f":"EU_Stabilisation!$I$68","v":0},{"$f":"EU_Stabilisation!$G$68","v":""},{"$f":"EU_Stabilisation!$E$68","v":""},{"$f":"EU_Stabilisation!$F$68","v":""},{"$f":"EU_Stabilisation!$J$68-SUMIFS(EU_Stabilisation!$J$58:$J$67,EU_Stabilisation!$E$58:$E$67,\"<4\",EU_Stabilisation!$F$58:$F$67,\"<4\")","v":0},{"$f":"SUMIFS(EU_Stabilisation!$J$58:$J$67,EU_Stabilisation!$E$58:$E$67,\"<4\",EU_Stabilisation!$F$58:$F$67,\"<4\",EU_Stabilisation!$L$58:$L$67,\">=\"&Annee_BI,EU_Stabilisation!$L$58:$L$67,\"<=\"&Annee_BI+4)","v":0},{"$f":"MIN(IF(EU_Stabilisation!$L$58:$L$67>=Annee_BI,IF(EU_Stabilisation!$L$58:$L$67<=Annee_BI+4,EU_Stabilisation!$L$58:$L$67)))","v":0},{"$f":"MAX(IF(EU_Stabilisation!$L$58:$L$67>=Annee_BI,IF(EU_Stabilisation!$L$58:$L$67<=Annee_BI+4,EU_Stabilisation!$L$58:$L$67)))","v":0},{"$f":"SUMIFS(EU_Stabilisation!$J$58:$J$67,EU_Stabilisation!$E$58:$E$67,\"<4\",EU_Stabilisation!$F$58:$F$67,\"<4\",EU_Stabilisation!$L$58:$L$67,\">=\"&Annee_BI+5,EU_Stabilisation!$L$58:$L$67,\"<=\"&Annee_BI+9)","v":0},{"$f":"MIN(IF(EU_Stabilisation!$L$58:$L$67>=Annee_BI+5,IF(EU_Stabilisation!$L$58:$L$67<=Annee_BI+9,EU_Stabilisation!$L$58:$L$67)))","v":0},{"$f":"MAX(IF(EU_Stabilisation!$L$58:$L$67>=Annee_BI+5,IF(EU_Stabilisation!$L$58:$L$67<=Annee_BI+9,EU_Stabilisation!$L$58:$L$67)))","v":0}]
["Eaux usées","Installation de traitement","Stations mécanisées",{"$f":"IF(Identification!$H$63=\"\",\"\",Identification!$H$63)","v":""},"Déshydratation/Séchage des boues","Civil",{"$f":"EU_Déshydratation_Séchage!$B$26","v":""},0,{"$f":"IFERROR(J234/SUM($J234:$J237),0)","v":0},{"$f":"EU_Déshydratation_Séchage!$I$26","v":0},{"$f":"EU_Déshydratation_Séchage!$G$26","v":""},{"$f":"EU_Déshydratation_Séchage!$E$26","v":""},{"$f":"EU_Déshydratation_Séchage!$F$26","v":""},{"$f":"EU_Déshydratation_Séchage!$J$26-SUMIFS(EU_Déshydratation_Séchage!$J$16:$J$25,EU_Déshydratation_Séchage!$E$16:$E$25,\"<4\",EU_Déshydratation_Séchage!$F$16:$F$25,\"<4\")","v":0},{"$f":"SUMIFS(EU_Déshydratation_Séchage!$J$16:$J$25,EU_Déshydratation_Séchage!$E$16:$E$25,\"<4\",EU_Déshydratation_Séchage!$F$16:$F$25,\"<4\",EU_Déshydratation_Séchage!$L$16:$L$25,\">=\"&Annee_BI,EU_Déshydratation_Séchage!$L$16:$L$25,\"<=\"&Annee_BI+4)","v":0},{"$f":"MIN(IF(EU_Déshydratation_Séchage!$L$16:$L$25>=Annee_BI,IF(EU_Déshydratation_Séchage!$L$16:$L$25<=Annee_BI+4,EU_Déshydratation_Séchage!$L$16:$L$25)))","v":0},{"$f":"MAX(IF(EU_Déshydratation_Séchage!$L$16:$L$25>=Annee_BI,IF(EU_Déshydratation_Séchage!$L$16:$L$25<=Annee_BI+4,EU_Déshydratation_Séchage!$L$16:$L$25)))","v":0},{"$f":"SUMIFS(EU_Déshydratation_Séchage!$J$16:$J$25,EU_Déshydratation_Séchage!$E$16:$E$25,\"<4\",EU_Déshydratation_Séchage!$F$16:$F$25,\"<4\",EU_Déshydratation_Séchage!$L$16:$L$25,\">=\"&Annee_BI+5,EU_Déshydratation_Séchage!$L$16:$L$25,\"<=\"&Annee_BI+9)","v":0},{"$f":"MIN(IF(EU_Déshydratation_Séchage!$L$16:$L$25>=Annee_BI+5,IF(EU_Déshydratation_Séchage!$L$16:$L$25<=Annee_BI+9,EU_Déshydratation_Séchage!$L$16:$L$25)))","v":0},{"$f":"MAX(IF(EU_Déshydratation_Séchage!$L$16:$L$25>=Annee_BI+5,IF(EU_Déshydratation_Séchage!$L$16:$L$25<=Annee_BI+9,EU_Déshydratation_Séchage!$L$16:$L$25)))","v":0}]
["Eaux usées","Installation de traitement","Stations mécanisées",{"$f":"IF(Identification!$H$63=\"\",\"\",Identification!$H$63)","v":""},"Déshydratation/Séchage des boues","Mécanique",{"$f":"EU_Déshydratation_Séchage!$B$40","v":""},{"$f":"IF(G235<>\"\",1,0)","v":0},{"$f":"IFERROR(J235/SUM($J234:$J237),0)","v":0},{"$f":"EU_Déshydratation_Séchage!$I$40","v":0},{"$f":"EU_Déshydratation_Séchage!$G$40","v":""},{"$f":"EU_Déshydratation_Séchage!$E$40","v":""},{"$f":"EU_Déshydratation_Séchage!$F$40","v":""},{"$f":"EU_Déshydratation_Séchage!$J$40-SUMIFS(EU_Déshydratation_Séchage!$J$30:$J$39,EU_Déshydratation_Séchage!$E$30:$E$39,\"<4\",EU_Déshydratation_Séchage!$F$30:$F$39,\"<4\")","v":0},{"$f":"SUMIFS(EU_Déshydratation_Séchage!$J$30:$J$39,EU_Déshydratation_Séchage!$E$30:$E$39,\"<4\",EU_Déshydratation_Séchage!$F$30:$F$39,\"<4\",EU_Déshydratation_Séchage!$L$30:$L$39,\">=\"&Annee_BI,EU_Déshydratation_Séchage!$L$30:$L$39,\"<=\"&Annee_BI+4)","v":0},{"$f":"MIN(IF(EU_Déshydratation_Séchage!$L$30:$L$39>=Annee_BI,IF(EU_Déshydratation_Séchage!$L$30:$L$39<=Annee_BI+4,EU_Déshydratation_Séchage!$L$30:$L$39)))","v":0},{"$f":"MAX(IF(EU_Déshydratation_Séchage!$L$30:$L$39>=Annee_BI,IF(EU_Déshydratation_Séchage!$L$30:$L$39<=Annee_BI+4,EU_Déshydratation_Séchage!$L$30:$L$39)))","v":0},{"$f":"SUMIFS(EU_Déshydratation_Séchage!$J$30:$J$39,EU_Déshydratation_Séchage!$E$30:$E$39,\"<4\",EU_Déshydratation_Séchage!$F$30:$F$39,\"<4\",EU_Déshydratation_Séchage!$L$30:$L$39,\">=\"&Annee_BI+5,EU_Déshydratation_Séchage!$L$30:$L$39,\"<=\"&Annee_BI+9)","v":0},{"$f":"MIN(IF(EU_Déshydratation_Séchage!$L$30:$L$39>=Annee_BI+5,IF(EU_Déshydratation_Séchage!$L$30:$L$39<=Annee_BI+9,EU_Déshydratation_Séchage!$L$30:$L$39)))","v":0},{"$f":"MAX(IF(EU_Déshydratation_Séchage!$L$30:$L$39>=Annee_BI+5,IF(EU_Déshydratation_Séchage!$L$30:$L$39<=Annee_BI+9,EU_Déshydratation_Séchage!$L$30:$L$39)))","v":0}]
["Eaux usées","Installation de traitement","Stations mécanisées",{"$f":"IF(Identification!$H$63=\"\",\"\",Identification!$H$63)","v":""},"Déshydratation/Séchage des boues","Électricité",{"$f":"EU_Déshydratation_Séchage!$B$54","v":""},0,{"$f":"IFERROR(J236/SUM($J234:$J237),0)","v":0},{"$f":"EU_Déshydratation_Séchage!$I$54","v":0},{"$f":"EU_Déshydratation_Séchage!$G$54","v":""},{"$f":"EU_Déshydratation_Séchage!$E$54","v":""},{"$f":"EU_Déshydratation_Séchage!$F$54","v":""},{"$f":"EU_Déshydratation_Séchage!$J$54-SUMIFS(EU_Déshydratation_Séchage!$J$44:$J$53,EU_Déshydratation_Séchage!$E$44:$E$53,\"<4\",EU_Déshydratation_Séchage!$F$44:$F$53,\"<4\")","v":0},{"$f":"SUMIFS(EU_Déshydratation_Séchage!$J$44:$J$53,EU_Déshydratation_Séchage!$E$44:$E$53,\"<4\",EU_Déshydratation_Séchage!$F$44:$F$53,\"<4\",EU_Déshydratation_Séchage!$L$44:$L$53,\">=\"&Annee_BI,EU_Déshydratation_Séchage!$L$44:$L$53,\"<=\"&Annee_BI+4)","v":0},{"$f":"MIN(IF(EU_Déshydratation_Séchage!$L$44:$L$53>=Annee_BI,IF(EU_Déshydratation_Séchage!$L$44:$L$53<=Annee_BI+4,EU_Déshydratation_Séchage!$L$44:$L$53)))","v":0},{"$f":"MAX(IF(EU_Déshydratation_Séchage!$L$44:$L$53>=Annee_BI,IF(EU_Déshydratation_Séchage!$L$44:$L$53<=Annee_BI+4,EU_Déshydratation_Séchage!$L$44:$L$53)))","v":0},{"$f":"SUMIFS(EU_Déshydratation_Séchage!$J$44:$J$53,EU_Déshydratation_Séchage!$E$44:$E$53,\"<4\",EU_Déshydratation_Séchage!$F$44:$F$53,\"<4\",EU_Déshydratation_Séchage!$L$44:$L$53,\">=\"&Annee_BI+5,EU_Déshydratation_Séchage!$L$44:$L$53,\"<=\"&Annee_BI+9)","v":0},{"$f":"MIN(IF(EU_Déshydratation_Séchage!$L$44:$L$53>=Annee_BI+5,IF(EU_Déshydratation_Séchage!$L$44:$L$53<=Annee_BI+9,EU_Déshydratation_Séchage!$L$44:$L$53)))","v":0},{"$f":"MAX(IF(EU_Déshydratation_Séchage!$L$44:$L$53>=Annee_BI+5,IF(EU_Déshydratation_Séchage!$L$44:$L$53<=Annee_BI+9,EU_Déshydratation_Séchage!$L$44:$L$53)))","v":0}]
["Eaux usées","Installation de traitement","Stations mécanisées",{"$f":"IF(Identification!$H$63=\"\",\"\",Identification!$H$63)","v":""},"Déshydratation/Séchage des boues","Instrumentation et contrôle",{"$f":"EU_Déshydratation_Séchage!$B$68","v":""},0,{"$f":"IFERROR(J237/SUM($J234:$J237),0)","v":0},{"$f":"EU_Déshydratation_Séchage!$I$68","v":0},{"$f":"EU_Déshydratation_Séchage!$G$68","v":""},{"$f":"EU_Déshydratation_Séchage!$E$68","v":""},{"$f":"EU_Déshydratation_Séchage!$F$68","v":""},{"$f":"EU_Déshydratation_Séchage!$J$68-SUMIFS(EU_Déshydratation_Séchage!$J$58:$J$67,EU_Déshydratation_Séchage!$E$58:$E$67,\"<4\",EU_Déshydratation_Séchage!$F$58:$F$67,\"<4\")","v":0},{"$f":"SUMIFS(EU_Déshydratation_Séchage!$J$58:$J$67,EU_Déshydratation_Séchage!$E$58:$E$67,\"<4\",EU_Déshydratation_Séchage!$F$58:$F$67,\"<4\",EU_Déshydratation_Séchage!$L$58:$L$67,\">=\"&Annee_BI,EU_Déshydratation_Séchage!$L$58:$L$67,\"<=\"&Annee_BI+4)","v":0},{"$f":"MIN(IF(EU_Déshydratation_Séchage!$L$58:$L$67>=Annee_BI,IF(EU_Déshydratation_Séchage!$L$58:$L$67<=Annee_BI+4,EU_Déshydratation_Séchage!$L$58:$L$67)))","v":0},{"$f":"MAX(IF(EU_Déshydratation_Séchage!$L$58:$L$67>=Annee_BI,IF(EU_Déshydratation_Séchage!$L$58:$L$67<=Annee_BI+4,EU_Déshydratation_Séchage!$L$58:$L$67)))","v":0},{"$f":"SUMIFS(EU_Déshydratation_Séchage!$J$58:$J$67,EU_Déshydratation_Séchage!$E$58:$E$67,\"<4\",EU_Déshydratation_Séchage!$F$58:$F$67,\"<4\",EU_Déshydratation_Séchage!$L$58:$L$67,\">=\"&Annee_BI+5,EU_Déshydratation_Séchage!$L$58:$L$67,\"<=\"&Annee_BI+9)","v":0},{"$f":"MIN(IF(EU_Déshydratation_Séchage!$L$58:$L$67>=Annee_BI+5,IF(EU_Déshydratation_Séchage!$L$58:$L$67<=Annee_BI+9,EU_Déshydratation_Séchage!$L$58:$L$67)))","v":0},{"$f":"MAX(IF(EU_Déshydratation_Séchage!$L$58:$L$67>=Annee_BI+5,IF(EU_Déshydratation_Séchage!$L$58:$L$67<=Annee_BI+9,EU_Déshydratation_Séchage!$L$58:$L$67)))","v":0}]
["Eaux usées","Installation de traitement","Stations mécanisées",{"$f":"IF(Identification!$H$63=\"\",\"\",Identification!$H$63)","v":""},"Incinération des boues","Civil",{"$f":"EU_Incinération!$B$26","v":""},0,{"$f":"IFERROR(J238/SUM($J238:$J241),0)","v":0},{"$f":"EU_Incinération!$I$26","v":0},{"$f":"EU_Incinération!$G$26","v":""},{"$f":"EU_Incinération!$E$26","v":""},{"$f":"EU_Incinération!$F$26","v":""},{"$f":"EU_Incinération!$J$26-SUMIFS(EU_Incinération!$J$16:$J$25,EU_Incinération!$E$16:$E$25,\"<4\",EU_Incinération!$F$16:$F$25,\"<4\")","v":0},{"$f":"SUMIFS(EU_Incinération!$J$16:$J$25,EU_Incinération!$E$16:$E$25,\"<4\",EU_Incinération!$F$16:$F$25,\"<4\",EU_Incinération!$L$16:$L$25,\">=\"&Annee_BI,EU_Incinération!$L$16:$L$25,\"<=\"&Annee_BI+4)","v":0},{"$f":"MIN(IF(EU_Incinération!$L$16:$L$25>=Annee_BI,IF(EU_Incinération!$L$16:$L$25<=Annee_BI+4,EU_Incinération!$L$16:$L$25)))","v":0},{"$f":"MAX(IF(EU_Incinération!$L$16:$L$25>=Annee_BI,IF(EU_Incinération!$L$16:$L$25<=Annee_BI+4,EU_Incinération!$L$16:$L$25)))","v":0},{"$f":"SUMIFS(EU_Incinération!$J$16:$J$25,EU_Incinération!$E$16:$E$25,\"<4\",EU_Incinération!$F$16:$F$25,\"<4\",EU_Incinération!$L$16:$L$25,\">=\"&Annee_BI+5,EU_Incinération!$L$16:$L$25,\"<=\"&Annee_BI+9)","v":0},{"$f":"MIN(IF(EU_Incinération!$L$16:$L$25>=Annee_BI+5,IF(EU_Incinération!$L$16:$L$25<=Annee_BI+9,EU_Incinération!$L$16:$L$25)))","v":0},{"$f":"MAX(IF(EU_Incinération!$L$16:$L$25>=Annee_BI+5,IF(EU_Incinération!$L$16:$L$25<=Annee_BI+9,EU_Incinération!$L$16:$L$25)))","v":0}]
["Eaux usées","Installation de traitement","Stations mécanisées",{"$f":"IF(Identification!$H$63=\"\",\"\",Identification!$H$63)","v":""},"Incinération des boues","Mécanique",{"$f":"EU_Incinération!$B$40","v":""},0,{"$f":"IFERROR(J239/SUM($J238:$J241),0)","v":0},{"$f":"EU_Incinération!$I$40","v":0},{"$f":"EU_Incinération!$G$40","v":""},{"$f":"EU_Incinération!$E$40","v":""},{"$f":"EU_Incinération!$F$40","v":""},{"$f":"EU_Incinération!$J$40-SUMIFS(EU_Incinération!$J$30:$J$39,EU_Incinération!$E$30:$E$39,\"<4\",EU_Incinération!$F$30:$F$39,\"<4\")","v":0},{"$f":"SUMIFS(EU_Incinération!$J$30:$J$39,EU_Incinération!$E$30:$E$39,\"<4\",EU_Incinération!$F$30:$F$39,\"<4\",EU_Incinération!$L$30:$L$39,\">=\"&Annee_BI,EU_Incinération!$L$30:$L$39,\"<=\"&Annee_BI+4)","v":0},{"$f":"MIN(IF(EU_Incinération!$L$30:$L$39>=Annee_BI,IF(EU_Incinération!$L$30:$L$39<=Annee_BI+4,EU_Incinération!$L$30:$L$39)))","v":0},{"$f":"MAX(IF(EU_Incinération!$L$30:$L$39>=Annee_BI,IF(EU_Incinération!$L$30:$L$39<=Annee_BI+4,EU_Incinération!$L$30:$L$39)))","v":0},{"$f":"SUMIFS(EU_Incinération!$J$30:$J$39,EU_Incinération!$E$30:$E$39,\"<4\",EU_Incinération!$F$30:$F$39,\"<4\",EU_Incinération!$L$30:$L$39,\">=\"&Annee_BI+5,EU_Incinération!$L$30:$L$39,\"<=\"&Annee_BI+9)","v":0},{"$f":"MIN(IF(EU_Incinération!$L$30:$L$39>=Annee_BI+5,IF(EU_Incinération!$L$30:$L$39<=Annee_BI+9,EU_Incinération!$L$30:$L$39)))","v":0},{"$f":"MAX(IF(EU_Incinération!$L$30:$L$39>=Annee_BI+5,IF(EU_Incinération!$L$30:$L$39<=Annee_BI+9,EU_Incinération!$L$30:$L$39)))","v":0}]
["Eaux usées","Installation de traitement","Stations mécanisées",{"$f":"IF(Identification!$H$63=\"\",\"\",Identification!$H$63)","v":""},"Incinération des boues","Électricité",{"$f":"EU_Incinération!$B$54","v":""},0,{"$f":"IFERROR(J240/SUM($J238:$J241),0)","v":0},{"$f":"EU_Incinération!$I$54","v":0},{"$f":"EU_Incinération!$G$54","v":""},{"$f":"EU_Incinération!$E$54","v":""},{"$f":"EU_Incinération!$F$54","v":""},{"$f":"EU_Incinération!$J$54-SUMIFS(EU_Incinération!$J$44:$J$53,EU_Incinération!$E$44:$E$53,\"<4\",EU_Incinération!$F$44:$F$53,\"<4\")","v":0},{"$f":"SUMIFS(EU_Incinération!$J$44:$J$53,EU_Incinération!$E$44:$E$53,\"<4\",EU_Incinération!$F$44:$F$53,\"<4\",EU_Incinération!$L$44:$L$53,\">=\"&Annee_BI,EU_Incinération!$L$44:$L$53,\"<=\"&Annee_BI+4)","v":0},{"$f":"MIN(IF(EU_Incinération!$L$44:$L$53>=Annee_BI,IF(EU_Incinération!$L$44:$L$53<=Annee_BI+4,EU_Incinération!$L$44:$L$53)))","v":0},{"$f":"MAX(IF(EU_Incinération!$L$44:$L$53>=Annee_BI,IF(EU_Incinération!$L$44:$L$53<=Annee_BI+4,EU_Incinération!$L$44:$L$53)))","v":0},{"$f":"SUMIFS(EU_Incinération!$J$44:$J$53,EU_Incinération!$E$44:$E$53,\"<4\",EU_Incinération!$F$44:$F$53,\"<4\",EU_Incinération!$L$44:$L$53,\">=\"&Annee_BI+5,EU_Incinération!$L$44:$L$53,\"<=\"&Annee_BI+9)","v":0},{"$f":"MIN(IF(EU_Incinération!$L$44:$L$53>=Annee_BI+5,IF(EU_Incinération!$L$44:$L$53<=Annee_BI+9,EU_Incinération!$L$44:$L$53)))","v":0},{"$f":"MAX(IF(EU_Incinération!$L$44:$L$53>=Annee_BI+5,IF(EU_Incinération!$L$44:$L$53<=Annee_BI+9,EU_Incinération!$L$44:$L$53)))","v":0}]
["Eaux usées","Installation de traitement","Stations mécanisées",{"$f":"IF(Identification!$H$63=\"\",\"\",Identification!$H$63)","v":""},"Incinération des boues","Instrumentation et contrôle",{"$f":"EU_Incinération!$B$68","v":""},0,{"$f":"IFERROR(J241/SUM($J238:$J241),0)","v":0},{"$f":"EU_Incinération!$I$68","v":0},{"$f":"EU_Incinération!$G$68","v":""},{"$f":"EU_Incinération!$E$68","v":""},{"$f":"EU_Incinération!$F$68","v":""},{"$f":"EU_Incinération!$J$68-SUMIFS(EU_Incinération!$J$58:$J$67,EU_Incinération!$E$58:$E$67,\"<4\",EU_Incinération!$F$58:$F$67,\"<4\")","v":0},{"$f":"SUMIFS(EU_Incinération!$J$58:$J$67,EU_Incinération!$E$58:$E$67,\"<4\",EU_Incinération!$F$58:$F$67,\"<4\",EU_Incinération!$L$58:$L$67,\">=\"&Annee_BI,EU_Incinération!$L$58:$L$67,\"<=\"&Annee_BI+4)","v":0},{"$f":"MIN(IF(EU_Incinération!$L$58:$L$67>=Annee_BI,IF(EU_Incinération!$L$58:$L$67<=Annee_BI+4,EU_Incinération!$L$58:$L$67)))","v":0},{"$f":"MAX(IF(EU_Incinération!$L$58:$L$67>=Annee_BI,IF(EU_Incinération!$L$58:$L$67<=Annee_BI+4,EU_Incinération!$L$58:$L$67)))","v":0},{"$f":"SUMIFS(EU_Incinération!$J$58:$J$67,EU_Incinération!$E$58:$E$67,\"<4\",EU_Incinération!$F$58:$F$67,\"<4\",EU_Incinération!$L$58:$L$67,\">=\"&Annee_BI+5,EU_Incinération!$L$58:$L$67,\"<=\"&Annee_BI+9)","v":0},{"$f":"MIN(IF(EU_Incinération!$L$58:$L$67>=Annee_BI+5,IF(EU_Incinération!$L$58:$L$67<=Annee_BI+9,EU_Incinération!$L$58:$L$67)))","v":0},{"$f":"MAX(IF(EU_Incinération!$L$58:$L$67>=Annee_BI+5,IF(EU_Incinération!$L$58:$L$67<=Annee_BI+9,EU_Incinération!$L$58:$L$67)))","v":0}]
["Eaux usées","Installation de traitement","Stations mécanisées",{"$f":"IF(Identification!$H$63=\"\",\"\",Identification!$H$63)","v":""},"Traitement des odeurs","Civil",{"$f":"EU_Traitement_odeurs!$B$26","v":""},0,{"$f":"IFERROR(J242/SUM($J242:$J245),0)","v":0},{"$f":"EU_Traitement_odeurs!$I$26","v":0},{"$f":"EU_Traitement_odeurs!$G$26","v":""},{"$f":"EU_Traitement_odeurs!$E$26","v":""},{"$f":"EU_Traitement_odeurs!$F$26","v":""},{"$f":"EU_Traitement_odeurs!$J$26-SUMIFS(EU_Traitement_odeurs!$J$16:$J$25,EU_Traitement_odeurs!$E$16:$E$25,\"<4\",EU_Traitement_odeurs!$F$16:$F$25,\"<4\")","v":0},{"$f":"SUMIFS(EU_Traitement_odeurs!$J$16:$J$25,EU_Traitement_odeurs!$E$16:$E$25,\"<4\",EU_Traitement_odeurs!$F$16:$F$25,\"<4\",EU_Traitement_odeurs!$L$16:$L$25,\">=\"&Annee_BI,EU_Traitement_odeurs!$L$16:$L$25,\"<=\"&Annee_BI+4)","v":0},{"$f":"MIN(IF(EU_Traitement_odeurs!$L$16:$L$25>=Annee_BI,IF(EU_Traitement_odeurs!$L$16:$L$25<=Annee_BI+4,EU_Traitement_odeurs!$L$16:$L$25)))","v":0},{"$f":"MAX(IF(EU_Traitement_odeurs!$L$16:$L$25>=Annee_BI,IF(EU_Traitement_odeurs!$L$16:$L$25<=Annee_BI+4,EU_Traitement_odeurs!$L$16:$L$25)))","v":0},{"$f":"SUMIFS(EU_Traitement_odeurs!$J$16:$J$25,EU_Traitement_odeurs!$E$16:$E$25,\"<4\",EU_Traitement_odeurs!$F$16:$F$25,\"<4\",EU_Traitement_odeurs!$L$16:$L$25,\">=\"&Annee_BI+5,EU_Traitement_odeurs!$L$16:$L$25,\"<=\"&Annee_BI+9)","v":0},{"$f":"MIN(IF(EU_Traitement_odeurs!$L$16:$L$25>=Annee_BI+5,IF(EU_Traitement_odeurs!$L$16:$L$25<=Annee_BI+9,EU_Traitement_odeurs!$L$16:$L$25)))","v":0},{"$f":"MAX(IF(EU_Traitement_odeurs!$L$16:$L$25>=Annee_BI+5,IF(EU_Traitement_odeurs!$L$16:$L$25<=Annee_BI+9,EU_Traitement_odeurs!$L$16:$L$25)))","v":0}]
["Eaux usées","Installation de traitement","Stations mécanisées",{"$f":"IF(Identification!$H$63=\"\",\"\",Identification!$H$63)","v":""},"Traitement des odeurs","Mécanique",{"$f":"EU_Traitement_odeurs!$B$40","v":""},0,{"$f":"IFERROR(J243/SUM($J242:$J245),0)","v":0},{"$f":"EU_Traitement_odeurs!$I$40","v":0},{"$f":"EU_Traitement_odeurs!$G$40","v":""},{"$f":"EU_Traitement_odeurs!$E$40","v":""},{"$f":"EU_Traitement_odeurs!$F$40","v":""},{"$f":"EU_Traitement_odeurs!$J$40-SUMIFS(EU_Traitement_odeurs!$J$30:$J$39,EU_Traitement_odeurs!$E$30:$E$39,\"<4\",EU_Traitement_odeurs!$F$30:$F$39,\"<4\")","v":0},{"$f":"SUMIFS(EU_Traitement_odeurs!$J$30:$J$39,EU_Traitement_odeurs!$E$30:$E$39,\"<4\",EU_Traitement_odeurs!$F$30:$F$39,\"<4\",EU_Traitement_odeurs!$L$30:$L$39,\">=\"&Annee_BI,EU_Traitement_odeurs!$L$30:$L$39,\"<=\"&Annee_BI+4)","v":0},{"$f":"MIN(IF(EU_Traitement_odeurs!$L$30:$L$39>=Annee_BI,IF(EU_Traitement_odeurs!$L$30:$L$39<=Annee_BI+4,EU_Traitement_odeurs!$L$30:$L$39)))","v":0},{"$f":"MAX(IF(EU_Traitement_odeurs!$L$30:$L$39>=Annee_BI,IF(EU_Traitement_odeurs!$L$30:$L$39<=Annee_BI+4,EU_Traitement_odeurs!$L$30:$L$39)))","v":0},{"$f":"SUMIFS(EU_Traitement_odeurs!$J$30:$J$39,EU_Traitement_odeurs!$E$30:$E$39,\"<4\",EU_Traitement_odeurs!$F$30:$F$39,\"<4\",EU_Traitement_odeurs!$L$30:$L$39,\">=\"&Annee_BI+5,EU_Traitement_odeurs!$L$30:$L$39,\"<=\"&Annee_BI+9)","v":0},{"$f":"MIN(IF(EU_Traitement_odeurs!$L$30:$L$39>=Annee_BI+5,IF(EU_Traitement_odeurs!$L$30:$L$39<=Annee_BI+9,EU_Traitement_odeurs!$L$30:$L$39)))","v":0},{"$f":"MAX(IF(EU_Traitement_odeurs!$L$30:$L$39>=Annee_BI+5,IF(EU_Traitement_odeurs!$L$30:$L$39<=Annee_BI+9,EU_Traitement_odeurs!$L$30:$L$39)))","v":0}]
["Eaux usées","Installation de traitement","Stations mécanisées",{"$f":"IF(Identification!$H$63=\"\",\"\",Identification!$H$63)","v":""},"Traitement des odeurs","Électricité",{"$f":"EU_Traitement_odeurs!$B$54","v":""},0,{"$f":"IFERROR(J244/SUM($J242:$J245),0)","v":0},{"$f":"EU_Traitement_odeurs!$I$54","v":0},{"$f":"EU_Traitement_odeurs!$G$54","v":""},{"$f":"EU_Traitement_odeurs!$E$54","v":""},{"$f":"EU_Traitement_odeurs!$F$54","v":""},{"$f":"EU_Traitement_odeurs!$J$54-SUMIFS(EU_Traitement_odeurs!$J$44:$J$53,EU_Traitement_odeurs!$E$44:$E$53,\"<4\",EU_Traitement_odeurs!$F$44:$F$53,\"<4\")","v":0},{"$f":"SUMIFS(EU_Traitement_odeurs!$J$44:$J$53,EU_Traitement_odeurs!$E$44:$E$53,\"<4\",EU_Traitement_odeurs!$F$44:$F$53,\"<4\",EU_Traitement_odeurs!$L$44:$L$53,\">=\"&Annee_BI,EU_Traitement_odeurs!$L$44:$L$53,\"<=\"&Annee_BI+4)","v":0},{"$f":"MIN(IF(EU_Traitement_odeurs!$L$44:$L$53>=Annee_BI,IF(EU_Traitement_odeurs!$L$44:$L$53<=Annee_BI+4,EU_Traitement_odeurs!$L$44:$L$53)))","v":0},{"$f":"MAX(IF(EU_Traitement_odeurs!$L$44:$L$53>=Annee_BI,IF(EU_Traitement_odeurs!$L$44:$L$53<=Annee_BI+4,EU_Traitement_odeurs!$L$44:$L$53)))","v":0},{"$f":"SUMIFS(EU_Traitement_odeurs!$J$44:$J$53,EU_Traitement_odeurs!$E$44:$E$53,\"<4\",EU_Traitement_odeurs!$F$44:$F$53,\"<4\",EU_Traitement_odeurs!$L$44:$L$53,\">=\"&Annee_BI+5,EU_Traitement_odeurs!$L$44:$L$53,\"<=\"&Annee_BI+9)","v":0},{"$f":"MIN(IF(EU_Traitement_odeurs!$L$44:$L$53>=Annee_BI+5,IF(EU_Traitement_odeurs!$L$44:$L$53<=Annee_BI+9,EU_Traitement_odeurs!$L$44:$L$53)))","v":0},{"$f":"MAX(IF(EU_Traitement_odeurs!$L$44:$L$53>=Annee_BI+5,IF(EU_Traitement_odeurs!$L$44:$L$53<=Annee_BI+9,EU_Traitement_odeurs!$L$44:$L$53)))","v":0}]
["Eaux usées","Installation de traitement","Stations mécanisées",{"$f":"IF(Identification!$H$63=\"\",\"\",Identification!$H$63)","v":""},"Traitement des odeurs","Instrumentation et contrôle",{"$f":"EU_Traitement_odeurs!$B$68","v":""},0,{"$f":"IFERROR(J245/SUM($J242:$J245),0)","v":0},{"$f":"EU_Traitement_odeurs!$I$68","v":0},{"$f":"EU_Traitement_odeurs!$G$68","v":""},{"$f":"EU_Traitement_odeurs!$E$68","v":""},{"$f":"EU_Traitement_odeurs!$F$68","v":""},{"$f":"EU_Traitement_odeurs!$J$68-SUMIFS(EU_Traitement_odeurs!$J$58:$J$67,EU_Traitement_odeurs!$E$58:$E$67,\"<4\",EU_Traitement_odeurs!$F$58:$F$67,\"<4\")","v":0},{"$f":"SUMIFS(EU_Traitement_odeurs!$J$58:$J$67,EU_Traitement_odeurs!$E$58:$E$67,\"<4\",EU_Traitement_odeurs!$F$58:$F$67,\"<4\",EU_Traitement_odeurs!$L$58:$L$67,\">=\"&Annee_BI,EU_Traitement_odeurs!$L$58:$L$67,\"<=\"&Annee_BI+4)","v":0},{"$f":"MIN(IF(EU_Traitement_odeurs!$L$58:$L$67>=Annee_BI,IF(EU_Traitement_odeurs!$L$58:$L$67<=Annee_BI+4,EU_Traitement_odeurs!$L$58:$L$67)))","v":0},{"$f":"MAX(IF(EU_Traitement_odeurs!$L$58:$L$67>=Annee_BI,IF(EU_Traitement_odeurs!$L$58:$L$67<=Annee_BI+4,EU_Traitement_odeurs!$L$58:$L$67)))","v":0},{"$f":"SUMIFS(EU_Traitement_odeurs!$J$58:$J$67,EU_Traitement_odeurs!$E$58:$E$67,\"<4\",EU_Traitement_odeurs!$F$58:$F$67,\"<4\",EU_Traitement_odeurs!$L$58:$L$67,\">=\"&Annee_BI+5,EU_Traitement_odeurs!$L$58:$L$67,\"<=\"&Annee_BI+9)","v":0},{"$f":"MIN(IF(EU_Traitement_odeurs!$L$58:$L$67>=Annee_BI+5,IF(EU_Traitement_odeurs!$L$58:$L$67<=Annee_BI+9,EU_Traitement_odeurs!$L$58:$L$67)))","v":0},{"$f":"MAX(IF(EU_Traitement_odeurs!$L$58:$L$67>=Annee_BI+5,IF(EU_Traitement_odeurs!$L$58:$L$67<=Annee_BI+9,EU_Traitement_odeurs!$L$58:$L$67)))","v":0}]
["Eaux usées","Installation de traitement","Stations mécanisées",{"$f":"IF(Identification!$H$63=\"\",\"\",Identification!$H$63)","v":""},"Systèmes communs","Civil",{"$f":"Systèmes_communs!$B$26","v":""},0,{"$f":"IFERROR(J246/SUM($J246:$J249),0)","v":0},{"$f":"Systèmes_communs!$I$26","v":0},{"$f":"Systèmes_communs!$G$26","v":""},{"$f":"Systèmes_communs!$E$26","v":""},{"$f":"Systèmes_communs!$F$26","v":""},{"$f":"Systèmes_communs!$J$26-SUMIFS(Systèmes_communs!$J$16:$J$25,Systèmes_communs!$E$16:$E$25,\"<4\",Systèmes_communs!$F$16:$F$25,\"<4\")","v":0},{"$f":"SUMIFS(Systèmes_communs!$J$16:$J$25,Systèmes_communs!$E$16:$E$25,\"<4\",Systèmes_communs!$F$16:$F$25,\"<4\",Systèmes_communs!$L$16:$L$25,\">=\"&Annee_BI,Systèmes_communs!$L$16:$L$25,\"<=\"&Annee_BI+4)","v":0},{"$f":"MIN(IF(Systèmes_communs!$L$16:$L$25>=Annee_BI,IF(Systèmes_communs!$L$16:$L$25<=Annee_BI+4,Systèmes_communs!$L$16:$L$25)))","v":0},{"$f":"MAX(IF(Systèmes_communs!$L$16:$L$25>=Annee_BI,IF(Systèmes_communs!$L$16:$L$25<=Annee_BI+4,Systèmes_communs!$L$16:$L$25)))","v":0},{"$f":"SUMIFS(Systèmes_communs!$J$16:$J$25,Systèmes_communs!$E$16:$E$25,\"<4\",Systèmes_communs!$F$16:$F$25,\"<4\",Systèmes_communs!$L$16:$L$25,\">=\"&Annee_BI+5,Systèmes_communs!$L$16:$L$25,\"<=\"&Annee_BI+9)","v":0},{"$f":"MIN(IF(Systèmes_communs!$L$16:$L$25>=Annee_BI+5,IF(Systèmes_communs!$L$16:$L$25<=Annee_BI+9,Systèmes_communs!$L$16:$L$25)))","v":0},{"$f":"MAX(IF(Systèmes_communs!$L$16:$L$25>=Annee_BI+5,IF(Systèmes_communs!$L$16:$L$25<=Annee_BI+9,Systèmes_communs!$L$16:$L$25)))","v":0}]
["Eaux usées","Installation de traitement","Stations mécanisées",{"$f":"IF(Identification!$H$63=\"\",\"\",Identification!$H$63)","v":""},"Systèmes communs","Mécanique",{"$f":"Systèmes_communs!$B$40","v":""},0,{"$f":"IFERROR(J247/SUM($J246:$J249),0)","v":0},{"$f":"Systèmes_communs!$I$40","v":0},{"$f":"Systèmes_communs!$G$40","v":""},{"$f":"Systèmes_communs!$E$40","v":""},{"$f":"Systèmes_communs!$F$40","v":""},{"$f":"Systèmes_communs!$J$40-SUMIFS(Systèmes_communs!$J$30:$J$39,Systèmes_communs!$E$30:$E$39,\"<4\",Systèmes_communs!$F$30:$F$39,\"<4\")","v":0},{"$f":"SUMIFS(Systèmes_communs!$J$30:$J$39,Systèmes_communs!$E$30:$E$39,\"<4\",Systèmes_communs!$F$30:$F$39,\"<4\",Systèmes_communs!$L$30:$L$39,\">=\"&Annee_BI,Systèmes_communs!$L$30:$L$39,\"<=\"&Annee_BI+4)","v":0},{"$f":"MIN(IF(Systèmes_communs!$L$30:$L$39>=Annee_BI,IF(Systèmes_communs!$L$30:$L$39<=Annee_BI+4,Systèmes_communs!$L$30:$L$39)))","v":0},{"$f":"MAX(IF(Systèmes_communs!$L$30:$L$39>=Annee_BI,IF(Systèmes_communs!$L$30:$L$39<=Annee_BI+4,Systèmes_communs!$L$30:$L$39)))","v":0},{"$f":"SUMIFS(Systèmes_communs!$J$30:$J$39,Systèmes_communs!$E$30:$E$39,\"<4\",Systèmes_communs!$F$30:$F$39,\"<4\",Systèmes_communs!$L$30:$L$39,\">=\"&Annee_BI+5,Systèmes_communs!$L$30:$L$39,\"<=\"&Annee_BI+9)","v":0},{"$f":"MIN(IF(Systèmes_communs!$L$30:$L$39>=Annee_BI+5,IF(Systèmes_communs!$L$30:$L$39<=Annee_BI+9,Systèmes_communs!$L$30:$L$39)))","v":0},{"$f":"MAX(IF(Systèmes_communs!$L$30:$L$39>=Annee_BI+5,IF(Systèmes_communs!$L$30:$L$39<=Annee_BI+9,Systèmes_communs!$L$30:$L$39)))","v":0}]
["Eaux usées","Installation de traitement","Stations mécanisées",{"$f":"IF(Identification!$H$63=\"\",\"\",Identification!$H$63)","v":""},"Systèmes communs","Électricité",{"$f":"Systèmes_communs!$B$54","v":""},0,{"$f":"IFERROR(J248/SUM($J246:$J249),0)","v":0},{"$f":"Systèmes_communs!$I$54","v":0},{"$f":"Systèmes_communs!$G$54","v":""},{"$f":"Systèmes_communs!$E$54","v":""},{"$f":"Systèmes_communs!$F$54","v":""},{"$f":"Systèmes_communs!$J$54-SUMIFS(Systèmes_communs!$J$44:$J$53,Systèmes_communs!$E$44:$E$53,\"<4\",Systèmes_communs!$F$44:$F$53,\"<4\")","v":0},{"$f":"SUMIFS(Systèmes_communs!$J$44:$J$53,Systèmes_communs!$E$44:$E$53,\"<4\",Systèmes_communs!$F$44:$F$53,\"<4\",Systèmes_communs!$L$44:$L$53,\">=\"&Annee_BI,Systèmes_communs!$L$44:$L$53,\"<=\"&Annee_BI+4)","v":0},{"$f":"MIN(IF(Systèmes_communs!$L$44:$L$53>=Annee_BI,IF(Systèmes_communs!$L$44:$L$53<=Annee_BI+4,Systèmes_communs!$L$44:$L$53)))","v":0},{"$f":"MAX(IF(Systèmes_communs!$L$44:$L$53>=Annee_BI,IF(Systèmes_communs!$L$44:$L$53<=Annee_BI+4,Systèmes_communs!$L$44:$L$53)))","v":0},{"$f":"SUMIFS(Systèmes_communs!$J$44:$J$53,Systèmes_communs!$E$44:$E$53,\"<4\",Systèmes_communs!$F$44:$F$53,\"<4\",Systèmes_communs!$L$44:$L$53,\">=\"&Annee_BI+5,Systèmes_communs!$L$44:$L$53,\"<=\"&Annee_BI+9)","v":0},{"$f":"MIN(IF(Systèmes_communs!$L$44:$L$53>=Annee_BI+5,IF(Systèmes_communs!$L$44:$L$53<=Annee_BI+9,Systèmes_communs!$L$44:$L$53)))","v":0},{"$f":"MAX(IF(Systèmes_communs!$L$44:$L$53>=Annee_BI+5,IF(Systèmes_communs!$L$44:$L$53<=Annee_BI+9,Systèmes_communs!$L$44:$L$53)))","v":0}]
["Eaux usées","Installation de traitement","Stations mécanisées",{"$f":"IF(Identification!$H$63=\"\",\"\",Identification!$H$63)","v":""},"Systèmes communs","Instrumentation et contrôle",{"$f":"Systèmes_communs!$B$68","v":""},0,{"$f":"IFERROR(J249/SUM($J246:$J249),0)","v":0},{"$f":"Systèmes_communs!$I$68","v":0},{"$f":"Systèmes_communs!$G$68","v":""},{"$f":"Systèmes_communs!$E$68","v":""},{"$f":"Systèmes_communs!$F$68","v":""},{"$f":"Systèmes_communs!$J$68-SUMIFS(Systèmes_communs!$J$58:$J$67,Systèmes_communs!$E$58:$E$67,\"<4\",Systèmes_communs!$F$58:$F$67,\"<4\")","v":0},{"$f":"SUMIFS(Systèmes_communs!$J$58:$J$67,Systèmes_communs!$E$58:$E$67,\"<4\",Systèmes_communs!$F$58:$F$67,\"<4\",Systèmes_communs!$L$58:$L$67,\">=\"&Annee_BI,Systèmes_communs!$L$58:$L$67,\"<=\"&Annee_BI+4)","v":0},{"$f":"MIN(IF(Systèmes_communs!$L$58:$L$67>=Annee_BI,IF(Systèmes_communs!$L$58:$L$67<=Annee_BI+4,Systèmes_communs!$L$58:$L$67)))","v":0},{"$f":"MAX(IF(Systèmes_communs!$L$58:$L$67>=Annee_BI,IF(Systèmes_communs!$L$58:$L$67<=Annee_BI+4,Systèmes_communs!$L$58:$L$67)))","v":0},{"$f":"SUMIFS(Systèmes_communs!$J$58:$J$67,Systèmes_communs!$E$58:$E$67,\"<4\",Systèmes_communs!$F$58:$F$67,\"<4\",Systèmes_communs!$L$58:$L$67,\">=\"&Annee_BI+5,Systèmes_communs!$L$58:$L$67,\"<=\"&Annee_BI+9)","v":0},{"$f":"MIN(IF(Systèmes_communs!$L$58:$L$67>=Annee_BI+5,IF(Systèmes_communs!$L$58:$L$67<=Annee_BI+9,Systèmes_communs!$L$58:$L$67)))","v":0},{"$f":"MAX(IF(Systèmes_communs!$L$58:$L$67>=Annee_BI+5,IF(Systèmes_communs!$L$58:$L$67<=Annee_BI+9,Systèmes_communs!$L$58:$L$67)))","v":0}]
["Eaux usées","Installation de traitement","Étangs",{"$f":"IF(Identification!$H$63=\"\",\"\",Identification!$H$63)","v":""},"Affluent","Civil",{"$f":"EU_Affluent!$B$26","v":""},0,{"$f":"IFERROR(J250/SUM($J250:$J253),0)","v":0},{"$f":"EU_Affluent!$I$26","v":0},{"$f":"EU_Affluent!$G$26","v":""},{"$f":"EU_Affluent!$E$26","v":""},{"$f":"EU_Affluent!$F$26","v":""},{"$f":"EU_Affluent!$J$26-SUMIFS(EU_Affluent!$J$16:$J$25,EU_Affluent!$E$16:$E$25,\"<4\",EU_Affluent!$F$16:$F$25,\"<4\")","v":0},{"$f":"SUMIFS(EU_Affluent!$J$16:$J$25,EU_Affluent!$E$16:$E$25,\"<4\",EU_Affluent!$F$16:$F$25,\"<4\",EU_Affluent!$L$16:$L$25,\">=\"&Annee_BI,EU_Affluent!$L$16:$L$25,\"<=\"&Annee_BI+4)","v":0},{"$f":"MIN(IF(EU_Affluent!$L$16:$L$25>=Annee_BI,IF(EU_Affluent!$L$16:$L$25<=Annee_BI+4,EU_Affluent!$L$16:$L$25)))","v":0},{"$f":"MAX(IF(EU_Affluent!$L$16:$L$25>=Annee_BI,IF(EU_Affluent!$L$16:$L$25<=Annee_BI+4,EU_Affluent!$L$16:$L$25)))","v":0},{"$f":"SUMIFS(EU_Affluent!$J$16:$J$25,EU_Affluent!$E$16:$E$25,\"<4\",EU_Affluent!$F$16:$F$25,\"<4\",EU_Affluent!$L$16:$L$25,\">=\"&Annee_BI+5,EU_Affluent!$L$16:$L$25,\"<=\"&Annee_BI+9)","v":0},{"$f":"MIN(IF(EU_Affluent!$L$16:$L$25>=Annee_BI+5,IF(EU_Affluent!$L$16:$L$25<=Annee_BI+9,EU_Affluent!$L$16:$L$25)))","v":0},{"$f":"MAX(IF(EU_Affluent!$L$16:$L$25>=Annee_BI+5,IF(EU_Affluent!$L$16:$L$25<=Annee_BI+9,EU_Affluent!$L$16:$L$25)))","v":0}]
["Eaux usées","Installation de traitement","Étangs",{"$f":"IF(Identification!$H$63=\"\",\"\",Identification!$H$63)","v":""},"Affluent","Mécanique",{"$f":"EU_Affluent!$B$40","v":""},0,{"$f":"IFERROR(J251/SUM($J250:$J253),0)","v":0},{"$f":"EU_Affluent!$I$40","v":0},{"$f":"EU_Affluent!$G$40","v":""},{"$f":"EU_Affluent!$E$40","v":""},{"$f":"EU_Affluent!$F$40","v":""},{"$f":"EU_Affluent!$J$40-SUMIFS(EU_Affluent!$J$30:$J$39,EU_Affluent!$E$30:$E$39,\"<4\",EU_Affluent!$F$30:$F$39,\"<4\")","v":0},{"$f":"SUMIFS(EU_Affluent!$J$30:$J$39,EU_Affluent!$E$30:$E$39,\"<4\",EU_Affluent!$F$30:$F$39,\"<4\",EU_Affluent!$L$30:$L$39,\">=\"&Annee_BI,EU_Affluent!$L$30:$L$39,\"<=\"&Annee_BI+4)","v":0},{"$f":"MIN(IF(EU_Affluent!$L$30:$L$39>=Annee_BI,IF(EU_Affluent!$L$30:$L$39<=Annee_BI+4,EU_Affluent!$L$30:$L$39)))","v":0},{"$f":"MAX(IF(EU_Affluent!$L$30:$L$39>=Annee_BI,IF(EU_Affluent!$L$30:$L$39<=Annee_BI+4,EU_Affluent!$L$30:$L$39)))","v":0},{"$f":"SUMIFS(EU_Affluent!$J$30:$J$39,EU_Affluent!$E$30:$E$39,\"<4\",EU_Affluent!$F$30:$F$39,\"<4\",EU_Affluent!$L$30:$L$39,\">=\"&Annee_BI+5,EU_Affluent!$L$30:$L$39,\"<=\"&Annee_BI+9)","v":0},{"$f":"MIN(IF(EU_Affluent!$L$30:$L$39>=Annee_BI+5,IF(EU_Affluent!$L$30:$L$39<=Annee_BI+9,EU_Affluent!$L$30:$L$39)))","v":0},{"$f":"MAX(IF(EU_Affluent!$L$30:$L$39>=Annee_BI+5,IF(EU_Affluent!$L$30:$L$39<=Annee_BI+9,EU_Affluent!$L$30:$L$39)))","v":0}]
["Eaux usées","Installation de traitement","Étangs",{"$f":"IF(Identification!$H$63=\"\",\"\",Identification!$H$63)","v":""},"Affluent","Électricité",{"$f":"EU_Affluent!$B$54","v":""},0,{"$f":"IFERROR(J252/SUM($J250:$J253),0)","v":0},{"$f":"EU_Affluent!$I$54","v":0},{"$f":"EU_Affluent!$G$54","v":""},{"$f":"EU_Affluent!$E$54","v":""},{"$f":"EU_Affluent!$F$54","v":""},{"$f":"EU_Affluent!$J$54-SUMIFS(EU_Affluent!$J$44:$J$53,EU_Affluent!$E$44:$E$53,\"<4\",EU_Affluent!$F$44:$F$53,\"<4\")","v":0},{"$f":"SUMIFS(EU_Affluent!$J$44:$J$53,EU_Affluent!$E$44:$E$53,\"<4\",EU_Affluent!$F$44:$F$53,\"<4\",EU_Affluent!$L$44:$L$53,\">=\"&Annee_BI,EU_Affluent!$L$44:$L$53,\"<=\"&Annee_BI+4)","v":0},{"$f":"MIN(IF(EU_Affluent!$L$44:$L$53>=Annee_BI,IF(EU_Affluent!$L$44:$L$53<=Annee_BI+4,EU_Affluent!$L$44:$L$53)))","v":0},{"$f":"MAX(IF(EU_Affluent!$L$44:$L$53>=Annee_BI,IF(EU_Affluent!$L$44:$L$53<=Annee_BI+4,EU_Affluent!$L$44:$L$53)))","v":0},{"$f":"SUMIFS(EU_Affluent!$J$44:$J$53,EU_Affluent!$E$44:$E$53,\"<4\",EU_Affluent!$F$44:$F$53,\"<4\",EU_Affluent!$L$44:$L$53,\">=\"&Annee_BI+5,EU_Affluent!$L$44:$L$53,\"<=\"&Annee_BI+9)","v":0},{"$f":"MIN(IF(EU_Affluent!$L$44:$L$53>=Annee_BI+5,IF(EU_Affluent!$L$44:$L$53<=Annee_BI+9,EU_Affluent!$L$44:$L$53)))","v":0},{"$f":"MAX(IF(EU_Affluent!$L$44:$L$53>=Annee_BI+5,IF(EU_Affluent!$L$44:$L$53<=Annee_BI+9,EU_Affluent!$L$44:$L$53)))","v":0}]
["Eaux usées","Installation de traitement","Étangs",{"$f":"IF(Identification!$H$63=\"\",\"\",Identification!$H$63)","v":""},"Affluent","Instrumentation et contrôle",{"$f":"EU_Affluent!$B$68","v":""},0,{"$f":"IFERROR(J253/SUM($J250:$J253),0)","v":0},{"$f":"EU_Affluent!$I$68","v":0},{"$f":"EU_Affluent!$G$68","v":""},{"$f":"EU_Affluent!$E$68","v":""},{"$f":"EU_Affluent!$F$68","v":""},{"$f":"EU_Affluent!$J$68-SUMIFS(EU_Affluent!$J$58:$J$67,EU_Affluent!$E$58:$E$67,\"<4\",EU_Affluent!$F$58:$F$67,\"<4\")","v":0},{"$f":"SUMIFS(EU_Affluent!$J$58:$J$67,EU_Affluent!$E$58:$E$67,\"<4\",EU_Affluent!$F$58:$F$67,\"<4\",EU_Affluent!$L$58:$L$67,\">=\"&Annee_BI,EU_Affluent!$L$58:$L$67,\"<=\"&Annee_BI+4)","v":0},{"$f":"MIN(IF(EU_Affluent!$L$58:$L$67>=Annee_BI,IF(EU_Affluent!$L$58:$L$67<=Annee_BI+4,EU_Affluent!$L$58:$L$67)))","v":0},{"$f":"MAX(IF(EU_Affluent!$L$58:$L$67>=Annee_BI,IF(EU_Affluent!$L$58:$L$67<=Annee_BI+4,EU_Affluent!$L$58:$L$67)))","v":0},{"$f":"SUMIFS(EU_Affluent!$J$58:$J$67,EU_Affluent!$E$58:$E$67,\"<4\",EU_Affluent!$F$58:$F$67,\"<4\",EU_Affluent!$L$58:$L$67,\">=\"&Annee_BI+5,EU_Affluent!$L$58:$L$67,\"<=\"&Annee_BI+9)","v":0},{"$f":"MIN(IF(EU_Affluent!$L$58:$L$67>=Annee_BI+5,IF(EU_Affluent!$L$58:$L$67<=Annee_BI+9,EU_Affluent!$L$58:$L$67)))","v":0},{"$f":"MAX(IF(EU_Affluent!$L$58:$L$67>=Annee_BI+5,IF(EU_Affluent!$L$58:$L$67<=Annee_BI+9,EU_Affluent!$L$58:$L$67)))","v":0}]
["Eaux usées","Installation de traitement","Étangs",{"$f":"IF(Identification!$H$63=\"\",\"\",Identification!$H$63)","v":""},"Dégrillage","Civil",{"$f":"EU_Dégrillage!$B$26","v":""},0,{"$f":"IFERROR(J254/SUM($J254:$J257),0)","v":0},{"$f":"EU_Dégrillage!$I$26","v":0},{"$f":"EU_Dégrillage!$G$26","v":""},{"$f":"EU_Dégrillage!$E$26","v":""},{"$f":"EU_Dégrillage!$F$26","v":""},{"$f":"EU_Dégrillage!$J$26-SUMIFS(EU_Dégrillage!$J$16:$J$25,EU_Dégrillage!$E$16:$E$25,\"<4\",EU_Dégrillage!$F$16:$F$25,\"<4\")","v":0},{"$f":"SUMIFS(EU_Dégrillage!$J$16:$J$25,EU_Dégrillage!$E$16:$E$25,\"<4\",EU_Dégrillage!$F$16:$F$25,\"<4\",EU_Dégrillage!$L$16:$L$25,\">=\"&Annee_BI,EU_Dégrillage!$L$16:$L$25,\"<=\"&Annee_BI+4)","v":0},{"$f":"MIN(IF(EU_Dégrillage!$L$16:$L$25>=Annee_BI,IF(EU_Dégrillage!$L$16:$L$25<=Annee_BI+4,EU_Dégrillage!$L$16:$L$25)))","v":0},{"$f":"MAX(IF(EU_Dégrillage!$L$16:$L$25>=Annee_BI,IF(EU_Dégrillage!$L$16:$L$25<=Annee_BI+4,EU_Dégrillage!$L$16:$L$25)))","v":0},{"$f":"SUMIFS(EU_Dégrillage!$J$16:$J$25,EU_Dégrillage!$E$16:$E$25,\"<4\",EU_Dégrillage!$F$16:$F$25,\"<4\",EU_Dégrillage!$L$16:$L$25,\">=\"&Annee_BI+5,EU_Dégrillage!$L$16:$L$25,\"<=\"&Annee_BI+9)","v":0},{"$f":"MIN(IF(EU_Dégrillage!$L$16:$L$25>=Annee_BI+5,IF(EU_Dégrillage!$L$16:$L$25<=Annee_BI+9,EU_Dégrillage!$L$16:$L$25)))","v":0},{"$f":"MAX(IF(EU_Dégrillage!$L$16:$L$25>=Annee_BI+5,IF(EU_Dégrillage!$L$16:$L$25<=Annee_BI+9,EU_Dégrillage!$L$16:$L$25)))","v":0}]
["Eaux usées","Installation de traitement","Étangs",{"$f":"IF(Identification!$H$63=\"\",\"\",Identification!$H$63)","v":""},"Dégrillage","Mécanique",{"$f":"EU_Dégrillage!$B$40","v":""},0,{"$f":"IFERROR(J255/SUM($J254:$J257),0)","v":0},{"$f":"EU_Dégrillage!$I$40","v":0},{"$f":"EU_Dégrillage!$G$40","v":""},{"$f":"EU_Dégrillage!$E$40","v":""},{"$f":"EU_Dégrillage!$F$40","v":""},{"$f":"EU_Dégrillage!$J$40-SUMIFS(EU_Dégrillage!$J$30:$J$39,EU_Dégrillage!$E$30:$E$39,\"<4\",EU_Dégrillage!$F$30:$F$39,\"<4\")","v":0},{"$f":"SUMIFS(EU_Dégrillage!$J$30:$J$39,EU_Dégrillage!$E$30:$E$39,\"<4\",EU_Dégrillage!$F$30:$F$39,\"<4\",EU_Dégrillage!$L$30:$L$39,\">=\"&Annee_BI,EU_Dégrillage!$L$30:$L$39,\"<=\"&Annee_BI+4)","v":0},{"$f":"MIN(IF(EU_Dégrillage!$L$30:$L$39>=Annee_BI,IF(EU_Dégrillage!$L$30:$L$39<=Annee_BI+4,EU_Dégrillage!$L$30:$L$39)))","v":0},{"$f":"MAX(IF(EU_Dégrillage!$L$30:$L$39>=Annee_BI,IF(EU_Dégrillage!$L$30:$L$39<=Annee_BI+4,EU_Dégrillage!$L$30:$L$39)))","v":0},{"$f":"SUMIFS(EU_Dégrillage!$J$30:$J$39,EU_Dégrillage!$E$30:$E$39,\"<4\",EU_Dégrillage!$F$30:$F$39,\"<4\",EU_Dégrillage!$L$30:$L$39,\">=\"&Annee_BI+5,EU_Dégrillage!$L$30:$L$39,\"<=\"&Annee_BI+9)","v":0},{"$f":"MIN(IF(EU_Dégrillage!$L$30:$L$39>=Annee_BI+5,IF(EU_Dégrillage!$L$30:$L$39<=Annee_BI+9,EU_Dégrillage!$L$30:$L$39)))","v":0},{"$f":"MAX(IF(EU_Dégrillage!$L$30:$L$39>=Annee_BI+5,IF(EU_Dégrillage!$L$30:$L$39<=Annee_BI+9,EU_Dégrillage!$L$30:$L$39)))","v":0}]
["Eaux usées","Installation de traitement","Étangs",{"$f":"IF(Identification!$H$63=\"\",\"\",Identification!$H$63)","v":""},"Dégrillage","Électricité",{"$f":"EU_Dégrillage!$B$54","v":""},0,{"$f":"IFERROR(J256/SUM($J254:$J257),0)","v":0},{"$f":"EU_Dégrillage!$I$54","v":0},{"$f":"EU_Dégrillage!$G$54","v":""},{"$f":"EU_Dégrillage!$E$54","v":""},{"$f":"EU_Dégrillage!$F$54","v":""},{"$f":"EU_Dégrillage!$J$54-SUMIFS(EU_Dégrillage!$J$44:$J$53,EU_Dégrillage!$E$44:$E$53,\"<4\",EU_Dégrillage!$F$44:$F$53,\"<4\")","v":0},{"$f":"SUMIFS(EU_Dégrillage!$J$44:$J$53,EU_Dégrillage!$E$44:$E$53,\"<4\",EU_Dégrillage!$F$44:$F$53,\"<4\",EU_Dégrillage!$L$44:$L$53,\">=\"&Annee_BI,EU_Dégrillage!$L$44:$L$53,\"<=\"&Annee_BI+4)","v":0},{"$f":"MIN(IF(EU_Dégrillage!$L$44:$L$53>=Annee_BI,IF(EU_Dégrillage!$L$44:$L$53<=Annee_BI+4,EU_Dégrillage!$L$44:$L$53)))","v":0},{"$f":"MAX(IF(EU_Dégrillage!$L$44:$L$53>=Annee_BI,IF(EU_Dégrillage!$L$44:$L$53<=Annee_BI+4,EU_Dégrillage!$L$44:$L$53)))","v":0},{"$f":"SUMIFS(EU_Dégrillage!$J$44:$J$53,EU_Dégrillage!$E$44:$E$53,\"<4\",EU_Dégrillage!$F$44:$F$53,\"<4\",EU_Dégrillage!$L$44:$L$53,\">=\"&Annee_BI+5,EU_Dégrillage!$L$44:$L$53,\"<=\"&Annee_BI+9)","v":0},{"$f":"MIN(IF(EU_Dégrillage!$L$44:$L$53>=Annee_BI+5,IF(EU_Dégrillage!$L$44:$L$53<=Annee_BI+9,EU_Dégrillage!$L$44:$L$53)))","v":0},{"$f":"MAX(IF(EU_Dégrillage!$L$44:$L$53>=Annee_BI+5,IF(EU_Dégrillage!$L$44:$L$53<=Annee_BI+9,EU_Dégrillage!$L$44:$L$53)))","v":0}]
["Eaux usées","Installation de traitement","Étangs",{"$f":"IF(Identification!$H$63=\"\",\"\",Identification!$H$63)","v":""},"Dégrillage","Instrumentation et contrôle",{"$f":"EU_Dégrillage!$B$68","v":""},0,{"$f":"IFERROR(J257/SUM($J254:$J257),0)","v":0},{"$f":"EU_Dégrillage!$I$68","v":0},{"$f":"EU_Dégrillage!$G$68","v":""},{"$f":"EU_Dégrillage!$E$68","v":""},{"$f":"EU_Dégrillage!$F$68","v":""},{"$f":"EU_Dégrillage!$J$68-SUMIFS(EU_Dégrillage!$J$58:$J$67,EU_Dégrillage!$E$58:$E$67,\"<4\",EU_Dégrillage!$F$58:$F$67,\"<4\")","v":0},{"$f":"SUMIFS(EU_Dégrillage!$J$58:$J$67,EU_Dégrillage!$E$58:$E$67,\"<4\",EU_Dégrillage!$F$58:$F$67,\"<4\",EU_Dégrillage!$L$58:$L$67,\">=\"&Annee_BI,EU_Dégrillage!$L$58:$L$67,\"<=\"&Annee_BI+4)","v":0},{"$f":"MIN(IF(EU_Dégrillage!$L$58:$L$67>=Annee_BI,IF(EU_Dégrillage!$L$58:$L$67<=Annee_BI+4,EU_Dégrillage!$L$58:$L$67)))","v":0},{"$f":"MAX(IF(EU_Dégrillage!$L$58:$L$67>=Annee_BI,IF(EU_Dégrillage!$L$58:$L$67<=Annee_BI+4,EU_Dégrillage!$L$58:$L$67)))","v":0},{"$f":"SUMIFS(EU_Dégrillage!$J$58:$J$67,EU_Dégrillage!$E$58:$E$67,\"<4\",EU_Dégrillage!$F$58:$F$67,\"<4\",EU_Dégrillage!$L$58:$L$67,\">=\"&Annee_BI+5,EU_Dégrillage!$L$58:$L$67,\"<=\"&Annee_BI+9)","v":0},{"$f":"MIN(IF(EU_Dégrillage!$L$58:$L$67>=Annee_BI+5,IF(EU_Dégrillage!$L$58:$L$67<=Annee_BI+9,EU_Dégrillage!$L$58:$L$67)))","v":0},{"$f":"MAX(IF(EU_Dégrillage!$L$58:$L$67>=Annee_BI+5,IF(EU_Dégrillage!$L$58:$L$67<=Annee_BI+9,EU_Dégrillage!$L$58:$L$67)))","v":0}]
["Eaux usées","Installation de traitement","Étangs",{"$f":"IF(Identification!$H$63=\"\",\"\",Identification!$H$63)","v":""},"Dessablage","Civil",{"$f":"EU_Dessablage!$B$26","v":""},0,{"$f":"IFERROR(J258/SUM($J258:$J261),0)","v":0},{"$f":"EU_Dessablage!$I$26","v":0},{"$f":"EU_Dessablage!$G$26","v":""},{"$f":"EU_Dessablage!$E$26","v":""},{"$f":"EU_Dessablage!$F$26","v":""},{"$f":"EU_Dessablage!$J$26-SUMIFS(EU_Dessablage!$J$16:$J$25,EU_Dessablage!$E$16:$E$25,\"<4\",EU_Dessablage!$F$16:$F$25,\"<4\")","v":0},{"$f":"SUMIFS(EU_Dessablage!$J$16:$J$25,EU_Dessablage!$E$16:$E$25,\"<4\",EU_Dessablage!$F$16:$F$25,\"<4\",EU_Dessablage!$L$16:$L$25,\">=\"&Annee_BI,EU_Dessablage!$L$16:$L$25,\"<=\"&Annee_BI+4)","v":0},{"$f":"MIN(IF(EU_Dessablage!$L$16:$L$25>=Annee_BI,IF(EU_Dessablage!$L$16:$L$25<=Annee_BI+4,EU_Dessablage!$L$16:$L$25)))","v":0},{"$f":"MAX(IF(EU_Dessablage!$L$16:$L$25>=Annee_BI,IF(EU_Dessablage!$L$16:$L$25<=Annee_BI+4,EU_Dessablage!$L$16:$L$25)))","v":0},{"$f":"SUMIFS(EU_Dessablage!$J$16:$J$25,EU_Dessablage!$E$16:$E$25,\"<4\",EU_Dessablage!$F$16:$F$25,\"<4\",EU_Dessablage!$L$16:$L$25,\">=\"&Annee_BI+5,EU_Dessablage!$L$16:$L$25,\"<=\"&Annee_BI+9)","v":0},{"$f":"MIN(IF(EU_Dessablage!$L$16:$L$25>=Annee_BI+5,IF(EU_Dessablage!$L$16:$L$25<=Annee_BI+9,EU_Dessablage!$L$16:$L$25)))","v":0},{"$f":"MAX(IF(EU_Dessablage!$L$16:$L$25>=Annee_BI+5,IF(EU_Dessablage!$L$16:$L$25<=Annee_BI+9,EU_Dessablage!$L$16:$L$25)))","v":0}]
["Eaux usées","Installation de traitement","Étangs",{"$f":"IF(Identification!$H$63=\"\",\"\",Identification!$H$63)","v":""},"Dessablage","Mécanique",{"$f":"EU_Dessablage!$B$40","v":""},0,{"$f":"IFERROR(J259/SUM($J258:$J261),0)","v":0},{"$f":"EU_Dessablage!$I$40","v":0},{"$f":"EU_Dessablage!$G$40","v":""},{"$f":"EU_Dessablage!$E$40","v":""},{"$f":"EU_Dessablage!$F$40","v":""},{"$f":"EU_Dessablage!$J$40-SUMIFS(EU_Dessablage!$J$30:$J$39,EU_Dessablage!$E$30:$E$39,\"<4\",EU_Dessablage!$F$30:$F$39,\"<4\")","v":0},{"$f":"SUMIFS(EU_Dessablage!$J$30:$J$39,EU_Dessablage!$E$30:$E$39,\"<4\",EU_Dessablage!$F$30:$F$39,\"<4\",EU_Dessablage!$L$30:$L$39,\">=\"&Annee_BI,EU_Dessablage!$L$30:$L$39,\"<=\"&Annee_BI+4)","v":0},{"$f":"MIN(IF(EU_Dessablage!$L$30:$L$39>=Annee_BI,IF(EU_Dessablage!$L$30:$L$39<=Annee_BI+4,EU_Dessablage!$L$30:$L$39)))","v":0},{"$f":"MAX(IF(EU_Dessablage!$L$30:$L$39>=Annee_BI,IF(EU_Dessablage!$L$30:$L$39<=Annee_BI+4,EU_Dessablage!$L$30:$L$39)))","v":0},{"$f":"SUMIFS(EU_Dessablage!$J$30:$J$39,EU_Dessablage!$E$30:$E$39,\"<4\",EU_Dessablage!$F$30:$F$39,\"<4\",EU_Dessablage!$L$30:$L$39,\">=\"&Annee_BI+5,EU_Dessablage!$L$30:$L$39,\"<=\"&Annee_BI+9)","v":0},{"$f":"MIN(IF(EU_Dessablage!$L$30:$L$39>=Annee_BI+5,IF(EU_Dessablage!$L$30:$L$39<=Annee_BI+9,EU_Dessablage!$L$30:$L$39)))","v":0},{"$f":"MAX(IF(EU_Dessablage!$L$30:$L$39>=Annee_BI+5,IF(EU_Dessablage!$L$30:$L$39<=Annee_BI+9,EU_Dessablage!$L$30:$L$39)))","v":0}]
["Eaux usées","Installation de traitement","Étangs",{"$f":"IF(Identification!$H$63=\"\",\"\",Identification!$H$63)","v":""},"Dessablage","Électricité",{"$f":"EU_Dessablage!$B$54","v":""},0,{"$f":"IFERROR(J260/SUM($J258:$J261),0)","v":0},{"$f":"EU_Dessablage!$I$54","v":0},{"$f":"EU_Dessablage!$G$54","v":""},{"$f":"EU_Dessablage!$E$54","v":""},{"$f":"EU_Dessablage!$F$54","v":""},{"$f":"EU_Dessablage!$J$54-SUMIFS(EU_Dessablage!$J$44:$J$53,EU_Dessablage!$E$44:$E$53,\"<4\",EU_Dessablage!$F$44:$F$53,\"<4\")","v":0},{"$f":"SUMIFS(EU_Dessablage!$J$44:$J$53,EU_Dessablage!$E$44:$E$53,\"<4\",EU_Dessablage!$F$44:$F$53,\"<4\",EU_Dessablage!$L$44:$L$53,\">=\"&Annee_BI,EU_Dessablage!$L$44:$L$53,\"<=\"&Annee_BI+4)","v":0},{"$f":"MIN(IF(EU_Dessablage!$L$44:$L$53>=Annee_BI,IF(EU_Dessablage!$L$44:$L$53<=Annee_BI+4,EU_Dessablage!$L$44:$L$53)))","v":0},{"$f":"MAX(IF(EU_Dessablage!$L$44:$L$53>=Annee_BI,IF(EU_Dessablage!$L$44:$L$53<=Annee_BI+4,EU_Dessablage!$L$44:$L$53)))","v":0},{"$f":"SUMIFS(EU_Dessablage!$J$44:$J$53,EU_Dessablage!$E$44:$E$53,\"<4\",EU_Dessablage!$F$44:$F$53,\"<4\",EU_Dessablage!$L$44:$L$53,\">=\"&Annee_BI+5,EU_Dessablage!$L$44:$L$53,\"<=\"&Annee_BI+9)","v":0},{"$f":"MIN(IF(EU_Dessablage!$L$44:$L$53>=Annee_BI+5,IF(EU_Dessablage!$L$44:$L$53<=Annee_BI+9,EU_Dessablage!$L$44:$L$53)))","v":0},{"$f":"MAX(IF(EU_Dessablage!$L$44:$L$53>=Annee_BI+5,IF(EU_Dessablage!$L$44:$L$53<=Annee_BI+9,EU_Dessablage!$L$44:$L$53)))","v":0}]
["Eaux usées","Installation de traitement","Étangs",{"$f":"IF(Identification!$H$63=\"\",\"\",Identification!$H$63)","v":""},"Dessablage","Instrumentation et contrôle",{"$f":"EU_Dessablage!$B$68","v":""},0,{"$f":"IFERROR(J261/SUM($J258:$J261),0)","v":0},{"$f":"EU_Dessablage!$I$68","v":0},{"$f":"EU_Dessablage!$G$68","v":""},{"$f":"EU_Dessablage!$E$68","v":""},{"$f":"EU_Dessablage!$F$68","v":""},{"$f":"EU_Dessablage!$J$68-SUMIFS(EU_Dessablage!$J$58:$J$67,EU_Dessablage!$E$58:$E$67,\"<4\",EU_Dessablage!$F$58:$F$67,\"<4\")","v":0},{"$f":"SUMIFS(EU_Dessablage!$J$58:$J$67,EU_Dessablage!$E$58:$E$67,\"<4\",EU_Dessablage!$F$58:$F$67,\"<4\",EU_Dessablage!$L$58:$L$67,\">=\"&Annee_BI,EU_Dessablage!$L$58:$L$67,\"<=\"&Annee_BI+4)","v":0},{"$f":"MIN(IF(EU_Dessablage!$L$58:$L$67>=Annee_BI,IF(EU_Dessablage!$L$58:$L$67<=Annee_BI+4,EU_Dessablage!$L$58:$L$67)))","v":0},{"$f":"MAX(IF(EU_Dessablage!$L$58:$L$67>=Annee_BI,IF(EU_Dessablage!$L$58:$L$67<=Annee_BI+4,EU_Dessablage!$L$58:$L$67)))","v":0},{"$f":"SUMIFS(EU_Dessablage!$J$58:$J$67,EU_Dessablage!$E$58:$E$67,\"<4\",EU_Dessablage!$F$58:$F$67,\"<4\",EU_Dessablage!$L$58:$L$67,\">=\"&Annee_BI+5,EU_Dessablage!$L$58:$L$67,\"<=\"&Annee_BI+9)","v":0},{"$f":"MIN(IF(EU_Dessablage!$L$58:$L$67>=Annee_BI+5,IF(EU_Dessablage!$L$58:$L$67<=Annee_BI+9,EU_Dessablage!$L$58:$L$67)))","v":0},{"$f":"MAX(IF(EU_Dessablage!$L$58:$L$67>=Annee_BI+5,IF(EU_Dessablage!$L$58:$L$67<=Annee_BI+9,EU_Dessablage!$L$58:$L$67)))","v":0}]
["Eaux usées","Installation de traitement","Étangs",{"$f":"IF(Identification!$H$63=\"\",\"\",Identification!$H$63)","v":""},"Régulation de débit","Civil",{"$f":"EU_Régulation_débit!$B$26","v":""},0,{"$f":"IFERROR(J262/SUM($J262:$J265),0)","v":0},{"$f":"EU_Régulation_débit!$I$26","v":0},{"$f":"EU_Régulation_débit!$G$26","v":""},{"$f":"EU_Régulation_débit!$E$26","v":""},{"$f":"EU_Régulation_débit!$F$26","v":""},{"$f":"EU_Régulation_débit!$J$26-SUMIFS(EU_Régulation_débit!$J$16:$J$25,EU_Régulation_débit!$E$16:$E$25,\"<4\",EU_Régulation_débit!$F$16:$F$25,\"<4\")","v":0},{"$f":"SUMIFS(EU_Régulation_débit!$J$16:$J$25,EU_Régulation_débit!$E$16:$E$25,\"<4\",EU_Régulation_débit!$F$16:$F$25,\"<4\",EU_Régulation_débit!$L$16:$L$25,\">=\"&Annee_BI,EU_Régulation_débit!$L$16:$L$25,\"<=\"&Annee_BI+4)","v":0},{"$f":"MIN(IF(EU_Régulation_débit!$L$16:$L$25>=Annee_BI,IF(EU_Régulation_débit!$L$16:$L$25<=Annee_BI+4,EU_Régulation_débit!$L$16:$L$25)))","v":0},{"$f":"MAX(IF(EU_Régulation_débit!$L$16:$L$25>=Annee_BI,IF(EU_Régulation_débit!$L$16:$L$25<=Annee_BI+4,EU_Régulation_débit!$L$16:$L$25)))","v":0},{"$f":"SUMIFS(EU_Régulation_débit!$J$16:$J$25,EU_Régulation_débit!$E$16:$E$25,\"<4\",EU_Régulation_débit!$F$16:$F$25,\"<4\",EU_Régulation_débit!$L$16:$L$25,\">=\"&Annee_BI+5,EU_Régulation_débit!$L$16:$L$25,\"<=\"&Annee_BI+9)","v":0},{"$f":"MIN(IF(EU_Régulation_débit!$L$16:$L$25>=Annee_BI+5,IF(EU_Régulation_débit!$L$16:$L$25<=Annee_BI+9,EU_Régulation_débit!$L$16:$L$25)))","v":0},{"$f":"MAX(IF(EU_Régulation_débit!$L$16:$L$25>=Annee_BI+5,IF(EU_Régulation_débit!$L$16:$L$25<=Annee_BI+9,EU_Régulation_débit!$L$16:$L$25)))","v":0}]
["Eaux usées","Installation de traitement","Étangs",{"$f":"IF(Identification!$H$63=\"\",\"\",Identification!$H$63)","v":""},"Régulation de débit","Mécanique",{"$f":"EU_Régulation_débit!$B$40","v":""},0,{"$f":"IFERROR(J263/SUM($J262:$J265),0)","v":0},{"$f":"EU_Régulation_débit!$I$40","v":0},{"$f":"EU_Régulation_débit!$G$40","v":""},{"$f":"EU_Régulation_débit!$E$40","v":""},{"$f":"EU_Régulation_débit!$F$40","v":""},{"$f":"EU_Régulation_débit!$J$40-SUMIFS(EU_Régulation_débit!$J$30:$J$39,EU_Régulation_débit!$E$30:$E$39,\"<4\",EU_Régulation_débit!$F$30:$F$39,\"<4\")","v":0},{"$f":"SUMIFS(EU_Régulation_débit!$J$30:$J$39,EU_Régulation_débit!$E$30:$E$39,\"<4\",EU_Régulation_débit!$F$30:$F$39,\"<4\",EU_Régulation_débit!$L$30:$L$39,\">=\"&Annee_BI,EU_Régulation_débit!$L$30:$L$39,\"<=\"&Annee_BI+4)","v":0},{"$f":"MIN(IF(EU_Régulation_débit!$L$30:$L$39>=Annee_BI,IF(EU_Régulation_débit!$L$30:$L$39<=Annee_BI+4,EU_Régulation_débit!$L$30:$L$39)))","v":0},{"$f":"MAX(IF(EU_Régulation_débit!$L$30:$L$39>=Annee_BI,IF(EU_Régulation_débit!$L$30:$L$39<=Annee_BI+4,EU_Régulation_débit!$L$30:$L$39)))","v":0},{"$f":"SUMIFS(EU_Régulation_débit!$J$30:$J$39,EU_Régulation_débit!$E$30:$E$39,\"<4\",EU_Régulation_débit!$F$30:$F$39,\"<4\",EU_Régulation_débit!$L$30:$L$39,\">=\"&Annee_BI+5,EU_Régulation_débit!$L$30:$L$39,\"<=\"&Annee_BI+9)","v":0},{"$f":"MIN(IF(EU_Régulation_débit!$L$30:$L$39>=Annee_BI+5,IF(EU_Régulation_débit!$L$30:$L$39<=Annee_BI+9,EU_Régulation_débit!$L$30:$L$39)))","v":0},{"$f":"MAX(IF(EU_Régulation_débit!$L$30:$L$39>=Annee_BI+5,IF(EU_Régulation_débit!$L$30:$L$39<=Annee_BI+9,EU_Régulation_débit!$L$30:$L$39)))","v":0}]
["Eaux usées","Installation de traitement","Étangs",{"$f":"IF(Identification!$H$63=\"\",\"\",Identification!$H$63)","v":""},"Régulation de débit","Électricité",{"$f":"EU_Régulation_débit!$B$54","v":""},0,{"$f":"IFERROR(J264/SUM($J262:$J265),0)","v":0},{"$f":"EU_Régulation_débit!$I$54","v":0},{"$f":"EU_Régulation_débit!$G$54","v":""},{"$f":"EU_Régulation_débit!$E$54","v":""},{"$f":"EU_Régulation_débit!$F$54","v":""},{"$f":"EU_Régulation_débit!$J$54-SUMIFS(EU_Régulation_débit!$J$44:$J$53,EU_Régulation_débit!$E$44:$E$53,\"<4\",EU_Régulation_débit!$F$44:$F$53,\"<4\")","v":0},{"$f":"SUMIFS(EU_Régulation_débit!$J$44:$J$53,EU_Régulation_débit!$E$44:$E$53,\"<4\",EU_Régulation_débit!$F$44:$F$53,\"<4\",EU_Régulation_débit!$L$44:$L$53,\">=\"&Annee_BI,EU_Régulation_débit!$L$44:$L$53,\"<=\"&Annee_BI+4)","v":0},{"$f":"MIN(IF(EU_Régulation_débit!$L$44:$L$53>=Annee_BI,IF(EU_Régulation_débit!$L$44:$L$53<=Annee_BI+4,EU_Régulation_débit!$L$44:$L$53)))","v":0},{"$f":"MAX(IF(EU_Régulation_débit!$L$44:$L$53>=Annee_BI,IF(EU_Régulation_débit!$L$44:$L$53<=Annee_BI+4,EU_Régulation_débit!$L$44:$L$53)))","v":0},{"$f":"SUMIFS(EU_Régulation_débit!$J$44:$J$53,EU_Régulation_débit!$E$44:$E$53,\"<4\",EU_Régulation_débit!$F$44:$F$53,\"<4\",EU_Régulation_débit!$L$44:$L$53,\">=\"&Annee_BI+5,EU_Régulation_débit!$L$44:$L$53,\"<=\"&Annee_BI+9)","v":0},{"$f":"MIN(IF(EU_Régulation_débit!$L$44:$L$53>=Annee_BI+5,IF(EU_Régulation_débit!$L$44:$L$53<=Annee_BI+9,EU_Régulation_débit!$L$44:$L$53)))","v":0},{"$f":"MAX(IF(EU_Régulation_débit!$L$44:$L$53>=Annee_BI+5,IF(EU_Régulation_débit!$L$44:$L$53<=Annee_BI+9,EU_Régulation_débit!$L$44:$L$53)))","v":0}]
["Eaux usées","Installation de traitement","Étangs",{"$f":"IF(Identification!$H$63=\"\",\"\",Identification!$H$63)","v":""},"Régulation de débit","Instrumentation et contrôle",{"$f":"EU_Régulation_débit!$B$68","v":""},0,{"$f":"IFERROR(J265/SUM($J262:$J265),0)","v":0},{"$f":"EU_Régulation_débit!$I$68","v":0},{"$f":"EU_Régulation_débit!$G$68","v":""},{"$f":"EU_Régulation_débit!$E$68","v":""},{"$f":"EU_Régulation_débit!$F$68","v":""},{"$f":"EU_Régulation_débit!$J$68-SUMIFS(EU_Régulation_débit!$J$58:$J$67,EU_Régulation_débit!$E$58:$E$67,\"<4\",EU_Régulation_débit!$F$58:$F$67,\"<4\")","v":0},{"$f":"SUMIFS(EU_Régulation_débit!$J$58:$J$67,EU_Régulation_débit!$E$58:$E$67,\"<4\",EU_Régulation_débit!$F$58:$F$67,\"<4\",EU_Régulation_débit!$L$58:$L$67,\">=\"&Annee_BI,EU_Régulation_débit!$L$58:$L$67,\"<=\"&Annee_BI+4)","v":0},{"$f":"MIN(IF(EU_Régulation_débit!$L$58:$L$67>=Annee_BI,IF(EU_Régulation_débit!$L$58:$L$67<=Annee_BI+4,EU_Régulation_débit!$L$58:$L$67)))","v":0},{"$f":"MAX(IF(EU_Régulation_débit!$L$58:$L$67>=Annee_BI,IF(EU_Régulation_débit!$L$58:$L$67<=Annee_BI+4,EU_Régulation_débit!$L$58:$L$67)))","v":0},{"$f":"SUMIFS(EU_Régulation_débit!$J$58:$J$67,EU_Régulation_débit!$E$58:$E$67,\"<4\",EU_Régulation_débit!$F$58:$F$67,\"<4\",EU_Régulation_débit!$L$58:$L$67,\">=\"&Annee_BI+5,EU_Régulation_débit!$L$58:$L$67,\"<=\"&Annee_BI+9)","v":0},{"$f":"MIN(IF(EU_Régulation_débit!$L$58:$L$67>=Annee_BI+5,IF(EU_Régulation_débit!$L$58:$L$67<=Annee_BI+9,EU_Régulation_débit!$L$58:$L$67)))","v":0},{"$f":"MAX(IF(EU_Régulation_débit!$L$58:$L$67>=Annee_BI+5,IF(EU_Régulation_débit!$L$58:$L$67<=Annee_BI+9,EU_Régulation_débit!$L$58:$L$67)))","v":0}]
["Eaux usées","Installation de traitement","Étangs",{"$f":"IF(Identification!$H$63=\"\",\"\",Identification!$H$63)","v":""},"Traitement secondaire","Civil",{"$f":"EU_Traitement_secondaire!$B$26","v":""},0,{"$f":"IFERROR(J266/SUM($J266:$J269),0)","v":0},{"$f":"EU_Traitement_secondaire!$I$26","v":0},{"$f":"EU_Traitement_secondaire!$G$26","v":""},{"$f":"EU_Traitement_secondaire!$E$26","v":""},{"$f":"EU_Traitement_secondaire!$F$26","v":""},{"$f":"EU_Traitement_secondaire!$J$26-SUMIFS(EU_Traitement_secondaire!$J$16:$J$25,EU_Traitement_secondaire!$E$16:$E$25,\"<4\",EU_Traitement_secondaire!$F$16:$F$25,\"<4\")","v":0},{"$f":"SUMIFS(EU_Traitement_secondaire!$J$16:$J$25,EU_Traitement_secondaire!$E$16:$E$25,\"<4\",EU_Traitement_secondaire!$F$16:$F$25,\"<4\",EU_Traitement_secondaire!$L$16:$L$25,\">=\"&Annee_BI,EU_Traitement_secondaire!$L$16:$L$25,\"<=\"&Annee_BI+4)","v":0},{"$f":"MIN(IF(EU_Traitement_secondaire!$L$16:$L$25>=Annee_BI,IF(EU_Traitement_secondaire!$L$16:$L$25<=Annee_BI+4,EU_Traitement_secondaire!$L$16:$L$25)))","v":0},{"$f":"MAX(IF(EU_Traitement_secondaire!$L$16:$L$25>=Annee_BI,IF(EU_Traitement_secondaire!$L$16:$L$25<=Annee_BI+4,EU_Traitement_secondaire!$L$16:$L$25)))","v":0},{"$f":"SUMIFS(EU_Traitement_secondaire!$J$16:$J$25,EU_Traitement_secondaire!$E$16:$E$25,\"<4\",EU_Traitement_secondaire!$F$16:$F$25,\"<4\",EU_Traitement_secondaire!$L$16:$L$25,\">=\"&Annee_BI+5,EU_Traitement_secondaire!$L$16:$L$25,\"<=\"&Annee_BI+9)","v":0},{"$f":"MIN(IF(EU_Traitement_secondaire!$L$16:$L$25>=Annee_BI+5,IF(EU_Traitement_secondaire!$L$16:$L$25<=Annee_BI+9,EU_Traitement_secondaire!$L$16:$L$25)))","v":0},{"$f":"MAX(IF(EU_Traitement_secondaire!$L$16:$L$25>=Annee_BI+5,IF(EU_Traitement_secondaire!$L$16:$L$25<=Annee_BI+9,EU_Traitement_secondaire!$L$16:$L$25)))","v":0}]
["Eaux usées","Installation de traitement","Étangs",{"$f":"IF(Identification!$H$63=\"\",\"\",Identification!$H$63)","v":""},"Traitement secondaire","Mécanique",{"$f":"EU_Traitement_secondaire!$B$40","v":""},0,{"$f":"IFERROR(J267/SUM($J266:$J269),0)","v":0},{"$f":"EU_Traitement_secondaire!$I$40","v":0},{"$f":"EU_Traitement_secondaire!$G$40","v":""},{"$f":"EU_Traitement_secondaire!$E$40","v":""},{"$f":"EU_Traitement_secondaire!$F$40","v":""},{"$f":"EU_Traitement_secondaire!$J$40-SUMIFS(EU_Traitement_secondaire!$J$30:$J$39,EU_Traitement_secondaire!$E$30:$E$39,\"<4\",EU_Traitement_secondaire!$F$30:$F$39,\"<4\")","v":0},{"$f":"SUMIFS(EU_Traitement_secondaire!$J$30:$J$39,EU_Traitement_secondaire!$E$30:$E$39,\"<4\",EU_Traitement_secondaire!$F$30:$F$39,\"<4\",EU_Traitement_secondaire!$L$30:$L$39,\">=\"&Annee_BI,EU_Traitement_secondaire!$L$30:$L$39,\"<=\"&Annee_BI+4)","v":0},{"$f":"MIN(IF(EU_Traitement_secondaire!$L$30:$L$39>=Annee_BI,IF(EU_Traitement_secondaire!$L$30:$L$39<=Annee_BI+4,EU_Traitement_secondaire!$L$30:$L$39)))","v":0},{"$f":"MAX(IF(EU_Traitement_secondaire!$L$30:$L$39>=Annee_BI,IF(EU_Traitement_secondaire!$L$30:$L$39<=Annee_BI+4,EU_Traitement_secondaire!$L$30:$L$39)))","v":0},{"$f":"SUMIFS(EU_Traitement_secondaire!$J$30:$J$39,EU_Traitement_secondaire!$E$30:$E$39,\"<4\",EU_Traitement_secondaire!$F$30:$F$39,\"<4\",EU_Traitement_secondaire!$L$30:$L$39,\">=\"&Annee_BI+5,EU_Traitement_secondaire!$L$30:$L$39,\"<=\"&Annee_BI+9)","v":0},{"$f":"MIN(IF(EU_Traitement_secondaire!$L$30:$L$39>=Annee_BI+5,IF(EU_Traitement_secondaire!$L$30:$L$39<=Annee_BI+9,EU_Traitement_secondaire!$L$30:$L$39)))","v":0},{"$f":"MAX(IF(EU_Traitement_secondaire!$L$30:$L$39>=Annee_BI+5,IF(EU_Traitement_secondaire!$L$30:$L$39<=Annee_BI+9,EU_Traitement_secondaire!$L$30:$L$39)))","v":0}]
["Eaux usées","Installation de traitement","Étangs",{"$f":"IF(Identification!$H$63=\"\",\"\",Identification!$H$63)","v":""},"Traitement secondaire","Électricité",{"$f":"EU_Traitement_secondaire!$B$54","v":""},0,{"$f":"IFERROR(J268/SUM($J266:$J269),0)","v":0},{"$f":"EU_Traitement_secondaire!$I$54","v":0},{"$f":"EU_Traitement_secondaire!$G$54","v":""},{"$f":"EU_Traitement_secondaire!$E$54","v":""},{"$f":"EU_Traitement_secondaire!$F$54","v":""},{"$f":"EU_Traitement_secondaire!$J$54-SUMIFS(EU_Traitement_secondaire!$J$44:$J$53,EU_Traitement_secondaire!$E$44:$E$53,\"<4\",EU_Traitement_secondaire!$F$44:$F$53,\"<4\")","v":0},{"$f":"SUMIFS(EU_Traitement_secondaire!$J$44:$J$53,EU_Traitement_secondaire!$E$44:$E$53,\"<4\",EU_Traitement_secondaire!$F$44:$F$53,\"<4\",EU_Traitement_secondaire!$L$44:$L$53,\">=\"&Annee_BI,EU_Traitement_secondaire!$L$44:$L$53,\"<=\"&Annee_BI+4)","v":0},{"$f":"MIN(IF(EU_Traitement_secondaire!$L$44:$L$53>=Annee_BI,IF(EU_Traitement_secondaire!$L$44:$L$53<=Annee_BI+4,EU_Traitement_secondaire!$L$44:$L$53)))","v":0},{"$f":"MAX(IF(EU_Traitement_secondaire!$L$44:$L$53>=Annee_BI,IF(EU_Traitement_secondaire!$L$44:$L$53<=Annee_BI+4,EU_Traitement_secondaire!$L$44:$L$53)))","v":0},{"$f":"SUMIFS(EU_Traitement_secondaire!$J$44:$J$53,EU_Traitement_secondaire!$E$44:$E$53,\"<4\",EU_Traitement_secondaire!$F$44:$F$53,\"<4\",EU_Traitement_secondaire!$L$44:$L$53,\">=\"&Annee_BI+5,EU_Traitement_secondaire!$L$44:$L$53,\"<=\"&Annee_BI+9)","v":0},{"$f":"MIN(IF(EU_Traitement_secondaire!$L$44:$L$53>=Annee_BI+5,IF(EU_Traitement_secondaire!$L$44:$L$53<=Annee_BI+9,EU_Traitement_secondaire!$L$44:$L$53)))","v":0},{"$f":"MAX(IF(EU_Traitement_secondaire!$L$44:$L$53>=Annee_BI+5,IF(EU_Traitement_secondaire!$L$44:$L$53<=Annee_BI+9,EU_Traitement_secondaire!$L$44:$L$53)))","v":0}]
["Eaux usées","Installation de traitement","Étangs",{"$f":"IF(Identification!$H$63=\"\",\"\",Identification!$H$63)","v":""},"Traitement secondaire","Instrumentation et contrôle",{"$f":"EU_Traitement_secondaire!$B$68","v":""},0,{"$f":"IFERROR(J269/SUM($J266:$J269),0)","v":0},{"$f":"EU_Traitement_secondaire!$I$68","v":0},{"$f":"EU_Traitement_secondaire!$G$68","v":""},{"$f":"EU_Traitement_secondaire!$E$68","v":""},{"$f":"EU_Traitement_secondaire!$F$68","v":""},{"$f":"EU_Traitement_secondaire!$J$68-SUMIFS(EU_Traitement_secondaire!$J$58:$J$67,EU_Traitement_secondaire!$E$58:$E$67,\"<4\",EU_Traitement_secondaire!$F$58:$F$67,\"<4\")","v":0},{"$f":"SUMIFS(EU_Traitement_secondaire!$J$58:$J$67,EU_Traitement_secondaire!$E$58:$E$67,\"<4\",EU_Traitement_secondaire!$F$58:$F$67,\"<4\",EU_Traitement_secondaire!$L$58:$L$67,\">=\"&Annee_BI,EU_Traitement_secondaire!$L$58:$L$67,\"<=\"&Annee_BI+4)","v":0},{"$f":"MIN(IF(EU_Traitement_secondaire!$L$58:$L$67>=Annee_BI,IF(EU_Traitement_secondaire!$L$58:$L$67<=Annee_BI+4,EU_Traitement_secondaire!$L$58:$L$67)))","v":0},{"$f":"MAX(IF(EU_Traitement_secondaire!$L$58:$L$67>=Annee_BI,IF(EU_Traitement_secondaire!$L$58:$L$67<=Annee_BI+4,EU_Traitement_secondaire!$L$58:$L$67)))","v":0},{"$f":"SUMIFS(EU_Traitement_secondaire!$J$58:$J$67,EU_Traitement_secondaire!$E$58:$E$67,\"<4\",EU_Traitement_secondaire!$F$58:$F$67,\"<4\",EU_Traitement_secondaire!$L$58:$L$67,\">=\"&Annee_BI+5,EU_Traitement_secondaire!$L$58:$L$67,\"<=\"&Annee_BI+9)","v":0},{"$f":"MIN(IF(EU_Traitement_secondaire!$L$58:$L$67>=Annee_BI+5,IF(EU_Traitement_secondaire!$L$58:$L$67<=Annee_BI+9,EU_Traitement_secondaire!$L$58:$L$67)))","v":0},{"$f":"MAX(IF(EU_Traitement_secondaire!$L$58:$L$67>=Annee_BI+5,IF(EU_Traitement_secondaire!$L$58:$L$67<=Annee_BI+9,EU_Traitement_secondaire!$L$58:$L$67)))","v":0}]
["Eaux usées","Installation de traitement","Étangs",{"$f":"IF(Identification!$H$63=\"\",\"\",Identification!$H$63)","v":""},"Décantation secondaire","Civil",{"$f":"EU_Décantation_secondaire!$B$26","v":""},0,{"$f":"IFERROR(J270/SUM($J270:$J273),0)","v":0},{"$f":"EU_Décantation_secondaire!$I$26","v":0},{"$f":"EU_Décantation_secondaire!$G$26","v":""},{"$f":"EU_Décantation_secondaire!$E$26","v":""},{"$f":"EU_Décantation_secondaire!$F$26","v":""},{"$f":"EU_Décantation_secondaire!$J$26-SUMIFS(EU_Décantation_secondaire!$J$16:$J$25,EU_Décantation_secondaire!$E$16:$E$25,\"<4\",EU_Décantation_secondaire!$F$16:$F$25,\"<4\")","v":0},{"$f":"SUMIFS(EU_Décantation_secondaire!$J$16:$J$25,EU_Décantation_secondaire!$E$16:$E$25,\"<4\",EU_Décantation_secondaire!$F$16:$F$25,\"<4\",EU_Décantation_secondaire!$L$16:$L$25,\">=\"&Annee_BI,EU_Décantation_secondaire!$L$16:$L$25,\"<=\"&Annee_BI+4)","v":0},{"$f":"MIN(IF(EU_Décantation_secondaire!$L$16:$L$25>=Annee_BI,IF(EU_Décantation_secondaire!$L$16:$L$25<=Annee_BI+4,EU_Décantation_secondaire!$L$16:$L$25)))","v":0},{"$f":"MAX(IF(EU_Décantation_secondaire!$L$16:$L$25>=Annee_BI,IF(EU_Décantation_secondaire!$L$16:$L$25<=Annee_BI+4,EU_Décantation_secondaire!$L$16:$L$25)))","v":0},{"$f":"SUMIFS(EU_Décantation_secondaire!$J$16:$J$25,EU_Décantation_secondaire!$E$16:$E$25,\"<4\",EU_Décantation_secondaire!$F$16:$F$25,\"<4\",EU_Décantation_secondaire!$L$16:$L$25,\">=\"&Annee_BI+5,EU_Décantation_secondaire!$L$16:$L$25,\"<=\"&Annee_BI+9)","v":0},{"$f":"MIN(IF(EU_Décantation_secondaire!$L$16:$L$25>=Annee_BI+5,IF(EU_Décantation_secondaire!$L$16:$L$25<=Annee_BI+9,EU_Décantation_secondaire!$L$16:$L$25)))","v":0},{"$f":"MAX(IF(EU_Décantation_secondaire!$L$16:$L$25>=Annee_BI+5,IF(EU_Décantation_secondaire!$L$16:$L$25<=Annee_BI+9,EU_Décantation_secondaire!$L$16:$L$25)))","v":0}]
["Eaux usées","Installation de traitement","Étangs",{"$f":"IF(Identification!$H$63=\"\",\"\",Identification!$H$63)","v":""},"Décantation secondaire","Mécanique",{"$f":"EU_Décantation_secondaire!$B$40","v":""},0,{"$f":"IFERROR(J271/SUM($J270:$J273),0)","v":0},{"$f":"EU_Décantation_secondaire!$I$40","v":0},{"$f":"EU_Décantation_secondaire!$G$40","v":""},{"$f":"EU_Décantation_secondaire!$E$40","v":""},{"$f":"EU_Décantation_secondaire!$F$40","v":""},{"$f":"EU_Décantation_secondaire!$J$40-SUMIFS(EU_Décantation_secondaire!$J$30:$J$39,EU_Décantation_secondaire!$E$30:$E$39,\"<4\",EU_Décantation_secondaire!$F$30:$F$39,\"<4\")","v":0},{"$f":"SUMIFS(EU_Décantation_secondaire!$J$30:$J$39,EU_Décantation_secondaire!$E$30:$E$39,\"<4\",EU_Décantation_secondaire!$F$30:$F$39,\"<4\",EU_Décantation_secondaire!$L$30:$L$39,\">=\"&Annee_BI,EU_Décantation_secondaire!$L$30:$L$39,\"<=\"&Annee_BI+4)","v":0},{"$f":"MIN(IF(EU_Décantation_secondaire!$L$30:$L$39>=Annee_BI,IF(EU_Décantation_secondaire!$L$30:$L$39<=Annee_BI+4,EU_Décantation_secondaire!$L$30:$L$39)))","v":0},{"$f":"MAX(IF(EU_Décantation_secondaire!$L$30:$L$39>=Annee_BI,IF(EU_Décantation_secondaire!$L$30:$L$39<=Annee_BI+4,EU_Décantation_secondaire!$L$30:$L$39)))","v":0},{"$f":"SUMIFS(EU_Décantation_secondaire!$J$30:$J$39,EU_Décantation_secondaire!$E$30:$E$39,\"<4\",EU_Décantation_secondaire!$F$30:$F$39,\"<4\",EU_Décantation_secondaire!$L$30:$L$39,\">=\"&Annee_BI+5,EU_Décantation_secondaire!$L$30:$L$39,\"<=\"&Annee_BI+9)","v":0},{"$f":"MIN(IF(EU_Décantation_secondaire!$L$30:$L$39>=Annee_BI+5,IF(EU_Décantation_secondaire!$L$30:$L$39<=Annee_BI+9,EU_Décantation_secondaire!$L$30:$L$39)))","v":0},{"$f":"MAX(IF(EU_Décantation_secondaire!$L$30:$L$39>=Annee_BI+5,IF(EU_Décantation_secondaire!$L$30:$L$39<=Annee_BI+9,EU_Décantation_secondaire!$L$30:$L$39)))","v":0}]
["Eaux usées","Installation de traitement","Étangs",{"$f":"IF(Identification!$H$63=\"\",\"\",Identification!$H$63)","v":""},"Décantation secondaire","Électricité",{"$f":"EU_Décantation_secondaire!$B$54","v":""},0,{"$f":"IFERROR(J272/SUM($J270:$J273),0)","v":0},{"$f":"EU_Décantation_secondaire!$I$54","v":0},{"$f":"EU_Décantation_secondaire!$G$54","v":""},{"$f":"EU_Décantation_secondaire!$E$54","v":""},{"$f":"EU_Décantation_secondaire!$F$54","v":""},{"$f":"EU_Décantation_secondaire!$J$54-SUMIFS(EU_Décantation_secondaire!$J$44:$J$53,EU_Décantation_secondaire!$E$44:$E$53,\"<4\",EU_Décantation_secondaire!$F$44:$F$53,\"<4\")","v":0},{"$f":"SUMIFS(EU_Décantation_secondaire!$J$44:$J$53,EU_Décantation_secondaire!$E$44:$E$53,\"<4\",EU_Décantation_secondaire!$F$44:$F$53,\"<4\",EU_Décantation_secondaire!$L$44:$L$53,\">=\"&Annee_BI,EU_Décantation_secondaire!$L$44:$L$53,\"<=\"&Annee_BI+4)","v":0},{"$f":"MIN(IF(EU_Décantation_secondaire!$L$44:$L$53>=Annee_BI,IF(EU_Décantation_secondaire!$L$44:$L$53<=Annee_BI+4,EU_Décantation_secondaire!$L$44:$L$53)))","v":0},{"$f":"MAX(IF(EU_Décantation_secondaire!$L$44:$L$53>=Annee_BI,IF(EU_Décantation_secondaire!$L$44:$L$53<=Annee_BI+4,EU_Décantation_secondaire!$L$44:$L$53)))","v":0},{"$f":"SUMIFS(EU_Décantation_secondaire!$J$44:$J$53,EU_Décantation_secondaire!$E$44:$E$53,\"<4\",EU_Décantation_secondaire!$F$44:$F$53,\"<4\",EU_Décantation_secondaire!$L$44:$L$53,\">=\"&Annee_BI+5,EU_Décantation_secondaire!$L$44:$L$53,\"<=\"&Annee_BI+9)","v":0},{"$f":"MIN(IF(EU_Décantation_secondaire!$L$44:$L$53>=Annee_BI+5,IF(EU_Décantation_secondaire!$L$44:$L$53<=Annee_BI+9,EU_Décantation_secondaire!$L$44:$L$53)))","v":0},{"$f":"MAX(IF(EU_Décantation_secondaire!$L$44:$L$53>=Annee_BI+5,IF(EU_Décantation_secondaire!$L$44:$L$53<=Annee_BI+9,EU_Décantation_secondaire!$L$44:$L$53)))","v":0}]
["Eaux usées","Installation de traitement","Étangs",{"$f":"IF(Identification!$H$63=\"\",\"\",Identification!$H$63)","v":""},"Décantation secondaire","Instrumentation et contrôle",{"$f":"EU_Décantation_secondaire!$B$68","v":""},0,{"$f":"IFERROR(J273/SUM($J270:$J273),0)","v":0},{"$f":"EU_Décantation_secondaire!$I$68","v":0},{"$f":"EU_Décantation_secondaire!$G$68","v":""},{"$f":"EU_Décantation_secondaire!$E$68","v":""},{"$f":"EU_Décantation_secondaire!$F$68","v":""},{"$f":"EU_Décantation_secondaire!$J$68-SUMIFS(EU_Décantation_secondaire!$J$58:$J$67,EU_Décantation_secondaire!$E$58:$E$67,\"<4\",EU_Décantation_secondaire!$F$58:$F$67,\"<4\")","v":0},{"$f":"SUMIFS(EU_Décantation_secondaire!$J$58:$J$67,EU_Décantation_secondaire!$E$58:$E$67,\"<4\",EU_Décantation_secondaire!$F$58:$F$67,\"<4\",EU_Décantation_secondaire!$L$58:$L$67,\">=\"&Annee_BI,EU_Décantation_secondaire!$L$58:$L$67,\"<=\"&Annee_BI+4)","v":0},{"$f":"MIN(IF(EU_Décantation_secondaire!$L$58:$L$67>=Annee_BI,IF(EU_Décantation_secondaire!$L$58:$L$67<=Annee_BI+4,EU_Décantation_secondaire!$L$58:$L$67)))","v":0},{"$f":"MAX(IF(EU_Décantation_secondaire!$L$58:$L$67>=Annee_BI,IF(EU_Décantation_secondaire!$L$58:$L$67<=Annee_BI+4,EU_Décantation_secondaire!$L$58:$L$67)))","v":0},{"$f":"SUMIFS(EU_Décantation_secondaire!$J$58:$J$67,EU_Décantation_secondaire!$E$58:$E$67,\"<4\",EU_Décantation_secondaire!$F$58:$F$67,\"<4\",EU_Décantation_secondaire!$L$58:$L$67,\">=\"&Annee_BI+5,EU_Décantation_secondaire!$L$58:$L$67,\"<=\"&Annee_BI+9)","v":0},{"$f":"MIN(IF(EU_Décantation_secondaire!$L$58:$L$67>=Annee_BI+5,IF(EU_Décantation_secondaire!$L$58:$L$67<=Annee_BI+9,EU_Décantation_secondaire!$L$58:$L$67)))","v":0},{"$f":"MAX(IF(EU_Décantation_secondaire!$L$58:$L$67>=Annee_BI+5,IF(EU_Décantation_secondaire!$L$58:$L$67<=Annee_BI+9,EU_Décantation_secondaire!$L$58:$L$67)))","v":0}]
["Eaux usées","Installation de traitement","Étangs",{"$f":"IF(Identification!$H$63=\"\",\"\",Identification!$H$63)","v":""},"Désinfection (U.V., O3)","Civil",{"$f":"EU_Desinfection!$B$26","v":""},0,{"$f":"IFERROR(J274/SUM($J274:$J277),0)","v":0},{"$f":"EU_Desinfection!$I$26","v":0},{"$f":"EU_Desinfection!$G$26","v":""},{"$f":"EU_Desinfection!$E$26","v":""},{"$f":"EU_Desinfection!$F$26","v":""},{"$f":"EU_Desinfection!$J$26-SUMIFS(EU_Desinfection!$J$16:$J$25,EU_Desinfection!$E$16:$E$25,\"<4\",EU_Desinfection!$F$16:$F$25,\"<4\")","v":0},{"$f":"SUMIFS(EU_Desinfection!$J$16:$J$25,EU_Desinfection!$E$16:$E$25,\"<4\",EU_Desinfection!$F$16:$F$25,\"<4\",EU_Desinfection!$L$16:$L$25,\">=\"&Annee_BI,EU_Desinfection!$L$16:$L$25,\"<=\"&Annee_BI+4)","v":0},{"$f":"MIN(IF(EU_Desinfection!$L$16:$L$25>=Annee_BI,IF(EU_Desinfection!$L$16:$L$25<=Annee_BI+4,EU_Desinfection!$L$16:$L$25)))","v":0},{"$f":"MAX(IF(EU_Desinfection!$L$16:$L$25>=Annee_BI,IF(EU_Desinfection!$L$16:$L$25<=Annee_BI+4,EU_Desinfection!$L$16:$L$25)))","v":0},{"$f":"SUMIFS(EU_Desinfection!$J$16:$J$25,EU_Desinfection!$E$16:$E$25,\"<4\",EU_Desinfection!$F$16:$F$25,\"<4\",EU_Desinfection!$L$16:$L$25,\">=\"&Annee_BI+5,EU_Desinfection!$L$16:$L$25,\"<=\"&Annee_BI+9)","v":0},{"$f":"MIN(IF(EU_Desinfection!$L$16:$L$25>=Annee_BI+5,IF(EU_Desinfection!$L$16:$L$25<=Annee_BI+9,EU_Desinfection!$L$16:$L$25)))","v":0},{"$f":"MAX(IF(EU_Desinfection!$L$16:$L$25>=Annee_BI+5,IF(EU_Desinfection!$L$16:$L$25<=Annee_BI+9,EU_Desinfection!$L$16:$L$25)))","v":0}]
["Eaux usées","Installation de traitement","Étangs",{"$f":"IF(Identification!$H$63=\"\",\"\",Identification!$H$63)","v":""},"Désinfection (U.V., O3)","Mécanique",{"$f":"EU_Desinfection!$B$40","v":""},0,{"$f":"IFERROR(J275/SUM($J274:$J277),0)","v":0},{"$f":"EU_Desinfection!$I$40","v":0},{"$f":"EU_Desinfection!$G$40","v":""},{"$f":"EU_Desinfection!$E$40","v":""},{"$f":"EU_Desinfection!$F$40","v":""},{"$f":"EU_Desinfection!$J$40-SUMIFS(EU_Desinfection!$J$30:$J$39,EU_Desinfection!$E$30:$E$39,\"<4\",EU_Desinfection!$F$30:$F$39,\"<4\")","v":0},{"$f":"SUMIFS(EU_Desinfection!$J$30:$J$39,EU_Desinfection!$E$30:$E$39,\"<4\",EU_Desinfection!$F$30:$F$39,\"<4\",EU_Desinfection!$L$30:$L$39,\">=\"&Annee_BI,EU_Desinfection!$L$30:$L$39,\"<=\"&Annee_BI+4)","v":0},{"$f":"MIN(IF(EU_Desinfection!$L$30:$L$39>=Annee_BI,IF(EU_Desinfection!$L$30:$L$39<=Annee_BI+4,EU_Desinfection!$L$30:$L$39)))","v":0},{"$f":"MAX(IF(EU_Desinfection!$L$30:$L$39>=Annee_BI,IF(EU_Desinfection!$L$30:$L$39<=Annee_BI+4,EU_Desinfection!$L$30:$L$39)))","v":0},{"$f":"SUMIFS(EU_Desinfection!$J$30:$J$39,EU_Desinfection!$E$30:$E$39,\"<4\",EU_Desinfection!$F$30:$F$39,\"<4\",EU_Desinfection!$L$30:$L$39,\">=\"&Annee_BI+5,EU_Desinfection!$L$30:$L$39,\"<=\"&Annee_BI+9)","v":0},{"$f":"MIN(IF(EU_Desinfection!$L$30:$L$39>=Annee_BI+5,IF(EU_Desinfection!$L$30:$L$39<=Annee_BI+9,EU_Desinfection!$L$30:$L$39)))","v":0},{"$f":"MAX(IF(EU_Desinfection!$L$30:$L$39>=Annee_BI+5,IF(EU_Desinfection!$L$30:$L$39<=Annee_BI+9,EU_Desinfection!$L$30:$L$39)))","v":0}]
["Eaux usées","Installation de traitement","Étangs",{"$f":"IF(Identification!$H$63=\"\",\"\",Identification!$H$63)","v":""},"Désinfection (U.V., O3)","Électricité",{"$f":"EU_Desinfection!$B$54","v":""},0,{"$f":"IFERROR(J276/SUM($J274:$J277),0)","v":0},{"$f":"EU_Desinfection!$I$54","v":0},{"$f":"EU_Desinfection!$G$54","v":""},{"$f":"EU_Desinfection!$E$54","v":""},{"$f":"EU_Desinfection!$F$54","v":""},{"$f":"EU_Desinfection!$J$54-SUMIFS(EU_Desinfection!$J$44:$J$53,EU_Desinfection!$E$44:$E$53,\"<4\",EU_Desinfection!$F$44:$F$53,\"<4\")","v":0},{"$f":"SUMIFS(EU_Desinfection!$J$44:$J$53,EU_Desinfection!$E$44:$E$53,\"<4\",EU_Desinfection!$F$44:$F$53,\"<4\",EU_Desinfection!$L$44:$L$53,\">=\"&Annee_BI,EU_Desinfection!$L$44:$L$53,\"<=\"&Annee_BI+4)","v":0},{"$f":"MIN(IF(EU_Desinfection!$L$44:$L$53>=Annee_BI,IF(EU_Desinfection!$L$44:$L$53<=Annee_BI+4,EU_Desinfection!$L$44:$L$53)))","v":0},{"$f":"MAX(IF(EU_Desinfection!$L$44:$L$53>=Annee_BI,IF(EU_Desinfection!$L$44:$L$53<=Annee_BI+4,EU_Desinfection!$L$44:$L$53)))","v":0},{"$f":"SUMIFS(EU_Desinfection!$J$44:$J$53,EU_Desinfection!$E$44:$E$53,\"<4\",EU_Desinfection!$F$44:$F$53,\"<4\",EU_Desinfection!$L$44:$L$53,\">=\"&Annee_BI+5,EU_Desinfection!$L$44:$L$53,\"<=\"&Annee_BI+9)","v":0},{"$f":"MIN(IF(EU_Desinfection!$L$44:$L$53>=Annee_BI+5,IF(EU_Desinfection!$L$44:$L$53<=Annee_BI+9,EU_Desinfection!$L$44:$L$53)))","v":0},{"$f":"MAX(IF(EU_Desinfection!$L$44:$L$53>=Annee_BI+5,IF(EU_Desinfection!$L$44:$L$53<=Annee_BI+9,EU_Desinfection!$L$44:$L$53)))","v":0}]
["Eaux usées","Installation de traitement","Étangs",{"$f":"IF(Identification!$H$63=\"\",\"\",Identification!$H$63)","v":""},"Désinfection (U.V., O3)","Instrumentation et contrôle",{"$f":"EU_Desinfection!$B$68","v":""},0,{"$f":"IFERROR(J277/SUM($J274:$J277),0)","v":0},{"$f":"EU_Desinfection!$I$68","v":0},{"$f":"EU_Desinfection!$G$68","v":""},{"$f":"EU_Desinfection!$E$68","v":""},{"$f":"EU_Desinfection!$F$68","v":""},{"$f":"EU_Desinfection!$J$68-SUMIFS(EU_Desinfection!$J$58:$J$67,EU_Desinfection!$E$58:$E$67,\"<4\",EU_Desinfection!$F$58:$F$67,\"<4\")","v":0},{"$f":"SUMIFS(EU_Desinfection!$J$58:$J$67,EU_Desinfection!$E$58:$E$67,\"<4\",EU_Desinfection!$F$58:$F$67,\"<4\",EU_Desinfection!$L$58:$L$67,\">=\"&Annee_BI,EU_Desinfection!$L$58:$L$67,\"<=\"&Annee_BI+4)","v":0},{"$f":"MIN(IF(EU_Desinfection!$L$58:$L$67>=Annee_BI,IF(EU_Desinfection!$L$58:$L$67<=Annee_BI+4,EU_Desinfection!$L$58:$L$67)))","v":0},{"$f":"MAX(IF(EU_Desinfection!$L$58:$L$67>=Annee_BI,IF(EU_Desinfection!$L$58:$L$67<=Annee_BI+4,EU_Desinfection!$L$58:$L$67)))","v":0},{"$f":"SUMIFS(EU_Desinfection!$J$58:$J$67,EU_Desinfection!$E$58:$E$67,\"<4\",EU_Desinfection!$F$58:$F$67,\"<4\",EU_Desinfection!$L$58:$L$67,\">=\"&Annee_BI+5,EU_Desinfection!$L$58:$L$67,\"<=\"&Annee_BI+9)","v":0},{"$f":"MIN(IF(EU_Desinfection!$L$58:$L$67>=Annee_BI+5,IF(EU_Desinfection!$L$58:$L$67<=Annee_BI+9,EU_Desinfection!$L$58:$L$67)))","v":0},{"$f":"MAX(IF(EU_Desinfection!$L$58:$L$67>=Annee_BI+5,IF(EU_Desinfection!$L$58:$L$67<=Annee_BI+9,EU_Desinfection!$L$58:$L$67)))","v":0}]
["Eaux usées","Installation de traitement","Étangs",{"$f":"IF(Identification!$H$63=\"\",\"\",Identification!$H$63)","v":""},"Effluent","Civil",{"$f":"EU_Effluent!$B$26","v":""},0,{"$f":"IFERROR(J278/SUM($J278:$J281),0)","v":0},{"$f":"EU_Effluent!$I$26","v":0},{"$f":"EU_Effluent!$G$26","v":""},{"$f":"EU_Effluent!$E$26","v":""},{"$f":"EU_Effluent!$F$26","v":""},{"$f":"EU_Effluent!$J$26-SUMIFS(EU_Effluent!$J$16:$J$25,EU_Effluent!$E$16:$E$25,\"<4\",EU_Effluent!$F$16:$F$25,\"<4\")","v":0},{"$f":"SUMIFS(EU_Effluent!$J$16:$J$25,EU_Effluent!$E$16:$E$25,\"<4\",EU_Effluent!$F$16:$F$25,\"<4\",EU_Effluent!$L$16:$L$25,\">=\"&Annee_BI,EU_Effluent!$L$16:$L$25,\"<=\"&Annee_BI+4)","v":0},{"$f":"MIN(IF(EU_Effluent!$L$16:$L$25>=Annee_BI,IF(EU_Effluent!$L$16:$L$25<=Annee_BI+4,EU_Effluent!$L$16:$L$25)))","v":0},{"$f":"MAX(IF(EU_Effluent!$L$16:$L$25>=Annee_BI,IF(EU_Effluent!$L$16:$L$25<=Annee_BI+4,EU_Effluent!$L$16:$L$25)))","v":0},{"$f":"SUMIFS(EU_Effluent!$J$16:$J$25,EU_Effluent!$E$16:$E$25,\"<4\",EU_Effluent!$F$16:$F$25,\"<4\",EU_Effluent!$L$16:$L$25,\">=\"&Annee_BI+5,EU_Effluent!$L$16:$L$25,\"<=\"&Annee_BI+9)","v":0},{"$f":"MIN(IF(EU_Effluent!$L$16:$L$25>=Annee_BI+5,IF(EU_Effluent!$L$16:$L$25<=Annee_BI+9,EU_Effluent!$L$16:$L$25)))","v":0},{"$f":"MAX(IF(EU_Effluent!$L$16:$L$25>=Annee_BI+5,IF(EU_Effluent!$L$16:$L$25<=Annee_BI+9,EU_Effluent!$L$16:$L$25)))","v":0}]
["Eaux usées","Installation de traitement","Étangs",{"$f":"IF(Identification!$H$63=\"\",\"\",Identification!$H$63)","v":""},"Effluent","Mécanique",{"$f":"EU_Effluent!$B$40","v":""},0,{"$f":"IFERROR(J279/SUM($J278:$J281),0)","v":0},{"$f":"EU_Effluent!$I$40","v":0},{"$f":"EU_Effluent!$G$40","v":""},{"$f":"EU_Effluent!$E$40","v":""},{"$f":"EU_Effluent!$F$40","v":""},{"$f":"EU_Effluent!$J$40-SUMIFS(EU_Effluent!$J$30:$J$39,EU_Effluent!$E$30:$E$39,\"<4\",EU_Effluent!$F$30:$F$39,\"<4\")","v":0},{"$f":"SUMIFS(EU_Effluent!$J$30:$J$39,EU_Effluent!$E$30:$E$39,\"<4\",EU_Effluent!$F$30:$F$39,\"<4\",EU_Effluent!$L$30:$L$39,\">=\"&Annee_BI,EU_Effluent!$L$30:$L$39,\"<=\"&Annee_BI+4)","v":0},{"$f":"MIN(IF(EU_Effluent!$L$30:$L$39>=Annee_BI,IF(EU_Effluent!$L$30:$L$39<=Annee_BI+4,EU_Effluent!$L$30:$L$39)))","v":0},{"$f":"MAX(IF(EU_Effluent!$L$30:$L$39>=Annee_BI,IF(EU_Effluent!$L$30:$L$39<=Annee_BI+4,EU_Effluent!$L$30:$L$39)))","v":0},{"$f":"SUMIFS(EU_Effluent!$J$30:$J$39,EU_Effluent!$E$30:$E$39,\"<4\",EU_Effluent!$F$30:$F$39,\"<4\",EU_Effluent!$L$30:$L$39,\">=\"&Annee_BI+5,EU_Effluent!$L$30:$L$39,\"<=\"&Annee_BI+9)","v":0},{"$f":"MIN(IF(EU_Effluent!$L$30:$L$39>=Annee_BI+5,IF(EU_Effluent!$L$30:$L$39<=Annee_BI+9,EU_Effluent!$L$30:$L$39)))","v":0},{"$f":"MAX(IF(EU_Effluent!$L$30:$L$39>=Annee_BI+5,IF(EU_Effluent!$L$30:$L$39<=Annee_BI+9,EU_Effluent!$L$30:$L$39)))","v":0}]
["Eaux usées","Installation de traitement","Étangs",{"$f":"IF(Identification!$H$63=\"\",\"\",Identification!$H$63)","v":""},"Effluent","Électricité",{"$f":"EU_Effluent!$B$54","v":""},0,{"$f":"IFERROR(J280/SUM($J278:$J281),0)","v":0},{"$f":"EU_Effluent!$I$54","v":0},{"$f":"EU_Effluent!$G$54","v":""},{"$f":"EU_Effluent!$E$54","v":""},{"$f":"EU_Effluent!$F$54","v":""},{"$f":"EU_Effluent!$J$54-SUMIFS(EU_Effluent!$J$44:$J$53,EU_Effluent!$E$44:$E$53,\"<4\",EU_Effluent!$F$44:$F$53,\"<4\")","v":0},{"$f":"SUMIFS(EU_Effluent!$J$44:$J$53,EU_Effluent!$E$44:$E$53,\"<4\",EU_Effluent!$F$44:$F$53,\"<4\",EU_Effluent!$L$44:$L$53,\">=\"&Annee_BI,EU_Effluent!$L$44:$L$53,\"<=\"&Annee_BI+4)","v":0},{"$f":"MIN(IF(EU_Effluent!$L$44:$L$53>=Annee_BI,IF(EU_Effluent!$L$44:$L$53<=Annee_BI+4,EU_Effluent!$L$44:$L$53)))","v":0},{"$f":"MAX(IF(EU_Effluent!$L$44:$L$53>=Annee_BI,IF(EU_Effluent!$L$44:$L$53<=Annee_BI+4,EU_Effluent!$L$44:$L$53)))","v":0},{"$f":"SUMIFS(EU_Effluent!$J$44:$J$53,EU_Effluent!$E$44:$E$53,\"<4\",EU_Effluent!$F$44:$F$53,\"<4\",EU_Effluent!$L$44:$L$53,\">=\"&Annee_BI+5,EU_Effluent!$L$44:$L$53,\"<=\"&Annee_BI+9)","v":0},{"$f":"MIN(IF(EU_Effluent!$L$44:$L$53>=Annee_BI+5,IF(EU_Effluent!$L$44:$L$53<=Annee_BI+9,EU_Effluent!$L$44:$L$53)))","v":0},{"$f":"MAX(IF(EU_Effluent!$L$44:$L$53>=Annee_BI+5,IF(EU_Effluent!$L$44:$L$53<=Annee_BI+9,EU_Effluent!$L$44:$L$53)))","v":0}]
["Eaux usées","Installation de traitement","Étangs",{"$f":"IF(Identification!$H$63=\"\",\"\",Identification!$H$63)","v":""},"Effluent","Instrumentation et contrôle",{"$f":"EU_Effluent!$B$68","v":""},0,{"$f":"IFERROR(J281/SUM($J278:$J281),0)","v":0},{"$f":"EU_Effluent!$I$68","v":0},{"$f":"EU_Effluent!$G$68","v":""},{"$f":"EU_Effluent!$E$68","v":""},{"$f":"EU_Effluent!$F$68","v":""},{"$f":"EU_Effluent!$J$68-SUMIFS(EU_Effluent!$J$58:$J$67,EU_Effluent!$E$58:$E$67,\"<4\",EU_Effluent!$F$58:$F$67,\"<4\")","v":0},{"$f":"SUMIFS(EU_Effluent!$J$58:$J$67,EU_Effluent!$E$58:$E$67,\"<4\",EU_Effluent!$F$58:$F$67,\"<4\",EU_Effluent!$L$58:$L$67,\">=\"&Annee_BI,EU_Effluent!$L$58:$L$67,\"<=\"&Annee_BI+4)","v":0},{"$f":"MIN(IF(EU_Effluent!$L$58:$L$67>=Annee_BI,IF(EU_Effluent!$L$58:$L$67<=Annee_BI+4,EU_Effluent!$L$58:$L$67)))","v":0},{"$f":"MAX(IF(EU_Effluent!$L$58:$L$67>=Annee_BI,IF(EU_Effluent!$L$58:$L$67<=Annee_BI+4,EU_Effluent!$L$58:$L$67)))","v":0},{"$f":"SUMIFS(EU_Effluent!$J$58:$J$67,EU_Effluent!$E$58:$E$67,\"<4\",EU_Effluent!$F$58:$F$67,\"<4\",EU_Effluent!$L$58:$L$67,\">=\"&Annee_BI+5,EU_Effluent!$L$58:$L$67,\"<=\"&Annee_BI+9)","v":0},{"$f":"MIN(IF(EU_Effluent!$L$58:$L$67>=Annee_BI+5,IF(EU_Effluent!$L$58:$L$67<=Annee_BI+9,EU_Effluent!$L$58:$L$67)))","v":0},{"$f":"MAX(IF(EU_Effluent!$L$58:$L$67>=Annee_BI+5,IF(EU_Effluent!$L$58:$L$67<=Annee_BI+9,EU_Effluent!$L$58:$L$67)))","v":0}]
["Eaux usées","Installation de traitement","Étangs",{"$f":"IF(Identification!$H$63=\"\",\"\",Identification!$H$63)","v":""},"Déshydratation/Séchage des boues","Civil",{"$f":"EU_Déshydratation_Séchage!$B$26","v":""},0,{"$f":"IFERROR(J282/SUM($J282:$J285),0)","v":0},{"$f":"EU_Déshydratation_Séchage!$I$26","v":0},{"$f":"EU_Déshydratation_Séchage!$G$26","v":""},{"$f":"EU_Déshydratation_Séchage!$E$26","v":""},{"$f":"EU_Déshydratation_Séchage!$F$26","v":""},{"$f":"EU_Déshydratation_Séchage!$J$26-SUMIFS(EU_Déshydratation_Séchage!$J$16:$J$25,EU_Déshydratation_Séchage!$E$16:$E$25,\"<4\",EU_Déshydratation_Séchage!$F$16:$F$25,\"<4\")","v":0},{"$f":"SUMIFS(EU_Déshydratation_Séchage!$J$16:$J$25,EU_Déshydratation_Séchage!$E$16:$E$25,\"<4\",EU_Déshydratation_Séchage!$F$16:$F$25,\"<4\",EU_Déshydratation_Séchage!$L$16:$L$25,\">=\"&Annee_BI,EU_Déshydratation_Séchage!$L$16:$L$25,\"<=\"&Annee_BI+4)","v":0},{"$f":"MIN(IF(EU_Déshydratation_Séchage!$L$16:$L$25>=Annee_BI,IF(EU_Déshydratation_Séchage!$L$16:$L$25<=Annee_BI+4,EU_Déshydratation_Séchage!$L$16:$L$25)))","v":0},{"$f":"MAX(IF(EU_Déshydratation_Séchage!$L$16:$L$25>=Annee_BI,IF(EU_Déshydratation_Séchage!$L$16:$L$25<=Annee_BI+4,EU_Déshydratation_Séchage!$L$16:$L$25)))","v":0},{"$f":"SUMIFS(EU_Déshydratation_Séchage!$J$16:$J$25,EU_Déshydratation_Séchage!$E$16:$E$25,\"<4\",EU_Déshydratation_Séchage!$F$16:$F$25,\"<4\",EU_Déshydratation_Séchage!$L$16:$L$25,\">=\"&Annee_BI+5,EU_Déshydratation_Séchage!$L$16:$L$25,\"<=\"&Annee_BI+9)","v":0},{"$f":"MIN(IF(EU_Déshydratation_Séchage!$L$16:$L$25>=Annee_BI+5,IF(EU_Déshydratation_Séchage!$L$16:$L$25<=Annee_BI+9,EU_Déshydratation_Séchage!$L$16:$L$25)))","v":0},{"$f":"MAX(IF(EU_Déshydratation_Séchage!$L$16:$L$25>=Annee_BI+5,IF(EU_Déshydratation_Séchage!$L$16:$L$25<=Annee_BI+9,EU_Déshydratation_Séchage!$L$16:$L$25)))","v":0}]
["Eaux usées","Installation de traitement","Étangs",{"$f":"IF(Identification!$H$63=\"\",\"\",Identification!$H$63)","v":""},"Déshydratation/Séchage des boues","Mécanique",{"$f":"EU_Déshydratation_Séchage!$B$40","v":""},0,{"$f":"IFERROR(J283/SUM($J282:$J285),0)","v":0},{"$f":"EU_Déshydratation_Séchage!$I$40","v":0},{"$f":"EU_Déshydratation_Séchage!$G$40","v":""},{"$f":"EU_Déshydratation_Séchage!$E$40","v":""},{"$f":"EU_Déshydratation_Séchage!$F$40","v":""},{"$f":"EU_Déshydratation_Séchage!$J$40-SUMIFS(EU_Déshydratation_Séchage!$J$30:$J$39,EU_Déshydratation_Séchage!$E$30:$E$39,\"<4\",EU_Déshydratation_Séchage!$F$30:$F$39,\"<4\")","v":0},{"$f":"SUMIFS(EU_Déshydratation_Séchage!$J$30:$J$39,EU_Déshydratation_Séchage!$E$30:$E$39,\"<4\",EU_Déshydratation_Séchage!$F$30:$F$39,\"<4\",EU_Déshydratation_Séchage!$L$30:$L$39,\">=\"&Annee_BI,EU_Déshydratation_Séchage!$L$30:$L$39,\"<=\"&Annee_BI+4)","v":0},{"$f":"MIN(IF(EU_Déshydratation_Séchage!$L$30:$L$39>=Annee_BI,IF(EU_Déshydratation_Séchage!$L$30:$L$39<=Annee_BI+4,EU_Déshydratation_Séchage!$L$30:$L$39)))","v":0},{"$f":"MAX(IF(EU_Déshydratation_Séchage!$L$30:$L$39>=Annee_BI,IF(EU_Déshydratation_Séchage!$L$30:$L$39<=Annee_BI+4,EU_Déshydratation_Séchage!$L$30:$L$39)))","v":0},{"$f":"SUMIFS(EU_Déshydratation_Séchage!$J$30:$J$39,EU_Déshydratation_Séchage!$E$30:$E$39,\"<4\",EU_Déshydratation_Séchage!$F$30:$F$39,\"<4\",EU_Déshydratation_Séchage!$L$30:$L$39,\">=\"&Annee_BI+5,EU_Déshydratation_Séchage!$L$30:$L$39,\"<=\"&Annee_BI+9)","v":0},{"$f":"MIN(IF(EU_Déshydratation_Séchage!$L$30:$L$39>=Annee_BI+5,IF(EU_Déshydratation_Séchage!$L$30:$L$39<=Annee_BI+9,EU_Déshydratation_Séchage!$L$30:$L$39)))","v":0},{"$f":"MAX(IF(EU_Déshydratation_Séchage!$L$30:$L$39>=Annee_BI+5,IF(EU_Déshydratation_Séchage!$L$30:$L$39<=Annee_BI+9,EU_Déshydratation_Séchage!$L$30:$L$39)))","v":0}]
["Eaux usées","Installation de traitement","Étangs",{"$f":"IF(Identification!$H$63=\"\",\"\",Identification!$H$63)","v":""},"Déshydratation/Séchage des boues","Électricité",{"$f":"EU_Déshydratation_Séchage!$B$54","v":""},0,{"$f":"IFERROR(J284/SUM($J282:$J285),0)","v":0},{"$f":"EU_Déshydratation_Séchage!$I$54","v":0},{"$f":"EU_Déshydratation_Séchage!$G$54","v":""},{"$f":"EU_Déshydratation_Séchage!$E$54","v":""},{"$f":"EU_Déshydratation_Séchage!$F$54","v":""},{"$f":"EU_Déshydratation_Séchage!$J$54-SUMIFS(EU_Déshydratation_Séchage!$J$44:$J$53,EU_Déshydratation_Séchage!$E$44:$E$53,\"<4\",EU_Déshydratation_Séchage!$F$44:$F$53,\"<4\")","v":0},{"$f":"SUMIFS(EU_Déshydratation_Séchage!$J$44:$J$53,EU_Déshydratation_Séchage!$E$44:$E$53,\"<4\",EU_Déshydratation_Séchage!$F$44:$F$53,\"<4\",EU_Déshydratation_Séchage!$L$44:$L$53,\">=\"&Annee_BI,EU_Déshydratation_Séchage!$L$44:$L$53,\"<=\"&Annee_BI+4)","v":0},{"$f":"MIN(IF(EU_Déshydratation_Séchage!$L$44:$L$53>=Annee_BI,IF(EU_Déshydratation_Séchage!$L$44:$L$53<=Annee_BI+4,EU_Déshydratation_Séchage!$L$44:$L$53)))","v":0},{"$f":"MAX(IF(EU_Déshydratation_Séchage!$L$44:$L$53>=Annee_BI,IF(EU_Déshydratation_Séchage!$L$44:$L$53<=Annee_BI+4,EU_Déshydratation_Séchage!$L$44:$L$53)))","v":0},{"$f":"SUMIFS(EU_Déshydratation_Séchage!$J$44:$J$53,EU_Déshydratation_Séchage!$E$44:$E$53,\"<4\",EU_Déshydratation_Séchage!$F$44:$F$53,\"<4\",EU_Déshydratation_Séchage!$L$44:$L$53,\">=\"&Annee_BI+5,EU_Déshydratation_Séchage!$L$44:$L$53,\"<=\"&Annee_BI+9)","v":0},{"$f":"MIN(IF(EU_Déshydratation_Séchage!$L$44:$L$53>=Annee_BI+5,IF(EU_Déshydratation_Séchage!$L$44:$L$53<=Annee_BI+9,EU_Déshydratation_Séchage!$L$44:$L$53)))","v":0},{"$f":"MAX(IF(EU_Déshydratation_Séchage!$L$44:$L$53>=Annee_BI+5,IF(EU_Déshydratation_Séchage!$L$44:$L$53<=Annee_BI+9,EU_Déshydratation_Séchage!$L$44:$L$53)))","v":0}]
["Eaux usées","Installation de traitement","Étangs",{"$f":"IF(Identification!$H$63=\"\",\"\",Identification!$H$63)","v":""},"Déshydratation/Séchage des boues","Instrumentation et contrôle",{"$f":"EU_Déshydratation_Séchage!$B$68","v":""},0,{"$f":"IFERROR(J285/SUM($J282:$J285),0)","v":0},{"$f":"EU_Déshydratation_Séchage!$I$68","v":0},{"$f":"EU_Déshydratation_Séchage!$G$68","v":""},{"$f":"EU_Déshydratation_Séchage!$E$68","v":""},{"$f":"EU_Déshydratation_Séchage!$F$68","v":""},{"$f":"EU_Déshydratation_Séchage!$J$68-SUMIFS(EU_Déshydratation_Séchage!$J$58:$J$67,EU_Déshydratation_Séchage!$E$58:$E$67,\"<4\",EU_Déshydratation_Séchage!$F$58:$F$67,\"<4\")","v":0},{"$f":"SUMIFS(EU_Déshydratation_Séchage!$J$58:$J$67,EU_Déshydratation_Séchage!$E$58:$E$67,\"<4\",EU_Déshydratation_Séchage!$F$58:$F$67,\"<4\",EU_Déshydratation_Séchage!$L$58:$L$67,\">=\"&Annee_BI,EU_Déshydratation_Séchage!$L$58:$L$67,\"<=\"&Annee_BI+4)","v":0},{"$f":"MIN(IF(EU_Déshydratation_Séchage!$L$58:$L$67>=Annee_BI,IF(EU_Déshydratation_Séchage!$L$58:$L$67<=Annee_BI+4,EU_Déshydratation_Séchage!$L$58:$L$67)))","v":0},{"$f":"MAX(IF(EU_Déshydratation_Séchage!$L$58:$L$67>=Annee_BI,IF(EU_Déshydratation_Séchage!$L$58:$L$67<=Annee_BI+4,EU_Déshydratation_Séchage!$L$58:$L$67)))","v":0},{"$f":"SUMIFS(EU_Déshydratation_Séchage!$J$58:$J$67,EU_Déshydratation_Séchage!$E$58:$E$67,\"<4\",EU_Déshydratation_Séchage!$F$58:$F$67,\"<4\",EU_Déshydratation_Séchage!$L$58:$L$67,\">=\"&Annee_BI+5,EU_Déshydratation_Séchage!$L$58:$L$67,\"<=\"&Annee_BI+9)","v":0},{"$f":"MIN(IF(EU_Déshydratation_Séchage!$L$58:$L$67>=Annee_BI+5,IF(EU_Déshydratation_Séchage!$L$58:$L$67<=Annee_BI+9,EU_Déshydratation_Séchage!$L$58:$L$67)))","v":0},{"$f":"MAX(IF(EU_Déshydratation_Séchage!$L$58:$L$67>=Annee_BI+5,IF(EU_Déshydratation_Séchage!$L$58:$L$67<=Annee_BI+9,EU_Déshydratation_Séchage!$L$58:$L$67)))","v":0}]
["Eaux usées","Installation de traitement","Étangs",{"$f":"IF(Identification!$H$63=\"\",\"\",Identification!$H$63)","v":""},"Systèmes communs","Civil",{"$f":"Systèmes_communs!$B$26","v":""},0,{"$f":"IFERROR(J286/SUM($J286:$J289),0)","v":0},{"$f":"Systèmes_communs!$I$26","v":0},{"$f":"Systèmes_communs!$G$26","v":""},{"$f":"Systèmes_communs!$E$26","v":""},{"$f":"Systèmes_communs!$F$26","v":""},{"$f":"Systèmes_communs!$J$26-SUMIFS(Systèmes_communs!$J$16:$J$25,Systèmes_communs!$E$16:$E$25,\"<4\",Systèmes_communs!$F$16:$F$25,\"<4\")","v":0},{"$f":"SUMIFS(Systèmes_communs!$J$16:$J$25,Systèmes_communs!$E$16:$E$25,\"<4\",Systèmes_communs!$F$16:$F$25,\"<4\",Systèmes_communs!$L$16:$L$25,\">=\"&Annee_BI,Systèmes_communs!$L$16:$L$25,\"<=\"&Annee_BI+4)","v":0},{"$f":"MIN(IF(Systèmes_communs!$L$16:$L$25>=Annee_BI,IF(Systèmes_communs!$L$16:$L$25<=Annee_BI+4,Systèmes_communs!$L$16:$L$25)))","v":0},{"$f":"MAX(IF(Systèmes_communs!$L$16:$L$25>=Annee_BI,IF(Systèmes_communs!$L$16:$L$25<=Annee_BI+4,Systèmes_communs!$L$16:$L$25)))","v":0},{"$f":"SUMIFS(Systèmes_communs!$J$16:$J$25,Systèmes_communs!$E$16:$E$25,\"<4\",Systèmes_communs!$F$16:$F$25,\"<4\",Systèmes_communs!$L$16:$L$25,\">=\"&Annee_BI+5,Systèmes_communs!$L$16:$L$25,\"<=\"&Annee_BI+9)","v":0},{"$f":"MIN(IF(Systèmes_communs!$L$16:$L$25>=Annee_BI+5,IF(Systèmes_communs!$L$16:$L$25<=Annee_BI+9,Systèmes_communs!$L$16:$L$25)))","v":0},{"$f":"MAX(IF(Systèmes_communs!$L$16:$L$25>=Annee_BI+5,IF(Systèmes_communs!$L$16:$L$25<=Annee_BI+9,Systèmes_communs!$L$16:$L$25)))","v":0}]
["Eaux usées","Installation de traitement","Étangs",{"$f":"IF(Identification!$H$63=\"\",\"\",Identification!$H$63)","v":""},"Systèmes communs","Mécanique",{"$f":"Systèmes_communs!$B$40","v":""},0,{"$f":"IFERROR(J287/SUM($J286:$J289),0)","v":0},{"$f":"Systèmes_communs!$I$40","v":0},{"$f":"Systèmes_communs!$G$40","v":""},{"$f":"Systèmes_communs!$E$40","v":""},{"$f":"Systèmes_communs!$F$40","v":""},{"$f":"Systèmes_communs!$J$40-SUMIFS(Systèmes_communs!$J$30:$J$39,Systèmes_communs!$E$30:$E$39,\"<4\",Systèmes_communs!$F$30:$F$39,\"<4\")","v":0},{"$f":"SUMIFS(Systèmes_communs!$J$30:$J$39,Systèmes_communs!$E$30:$E$39,\"<4\",Systèmes_communs!$F$30:$F$39,\"<4\",Systèmes_communs!$L$30:$L$39,\">=\"&Annee_BI,Systèmes_communs!$L$30:$L$39,\"<=\"&Annee_BI+4)","v":0},{"$f":"MIN(IF(Systèmes_communs!$L$30:$L$39>=Annee_BI,IF(Systèmes_communs!$L$30:$L$39<=Annee_BI+4,Systèmes_communs!$L$30:$L$39)))","v":0},{"$f":"MAX(IF(Systèmes_communs!$L$30:$L$39>=Annee_BI,IF(Systèmes_communs!$L$30:$L$39<=Annee_BI+4,Systèmes_communs!$L$30:$L$39)))","v":0},{"$f":"SUMIFS(Systèmes_communs!$J$30:$J$39,Systèmes_communs!$E$30:$E$39,\"<4\",Systèmes_communs!$F$30:$F$39,\"<4\",Systèmes_communs!$L$30:$L$39,\">=\"&Annee_BI+5,Systèmes_communs!$L$30:$L$39,\"<=\"&Annee_BI+9)","v":0},{"$f":"MIN(IF(Systèmes_communs!$L$30:$L$39>=Annee_BI+5,IF(Systèmes_communs!$L$30:$L$39<=Annee_BI+9,Systèmes_communs!$L$30:$L$39)))","v":0},{"$f":"MAX(IF(Systèmes_communs!$L$30:$L$39>=Annee_BI+5,IF(Systèmes_communs!$L$30:$L$39<=Annee_BI+9,Systèmes_communs!$L$30:$L$39)))","v":0}]
["Eaux usées","Installation de traitement","Étangs",{"$f":"IF(Identification!$H$63=\"\",\"\",Identification!$H$63)","v":""},"Systèmes communs","Électricité",{"$f":"Systèmes_communs!$B$54","v":""},0,{"$f":"IFERROR(J288/SUM($J286:$J289),0)","v":0},{"$f":"Systèmes_communs!$I$54","v":0},{"$f":"Systèmes_communs!$G$54","v":""},{"$f":"Systèmes_communs!$E$54","v":""},{"$f":"Systèmes_communs!$F$54","v":""},{"$f":"Systèmes_communs!$J$54-SUMIFS(Systèmes_communs!$J$44:$J$53,Systèmes_communs!$E$44:$E$53,\"<4\",Systèmes_communs!$F$44:$F$53,\"<4\")","v":0},{"$f":"SUMIFS(Systèmes_communs!$J$44:$J$53,Systèmes_communs!$E$44:$E$53,\"<4\",Systèmes_communs!$F$44:$F$53,\"<4\",Systèmes_communs!$L$44:$L$53,\">=\"&Annee_BI,Systèmes_communs!$L$44:$L$53,\"<=\"&Annee_BI+4)","v":0},{"$f":"MIN(IF(Systèmes_communs!$L$44:$L$53>=Annee_BI,IF(Systèmes_communs!$L$44:$L$53<=Annee_BI+4,Systèmes_communs!$L$44:$L$53)))","v":0},{"$f":"MAX(IF(Systèmes_communs!$L$44:$L$53>=Annee_BI,IF(Systèmes_communs!$L$44:$L$53<=Annee_BI+4,Systèmes_communs!$L$44:$L$53)))","v":0},{"$f":"SUMIFS(Systèmes_communs!$J$44:$J$53,Systèmes_communs!$E$44:$E$53,\"<4\",Systèmes_communs!$F$44:$F$53,\"<4\",Systèmes_communs!$L$44:$L$53,\">=\"&Annee_BI+5,Systèmes_communs!$L$44:$L$53,\"<=\"&Annee_BI+9)","v":0},{"$f":"MIN(IF(Systèmes_communs!$L$44:$L$53>=Annee_BI+5,IF(Systèmes_communs!$L$44:$L$53<=Annee_BI+9,Systèmes_communs!$L$44:$L$53)))","v":0},{"$f":"MAX(IF(Systèmes_communs!$L$44:$L$53>=Annee_BI+5,IF(Systèmes_communs!$L$44:$L$53<=Annee_BI+9,Systèmes_communs!$L$44:$L$53)))","v":0}]
["Eaux usées","Installation de traitement","Étangs",{"$f":"IF(Identification!$H$63=\"\",\"\",Identification!$H$63)","v":""},"Systèmes communs","Instrumentation et contrôle",{"$f":"Systèmes_communs!$B$68","v":""},0,{"$f":"IFERROR(J289/SUM($J286:$J289),0)","v":0},{"$f":"Systèmes_communs!$I$68","v":0},{"$f":"Systèmes_communs!$G$68","v":""},{"$f":"Systèmes_communs!$E$68","v":""},{"$f":"Systèmes_communs!$F$68","v":""},{"$f":"Systèmes_communs!$J$68-SUMIFS(Systèmes_communs!$J$58:$J$67,Systèmes_communs!$E$58:$E$67,\"<4\",Systèmes_communs!$F$58:$F$67,\"<4\")","v":0},{"$f":"SUMIFS(Systèmes_communs!$J$58:$J$67,Systèmes_communs!$E$58:$E$67,\"<4\",Systèmes_communs!$F$58:$F$67,\"<4\",Systèmes_communs!$L$58:$L$67,\">=\"&Annee_BI,Systèmes_communs!$L$58:$L$67,\"<=\"&Annee_BI+4)","v":0},{"$f":"MIN(IF(Systèmes_communs!$L$58:$L$67>=Annee_BI,IF(Systèmes_communs!$L$58:$L$67<=Annee_BI+4,Systèmes_communs!$L$58:$L$67)))","v":0},{"$f":"MAX(IF(Systèmes_communs!$L$58:$L$67>=Annee_BI,IF(Systèmes_communs!$L$58:$L$67<=Annee_BI+4,Systèmes_communs!$L$58:$L$67)))","v":0},{"$f":"SUMIFS(Systèmes_communs!$J$58:$J$67,Systèmes_communs!$E$58:$E$67,\"<4\",Systèmes_communs!$F$58:$F$67,\"<4\",Systèmes_communs!$L$58:$L$67,\">=\"&Annee_BI+5,Systèmes_communs!$L$58:$L$67,\"<=\"&Annee_BI+9)","v":0},{"$f":"MIN(IF(Systèmes_communs!$L$58:$L$67>=Annee_BI+5,IF(Systèmes_communs!$L$58:$L$67<=Annee_BI+9,Systèmes_communs!$L$58:$L$67)))","v":0},{"$f":"MAX(IF(Systèmes_communs!$L$58:$L$67>=Annee_BI+5,IF(Systèmes_communs!$L$58:$L$67<=Annee_BI+9,Systèmes_communs!$L$58:$L$67)))","v":0}]
["Eaux usées","Installation de traitement","Technologie spécifique",{"$f":"IF(Identification!$H$63=\"\",\"\",Identification!$H$63)","v":""},"Affluent","Civil",{"$f":"EU_Affluent!$B$26","v":""},0,{"$f":"IFERROR(J290/SUM($J290:$J293),0)","v":0},{"$f":"EU_Affluent!$I$26","v":0},{"$f":"EU_Affluent!$G$26","v":""},{"$f":"EU_Affluent!$E$26","v":""},{"$f":"EU_Affluent!$F$26","v":""},{"$f":"EU_Affluent!$J$26-SUMIFS(EU_Affluent!$J$16:$J$25,EU_Affluent!$E$16:$E$25,\"<4\",EU_Affluent!$F$16:$F$25,\"<4\")","v":0},{"$f":"SUMIFS(EU_Affluent!$J$16:$J$25,EU_Affluent!$E$16:$E$25,\"<4\",EU_Affluent!$F$16:$F$25,\"<4\",EU_Affluent!$L$16:$L$25,\">=\"&Annee_BI,EU_Affluent!$L$16:$L$25,\"<=\"&Annee_BI+4)","v":0},{"$f":"MIN(IF(EU_Affluent!$L$16:$L$25>=Annee_BI,IF(EU_Affluent!$L$16:$L$25<=Annee_BI+4,EU_Affluent!$L$16:$L$25)))","v":0},{"$f":"MAX(IF(EU_Affluent!$L$16:$L$25>=Annee_BI,IF(EU_Affluent!$L$16:$L$25<=Annee_BI+4,EU_Affluent!$L$16:$L$25)))","v":0},{"$f":"SUMIFS(EU_Affluent!$J$16:$J$25,EU_Affluent!$E$16:$E$25,\"<4\",EU_Affluent!$F$16:$F$25,\"<4\",EU_Affluent!$L$16:$L$25,\">=\"&Annee_BI+5,EU_Affluent!$L$16:$L$25,\"<=\"&Annee_BI+9)","v":0},{"$f":"MIN(IF(EU_Affluent!$L$16:$L$25>=Annee_BI+5,IF(EU_Affluent!$L$16:$L$25<=Annee_BI+9,EU_Affluent!$L$16:$L$25)))","v":0},{"$f":"MAX(IF(EU_Affluent!$L$16:$L$25>=Annee_BI+5,IF(EU_Affluent!$L$16:$L$25<=Annee_BI+9,EU_Affluent!$L$16:$L$25)))","v":0}]
["Eaux usées","Installation de traitement","Technologie spécifique",{"$f":"IF(Identification!$H$63=\"\",\"\",Identification!$H$63)","v":""},"Affluent","Mécanique",{"$f":"EU_Affluent!$B$40","v":""},0,{"$f":"IFERROR(J291/SUM($J290:$J293),0)","v":0},{"$f":"EU_Affluent!$I$40","v":0},{"$f":"EU_Affluent!$G$40","v":""},{"$f":"EU_Affluent!$E$40","v":""},{"$f":"EU_Affluent!$F$40","v":""},{"$f":"EU_Affluent!$J$40-SUMIFS(EU_Affluent!$J$30:$J$39,EU_Affluent!$E$30:$E$39,\"<4\",EU_Affluent!$F$30:$F$39,\"<4\")","v":0},{"$f":"SUMIFS(EU_Affluent!$J$30:$J$39,EU_Affluent!$E$30:$E$39,\"<4\",EU_Affluent!$F$30:$F$39,\"<4\",EU_Affluent!$L$30:$L$39,\">=\"&Annee_BI,EU_Affluent!$L$30:$L$39,\"<=\"&Annee_BI+4)","v":0},{"$f":"MIN(IF(EU_Affluent!$L$30:$L$39>=Annee_BI,IF(EU_Affluent!$L$30:$L$39<=Annee_BI+4,EU_Affluent!$L$30:$L$39)))","v":0},{"$f":"MAX(IF(EU_Affluent!$L$30:$L$39>=Annee_BI,IF(EU_Affluent!$L$30:$L$39<=Annee_BI+4,EU_Affluent!$L$30:$L$39)))","v":0},{"$f":"SUMIFS(EU_Affluent!$J$30:$J$39,EU_Affluent!$E$30:$E$39,\"<4\",EU_Affluent!$F$30:$F$39,\"<4\",EU_Affluent!$L$30:$L$39,\">=\"&Annee_BI+5,EU_Affluent!$L$30:$L$39,\"<=\"&Annee_BI+9)","v":0},{"$f":"MIN(IF(EU_Affluent!$L$30:$L$39>=Annee_BI+5,IF(EU_Affluent!$L$30:$L$39<=Annee_BI+9,EU_Affluent!$L$30:$L$39)))","v":0},{"$f":"MAX(IF(EU_Affluent!$L$30:$L$39>=Annee_BI+5,IF(EU_Affluent!$L$30:$L$39<=Annee_BI+9,EU_Affluent!$L$30:$L$39)))","v":0}]
["Eaux usées","Installation de traitement","Technologie spécifique",{"$f":"IF(Identification!$H$63=\"\",\"\",Identification!$H$63)","v":""},"Affluent","Électricité",{"$f":"EU_Affluent!$B$54","v":""},0,{"$f":"IFERROR(J292/SUM($J290:$J293),0)","v":0},{"$f":"EU_Affluent!$I$54","v":0},{"$f":"EU_Affluent!$G$54","v":""},{"$f":"EU_Affluent!$E$54","v":""},{"$f":"EU_Affluent!$F$54","v":""},{"$f":"EU_Affluent!$J$54-SUMIFS(EU_Affluent!$J$44:$J$53,EU_Affluent!$E$44:$E$53,\"<4\",EU_Affluent!$F$44:$F$53,\"<4\")","v":0},{"$f":"SUMIFS(EU_Affluent!$J$44:$J$53,EU_Affluent!$E$44:$E$53,\"<4\",EU_Affluent!$F$44:$F$53,\"<4\",EU_Affluent!$L$44:$L$53,\">=\"&Annee_BI,EU_Affluent!$L$44:$L$53,\"<=\"&Annee_BI+4)","v":0},{"$f":"MIN(IF(EU_Affluent!$L$44:$L$53>=Annee_BI,IF(EU_Affluent!$L$44:$L$53<=Annee_BI+4,EU_Affluent!$L$44:$L$53)))","v":0},{"$f":"MAX(IF(EU_Affluent!$L$44:$L$53>=Annee_BI,IF(EU_Affluent!$L$44:$L$53<=Annee_BI+4,EU_Affluent!$L$44:$L$53)))","v":0},{"$f":"SUMIFS(EU_Affluent!$J$44:$J$53,EU_Affluent!$E$44:$E$53,\"<4\",EU_Affluent!$F$44:$F$53,\"<4\",EU_Affluent!$L$44:$L$53,\">=\"&Annee_BI+5,EU_Affluent!$L$44:$L$53,\"<=\"&Annee_BI+9)","v":0},{"$f":"MIN(IF(EU_Affluent!$L$44:$L$53>=Annee_BI+5,IF(EU_Affluent!$L$44:$L$53<=Annee_BI+9,EU_Affluent!$L$44:$L$53)))","v":0},{"$f":"MAX(IF(EU_Affluent!$L$44:$L$53>=Annee_BI+5,IF(EU_Affluent!$L$44:$L$53<=Annee_BI+9,EU_Affluent!$L$44:$L$53)))","v":0}]
["Eaux usées","Installation de traitement","Technologie spécifique",{"$f":"IF(Identification!$H$63=\"\",\"\",Identification!$H$63)","v":""},"Affluent","Instrumentation et contrôle",{"$f":"EU_Affluent!$B$68","v":""},0,{"$f":"IFERROR(J293/SUM($J290:$J293),0)","v":0},{"$f":"EU_Affluent!$I$68","v":0},{"$f":"EU_Affluent!$G$68","v":""},{"$f":"EU_Affluent!$E$68","v":""},{"$f":"EU_Affluent!$F$68","v":""},{"$f":"EU_Affluent!$J$68-SUMIFS(EU_Affluent!$J$58:$J$67,EU_Affluent!$E$58:$E$67,\"<4\",EU_Affluent!$F$58:$F$67,\"<4\")","v":0},{"$f":"SUMIFS(EU_Affluent!$J$58:$J$67,EU_Affluent!$E$58:$E$67,\"<4\",EU_Affluent!$F$58:$F$67,\"<4\",EU_Affluent!$L$58:$L$67,\">=\"&Annee_BI,EU_Affluent!$L$58:$L$67,\"<=\"&Annee_BI+4)","v":0},{"$f":"MIN(IF(EU_Affluent!$L$58:$L$67>=Annee_BI,IF(EU_Affluent!$L$58:$L$67<=Annee_BI+4,EU_Affluent!$L$58:$L$67)))","v":0},{"$f":"MAX(IF(EU_Affluent!$L$58:$L$67>=Annee_BI,IF(EU_Affluent!$L$58:$L$67<=Annee_BI+4,EU_Affluent!$L$58:$L$67)))","v":0},{"$f":"SUMIFS(EU_Affluent!$J$58:$J$67,EU_Affluent!$E$58:$E$67,\"<4\",EU_Affluent!$F$58:$F$67,\"<4\",EU_Affluent!$L$58:$L$67,\">=\"&Annee_BI+5,EU_Affluent!$L$58:$L$67,\"<=\"&Annee_BI+9)","v":0},{"$f":"MIN(IF(EU_Affluent!$L$58:$L$67>=Annee_BI+5,IF(EU_Affluent!$L$58:$L$67<=Annee_BI+9,EU_Affluent!$L$58:$L$67)))","v":0},{"$f":"MAX(IF(EU_Affluent!$L$58:$L$67>=Annee_BI+5,IF(EU_Affluent!$L$58:$L$67<=Annee_BI+9,EU_Affluent!$L$58:$L$67)))","v":0}]
["Eaux usées","Installation de traitement","Technologie spécifique",{"$f":"IF(Identification!$H$63=\"\",\"\",Identification!$H$63)","v":""},"Décantation primaire","Civil",{"$f":"EU_Décantation_primaire!$B$26","v":""},0,{"$f":"IFERROR(J294/SUM($J294:$J297),0)","v":0},{"$f":"EU_Décantation_primaire!$I$26","v":0},{"$f":"EU_Décantation_primaire!$G$26","v":""},{"$f":"EU_Décantation_primaire!$E$26","v":""},{"$f":"EU_Décantation_primaire!$F$26","v":""},{"$f":"EU_Décantation_primaire!$J$26-SUMIFS(EU_Décantation_primaire!$J$16:$J$25,EU_Décantation_primaire!$E$16:$E$25,\"<4\",EU_Décantation_primaire!$F$16:$F$25,\"<4\")","v":0},{"$f":"SUMIFS(EU_Décantation_primaire!$J$16:$J$25,EU_Décantation_primaire!$E$16:$E$25,\"<4\",EU_Décantation_primaire!$F$16:$F$25,\"<4\",EU_Décantation_primaire!$L$16:$L$25,\">=\"&Annee_BI,EU_Décantation_primaire!$L$16:$L$25,\"<=\"&Annee_BI+4)","v":0},{"$f":"MIN(IF(EU_Décantation_primaire!$L$16:$L$25>=Annee_BI,IF(EU_Décantation_primaire!$L$16:$L$25<=Annee_BI+4,EU_Décantation_primaire!$L$16:$L$25)))","v":0},{"$f":"MAX(IF(EU_Décantation_primaire!$L$16:$L$25>=Annee_BI,IF(EU_Décantation_primaire!$L$16:$L$25<=Annee_BI+4,EU_Décantation_primaire!$L$16:$L$25)))","v":0},{"$f":"SUMIFS(EU_Décantation_primaire!$J$16:$J$25,EU_Décantation_primaire!$E$16:$E$25,\"<4\",EU_Décantation_primaire!$F$16:$F$25,\"<4\",EU_Décantation_primaire!$L$16:$L$25,\">=\"&Annee_BI+5,EU_Décantation_primaire!$L$16:$L$25,\"<=\"&Annee_BI+9)","v":0},{"$f":"MIN(IF(EU_Décantation_primaire!$L$16:$L$25>=Annee_BI+5,IF(EU_Décantation_primaire!$L$16:$L$25<=Annee_BI+9,EU_Décantation_primaire!$L$16:$L$25)))","v":0},{"$f":"MAX(IF(EU_Décantation_primaire!$L$16:$L$25>=Annee_BI+5,IF(EU_Décantation_primaire!$L$16:$L$25<=Annee_BI+9,EU_Décantation_primaire!$L$16:$L$25)))","v":0}]
["Eaux usées","Installation de traitement","Technologie spécifique",{"$f":"IF(Identification!$H$63=\"\",\"\",Identification!$H$63)","v":""},"Décantation primaire","Mécanique",{"$f":"EU_Décantation_primaire!$B$40","v":""},0,{"$f":"IFERROR(J295/SUM($J294:$J297),0)","v":0},{"$f":"EU_Décantation_primaire!$I$40","v":0},{"$f":"EU_Décantation_primaire!$G$40","v":""},{"$f":"EU_Décantation_primaire!$E$40","v":""},{"$f":"EU_Décantation_primaire!$F$40","v":""},{"$f":"EU_Décantation_primaire!$J$40-SUMIFS(EU_Décantation_primaire!$J$30:$J$39,EU_Décantation_primaire!$E$30:$E$39,\"<4\",EU_Décantation_primaire!$F$30:$F$39,\"<4\")","v":0},{"$f":"SUMIFS(EU_Décantation_primaire!$J$30:$J$39,EU_Décantation_primaire!$E$30:$E$39,\"<4\",EU_Décantation_primaire!$F$30:$F$39,\"<4\",EU_Décantation_primaire!$L$30:$L$39,\">=\"&Annee_BI,EU_Décantation_primaire!$L$30:$L$39,\"<=\"&Annee_BI+4)","v":0},{"$f":"MIN(IF(EU_Décantation_primaire!$L$30:$L$39>=Annee_BI,IF(EU_Décantation_primaire!$L$30:$L$39<=Annee_BI+4,EU_Décantation_primaire!$L$30:$L$39)))","v":0},{"$f":"MAX(IF(EU_Décantation_primaire!$L$30:$L$39>=Annee_BI,IF(EU_Décantation_primaire!$L$30:$L$39<=Annee_BI+4,EU_Décantation_primaire!$L$30:$L$39)))","v":0},{"$f":"SUMIFS(EU_Décantation_primaire!$J$30:$J$39,EU_Décantation_primaire!$E$30:$E$39,\"<4\",EU_Décantation_primaire!$F$30:$F$39,\"<4\",EU_Décantation_primaire!$L$30:$L$39,\">=\"&Annee_BI+5,EU_Décantation_primaire!$L$30:$L$39,\"<=\"&Annee_BI+9)","v":0},{"$f":"MIN(IF(EU_Décantation_primaire!$L$30:$L$39>=Annee_BI+5,IF(EU_Décantation_primaire!$L$30:$L$39<=Annee_BI+9,EU_Décantation_primaire!$L$30:$L$39)))","v":0},{"$f":"MAX(IF(EU_Décantation_primaire!$L$30:$L$39>=Annee_BI+5,IF(EU_Décantation_primaire!$L$30:$L$39<=Annee_BI+9,EU_Décantation_primaire!$L$30:$L$39)))","v":0}]
["Eaux usées","Installation de traitement","Technologie spécifique",{"$f":"IF(Identification!$H$63=\"\",\"\",Identification!$H$63)","v":""},"Décantation primaire","Électricité",{"$f":"EU_Décantation_primaire!$B$54","v":""},0,{"$f":"IFERROR(J296/SUM($J294:$J297),0)","v":0},{"$f":"EU_Décantation_primaire!$I$54","v":0},{"$f":"EU_Décantation_primaire!$G$54","v":""},{"$f":"EU_Décantation_primaire!$E$54","v":""},{"$f":"EU_Décantation_primaire!$F$54","v":""},{"$f":"EU_Décantation_primaire!$J$54-SUMIFS(EU_Décantation_primaire!$J$44:$J$53,EU_Décantation_primaire!$E$44:$E$53,\"<4\",EU_Décantation_primaire!$F$44:$F$53,\"<4\")","v":0},{"$f":"SUMIFS(EU_Décantation_primaire!$J$44:$J$53,EU_Décantation_primaire!$E$44:$E$53,\"<4\",EU_Décantation_primaire!$F$44:$F$53,\"<4\",EU_Décantation_primaire!$L$44:$L$53,\">=\"&Annee_BI,EU_Décantation_primaire!$L$44:$L$53,\"<=\"&Annee_BI+4)","v":0},{"$f":"MIN(IF(EU_Décantation_primaire!$L$44:$L$53>=Annee_BI,IF(EU_Décantation_primaire!$L$44:$L$53<=Annee_BI+4,EU_Décantation_primaire!$L$44:$L$53)))","v":0},{"$f":"MAX(IF(EU_Décantation_primaire!$L$44:$L$53>=Annee_BI,IF(EU_Décantation_primaire!$L$44:$L$53<=Annee_BI+4,EU_Décantation_primaire!$L$44:$L$53)))","v":0},{"$f":"SUMIFS(EU_Décantation_primaire!$J$44:$J$53,EU_Décantation_primaire!$E$44:$E$53,\"<4\",EU_Décantation_primaire!$F$44:$F$53,\"<4\",EU_Décantation_primaire!$L$44:$L$53,\">=\"&Annee_BI+5,EU_Décantation_primaire!$L$44:$L$53,\"<=\"&Annee_BI+9)","v":0},{"$f":"MIN(IF(EU_Décantation_primaire!$L$44:$L$53>=Annee_BI+5,IF(EU_Décantation_primaire!$L$44:$L$53<=Annee_BI+9,EU_Décantation_primaire!$L$44:$L$53)))","v":0},{"$f":"MAX(IF(EU_Décantation_primaire!$L$44:$L$53>=Annee_BI+5,IF(EU_Décantation_primaire!$L$44:$L$53<=Annee_BI+9,EU_Décantation_primaire!$L$44:$L$53)))","v":0}]
["Eaux usées","Installation de traitement","Technologie spécifique",{"$f":"IF(Identification!$H$63=\"\",\"\",Identification!$H$63)","v":""},"Décantation primaire","Instrumentation et contrôle",{"$f":"EU_Décantation_primaire!$B$68","v":""},0,{"$f":"IFERROR(J297/SUM($J294:$J297),0)","v":0},{"$f":"EU_Décantation_primaire!$I$68","v":0},{"$f":"EU_Décantation_primaire!$G$68","v":""},{"$f":"EU_Décantation_primaire!$E$68","v":""},{"$f":"EU_Décantation_primaire!$F$68","v":""},{"$f":"EU_Décantation_primaire!$J$68-SUMIFS(EU_Décantation_primaire!$J$58:$J$67,EU_Décantation_primaire!$E$58:$E$67,\"<4\",EU_Décantation_primaire!$F$58:$F$67,\"<4\")","v":0},{"$f":"SUMIFS(EU_Décantation_primaire!$J$58:$J$67,EU_Décantation_primaire!$E$58:$E$67,\"<4\",EU_Décantation_primaire!$F$58:$F$67,\"<4\",EU_Décantation_primaire!$L$58:$L$67,\">=\"&Annee_BI,EU_Décantation_primaire!$L$58:$L$67,\"<=\"&Annee_BI+4)","v":0},{"$f":"MIN(IF(EU_Décantation_primaire!$L$58:$L$67>=Annee_BI,IF(EU_Décantation_primaire!$L$58:$L$67<=Annee_BI+4,EU_Décantation_primaire!$L$58:$L$67)))","v":0},{"$f":"MAX(IF(EU_Décantation_primaire!$L$58:$L$67>=Annee_BI,IF(EU_Décantation_primaire!$L$58:$L$67<=Annee_BI+4,EU_Décantation_primaire!$L$58:$L$67)))","v":0},{"$f":"SUMIFS(EU_Décantation_primaire!$J$58:$J$67,EU_Décantation_primaire!$E$58:$E$67,\"<4\",EU_Décantation_primaire!$F$58:$F$67,\"<4\",EU_Décantation_primaire!$L$58:$L$67,\">=\"&Annee_BI+5,EU_Décantation_primaire!$L$58:$L$67,\"<=\"&Annee_BI+9)","v":0},{"$f":"MIN(IF(EU_Décantation_primaire!$L$58:$L$67>=Annee_BI+5,IF(EU_Décantation_primaire!$L$58:$L$67<=Annee_BI+9,EU_Décantation_primaire!$L$58:$L$67)))","v":0},{"$f":"MAX(IF(EU_Décantation_primaire!$L$58:$L$67>=Annee_BI+5,IF(EU_Décantation_primaire!$L$58:$L$67<=Annee_BI+9,EU_Décantation_primaire!$L$58:$L$67)))","v":0}]
["Eaux usées","Installation de traitement","Technologie spécifique",{"$f":"IF(Identification!$H$63=\"\",\"\",Identification!$H$63)","v":""},"Régulation de débit","Civil",{"$f":"EU_Régulation_débit!$B$26","v":""},{"$f":"IF(G298<>\"\",1,0)","v":0},{"$f":"IFERROR(J298/SUM($J298:$J301),0)","v":0},{"$f":"EU_Régulation_débit!$I$26","v":0},{"$f":"EU_Régulation_débit!$G$26","v":""},{"$f":"EU_Régulation_débit!$E$26","v":""},{"$f":"EU_Régulation_débit!$F$26","v":""},{"$f":"EU_Régulation_débit!$J$26-SUMIFS(EU_Régulation_débit!$J$16:$J$25,EU_Régulation_débit!$E$16:$E$25,\"<4\",EU_Régulation_débit!$F$16:$F$25,\"<4\")","v":0},{"$f":"SUMIFS(EU_Régulation_débit!$J$16:$J$25,EU_Régulation_débit!$E$16:$E$25,\"<4\",EU_Régulation_débit!$F$16:$F$25,\"<4\",EU_Régulation_débit!$L$16:$L$25,\">=\"&Annee_BI,EU_Régulation_débit!$L$16:$L$25,\"<=\"&Annee_BI+4)","v":0},{"$f":"MIN(IF(EU_Régulation_débit!$L$16:$L$25>=Annee_BI,IF(EU_Régulation_débit!$L$16:$L$25<=Annee_BI+4,EU_Régulation_débit!$L$16:$L$25)))","v":0},{"$f":"MAX(IF(EU_Régulation_débit!$L$16:$L$25>=Annee_BI,IF(EU_Régulation_débit!$L$16:$L$25<=Annee_BI+4,EU_Régulation_débit!$L$16:$L$25)))","v":0},{"$f":"SUMIFS(EU_Régulation_débit!$J$16:$J$25,EU_Régulation_débit!$E$16:$E$25,\"<4\",EU_Régulation_débit!$F$16:$F$25,\"<4\",EU_Régulation_débit!$L$16:$L$25,\">=\"&Annee_BI+5,EU_Régulation_débit!$L$16:$L$25,\"<=\"&Annee_BI+9)","v":0},{"$f":"MIN(IF(EU_Régulation_débit!$L$16:$L$25>=Annee_BI+5,IF(EU_Régulation_débit!$L$16:$L$25<=Annee_BI+9,EU_Régulation_débit!$L$16:$L$25)))","v":0},{"$f":"MAX(IF(EU_Régulation_débit!$L$16:$L$25>=Annee_BI+5,IF(EU_Régulation_débit!$L$16:$L$25<=Annee_BI+9,EU_Régulation_débit!$L$16:$L$25)))","v":0}]
["Eaux usées","Installation de traitement","Technologie spécifique",{"$f":"IF(Identification!$H$63=\"\",\"\",Identification!$H$63)","v":""},"Régulation de débit","Mécanique",{"$f":"EU_Régulation_débit!$B$40","v":""},{"$f":"IF(G299<>\"\",1,0)","v":0},{"$f":"IFERROR(J299/SUM($J298:$J301),0)","v":0},{"$f":"EU_Régulation_débit!$I$40","v":0},{"$f":"EU_Régulation_débit!$G$40","v":""},{"$f":"EU_Régulation_débit!$E$40","v":""},{"$f":"EU_Régulation_débit!$F$40","v":""},{"$f":"EU_Régulation_débit!$J$40-SUMIFS(EU_Régulation_débit!$J$30:$J$39,EU_Régulation_débit!$E$30:$E$39,\"<4\",EU_Régulation_débit!$F$30:$F$39,\"<4\")","v":0},{"$f":"SUMIFS(EU_Régulation_débit!$J$30:$J$39,EU_Régulation_débit!$E$30:$E$39,\"<4\",EU_Régulation_débit!$F$30:$F$39,\"<4\",EU_Régulation_débit!$L$30:$L$39,\">=\"&Annee_BI,EU_Régulation_débit!$L$30:$L$39,\"<=\"&Annee_BI+4)","v":0},{"$f":"MIN(IF(EU_Régulation_débit!$L$30:$L$39>=Annee_BI,IF(EU_Régulation_débit!$L$30:$L$39<=Annee_BI+4,EU_Régulation_débit!$L$30:$L$39)))","v":0},{"$f":"MAX(IF(EU_Régulation_débit!$L$30:$L$39>=Annee_BI,IF(EU_Régulation_débit!$L$30:$L$39<=Annee_BI+4,EU_Régulation_débit!$L$30:$L$39)))","v":0},{"$f":"SUMIFS(EU_Régulation_débit!$J$30:$J$39,EU_Régulation_débit!$E$30:$E$39,\"<4\",EU_Régulation_débit!$F$30:$F$39,\"<4\",EU_Régulation_débit!$L$30:$L$39,\">=\"&Annee_BI+5,EU_Régulation_débit!$L$30:$L$39,\"<=\"&Annee_BI+9)","v":0},{"$f":"MIN(IF(EU_Régulation_débit!$L$30:$L$39>=Annee_BI+5,IF(EU_Régulation_débit!$L$30:$L$39<=Annee_BI+9,EU_Régulation_débit!$L$30:$L$39)))","v":0},{"$f":"MAX(IF(EU_Régulation_débit!$L$30:$L$39>=Annee_BI+5,IF(EU_Régulation_débit!$L$30:$L$39<=Annee_BI+9,EU_Régulation_débit!$L$30:$L$39)))","v":0}]
["Eaux usées","Installation de traitement","Technologie spécifique",{"$f":"IF(Identification!$H$63=\"\",\"\",Identification!$H$63)","v":""},"Régulation de débit","Électricité",{"$f":"EU_Régulation_débit!$B$54","v":""},{"$f":"IF(G300<>\"\",1,0)","v":0},{"$f":"IFERROR(J300/SUM($J298:$J301),0)","v":0},{"$f":"EU_Régulation_débit!$I$54","v":0},{"$f":"EU_Régulation_débit!$G$54","v":""},{"$f":"EU_Régulation_débit!$E$54","v":""},{"$f":"EU_Régulation_débit!$F$54","v":""},{"$f":"EU_Régulation_débit!$J$54-SUMIFS(EU_Régulation_débit!$J$44:$J$53,EU_Régulation_débit!$E$44:$E$53,\"<4\",EU_Régulation_débit!$F$44:$F$53,\"<4\")","v":0},{"$f":"SUMIFS(EU_Régulation_débit!$J$44:$J$53,EU_Régulation_débit!$E$44:$E$53,\"<4\",EU_Régulation_débit!$F$44:$F$53,\"<4\",EU_Régulation_débit!$L$44:$L$53,\">=\"&Annee_BI,EU_Régulation_débit!$L$44:$L$53,\"<=\"&Annee_BI+4)","v":0},{"$f":"MIN(IF(EU_Régulation_débit!$L$44:$L$53>=Annee_BI,IF(EU_Régulation_débit!$L$44:$L$53<=Annee_BI+4,EU_Régulation_débit!$L$44:$L$53)))","v":0},{"$f":"MAX(IF(EU_Régulation_débit!$L$44:$L$53>=Annee_BI,IF(EU_Régulation_débit!$L$44:$L$53<=Annee_BI+4,EU_Régulation_débit!$L$44:$L$53)))","v":0},{"$f":"SUMIFS(EU_Régulation_débit!$J$44:$J$53,EU_Régulation_débit!$E$44:$E$53,\"<4\",EU_Régulation_débit!$F$44:$F$53,\"<4\",EU_Régulation_débit!$L$44:$L$53,\">=\"&Annee_BI+5,EU_Régulation_débit!$L$44:$L$53,\"<=\"&Annee_BI+9)","v":0},{"$f":"MIN(IF(EU_Régulation_débit!$L$44:$L$53>=Annee_BI+5,IF(EU_Régulation_débit!$L$44:$L$53<=Annee_BI+9,EU_Régulation_débit!$L$44:$L$53)))","v":0},{"$f":"MAX(IF(EU_Régulation_débit!$L$44:$L$53>=Annee_BI+5,IF(EU_Régulation_débit!$L$44:$L$53<=Annee_BI+9,EU_Régulation_débit!$L$44:$L$53)))","v":0}]
["Eaux usées","Installation de traitement","Technologie spécifique",{"$f":"IF(Identification!$H$63=\"\",\"\",Identification!$H$63)","v":""},"Régulation de débit","Instrumentation et contrôle",{"$f":"EU_Régulation_débit!$B$68","v":""},{"$f":"IF(G301<>\"\",1,0)","v":0},{"$f":"IFERROR(J301/SUM($J298:$J301),0)","v":0},{"$f":"EU_Régulation_débit!$I$68","v":0},{"$f":"EU_Régulation_débit!$G$68","v":""},{"$f":"EU_Régulation_débit!$E$68","v":""},{"$f":"EU_Régulation_débit!$F$68","v":""},{"$f":"EU_Régulation_débit!$J$68-SUMIFS(EU_Régulation_débit!$J$58:$J$67,EU_Régulation_débit!$E$58:$E$67,\"<4\",EU_Régulation_débit!$F$58:$F$67,\"<4\")","v":0},{"$f":"SUMIFS(EU_Régulation_débit!$J$58:$J$67,EU_Régulation_débit!$E$58:$E$67,\"<4\",EU_Régulation_débit!$F$58:$F$67,\"<4\",EU_Régulation_débit!$L$58:$L$67,\">=\"&Annee_BI,EU_Régulation_débit!$L$58:$L$67,\"<=\"&Annee_BI+4)","v":0},{"$f":"MIN(IF(EU_Régulation_débit!$L$58:$L$67>=Annee_BI,IF(EU_Régulation_débit!$L$58:$L$67<=Annee_BI+4,EU_Régulation_débit!$L$58:$L$67)))","v":0},{"$f":"MAX(IF(EU_Régulation_débit!$L$58:$L$67>=Annee_BI,IF(EU_Régulation_débit!$L$58:$L$67<=Annee_BI+4,EU_Régulation_débit!$L$58:$L$67)))","v":0},{"$f":"SUMIFS(EU_Régulation_débit!$J$58:$J$67,EU_Régulation_débit!$E$58:$E$67,\"<4\",EU_Régulation_débit!$F$58:$F$67,\"<4\",EU_Régulation_débit!$L$58:$L$67,\">=\"&Annee_BI+5,EU_Régulation_débit!$L$58:$L$67,\"<=\"&Annee_BI+9)","v":0},{"$f":"MIN(IF(EU_Régulation_débit!$L$58:$L$67>=Annee_BI+5,IF(EU_Régulation_débit!$L$58:$L$67<=Annee_BI+9,EU_Régulation_débit!$L$58:$L$67)))","v":0},{"$f":"MAX(IF(EU_Régulation_débit!$L$58:$L$67>=Annee_BI+5,IF(EU_Régulation_débit!$L$58:$L$67<=Annee_BI+9,EU_Régulation_débit!$L$58:$L$67)))","v":0}]
["Eaux usées","Installation de traitement","Technologie spécifique",{"$f":"IF(Identification!$H$63=\"\",\"\",Identification!$H$63)","v":""},"Traitement secondaire","Civil",{"$f":"EU_Traitement_secondaire!$B$26","v":""},0,{"$f":"IFERROR(J302/SUM($J302:$J305),0)","v":0},{"$f":"EU_Traitement_secondaire!$I$26","v":0},{"$f":"EU_Traitement_secondaire!$G$26","v":""},{"$f":"EU_Traitement_secondaire!$E$26","v":""},{"$f":"EU_Traitement_secondaire!$F$26","v":""},{"$f":"EU_Traitement_secondaire!$J$26-SUMIFS(EU_Traitement_secondaire!$J$16:$J$25,EU_Traitement_secondaire!$E$16:$E$25,\"<4\",EU_Traitement_secondaire!$F$16:$F$25,\"<4\")","v":0},{"$f":"SUMIFS(EU_Traitement_secondaire!$J$16:$J$25,EU_Traitement_secondaire!$E$16:$E$25,\"<4\",EU_Traitement_secondaire!$F$16:$F$25,\"<4\",EU_Traitement_secondaire!$L$16:$L$25,\">=\"&Annee_BI,EU_Traitement_secondaire!$L$16:$L$25,\"<=\"&Annee_BI+4)","v":0},{"$f":"MIN(IF(EU_Traitement_secondaire!$L$16:$L$25>=Annee_BI,IF(EU_Traitement_secondaire!$L$16:$L$25<=Annee_BI+4,EU_Traitement_secondaire!$L$16:$L$25)))","v":0},{"$f":"MAX(IF(EU_Traitement_secondaire!$L$16:$L$25>=Annee_BI,IF(EU_Traitement_secondaire!$L$16:$L$25<=Annee_BI+4,EU_Traitement_secondaire!$L$16:$L$25)))","v":0},{"$f":"SUMIFS(EU_Traitement_secondaire!$J$16:$J$25,EU_Traitement_secondaire!$E$16:$E$25,\"<4\",EU_Traitement_secondaire!$F$16:$F$25,\"<4\",EU_Traitement_secondaire!$L$16:$L$25,\">=\"&Annee_BI+5,EU_Traitement_secondaire!$L$16:$L$25,\"<=\"&Annee_BI+9)","v":0},{"$f":"MIN(IF(EU_Traitement_secondaire!$L$16:$L$25>=Annee_BI+5,IF(EU_Traitement_secondaire!$L$16:$L$25<=Annee_BI+9,EU_Traitement_secondaire!$L$16:$L$25)))","v":0},{"$f":"MAX(IF(EU_Traitement_secondaire!$L$16:$L$25>=Annee_BI+5,IF(EU_Traitement_secondaire!$L$16:$L$25<=Annee_BI+9,EU_Traitement_secondaire!$L$16:$L$25)))","v":0}]
["Eaux usées","Installation de traitement","Technologie spécifique",{"$f":"IF(Identification!$H$63=\"\",\"\",Identification!$H$63)","v":""},"Traitement secondaire","Mécanique",{"$f":"EU_Traitement_secondaire!$B$40","v":""},{"$f":"IF(G303<>\"\",1,0)","v":0},{"$f":"IFERROR(J303/SUM($J302:$J305),0)","v":0},{"$f":"EU_Traitement_secondaire!$I$40","v":0},{"$f":"EU_Traitement_secondaire!$G$40","v":""},{"$f":"EU_Traitement_secondaire!$E$40","v":""},{"$f":"EU_Traitement_secondaire!$F$40","v":""},{"$f":"EU_Traitement_secondaire!$J$40-SUMIFS(EU_Traitement_secondaire!$J$30:$J$39,EU_Traitement_secondaire!$E$30:$E$39,\"<4\",EU_Traitement_secondaire!$F$30:$F$39,\"<4\")","v":0},{"$f":"SUMIFS(EU_Traitement_secondaire!$J$30:$J$39,EU_Traitement_secondaire!$E$30:$E$39,\"<4\",EU_Traitement_secondaire!$F$30:$F$39,\"<4\",EU_Traitement_secondaire!$L$30:$L$39,\">=\"&Annee_BI,EU_Traitement_secondaire!$L$30:$L$39,\"<=\"&Annee_BI+4)","v":0},{"$f":"MIN(IF(EU_Traitement_secondaire!$L$30:$L$39>=Annee_BI,IF(EU_Traitement_secondaire!$L$30:$L$39<=Annee_BI+4,EU_Traitement_secondaire!$L$30:$L$39)))","v":0},{"$f":"MAX(IF(EU_Traitement_secondaire!$L$30:$L$39>=Annee_BI,IF(EU_Traitement_secondaire!$L$30:$L$39<=Annee_BI+4,EU_Traitement_secondaire!$L$30:$L$39)))","v":0},{"$f":"SUMIFS(EU_Traitement_secondaire!$J$30:$J$39,EU_Traitement_secondaire!$E$30:$E$39,\"<4\",EU_Traitement_secondaire!$F$30:$F$39,\"<4\",EU_Traitement_secondaire!$L$30:$L$39,\">=\"&Annee_BI+5,EU_Traitement_secondaire!$L$30:$L$39,\"<=\"&Annee_BI+9)","v":0},{"$f":"MIN(IF(EU_Traitement_secondaire!$L$30:$L$39>=Annee_BI+5,IF(EU_Traitement_secondaire!$L$30:$L$39<=Annee_BI+9,EU_Traitement_secondaire!$L$30:$L$39)))","v":0},{"$f":"MAX(IF(EU_Traitement_secondaire!$L$30:$L$39>=Annee_BI+5,IF(EU_Traitement_secondaire!$L$30:$L$39<=Annee_BI+9,EU_Traitement_secondaire!$L$30:$L$39)))","v":0}]
["Eaux usées","Installation de traitement","Technologie spécifique",{"$f":"IF(Identification!$H$63=\"\",\"\",Identification!$H$63)","v":""},"Traitement secondaire","Électricité",{"$f":"EU_Traitement_secondaire!$B$54","v":""},0,{"$f":"IFERROR(J304/SUM($J302:$J305),0)","v":0},{"$f":"EU_Traitement_secondaire!$I$54","v":0},{"$f":"EU_Traitement_secondaire!$G$54","v":""},{"$f":"EU_Traitement_secondaire!$E$54","v":""},{"$f":"EU_Traitement_secondaire!$F$54","v":""},{"$f":"EU_Traitement_secondaire!$J$54-SUMIFS(EU_Traitement_secondaire!$J$44:$J$53,EU_Traitement_secondaire!$E$44:$E$53,\"<4\",EU_Traitement_secondaire!$F$44:$F$53,\"<4\")","v":0},{"$f":"SUMIFS(EU_Traitement_secondaire!$J$44:$J$53,EU_Traitement_secondaire!$E$44:$E$53,\"<4\",EU_Traitement_secondaire!$F$44:$F$53,\"<4\",EU_Traitement_secondaire!$L$44:$L$53,\">=\"&Annee_BI,EU_Traitement_secondaire!$L$44:$L$53,\"<=\"&Annee_BI+4)","v":0},{"$f":"MIN(IF(EU_Traitement_secondaire!$L$44:$L$53>=Annee_BI,IF(EU_Traitement_secondaire!$L$44:$L$53<=Annee_BI+4,EU_Traitement_secondaire!$L$44:$L$53)))","v":0},{"$f":"MAX(IF(EU_Traitement_secondaire!$L$44:$L$53>=Annee_BI,IF(EU_Traitement_secondaire!$L$44:$L$53<=Annee_BI+4,EU_Traitement_secondaire!$L$44:$L$53)))","v":0},{"$f":"SUMIFS(EU_Traitement_secondaire!$J$44:$J$53,EU_Traitement_secondaire!$E$44:$E$53,\"<4\",EU_Traitement_secondaire!$F$44:$F$53,\"<4\",EU_Traitement_secondaire!$L$44:$L$53,\">=\"&Annee_BI+5,EU_Traitement_secondaire!$L$44:$L$53,\"<=\"&Annee_BI+9)","v":0},{"$f":"MIN(IF(EU_Traitement_secondaire!$L$44:$L$53>=Annee_BI+5,IF(EU_Traitement_secondaire!$L$44:$L$53<=Annee_BI+9,EU_Traitement_secondaire!$L$44:$L$53)))","v":0},{"$f":"MAX(IF(EU_Traitement_secondaire!$L$44:$L$53>=Annee_BI+5,IF(EU_Traitement_secondaire!$L$44:$L$53<=Annee_BI+9,EU_Traitement_secondaire!$L$44:$L$53)))","v":0}]
["Eaux usées","Installation de traitement","Technologie spécifique",{"$f":"IF(Identification!$H$63=\"\",\"\",Identification!$H$63)","v":""},"Traitement secondaire","Instrumentation et contrôle",{"$f":"EU_Traitement_secondaire!$B$68","v":""},0,{"$f":"IFERROR(J305/SUM($J302:$J305),0)","v":0},{"$f":"EU_Traitement_secondaire!$I$68","v":0},{"$f":"EU_Traitement_secondaire!$G$68","v":""},{"$f":"EU_Traitement_secondaire!$E$68","v":""},{"$f":"EU_Traitement_secondaire!$F$68","v":""},{"$f":"EU_Traitement_secondaire!$J$68-SUMIFS(EU_Traitement_secondaire!$J$58:$J$67,EU_Traitement_secondaire!$E$58:$E$67,\"<4\",EU_Traitement_secondaire!$F$58:$F$67,\"<4\")","v":0},{"$f":"SUMIFS(EU_Traitement_secondaire!$J$58:$J$67,EU_Traitement_secondaire!$E$58:$E$67,\"<4\",EU_Traitement_secondaire!$F$58:$F$67,\"<4\",EU_Traitement_secondaire!$L$58:$L$67,\">=\"&Annee_BI,EU_Traitement_secondaire!$L$58:$L$67,\"<=\"&Annee_BI+4)","v":0},{"$f":"MIN(IF(EU_Traitement_secondaire!$L$58:$L$67>=Annee_BI,IF(EU_Traitement_secondaire!$L$58:$L$67<=Annee_BI+4,EU_Traitement_secondaire!$L$58:$L$67)))","v":0},{"$f":"MAX(IF(EU_Traitement_secondaire!$L$58:$L$67>=Annee_BI,IF(EU_Traitement_secondaire!$L$58:$L$67<=Annee_BI+4,EU_Traitement_secondaire!$L$58:$L$67)))","v":0},{"$f":"SUMIFS(EU_Traitement_secondaire!$J$58:$J$67,EU_Traitement_secondaire!$E$58:$E$67,\"<4\",EU_Traitement_secondaire!$F$58:$F$67,\"<4\",EU_Traitement_secondaire!$L$58:$L$67,\">=\"&Annee_BI+5,EU_Traitement_secondaire!$L$58:$L$67,\"<=\"&Annee_BI+9)","v":0},{"$f":"MIN(IF(EU_Traitement_secondaire!$L$58:$L$67>=Annee_BI+5,IF(EU_Traitement_secondaire!$L$58:$L$67<=Annee_BI+9,EU_Traitement_secondaire!$L$58:$L$67)))","v":0},{"$f":"MAX(IF(EU_Traitement_secondaire!$L$58:$L$67>=Annee_BI+5,IF(EU_Traitement_secondaire!$L$58:$L$67<=Annee_BI+9,EU_Traitement_secondaire!$L$58:$L$67)))","v":0}]
["Eaux usées","Installation de traitement","Étangs",{"$f":"IF(Identification!$H$63=\"\",\"\",Identification!$H$63)","v":""},"Désinfection (U.V., O3)","Civil",{"$f":"EU_Desinfection!$B$26","v":""},0,{"$f":"IFERROR(J306/SUM($J306:$J309),0)","v":0},{"$f":"EU_Desinfection!$I$26","v":0},{"$f":"EU_Desinfection!$G$26","v":""},{"$f":"EU_Desinfection!$E$26","v":""},{"$f":"EU_Desinfection!$F$26","v":""},{"$f":"EU_Desinfection!$J$26-SUMIFS(EU_Desinfection!$J$16:$J$25,EU_Desinfection!$E$16:$E$25,\"<4\",EU_Desinfection!$F$16:$F$25,\"<4\")","v":0},{"$f":"SUMIFS(EU_Desinfection!$J$16:$J$25,EU_Desinfection!$E$16:$E$25,\"<4\",EU_Desinfection!$F$16:$F$25,\"<4\",EU_Desinfection!$L$16:$L$25,\">=\"&Annee_BI,EU_Desinfection!$L$16:$L$25,\"<=\"&Annee_BI+4)","v":0},{"$f":"MIN(IF(EU_Desinfection!$L$16:$L$25>=Annee_BI,IF(EU_Desinfection!$L$16:$L$25<=Annee_BI+4,EU_Desinfection!$L$16:$L$25)))","v":0},{"$f":"MAX(IF(EU_Desinfection!$L$16:$L$25>=Annee_BI,IF(EU_Desinfection!$L$16:$L$25<=Annee_BI+4,EU_Desinfection!$L$16:$L$25)))","v":0},{"$f":"SUMIFS(EU_Desinfection!$J$16:$J$25,EU_Desinfection!$E$16:$E$25,\"<4\",EU_Desinfection!$F$16:$F$25,\"<4\",EU_Desinfection!$L$16:$L$25,\">=\"&Annee_BI+5,EU_Desinfection!$L$16:$L$25,\"<=\"&Annee_BI+9)","v":0},{"$f":"MIN(IF(EU_Desinfection!$L$16:$L$25>=Annee_BI+5,IF(EU_Desinfection!$L$16:$L$25<=Annee_BI+9,EU_Desinfection!$L$16:$L$25)))","v":0},{"$f":"MAX(IF(EU_Desinfection!$L$16:$L$25>=Annee_BI+5,IF(EU_Desinfection!$L$16:$L$25<=Annee_BI+9,EU_Desinfection!$L$16:$L$25)))","v":0}]
["Eaux usées","Installation de traitement","Étangs",{"$f":"IF(Identification!$H$63=\"\",\"\",Identification!$H$63)","v":""},"Désinfection (U.V., O3)","Mécanique",{"$f":"EU_Desinfection!$B$40","v":""},0,{"$f":"IFERROR(J307/SUM($J306:$J309),0)","v":0},{"$f":"EU_Desinfection!$I$40","v":0},{"$f":"EU_Desinfection!$G$40","v":""},{"$f":"EU_Desinfection!$E$40","v":""},{"$f":"EU_Desinfection!$F$40","v":""},{"$f":"EU_Desinfection!$J$40-SUMIFS(EU_Desinfection!$J$30:$J$39,EU_Desinfection!$E$30:$E$39,\"<4\",EU_Desinfection!$F$30:$F$39,\"<4\")","v":0},{"$f":"SUMIFS(EU_Desinfection!$J$30:$J$39,EU_Desinfection!$E$30:$E$39,\"<4\",EU_Desinfection!$F$30:$F$39,\"<4\",EU_Desinfection!$L$30:$L$39,\">=\"&Annee_BI,EU_Desinfection!$L$30:$L$39,\"<=\"&Annee_BI+4)","v":0},{"$f":"MIN(IF(EU_Desinfection!$L$30:$L$39>=Annee_BI,IF(EU_Desinfection!$L$30:$L$39<=Annee_BI+4,EU_Desinfection!$L$30:$L$39)))","v":0},{"$f":"MAX(IF(EU_Desinfection!$L$30:$L$39>=Annee_BI,IF(EU_Desinfection!$L$30:$L$39<=Annee_BI+4,EU_Desinfection!$L$30:$L$39)))","v":0},{"$f":"SUMIFS(EU_Desinfection!$J$30:$J$39,EU_Desinfection!$E$30:$E$39,\"<4\",EU_Desinfection!$F$30:$F$39,\"<4\",EU_Desinfection!$L$30:$L$39,\">=\"&Annee_BI+5,EU_Desinfection!$L$30:$L$39,\"<=\"&Annee_BI+9)","v":0},{"$f":"MIN(IF(EU_Desinfection!$L$30:$L$39>=Annee_BI+5,IF(EU_Desinfection!$L$30:$L$39<=Annee_BI+9,EU_Desinfection!$L$30:$L$39)))","v":0},{"$f":"MAX(IF(EU_Desinfection!$L$30:$L$39>=Annee_BI+5,IF(EU_Desinfection!$L$30:$L$39<=Annee_BI+9,EU_Desinfection!$L$30:$L$39)))","v":0}]
["Eaux usées","Installation de traitement","Étangs",{"$f":"IF(Identification!$H$63=\"\",\"\",Identification!$H$63)","v":""},"Désinfection (U.V., O3)","Électricité",{"$f":"EU_Desinfection!$B$54","v":""},0,{"$f":"IFERROR(J308/SUM($J306:$J309),0)","v":0},{"$f":"EU_Desinfection!$I$54","v":0},{"$f":"EU_Desinfection!$G$54","v":""},{"$f":"EU_Desinfection!$E$54","v":""},{"$f":"EU_Desinfection!$F$54","v":""},{"$f":"EU_Desinfection!$J$54-SUMIFS(EU_Desinfection!$J$44:$J$53,EU_Desinfection!$E$44:$E$53,\"<4\",EU_Desinfection!$F$44:$F$53,\"<4\")","v":0},{"$f":"SUMIFS(EU_Desinfection!$J$44:$J$53,EU_Desinfection!$E$44:$E$53,\"<4\",EU_Desinfection!$F$44:$F$53,\"<4\",EU_Desinfection!$L$44:$L$53,\">=\"&Annee_BI,EU_Desinfection!$L$44:$L$53,\"<=\"&Annee_BI+4)","v":0},{"$f":"MIN(IF(EU_Desinfection!$L$44:$L$53>=Annee_BI,IF(EU_Desinfection!$L$44:$L$53<=Annee_BI+4,EU_Desinfection!$L$44:$L$53)))","v":0},{"$f":"MAX(IF(EU_Desinfection!$L$44:$L$53>=Annee_BI,IF(EU_Desinfection!$L$44:$L$53<=Annee_BI+4,EU_Desinfection!$L$44:$L$53)))","v":0},{"$f":"SUMIFS(EU_Desinfection!$J$44:$J$53,EU_Desinfection!$E$44:$E$53,\"<4\",EU_Desinfection!$F$44:$F$53,\"<4\",EU_Desinfection!$L$44:$L$53,\">=\"&Annee_BI+5,EU_Desinfection!$L$44:$L$53,\"<=\"&Annee_BI+9)","v":0},{"$f":"MIN(IF(EU_Desinfection!$L$44:$L$53>=Annee_BI+5,IF(EU_Desinfection!$L$44:$L$53<=Annee_BI+9,EU_Desinfection!$L$44:$L$53)))","v":0},{"$f":"MAX(IF(EU_Desinfection!$L$44:$L$53>=Annee_BI+5,IF(EU_Desinfection!$L$44:$L$53<=Annee_BI+9,EU_Desinfection!$L$44:$L$53)))","v":0}]
["Eaux usées","Installation de traitement","Étangs",{"$f":"IF(Identification!$H$63=\"\",\"\",Identification!$H$63)","v":""},"Désinfection (U.V., O3)","Instrumentation et contrôle",{"$f":"EU_Desinfection!$B$68","v":""},0,{"$f":"IFERROR(J309/SUM($J306:$J309),0)","v":0},{"$f":"EU_Desinfection!$I$68","v":0},{"$f":"EU_Desinfection!$G$68","v":""},{"$f":"EU_Desinfection!$E$68","v":""},{"$f":"EU_Desinfection!$F$68","v":""},{"$f":"EU_Desinfection!$J$68-SUMIFS(EU_Desinfection!$J$58:$J$67,EU_Desinfection!$E$58:$E$67,\"<4\",EU_Desinfection!$F$58:$F$67,\"<4\")","v":0},{"$f":"SUMIFS(EU_Desinfection!$J$58:$J$67,EU_Desinfection!$E$58:$E$67,\"<4\",EU_Desinfection!$F$58:$F$67,\"<4\",EU_Desinfection!$L$58:$L$67,\">=\"&Annee_BI,EU_Desinfection!$L$58:$L$67,\"<=\"&Annee_BI+4)","v":0},{"$f":"MIN(IF(EU_Desinfection!$L$58:$L$67>=Annee_BI,IF(EU_Desinfection!$L$58:$L$67<=Annee_BI+4,EU_Desinfection!$L$58:$L$67)))","v":0},{"$f":"MAX(IF(EU_Desinfection!$L$58:$L$67>=Annee_BI,IF(EU_Desinfection!$L$58:$L$67<=Annee_BI+4,EU_Desinfection!$L$58:$L$67)))","v":0},{"$f":"SUMIFS(EU_Desinfection!$J$58:$J$67,EU_Desinfection!$E$58:$E$67,\"<4\",EU_Desinfection!$F$58:$F$67,\"<4\",EU_Desinfection!$L$58:$L$67,\">=\"&Annee_BI+5,EU_Desinfection!$L$58:$L$67,\"<=\"&Annee_BI+9)","v":0},{"$f":"MIN(IF(EU_Desinfection!$L$58:$L$67>=Annee_BI+5,IF(EU_Desinfection!$L$58:$L$67<=Annee_BI+9,EU_Desinfection!$L$58:$L$67)))","v":0},{"$f":"MAX(IF(EU_Desinfection!$L$58:$L$67>=Annee_BI+5,IF(EU_Desinfection!$L$58:$L$67<=Annee_BI+9,EU_Desinfection!$L$58:$L$67)))","v":0}]
["Eaux usées","Installation de traitement","Technologie spécifique",{"$f":"IF(Identification!$H$63=\"\",\"\",Identification!$H$63)","v":""},"Effluent","Civil",{"$f":"EU_Effluent!$B$26","v":""},0,{"$f":"IFERROR(J310/SUM($J310:$J313),0)","v":0},{"$f":"EU_Effluent!$I$26","v":0},{"$f":"EU_Effluent!$G$26","v":""},{"$f":"EU_Effluent!$E$26","v":""},{"$f":"EU_Effluent!$F$26","v":""},{"$f":"EU_Effluent!$J$26-SUMIFS(EU_Effluent!$J$16:$J$25,EU_Effluent!$E$16:$E$25,\"<4\",EU_Effluent!$F$16:$F$25,\"<4\")","v":0},{"$f":"SUMIFS(EU_Effluent!$J$16:$J$25,EU_Effluent!$E$16:$E$25,\"<4\",EU_Effluent!$F$16:$F$25,\"<4\",EU_Effluent!$L$16:$L$25,\">=\"&Annee_BI,EU_Effluent!$L$16:$L$25,\"<=\"&Annee_BI+4)","v":0},{"$f":"MIN(IF(EU_Effluent!$L$16:$L$25>=Annee_BI,IF(EU_Effluent!$L$16:$L$25<=Annee_BI+4,EU_Effluent!$L$16:$L$25)))","v":0},{"$f":"MAX(IF(EU_Effluent!$L$16:$L$25>=Annee_BI,IF(EU_Effluent!$L$16:$L$25<=Annee_BI+4,EU_Effluent!$L$16:$L$25)))","v":0},{"$f":"SUMIFS(EU_Effluent!$J$16:$J$25,EU_Effluent!$E$16:$E$25,\"<4\",EU_Effluent!$F$16:$F$25,\"<4\",EU_Effluent!$L$16:$L$25,\">=\"&Annee_BI+5,EU_Effluent!$L$16:$L$25,\"<=\"&Annee_BI+9)","v":0},{"$f":"MIN(IF(EU_Effluent!$L$16:$L$25>=Annee_BI+5,IF(EU_Effluent!$L$16:$L$25<=Annee_BI+9,EU_Effluent!$L$16:$L$25)))","v":0},{"$f":"MAX(IF(EU_Effluent!$L$16:$L$25>=Annee_BI+5,IF(EU_Effluent!$L$16:$L$25<=Annee_BI+9,EU_Effluent!$L$16:$L$25)))","v":0}]
["Eaux usées","Installation de traitement","Technologie spécifique",{"$f":"IF(Identification!$H$63=\"\",\"\",Identification!$H$63)","v":""},"Effluent","Mécanique",{"$f":"EU_Effluent!$B$40","v":""},0,{"$f":"IFERROR(J311/SUM($J310:$J313),0)","v":0},{"$f":"EU_Effluent!$I$40","v":0},{"$f":"EU_Effluent!$G$40","v":""},{"$f":"EU_Effluent!$E$40","v":""},{"$f":"EU_Effluent!$F$40","v":""},{"$f":"EU_Effluent!$J$40-SUMIFS(EU_Effluent!$J$30:$J$39,EU_Effluent!$E$30:$E$39,\"<4\",EU_Effluent!$F$30:$F$39,\"<4\")","v":0},{"$f":"SUMIFS(EU_Effluent!$J$30:$J$39,EU_Effluent!$E$30:$E$39,\"<4\",EU_Effluent!$F$30:$F$39,\"<4\",EU_Effluent!$L$30:$L$39,\">=\"&Annee_BI,EU_Effluent!$L$30:$L$39,\"<=\"&Annee_BI+4)","v":0},{"$f":"MIN(IF(EU_Effluent!$L$30:$L$39>=Annee_BI,IF(EU_Effluent!$L$30:$L$39<=Annee_BI+4,EU_Effluent!$L$30:$L$39)))","v":0},{"$f":"MAX(IF(EU_Effluent!$L$30:$L$39>=Annee_BI,IF(EU_Effluent!$L$30:$L$39<=Annee_BI+4,EU_Effluent!$L$30:$L$39)))","v":0},{"$f":"SUMIFS(EU_Effluent!$J$30:$J$39,EU_Effluent!$E$30:$E$39,\"<4\",EU_Effluent!$F$30:$F$39,\"<4\",EU_Effluent!$L$30:$L$39,\">=\"&Annee_BI+5,EU_Effluent!$L$30:$L$39,\"<=\"&Annee_BI+9)","v":0},{"$f":"MIN(IF(EU_Effluent!$L$30:$L$39>=Annee_BI+5,IF(EU_Effluent!$L$30:$L$39<=Annee_BI+9,EU_Effluent!$L$30:$L$39)))","v":0},{"$f":"MAX(IF(EU_Effluent!$L$30:$L$39>=Annee_BI+5,IF(EU_Effluent!$L$30:$L$39<=Annee_BI+9,EU_Effluent!$L$30:$L$39)))","v":0}]
["Eaux usées","Installation de traitement","Technologie spécifique",{"$f":"IF(Identification!$H$63=\"\",\"\",Identification!$H$63)","v":""},"Effluent","Électricité",{"$f":"EU_Effluent!$B$54","v":""},0,{"$f":"IFERROR(J312/SUM($J310:$J313),0)","v":0},{"$f":"EU_Effluent!$I$54","v":0},{"$f":"EU_Effluent!$G$54","v":""},{"$f":"EU_Effluent!$E$54","v":""},{"$f":"EU_Effluent!$F$54","v":""},{"$f":"EU_Effluent!$J$54-SUMIFS(EU_Effluent!$J$44:$J$53,EU_Effluent!$E$44:$E$53,\"<4\",EU_Effluent!$F$44:$F$53,\"<4\")","v":0},{"$f":"SUMIFS(EU_Effluent!$J$44:$J$53,EU_Effluent!$E$44:$E$53,\"<4\",EU_Effluent!$F$44:$F$53,\"<4\",EU_Effluent!$L$44:$L$53,\">=\"&Annee_BI,EU_Effluent!$L$44:$L$53,\"<=\"&Annee_BI+4)","v":0},{"$f":"MIN(IF(EU_Effluent!$L$44:$L$53>=Annee_BI,IF(EU_Effluent!$L$44:$L$53<=Annee_BI+4,EU_Effluent!$L$44:$L$53)))","v":0},{"$f":"MAX(IF(EU_Effluent!$L$44:$L$53>=Annee_BI,IF(EU_Effluent!$L$44:$L$53<=Annee_BI+4,EU_Effluent!$L$44:$L$53)))","v":0},{"$f":"SUMIFS(EU_Effluent!$J$44:$J$53,EU_Effluent!$E$44:$E$53,\"<4\",EU_Effluent!$F$44:$F$53,\"<4\",EU_Effluent!$L$44:$L$53,\">=\"&Annee_BI+5,EU_Effluent!$L$44:$L$53,\"<=\"&Annee_BI+9)","v":0},{"$f":"MIN(IF(EU_Effluent!$L$44:$L$53>=Annee_BI+5,IF(EU_Effluent!$L$44:$L$53<=Annee_BI+9,EU_Effluent!$L$44:$L$53)))","v":0},{"$f":"MAX(IF(EU_Effluent!$L$44:$L$53>=Annee_BI+5,IF(EU_Effluent!$L$44:$L$53<=Annee_BI+9,EU_Effluent!$L$44:$L$53)))","v":0}]
["Eaux usées","Installation de traitement","Technologie spécifique",{"$f":"IF(Identification!$H$63=\"\",\"\",Identification!$H$63)","v":""},"Effluent","Instrumentation et contrôle",{"$f":"EU_Effluent!$B$68","v":""},0,{"$f":"IFERROR(J313/SUM($J310:$J313),0)","v":0},{"$f":"EU_Effluent!$I$68","v":0},{"$f":"EU_Effluent!$G$68","v":""},{"$f":"EU_Effluent!$E$68","v":""},{"$f":"EU_Effluent!$F$68","v":""},{"$f":"EU_Effluent!$J$68-SUMIFS(EU_Effluent!$J$58:$J$67,EU_Effluent!$E$58:$E$67,\"<4\",EU_Effluent!$F$58:$F$67,\"<4\")","v":0},{"$f":"SUMIFS(EU_Effluent!$J$58:$J$67,EU_Effluent!$E$58:$E$67,\"<4\",EU_Effluent!$F$58:$F$67,\"<4\",EU_Effluent!$L$58:$L$67,\">=\"&Annee_BI,EU_Effluent!$L$58:$L$67,\"<=\"&Annee_BI+4)","v":0},{"$f":"MIN(IF(EU_Effluent!$L$58:$L$67>=Annee_BI,IF(EU_Effluent!$L$58:$L$67<=Annee_BI+4,EU_Effluent!$L$58:$L$67)))","v":0},{"$f":"MAX(IF(EU_Effluent!$L$58:$L$67>=Annee_BI,IF(EU_Effluent!$L$58:$L$67<=Annee_BI+4,EU_Effluent!$L$58:$L$67)))","v":0},{"$f":"SUMIFS(EU_Effluent!$J$58:$J$67,EU_Effluent!$E$58:$E$67,\"<4\",EU_Effluent!$F$58:$F$67,\"<4\",EU_Effluent!$L$58:$L$67,\">=\"&Annee_BI+5,EU_Effluent!$L$58:$L$67,\"<=\"&Annee_BI+9)","v":0},{"$f":"MIN(IF(EU_Effluent!$L$58:$L$67>=Annee_BI+5,IF(EU_Effluent!$L$58:$L$67<=Annee_BI+9,EU_Effluent!$L$58:$L$67)))","v":0},{"$f":"MAX(IF(EU_Effluent!$L$58:$L$67>=Annee_BI+5,IF(EU_Effluent!$L$58:$L$67<=Annee_BI+9,EU_Effluent!$L$58:$L$67)))","v":0}]
["Eaux usées","Installation de traitement","Technologie spécifique",{"$f":"IF(Identification!$H$63=\"\",\"\",Identification!$H$63)","v":""},"Systèmes communs","Civil",{"$f":"Systèmes_communs!$B$26","v":""},0,{"$f":"IFERROR(J314/SUM($J314:$J317),0)","v":0},{"$f":"Systèmes_communs!$I$26","v":0},{"$f":"Systèmes_communs!$G$26","v":""},{"$f":"Systèmes_communs!$E$26","v":""},{"$f":"Systèmes_communs!$F$26","v":""},{"$f":"Systèmes_communs!$J$26-SUMIFS(Systèmes_communs!$J$16:$J$25,Systèmes_communs!$E$16:$E$25,\"<4\",Systèmes_communs!$F$16:$F$25,\"<4\")","v":0},{"$f":"SUMIFS(Systèmes_communs!$J$16:$J$25,Systèmes_communs!$E$16:$E$25,\"<4\",Systèmes_communs!$F$16:$F$25,\"<4\",Systèmes_communs!$L$16:$L$25,\">=\"&Annee_BI,Systèmes_communs!$L$16:$L$25,\"<=\"&Annee_BI+4)","v":0},{"$f":"MIN(IF(Systèmes_communs!$L$16:$L$25>=Annee_BI,IF(Systèmes_communs!$L$16:$L$25<=Annee_BI+4,Systèmes_communs!$L$16:$L$25)))","v":0},{"$f":"MAX(IF(Systèmes_communs!$L$16:$L$25>=Annee_BI,IF(Systèmes_communs!$L$16:$L$25<=Annee_BI+4,Systèmes_communs!$L$16:$L$25)))","v":0},{"$f":"SUMIFS(Systèmes_communs!$J$16:$J$25,Systèmes_communs!$E$16:$E$25,\"<4\",Systèmes_communs!$F$16:$F$25,\"<4\",Systèmes_communs!$L$16:$L$25,\">=\"&Annee_BI+5,Systèmes_communs!$L$16:$L$25,\"<=\"&Annee_BI+9)","v":0},{"$f":"MIN(IF(Systèmes_communs!$L$16:$L$25>=Annee_BI+5,IF(Systèmes_communs!$L$16:$L$25<=Annee_BI+9,Systèmes_communs!$L$16:$L$25)))","v":0},{"$f":"MAX(IF(Systèmes_communs!$L$16:$L$25>=Annee_BI+5,IF(Systèmes_communs!$L$16:$L$25<=Annee_BI+9,Systèmes_communs!$L$16:$L$25)))","v":0}]
["Eaux usées","Installation de traitement","Technologie spécifique",{"$f":"IF(Identification!$H$63=\"\",\"\",Identification!$H$63)","v":""},"Systèmes communs","Mécanique",{"$f":"Systèmes_communs!$B$40","v":""},0,{"$f":"IFERROR(J315/SUM($J314:$J317),0)","v":0},{"$f":"Systèmes_communs!$I$40","v":0},{"$f":"Systèmes_communs!$G$40","v":""},{"$f":"Systèmes_communs!$E$40","v":""},{"$f":"Systèmes_communs!$F$40","v":""},{"$f":"Systèmes_communs!$J$40-SUMIFS(Systèmes_communs!$J$30:$J$39,Systèmes_communs!$E$30:$E$39,\"<4\",Systèmes_communs!$F$30:$F$39,\"<4\")","v":0},{"$f":"SUMIFS(Systèmes_communs!$J$30:$J$39,Systèmes_communs!$E$30:$E$39,\"<4\",Systèmes_communs!$F$30:$F$39,\"<4\",Systèmes_communs!$L$30:$L$39,\">=\"&Annee_BI,Systèmes_communs!$L$30:$L$39,\"<=\"&Annee_BI+4)","v":0},{"$f":"MIN(IF(Systèmes_communs!$L$30:$L$39>=Annee_BI,IF(Systèmes_communs!$L$30:$L$39<=Annee_BI+4,Systèmes_communs!$L$30:$L$39)))","v":0},{"$f":"MAX(IF(Systèmes_communs!$L$30:$L$39>=Annee_BI,IF(Systèmes_communs!$L$30:$L$39<=Annee_BI+4,Systèmes_communs!$L$30:$L$39)))","v":0},{"$f":"SUMIFS(Systèmes_communs!$J$30:$J$39,Systèmes_communs!$E$30:$E$39,\"<4\",Systèmes_communs!$F$30:$F$39,\"<4\",Systèmes_communs!$L$30:$L$39,\">=\"&Annee_BI+5,Systèmes_communs!$L$30:$L$39,\"<=\"&Annee_BI+9)","v":0},{"$f":"MIN(IF(Systèmes_communs!$L$30:$L$39>=Annee_BI+5,IF(Systèmes_communs!$L$30:$L$39<=Annee_BI+9,Systèmes_communs!$L$30:$L$39)))","v":0},{"$f":"MAX(IF(Systèmes_communs!$L$30:$L$39>=Annee_BI+5,IF(Systèmes_communs!$L$30:$L$39<=Annee_BI+9,Systèmes_communs!$L$30:$L$39)))","v":0}]
["Eaux usées","Installation de traitement","Technologie spécifique",{"$f":"IF(Identification!$H$63=\"\",\"\",Identification!$H$63)","v":""},"Systèmes communs","Électricité",{"$f":"Systèmes_communs!$B$54","v":""},0,{"$f":"IFERROR(J316/SUM($J314:$J317),0)","v":0},{"$f":"Systèmes_communs!$I$54","v":0},{"$f":"Systèmes_communs!$G$54","v":""},{"$f":"Systèmes_communs!$E$54","v":""},{"$f":"Systèmes_communs!$F$54","v":""},{"$f":"Systèmes_communs!$J$54-SUMIFS(Systèmes_communs!$J$44:$J$53,Systèmes_communs!$E$44:$E$53,\"<4\",Systèmes_communs!$F$44:$F$53,\"<4\")","v":0},{"$f":"SUMIFS(Systèmes_communs!$J$44:$J$53,Systèmes_communs!$E$44:$E$53,\"<4\",Systèmes_communs!$F$44:$F$53,\"<4\",Systèmes_communs!$L$44:$L$53,\">=\"&Annee_BI,Systèmes_communs!$L$44:$L$53,\"<=\"&Annee_BI+4)","v":0},{"$f":"MIN(IF(Systèmes_communs!$L$44:$L$53>=Annee_BI,IF(Systèmes_communs!$L$44:$L$53<=Annee_BI+4,Systèmes_communs!$L$44:$L$53)))","v":0},{"$f":"MAX(IF(Systèmes_communs!$L$44:$L$53>=Annee_BI,IF(Systèmes_communs!$L$44:$L$53<=Annee_BI+4,Systèmes_communs!$L$44:$L$53)))","v":0},{"$f":"SUMIFS(Systèmes_communs!$J$44:$J$53,Systèmes_communs!$E$44:$E$53,\"<4\",Systèmes_communs!$F$44:$F$53,\"<4\",Systèmes_communs!$L$44:$L$53,\">=\"&Annee_BI+5,Systèmes_communs!$L$44:$L$53,\"<=\"&Annee_BI+9)","v":0},{"$f":"MIN(IF(Systèmes_communs!$L$44:$L$53>=Annee_BI+5,IF(Systèmes_communs!$L$44:$L$53<=Annee_BI+9,Systèmes_communs!$L$44:$L$53)))","v":0},{"$f":"MAX(IF(Systèmes_communs!$L$44:$L$53>=Annee_BI+5,IF(Systèmes_communs!$L$44:$L$53<=Annee_BI+9,Systèmes_communs!$L$44:$L$53)))","v":0}]
["Eaux usées","Installation de traitement","Technologie spécifique",{"$f":"IF(Identification!$H$63=\"\",\"\",Identification!$H$63)","v":""},"Systèmes communs","Instrumentation et contrôle",{"$f":"Systèmes_communs!$B$68","v":""},0,{"$f":"IFERROR(J317/SUM($J314:$J317),0)","v":0},{"$f":"Systèmes_communs!$I$68","v":0},{"$f":"Systèmes_communs!$G$68","v":""},{"$f":"Systèmes_communs!$E$68","v":""},{"$f":"Systèmes_communs!$F$68","v":""},{"$f":"Systèmes_communs!$J$68-SUMIFS(Systèmes_communs!$J$58:$J$67,Systèmes_communs!$E$58:$E$67,\"<4\",Systèmes_communs!$F$58:$F$67,\"<4\")","v":0},{"$f":"SUMIFS(Systèmes_communs!$J$58:$J$67,Systèmes_communs!$E$58:$E$67,\"<4\",Systèmes_communs!$F$58:$F$67,\"<4\",Systèmes_communs!$L$58:$L$67,\">=\"&Annee_BI,Systèmes_communs!$L$58:$L$67,\"<=\"&Annee_BI+4)","v":0},{"$f":"MIN(IF(Systèmes_communs!$L$58:$L$67>=Annee_BI,IF(Systèmes_communs!$L$58:$L$67<=Annee_BI+4,Systèmes_communs!$L$58:$L$67)))","v":0},{"$f":"MAX(IF(Systèmes_communs!$L$58:$L$67>=Annee_BI,IF(Systèmes_communs!$L$58:$L$67<=Annee_BI+4,Systèmes_communs!$L$58:$L$67)))","v":0},{"$f":"SUMIFS(Systèmes_communs!$J$58:$J$67,Systèmes_communs!$E$58:$E$67,\"<4\",Systèmes_communs!$F$58:$F$67,\"<4\",Systèmes_communs!$L$58:$L$67,\">=\"&Annee_BI+5,Systèmes_communs!$L$58:$L$67,\"<=\"&Annee_BI+9)","v":0},{"$f":"MIN(IF(Systèmes_communs!$L$58:$L$67>=Annee_BI+5,IF(Systèmes_communs!$L$58:$L$67<=Annee_BI+9,Systèmes_communs!$L$58:$L$67)))","v":0},{"$f":"MAX(IF(Systèmes_communs!$L$58:$L$67>=Annee_BI+5,IF(Systèmes_communs!$L$58:$L$67<=Annee_BI+9,Systèmes_communs!$L$58:$L$67)))","v":0}]
["Eau pluviale","Ouvrage de traitement/rétention","Bassin de rétention",{"$f":"IF(Identification!$H$63=\"\",\"\",Identification!$H$63)","v":""},"Stockage/Traitement","Civil",{"$f":"EPL_Stockage!$B$26","v":""},{"$f":"IF(G318<>\"\",1,0)","v":0},{"$f":"IFERROR(J318/SUM($J318:$J321),0)","v":0},{"$f":"EPL_Stockage!$I$26","v":0},{"$f":"EPL_Stockage!$G$26","v":""},{"$f":"EPL_Stockage!$E$26","v":""},{"$f":"EPL_Stockage!$F$26","v":""},{"$f":"EPL_Stockage!$J$26-SUMIFS(EPL_Stockage!$J$16:$J$25,EPL_Stockage!$E$16:$E$25,\"<4\",EPL_Stockage!$F$16:$F$25,\"<4\")","v":0},{"$f":"SUMIFS(EPL_Stockage!$J$16:$J$25,EPL_Stockage!$E$16:$E$25,\"<4\",EPL_Stockage!$F$16:$F$25,\"<4\",EPL_Stockage!$L$16:$L$25,\">=\"&Annee_BI,EPL_Stockage!$L$16:$L$25,\"<=\"&Annee_BI+4)","v":0},{"$f":"MIN(IF(EPL_Stockage!$L$16:$L$25>=Annee_BI,IF(EPL_Stockage!$L$16:$L$25<=Annee_BI+4,EPL_Stockage!$L$16:$L$25)))","v":0},{"$f":"MAX(IF(EPL_Stockage!$L$16:$L$25>=Annee_BI,IF(EPL_Stockage!$L$16:$L$25<=Annee_BI+4,EPL_Stockage!$L$16:$L$25)))","v":0},{"$f":"SUMIFS(EPL_Stockage!$J$16:$J$25,EPL_Stockage!$E$16:$E$25,\"<4\",EPL_Stockage!$F$16:$F$25,\"<4\",EPL_Stockage!$L$16:$L$25,\">=\"&Annee_BI+5,EPL_Stockage!$L$16:$L$25,\"<=\"&Annee_BI+9)","v":0},{"$f":"MIN(IF(EPL_Stockage!$L$16:$L$25>=Annee_BI+5,IF(EPL_Stockage!$L$16:$L$25<=Annee_BI+9,EPL_Stockage!$L$16:$L$25)))","v":0},{"$f":"MAX(IF(EPL_Stockage!$L$16:$L$25>=Annee_BI+5,IF(EPL_Stockage!$L$16:$L$25<=Annee_BI+9,EPL_Stockage!$L$16:$L$25)))","v":0}]
["Eau pluviale","Ouvrage de traitement/rétention","Bassin de rétention",{"$f":"IF(Identification!$H$63=\"\",\"\",Identification!$H$63)","v":""},"Stockage/Traitement","Mécanique",{"$f":"EPL_Stockage!$B$40","v":""},0,{"$f":"IFERROR(J319/SUM($J318:$J321),0)","v":0},{"$f":"EPL_Stockage!$I$40","v":0},{"$f":"EPL_Stockage!$G$40","v":""},{"$f":"EPL_Stockage!$E$40","v":""},{"$f":"EPL_Stockage!$F$40","v":""},{"$f":"EPL_Stockage!$J$40-SUMIFS(EPL_Stockage!$J$30:$J$39,EPL_Stockage!$E$30:$E$39,\"<4\",EPL_Stockage!$F$30:$F$39,\"<4\")","v":0},{"$f":"SUMIFS(EPL_Stockage!$J$30:$J$39,EPL_Stockage!$E$30:$E$39,\"<4\",EPL_Stockage!$F$30:$F$39,\"<4\",EPL_Stockage!$L$30:$L$39,\">=\"&Annee_BI,EPL_Stockage!$L$30:$L$39,\"<=\"&Annee_BI+4)","v":0},{"$f":"MIN(IF(EPL_Stockage!$L$30:$L$39>=Annee_BI,IF(EPL_Stockage!$L$30:$L$39<=Annee_BI+4,EPL_Stockage!$L$30:$L$39)))","v":0},{"$f":"MAX(IF(EPL_Stockage!$L$30:$L$39>=Annee_BI,IF(EPL_Stockage!$L$30:$L$39<=Annee_BI+4,EPL_Stockage!$L$30:$L$39)))","v":0},{"$f":"SUMIFS(EPL_Stockage!$J$30:$J$39,EPL_Stockage!$E$30:$E$39,\"<4\",EPL_Stockage!$F$30:$F$39,\"<4\",EPL_Stockage!$L$30:$L$39,\">=\"&Annee_BI+5,EPL_Stockage!$L$30:$L$39,\"<=\"&Annee_BI+9)","v":0},{"$f":"MIN(IF(EPL_Stockage!$L$30:$L$39>=Annee_BI+5,IF(EPL_Stockage!$L$30:$L$39<=Annee_BI+9,EPL_Stockage!$L$30:$L$39)))","v":0},{"$f":"MAX(IF(EPL_Stockage!$L$30:$L$39>=Annee_BI+5,IF(EPL_Stockage!$L$30:$L$39<=Annee_BI+9,EPL_Stockage!$L$30:$L$39)))","v":0}]
["Eau pluviale","Ouvrage de traitement/rétention","Bassin de rétention",{"$f":"IF(Identification!$H$63=\"\",\"\",Identification!$H$63)","v":""},"Stockage/Traitement","Électricité",{"$f":"EPL_Stockage!$B$54","v":""},0,{"$f":"IFERROR(J320/SUM($J318:$J321),0)","v":0},{"$f":"EPL_Stockage!$I$54","v":0},{"$f":"EPL_Stockage!$G$54","v":""},{"$f":"EPL_Stockage!$E$54","v":""},{"$f":"EPL_Stockage!$F$54","v":""},{"$f":"EPL_Stockage!$J$54-SUMIFS(EPL_Stockage!$J$44:$J$53,EPL_Stockage!$E$44:$E$53,\"<4\",EPL_Stockage!$F$44:$F$53,\"<4\")","v":0},{"$f":"SUMIFS(EPL_Stockage!$J$44:$J$53,EPL_Stockage!$E$44:$E$53,\"<4\",EPL_Stockage!$F$44:$F$53,\"<4\",EPL_Stockage!$L$44:$L$53,\">=\"&Annee_BI,EPL_Stockage!$L$44:$L$53,\"<=\"&Annee_BI+4)","v":0},{"$f":"MIN(IF(EPL_Stockage!$L$44:$L$53>=Annee_BI,IF(EPL_Stockage!$L$44:$L$53<=Annee_BI+4,EPL_Stockage!$L$44:$L$53)))","v":0},{"$f":"MAX(IF(EPL_Stockage!$L$44:$L$53>=Annee_BI,IF(EPL_Stockage!$L$44:$L$53<=Annee_BI+4,EPL_Stockage!$L$44:$L$53)))","v":0},{"$f":"SUMIFS(EPL_Stockage!$J$44:$J$53,EPL_Stockage!$E$44:$E$53,\"<4\",EPL_Stockage!$F$44:$F$53,\"<4\",EPL_Stockage!$L$44:$L$53,\">=\"&Annee_BI+5,EPL_Stockage!$L$44:$L$53,\"<=\"&Annee_BI+9)","v":0},{"$f":"MIN(IF(EPL_Stockage!$L$44:$L$53>=Annee_BI+5,IF(EPL_Stockage!$L$44:$L$53<=Annee_BI+9,EPL_Stockage!$L$44:$L$53)))","v":0},{"$f":"MAX(IF(EPL_Stockage!$L$44:$L$53>=Annee_BI+5,IF(EPL_Stockage!$L$44:$L$53<=Annee_BI+9,EPL_Stockage!$L$44:$L$53)))","v":0}]
["Eau pluviale","Ouvrage de traitement/rétention","Bassin de rétention",{"$f":"IF(Identification!$H$63=\"\",\"\",Identification!$H$63)","v":""},"Stockage/Traitement","Instrumentation et contrôle",{"$f":"EPL_Stockage!$B$68","v":""},0,{"$f":"IFERROR(J321/SUM($J318:$J321),0)","v":0},{"$f":"EPL_Stockage!$I$68","v":0},{"$f":"EPL_Stockage!$G$68","v":""},{"$f":"EPL_Stockage!$E$68","v":""},{"$f":"EPL_Stockage!$F$68","v":""},{"$f":"EPL_Stockage!$J$68-SUMIFS(EPL_Stockage!$J$58:$J$67,EPL_Stockage!$E$58:$E$67,\"<4\",EPL_Stockage!$F$58:$F$67,\"<4\")","v":0},{"$f":"SUMIFS(EPL_Stockage!$J$58:$J$67,EPL_Stockage!$E$58:$E$67,\"<4\",EPL_Stockage!$F$58:$F$67,\"<4\",EPL_Stockage!$L$58:$L$67,\">=\"&Annee_BI,EPL_Stockage!$L$58:$L$67,\"<=\"&Annee_BI+4)","v":0},{"$f":"MIN(IF(EPL_Stockage!$L$58:$L$67>=Annee_BI,IF(EPL_Stockage!$L$58:$L$67<=Annee_BI+4,EPL_Stockage!$L$58:$L$67)))","v":0},{"$f":"MAX(IF(EPL_Stockage!$L$58:$L$67>=Annee_BI,IF(EPL_Stockage!$L$58:$L$67<=Annee_BI+4,EPL_Stockage!$L$58:$L$67)))","v":0},{"$f":"SUMIFS(EPL_Stockage!$J$58:$J$67,EPL_Stockage!$E$58:$E$67,\"<4\",EPL_Stockage!$F$58:$F$67,\"<4\",EPL_Stockage!$L$58:$L$67,\">=\"&Annee_BI+5,EPL_Stockage!$L$58:$L$67,\"<=\"&Annee_BI+9)","v":0},{"$f":"MIN(IF(EPL_Stockage!$L$58:$L$67>=Annee_BI+5,IF(EPL_Stockage!$L$58:$L$67<=Annee_BI+9,EPL_Stockage!$L$58:$L$67)))","v":0},{"$f":"MAX(IF(EPL_Stockage!$L$58:$L$67>=Annee_BI+5,IF(EPL_Stockage!$L$58:$L$67<=Annee_BI+9,EPL_Stockage!$L$58:$L$67)))","v":0}]
["Eau pluviale","Ouvrage de traitement/rétention","Bassin de rétention",{"$f":"IF(Identification!$H$63=\"\",\"\",Identification!$H$63)","v":""},"Systèmes communs","Civil",{"$f":"Systèmes_communs!$B$26","v":""},0,{"$f":"IFERROR(J322/SUM($J322:$J325),0)","v":0},{"$f":"Systèmes_communs!$I$26","v":0},{"$f":"Systèmes_communs!$G$26","v":""},{"$f":"Systèmes_communs!$E$26","v":""},{"$f":"Systèmes_communs!$F$26","v":""},{"$f":"Systèmes_communs!$J$26-SUMIFS(Systèmes_communs!$J$16:$J$25,Systèmes_communs!$E$16:$E$25,\"<4\",Systèmes_communs!$F$16:$F$25,\"<4\")","v":0},{"$f":"SUMIFS(Systèmes_communs!$J$16:$J$25,Systèmes_communs!$E$16:$E$25,\"<4\",Systèmes_communs!$F$16:$F$25,\"<4\",Systèmes_communs!$L$16:$L$25,\">=\"&Annee_BI,Systèmes_communs!$L$16:$L$25,\"<=\"&Annee_BI+4)","v":0},{"$f":"MIN(IF(Systèmes_communs!$L$16:$L$25>=Annee_BI,IF(Systèmes_communs!$L$16:$L$25<=Annee_BI+4,Systèmes_communs!$L$16:$L$25)))","v":0},{"$f":"MAX(IF(Systèmes_communs!$L$16:$L$25>=Annee_BI,IF(Systèmes_communs!$L$16:$L$25<=Annee_BI+4,Systèmes_communs!$L$16:$L$25)))","v":0},{"$f":"SUMIFS(Systèmes_communs!$J$16:$J$25,Systèmes_communs!$E$16:$E$25,\"<4\",Systèmes_communs!$F$16:$F$25,\"<4\",Systèmes_communs!$L$16:$L$25,\">=\"&Annee_BI+5,Systèmes_communs!$L$16:$L$25,\"<=\"&Annee_BI+9)","v":0},{"$f":"MIN(IF(Systèmes_communs!$L$16:$L$25>=Annee_BI+5,IF(Systèmes_communs!$L$16:$L$25<=Annee_BI+9,Systèmes_communs!$L$16:$L$25)))","v":0},{"$f":"MAX(IF(Systèmes_communs!$L$16:$L$25>=Annee_BI+5,IF(Systèmes_communs!$L$16:$L$25<=Annee_BI+9,Systèmes_communs!$L$16:$L$25)))","v":0}]
["Eau pluviale","Ouvrage de traitement/rétention","Bassin de rétention",{"$f":"IF(Identification!$H$63=\"\",\"\",Identification!$H$63)","v":""},"Systèmes communs","Mécanique",{"$f":"Systèmes_communs!$B$40","v":""},0,{"$f":"IFERROR(J323/SUM($J322:$J325),0)","v":0},{"$f":"Systèmes_communs!$I$40","v":0},{"$f":"Systèmes_communs!$G$40","v":""},{"$f":"Systèmes_communs!$E$40","v":""},{"$f":"Systèmes_communs!$F$40","v":""},{"$f":"Systèmes_communs!$J$40-SUMIFS(Systèmes_communs!$J$30:$J$39,Systèmes_communs!$E$30:$E$39,\"<4\",Systèmes_communs!$F$30:$F$39,\"<4\")","v":0},{"$f":"SUMIFS(Systèmes_communs!$J$30:$J$39,Systèmes_communs!$E$30:$E$39,\"<4\",Systèmes_communs!$F$30:$F$39,\"<4\",Systèmes_communs!$L$30:$L$39,\">=\"&Annee_BI,Systèmes_communs!$L$30:$L$39,\"<=\"&Annee_BI+4)","v":0},{"$f":"MIN(IF(Systèmes_communs!$L$30:$L$39>=Annee_BI,IF(Systèmes_communs!$L$30:$L$39<=Annee_BI+4,Systèmes_communs!$L$30:$L$39)))","v":0},{"$f":"MAX(IF(Systèmes_communs!$L$30:$L$39>=Annee_BI,IF(Systèmes_communs!$L$30:$L$39<=Annee_BI+4,Systèmes_communs!$L$30:$L$39)))","v":0},{"$f":"SUMIFS(Systèmes_communs!$J$30:$J$39,Systèmes_communs!$E$30:$E$39,\"<4\",Systèmes_communs!$F$30:$F$39,\"<4\",Systèmes_communs!$L$30:$L$39,\">=\"&Annee_BI+5,Systèmes_communs!$L$30:$L$39,\"<=\"&Annee_BI+9)","v":0},{"$f":"MIN(IF(Systèmes_communs!$L$30:$L$39>=Annee_BI+5,IF(Systèmes_communs!$L$30:$L$39<=Annee_BI+9,Systèmes_communs!$L$30:$L$39)))","v":0},{"$f":"MAX(IF(Systèmes_communs!$L$30:$L$39>=Annee_BI+5,IF(Systèmes_communs!$L$30:$L$39<=Annee_BI+9,Systèmes_communs!$L$30:$L$39)))","v":0}]
["Eau pluviale","Ouvrage de traitement/rétention","Bassin de rétention",{"$f":"IF(Identification!$H$63=\"\",\"\",Identification!$H$63)","v":""},"Systèmes communs","Électricité",{"$f":"Systèmes_communs!$B$54","v":""},0,{"$f":"IFERROR(J324/SUM($J322:$J325),0)","v":0},{"$f":"Systèmes_communs!$I$54","v":0},{"$f":"Systèmes_communs!$G$54","v":""},{"$f":"Systèmes_communs!$E$54","v":""},{"$f":"Systèmes_communs!$F$54","v":""},{"$f":"Systèmes_communs!$J$54-SUMIFS(Systèmes_communs!$J$44:$J$53,Systèmes_communs!$E$44:$E$53,\"<4\",Systèmes_communs!$F$44:$F$53,\"<4\")","v":0},{"$f":"SUMIFS(Systèmes_communs!$J$44:$J$53,Systèmes_communs!$E$44:$E$53,\"<4\",Systèmes_communs!$F$44:$F$53,\"<4\",Systèmes_communs!$L$44:$L$53,\">=\"&Annee_BI,Systèmes_communs!$L$44:$L$53,\"<=\"&Annee_BI+4)","v":0},{"$f":"MIN(IF(Systèmes_communs!$L$44:$L$53>=Annee_BI,IF(Systèmes_communs!$L$44:$L$53<=Annee_BI+4,Systèmes_communs!$L$44:$L$53)))","v":0},{"$f":"MAX(IF(Systèmes_communs!$L$44:$L$53>=Annee_BI,IF(Systèmes_communs!$L$44:$L$53<=Annee_BI+4,Systèmes_communs!$L$44:$L$53)))","v":0},{"$f":"SUMIFS(Systèmes_communs!$J$44:$J$53,Systèmes_communs!$E$44:$E$53,\"<4\",Systèmes_communs!$F$44:$F$53,\"<4\",Systèmes_communs!$L$44:$L$53,\">=\"&Annee_BI+5,Systèmes_communs!$L$44:$L$53,\"<=\"&Annee_BI+9)","v":0},{"$f":"MIN(IF(Systèmes_communs!$L$44:$L$53>=Annee_BI+5,IF(Systèmes_communs!$L$44:$L$53<=Annee_BI+9,Systèmes_communs!$L$44:$L$53)))","v":0},{"$f":"MAX(IF(Systèmes_communs!$L$44:$L$53>=Annee_BI+5,IF(Systèmes_communs!$L$44:$L$53<=Annee_BI+9,Systèmes_communs!$L$44:$L$53)))","v":0}]
["Eau pluviale","Ouvrage de traitement/rétention","Bassin de rétention",{"$f":"IF(Identification!$H$63=\"\",\"\",Identification!$H$63)","v":""},"Systèmes communs","Instrumentation et contrôle",{"$f":"Systèmes_communs!$B$68","v":""},0,{"$f":"IFERROR(J325/SUM($J322:$J325),0)","v":0},{"$f":"Systèmes_communs!$I$68","v":0},{"$f":"Systèmes_communs!$G$68","v":""},{"$f":"Systèmes_communs!$E$68","v":""},{"$f":"Systèmes_communs!$F$68","v":""},{"$f":"Systèmes_communs!$J$68-SUMIFS(Systèmes_communs!$J$58:$J$67,Systèmes_communs!$E$58:$E$67,\"<4\",Systèmes_communs!$F$58:$F$67,\"<4\")","v":0},{"$f":"SUMIFS(Systèmes_communs!$J$58:$J$67,Systèmes_communs!$E$58:$E$67,\"<4\",Systèmes_communs!$F$58:$F$67,\"<4\",Systèmes_communs!$L$58:$L$67,\">=\"&Annee_BI,Systèmes_communs!$L$58:$L$67,\"<=\"&Annee_BI+4)","v":0},{"$f":"MIN(IF(Systèmes_communs!$L$58:$L$67>=Annee_BI,IF(Systèmes_communs!$L$58:$L$67<=Annee_BI+4,Systèmes_communs!$L$58:$L$67)))","v":0},{"$f":"MAX(IF(Systèmes_communs!$L$58:$L$67>=Annee_BI,IF(Systèmes_communs!$L$58:$L$67<=Annee_BI+4,Systèmes_communs!$L$58:$L$67)))","v":0},{"$f":"SUMIFS(Systèmes_communs!$J$58:$J$67,Systèmes_communs!$E$58:$E$67,\"<4\",Systèmes_communs!$F$58:$F$67,\"<4\",Systèmes_communs!$L$58:$L$67,\">=\"&Annee_BI+5,Systèmes_communs!$L$58:$L$67,\"<=\"&Annee_BI+9)","v":0},{"$f":"MIN(IF(Systèmes_communs!$L$58:$L$67>=Annee_BI+5,IF(Systèmes_communs!$L$58:$L$67<=Annee_BI+9,Systèmes_communs!$L$58:$L$67)))","v":0},{"$f":"MAX(IF(Systèmes_communs!$L$58:$L$67>=Annee_BI+5,IF(Systèmes_communs!$L$58:$L$67<=Annee_BI+9,Systèmes_communs!$L$58:$L$67)))","v":0}]
["Eau pluviale","Ouvrage de traitement/rétention","Technologie spécifique",{"$f":"IF(Identification!$H$63=\"\",\"\",Identification!$H$63)","v":""},"Stockage/Traitement","Civil",{"$f":"EPL_Stockage!$B$26","v":""},0,{"$f":"IFERROR(J326/SUM($J326:$J329),0)","v":0},{"$f":"EPL_Stockage!$I$26","v":0},{"$f":"EPL_Stockage!$G$26","v":""},{"$f":"EPL_Stockage!$E$26","v":""},{"$f":"EPL_Stockage!$F$26","v":""},{"$f":"EPL_Stockage!$J$26-SUMIFS(EPL_Stockage!$J$16:$J$25,EPL_Stockage!$E$16:$E$25,\"<4\",EPL_Stockage!$F$16:$F$25,\"<4\")","v":0},{"$f":"SUMIFS(EPL_Stockage!$J$16:$J$25,EPL_Stockage!$E$16:$E$25,\"<4\",EPL_Stockage!$F$16:$F$25,\"<4\",EPL_Stockage!$L$16:$L$25,\">=\"&Annee_BI,EPL_Stockage!$L$16:$L$25,\"<=\"&Annee_BI+4)","v":0},{"$f":"MIN(IF(EPL_Stockage!$L$16:$L$25>=Annee_BI,IF(EPL_Stockage!$L$16:$L$25<=Annee_BI+4,EPL_Stockage!$L$16:$L$25)))","v":0},{"$f":"MAX(IF(EPL_Stockage!$L$16:$L$25>=Annee_BI,IF(EPL_Stockage!$L$16:$L$25<=Annee_BI+4,EPL_Stockage!$L$16:$L$25)))","v":0},{"$f":"SUMIFS(EPL_Stockage!$J$16:$J$25,EPL_Stockage!$E$16:$E$25,\"<4\",EPL_Stockage!$F$16:$F$25,\"<4\",EPL_Stockage!$L$16:$L$25,\">=\"&Annee_BI+5,EPL_Stockage!$L$16:$L$25,\"<=\"&Annee_BI+9)","v":0},{"$f":"MIN(IF(EPL_Stockage!$L$16:$L$25>=Annee_BI+5,IF(EPL_Stockage!$L$16:$L$25<=Annee_BI+9,EPL_Stockage!$L$16:$L$25)))","v":0},{"$f":"MAX(IF(EPL_Stockage!$L$16:$L$25>=Annee_BI+5,IF(EPL_Stockage!$L$16:$L$25<=Annee_BI+9,EPL_Stockage!$L$16:$L$25)))","v":0}]
["Eau pluviale","Ouvrage de traitement/rétention","Technologie spécifique",{"$f":"IF(Identification!$H$63=\"\",\"\",Identification!$H$63)","v":""},"Stockage/Traitement","Mécanique",{"$f":"EPL_Stockage!$B$40","v":""},0,{"$f":"IFERROR(J327/SUM($J326:$J329),0)","v":0},{"$f":"EPL_Stockage!$I$40","v":0},{"$f":"EPL_Stockage!$G$40","v":""},{"$f":"EPL_Stockage!$E$40","v":""},{"$f":"EPL_Stockage!$F$40","v":""},{"$f":"EPL_Stockage!$J$40-SUMIFS(EPL_Stockage!$J$30:$J$39,EPL_Stockage!$E$30:$E$39,\"<4\",EPL_Stockage!$F$30:$F$39,\"<4\")","v":0},{"$f":"SUMIFS(EPL_Stockage!$J$30:$J$39,EPL_Stockage!$E$30:$E$39,\"<4\",EPL_Stockage!$F$30:$F$39,\"<4\",EPL_Stockage!$L$30:$L$39,\">=\"&Annee_BI,EPL_Stockage!$L$30:$L$39,\"<=\"&Annee_BI+4)","v":0},{"$f":"MIN(IF(EPL_Stockage!$L$30:$L$39>=Annee_BI,IF(EPL_Stockage!$L$30:$L$39<=Annee_BI+4,EPL_Stockage!$L$30:$L$39)))","v":0},{"$f":"MAX(IF(EPL_Stockage!$L$30:$L$39>=Annee_BI,IF(EPL_Stockage!$L$30:$L$39<=Annee_BI+4,EPL_Stockage!$L$30:$L$39)))","v":0},{"$f":"SUMIFS(EPL_Stockage!$J$30:$J$39,EPL_Stockage!$E$30:$E$39,\"<4\",EPL_Stockage!$F$30:$F$39,\"<4\",EPL_Stockage!$L$30:$L$39,\">=\"&Annee_BI+5,EPL_Stockage!$L$30:$L$39,\"<=\"&Annee_BI+9)","v":0},{"$f":"MIN(IF(EPL_Stockage!$L$30:$L$39>=Annee_BI+5,IF(EPL_Stockage!$L$30:$L$39<=Annee_BI+9,EPL_Stockage!$L$30:$L$39)))","v":0},{"$f":"MAX(IF(EPL_Stockage!$L$30:$L$39>=Annee_BI+5,IF(EPL_Stockage!$L$30:$L$39<=Annee_BI+9,EPL_Stockage!$L$30:$L$39)))","v":0}]
["Eau pluviale","Ouvrage de traitement/rétention","Technologie spécifique",{"$f":"IF(Identification!$H$63=\"\",\"\",Identification!$H$63)","v":""},"Stockage/Traitement","Électricité",{"$f":"EPL_Stockage!$B$54","v":""},0,{"$f":"IFERROR(J328/SUM($J326:$J329),0)","v":0},{"$f":"EPL_Stockage!$I$54","v":0},{"$f":"EPL_Stockage!$G$54","v":""},{"$f":"EPL_Stockage!$E$54","v":""},{"$f":"EPL_Stockage!$F$54","v":""},{"$f":"EPL_Stockage!$J$54-SUMIFS(EPL_Stockage!$J$44:$J$53,EPL_Stockage!$E$44:$E$53,\"<4\",EPL_Stockage!$F$44:$F$53,\"<4\")","v":0},{"$f":"SUMIFS(EPL_Stockage!$J$44:$J$53,EPL_Stockage!$E$44:$E$53,\"<4\",EPL_Stockage!$F$44:$F$53,\"<4\",EPL_Stockage!$L$44:$L$53,\">=\"&Annee_BI,EPL_Stockage!$L$44:$L$53,\"<=\"&Annee_BI+4)","v":0},{"$f":"MIN(IF(EPL_Stockage!$L$44:$L$53>=Annee_BI,IF(EPL_Stockage!$L$44:$L$53<=Annee_BI+4,EPL_Stockage!$L$44:$L$53)))","v":0},{"$f":"MAX(IF(EPL_Stockage!$L$44:$L$53>=Annee_BI,IF(EPL_Stockage!$L$44:$L$53<=Annee_BI+4,EPL_Stockage!$L$44:$L$53)))","v":0},{"$f":"SUMIFS(EPL_Stockage!$J$44:$J$53,EPL_Stockage!$E$44:$E$53,\"<4\",EPL_Stockage!$F$44:$F$53,\"<4\",EPL_Stockage!$L$44:$L$53,\">=\"&Annee_BI+5,EPL_Stockage!$L$44:$L$53,\"<=\"&Annee_BI+9)","v":0},{"$f":"MIN(IF(EPL_Stockage!$L$44:$L$53>=Annee_BI+5,IF(EPL_Stockage!$L$44:$L$53<=Annee_BI+9,EPL_Stockage!$L$44:$L$53)))","v":0},{"$f":"MAX(IF(EPL_Stockage!$L$44:$L$53>=Annee_BI+5,IF(EPL_Stockage!$L$44:$L$53<=Annee_BI+9,EPL_Stockage!$L$44:$L$53)))","v":0}]
["Eau pluviale","Ouvrage de traitement/rétention","Technologie spécifique",{"$f":"IF(Identification!$H$63=\"\",\"\",Identification!$H$63)","v":""},"Stockage/Traitement","Instrumentation et contrôle",{"$f":"EPL_Stockage!$B$68","v":""},0,{"$f":"IFERROR(J329/SUM($J326:$J329),0)","v":0},{"$f":"EPL_Stockage!$I$68","v":0},{"$f":"EPL_Stockage!$G$68","v":""},{"$f":"EPL_Stockage!$E$68","v":""},{"$f":"EPL_Stockage!$F$68","v":""},{"$f":"EPL_Stockage!$J$68-SUMIFS(EPL_Stockage!$J$58:$J$67,EPL_Stockage!$E$58:$E$67,\"<4\",EPL_Stockage!$F$58:$F$67,\"<4\")","v":0},{"$f":"SUMIFS(EPL_Stockage!$J$58:$J$67,EPL_Stockage!$E$58:$E$67,\"<4\",EPL_Stockage!$F$58:$F$67,\"<4\",EPL_Stockage!$L$58:$L$67,\">=\"&Annee_BI,EPL_Stockage!$L$58:$L$67,\"<=\"&Annee_BI+4)","v":0},{"$f":"MIN(IF(EPL_Stockage!$L$58:$L$67>=Annee_BI,IF(EPL_Stockage!$L$58:$L$67<=Annee_BI+4,EPL_Stockage!$L$58:$L$67)))","v":0},{"$f":"MAX(IF(EPL_Stockage!$L$58:$L$67>=Annee_BI,IF(EPL_Stockage!$L$58:$L$67<=Annee_BI+4,EPL_Stockage!$L$58:$L$67)))","v":0},{"$f":"SUMIFS(EPL_Stockage!$J$58:$J$67,EPL_Stockage!$E$58:$E$67,\"<4\",EPL_Stockage!$F$58:$F$67,\"<4\",EPL_Stockage!$L$58:$L$67,\">=\"&Annee_BI+5,EPL_Stockage!$L$58:$L$67,\"<=\"&Annee_BI+9)","v":0},{"$f":"MIN(IF(EPL_Stockage!$L$58:$L$67>=Annee_BI+5,IF(EPL_Stockage!$L$58:$L$67<=Annee_BI+9,EPL_Stockage!$L$58:$L$67)))","v":0},{"$f":"MAX(IF(EPL_Stockage!$L$58:$L$67>=Annee_BI+5,IF(EPL_Stockage!$L$58:$L$67<=Annee_BI+9,EPL_Stockage!$L$58:$L$67)))","v":0}]
["Eau pluviale","Ouvrage de traitement/rétention","Technologie spécifique",{"$f":"IF(Identification!$H$63=\"\",\"\",Identification!$H$63)","v":""},"Systèmes communs","Civil",{"$f":"Systèmes_communs!$B$26","v":""},0,{"$f":"IFERROR(J330/SUM($J330:$J333),0)","v":0},{"$f":"Systèmes_communs!$I$26","v":0},{"$f":"Systèmes_communs!$G$26","v":""},{"$f":"Systèmes_communs!$E$26","v":""},{"$f":"Systèmes_communs!$F$26","v":""},{"$f":"Systèmes_communs!$J$26-SUMIFS(Systèmes_communs!$J$16:$J$25,Systèmes_communs!$E$16:$E$25,\"<4\",Systèmes_communs!$F$16:$F$25,\"<4\")","v":0},{"$f":"SUMIFS(Systèmes_communs!$J$16:$J$25,Systèmes_communs!$E$16:$E$25,\"<4\",Systèmes_communs!$F$16:$F$25,\"<4\",Systèmes_communs!$L$16:$L$25,\">=\"&Annee_BI,Systèmes_communs!$L$16:$L$25,\"<=\"&Annee_BI+4)","v":0},{"$f":"MIN(IF(Systèmes_communs!$L$16:$L$25>=Annee_BI,IF(Systèmes_communs!$L$16:$L$25<=Annee_BI+4,Systèmes_communs!$L$16:$L$25)))","v":0},{"$f":"MAX(IF(Systèmes_communs!$L$16:$L$25>=Annee_BI,IF(Systèmes_communs!$L$16:$L$25<=Annee_BI+4,Systèmes_communs!$L$16:$L$25)))","v":0},{"$f":"SUMIFS(Systèmes_communs!$J$16:$J$25,Systèmes_communs!$E$16:$E$25,\"<4\",Systèmes_communs!$F$16:$F$25,\"<4\",Systèmes_communs!$L$16:$L$25,\">=\"&Annee_BI+5,Systèmes_communs!$L$16:$L$25,\"<=\"&Annee_BI+9)","v":0},{"$f":"MIN(IF(Systèmes_communs!$L$16:$L$25>=Annee_BI+5,IF(Systèmes_communs!$L$16:$L$25<=Annee_BI+9,Systèmes_communs!$L$16:$L$25)))","v":0},{"$f":"MAX(IF(Systèmes_communs!$L$16:$L$25>=Annee_BI+5,IF(Systèmes_communs!$L$16:$L$25<=Annee_BI+9,Systèmes_communs!$L$16:$L$25)))","v":0}]
["Eau pluviale","Ouvrage de traitement/rétention","Technologie spécifique",{"$f":"IF(Identification!$H$63=\"\",\"\",Identification!$H$63)","v":""},"Systèmes communs","Mécanique",{"$f":"Systèmes_communs!$B$40","v":""},0,{"$f":"IFERROR(J331/SUM($J330:$J333),0)","v":0},{"$f":"Systèmes_communs!$I$40","v":0},{"$f":"Systèmes_communs!$G$40","v":""},{"$f":"Systèmes_communs!$E$40","v":""},{"$f":"Systèmes_communs!$F$40","v":""},{"$f":"Systèmes_communs!$J$40-SUMIFS(Systèmes_communs!$J$30:$J$39,Systèmes_communs!$E$30:$E$39,\"<4\",Systèmes_communs!$F$30:$F$39,\"<4\")","v":0},{"$f":"SUMIFS(Systèmes_communs!$J$30:$J$39,Systèmes_communs!$E$30:$E$39,\"<4\",Systèmes_communs!$F$30:$F$39,\"<4\",Systèmes_communs!$L$30:$L$39,\">=\"&Annee_BI,Systèmes_communs!$L$30:$L$39,\"<=\"&Annee_BI+4)","v":0},{"$f":"MIN(IF(Systèmes_communs!$L$30:$L$39>=Annee_BI,IF(Systèmes_communs!$L$30:$L$39<=Annee_BI+4,Systèmes_communs!$L$30:$L$39)))","v":0},{"$f":"MAX(IF(Systèmes_communs!$L$30:$L$39>=Annee_BI,IF(Systèmes_communs!$L$30:$L$39<=Annee_BI+4,Systèmes_communs!$L$30:$L$39)))","v":0},{"$f":"SUMIFS(Systèmes_communs!$J$30:$J$39,Systèmes_communs!$E$30:$E$39,\"<4\",Systèmes_communs!$F$30:$F$39,\"<4\",Systèmes_communs!$L$30:$L$39,\">=\"&Annee_BI+5,Systèmes_communs!$L$30:$L$39,\"<=\"&Annee_BI+9)","v":0},{"$f":"MIN(IF(Systèmes_communs!$L$30:$L$39>=Annee_BI+5,IF(Systèmes_communs!$L$30:$L$39<=Annee_BI+9,Systèmes_communs!$L$30:$L$39)))","v":0},{"$f":"MAX(IF(Systèmes_communs!$L$30:$L$39>=Annee_BI+5,IF(Systèmes_communs!$L$30:$L$39<=Annee_BI+9,Systèmes_communs!$L$30:$L$39)))","v":0}]
["Eau pluviale","Ouvrage de traitement/rétention","Technologie spécifique",{"$f":"IF(Identification!$H$63=\"\",\"\",Identification!$H$63)","v":""},"Systèmes communs","Électricité",{"$f":"Systèmes_communs!$B$54","v":""},0,{"$f":"IFERROR(J332/SUM($J330:$J333),0)","v":0},{"$f":"Systèmes_communs!$I$54","v":0},{"$f":"Systèmes_communs!$G$54","v":""},{"$f":"Systèmes_communs!$E$54","v":""},{"$f":"Systèmes_communs!$F$54","v":""},{"$f":"Systèmes_communs!$J$54-SUMIFS(Systèmes_communs!$J$44:$J$53,Systèmes_communs!$E$44:$E$53,\"<4\",Systèmes_communs!$F$44:$F$53,\"<4\")","v":0},{"$f":"SUMIFS(Systèmes_communs!$J$44:$J$53,Systèmes_communs!$E$44:$E$53,\"<4\",Systèmes_communs!$F$44:$F$53,\"<4\",Systèmes_communs!$L$44:$L$53,\">=\"&Annee_BI,Systèmes_communs!$L$44:$L$53,\"<=\"&Annee_BI+4)","v":0},{"$f":"MIN(IF(Systèmes_communs!$L$44:$L$53>=Annee_BI,IF(Systèmes_communs!$L$44:$L$53<=Annee_BI+4,Systèmes_communs!$L$44:$L$53)))","v":0},{"$f":"MAX(IF(Systèmes_communs!$L$44:$L$53>=Annee_BI,IF(Systèmes_communs!$L$44:$L$53<=Annee_BI+4,Systèmes_communs!$L$44:$L$53)))","v":0},{"$f":"SUMIFS(Systèmes_communs!$J$44:$J$53,Systèmes_communs!$E$44:$E$53,\"<4\",Systèmes_communs!$F$44:$F$53,\"<4\",Systèmes_communs!$L$44:$L$53,\">=\"&Annee_BI+5,Systèmes_communs!$L$44:$L$53,\"<=\"&Annee_BI+9)","v":0},{"$f":"MIN(IF(Systèmes_communs!$L$44:$L$53>=Annee_BI+5,IF(Systèmes_communs!$L$44:$L$53<=Annee_BI+9,Systèmes_communs!$L$44:$L$53)))","v":0},{"$f":"MAX(IF(Systèmes_communs!$L$44:$L$53>=Annee_BI+5,IF(Systèmes_communs!$L$44:$L$53<=Annee_BI+9,Systèmes_communs!$L$44:$L$53)))","v":0}]
["Eau pluviale","Ouvrage de traitement/rétention","Technologie spécifique",{"$f":"IF(Identification!$H$63=\"\",\"\",Identification!$H$63)","v":""},"Systèmes communs","Instrumentation et contrôle",{"$f":"Systèmes_communs!$B$68","v":""},0,{"$f":"IFERROR(J333/SUM($J330:$J333),0)","v":0},{"$f":"Systèmes_communs!$I$68","v":0},{"$f":"Systèmes_communs!$G$68","v":""},{"$f":"Systèmes_communs!$E$68","v":""},{"$f":"Systèmes_communs!$F$68","v":""},{"$f":"Systèmes_communs!$J$68-SUMIFS(Systèmes_communs!$J$58:$J$67,Systèmes_communs!$E$58:$E$67,\"<4\",Systèmes_communs!$F$58:$F$67,\"<4\")","v":0},{"$f":"SUMIFS(Systèmes_communs!$J$58:$J$67,Systèmes_communs!$E$58:$E$67,\"<4\",Systèmes_communs!$F$58:$F$67,\"<4\",Systèmes_communs!$L$58:$L$67,\">=\"&Annee_BI,Systèmes_communs!$L$58:$L$67,\"<=\"&Annee_BI+4)","v":0},{"$f":"MIN(IF(Systèmes_communs!$L$58:$L$67>=Annee_BI,IF(Systèmes_communs!$L$58:$L$67<=Annee_BI+4,Systèmes_communs!$L$58:$L$67)))","v":0},{"$f":"MAX(IF(Systèmes_communs!$L$58:$L$67>=Annee_BI,IF(Systèmes_communs!$L$58:$L$67<=Annee_BI+4,Systèmes_communs!$L$58:$L$67)))","v":0},{"$f":"SUMIFS(Systèmes_communs!$J$58:$J$67,Systèmes_communs!$E$58:$E$67,\"<4\",Systèmes_communs!$F$58:$F$67,\"<4\",Systèmes_communs!$L$58:$L$67,\">=\"&Annee_BI+5,Systèmes_communs!$L$58:$L$67,\"<=\"&Annee_BI+9)","v":0},{"$f":"MIN(IF(Systèmes_communs!$L$58:$L$67>=Annee_BI+5,IF(Systèmes_communs!$L$58:$L$67<=Annee_BI+9,Systèmes_communs!$L$58:$L$67)))","v":0},{"$f":"MAX(IF(Systèmes_communs!$L$58:$L$67>=Annee_BI+5,IF(Systèmes_communs!$L$58:$L$67<=Annee_BI+9,Systèmes_communs!$L$58:$L$67)))","v":0}]
["Eau pluviale","Ouvrage de surverse (EPL)","Ouvrage de surverse (EPL)",{"$f":"IF(Identification!$H$63=\"\",\"\",Identification!$H$63)","v":""},"Régulation de débit","Civil",{"$f":"EPL_Régulation_débit!$B$26","v":""},0,{"$f":"IFERROR(J334/SUM($J334:$J337),0)","v":0},{"$f":"EPL_Régulation_débit!$I$26","v":0},{"$f":"EPL_Régulation_débit!$G$26","v":""},{"$f":"EPL_Régulation_débit!$E$26","v":""},{"$f":"EPL_Régulation_débit!$F$26","v":""},{"$f":"EPL_Régulation_débit!$J$26-SUMIFS(EPL_Régulation_débit!$J$16:$J$25,EPL_Régulation_débit!$E$16:$E$25,\"<4\",EPL_Régulation_débit!$F$16:$F$25,\"<4\")","v":0},{"$f":"SUMIFS(EPL_Régulation_débit!$J$16:$J$25,EPL_Régulation_débit!$E$16:$E$25,\"<4\",EPL_Régulation_débit!$F$16:$F$25,\"<4\",EPL_Régulation_débit!$L$16:$L$25,\">=\"&Annee_BI,EPL_Régulation_débit!$L$16:$L$25,\"<=\"&Annee_BI+4)","v":0},{"$f":"MIN(IF(EPL_Régulation_débit!$L$16:$L$25>=Annee_BI,IF(EPL_Régulation_débit!$L$16:$L$25<=Annee_BI+4,EPL_Régulation_débit!$L$16:$L$25)))","v":0},{"$f":"MAX(IF(EPL_Régulation_débit!$L$16:$L$25>=Annee_BI,IF(EPL_Régulation_débit!$L$16:$L$25<=Annee_BI+4,EPL_Régulation_débit!$L$16:$L$25)))","v":0},{"$f":"SUMIFS(EPL_Régulation_débit!$J$16:$J$25,EPL_Régulation_débit!$E$16:$E$25,\"<4\",EPL_Régulation_débit!$F$16:$F$25,\"<4\",EPL_Régulation_débit!$L$16:$L$25,\">=\"&Annee_BI+5,EPL_Régulation_débit!$L$16:$L$25,\"<=\"&Annee_BI+9)","v":0},{"$f":"MIN(IF(EPL_Régulation_débit!$L$16:$L$25>=Annee_BI+5,IF(EPL_Régulation_débit!$L$16:$L$25<=Annee_BI+9,EPL_Régulation_débit!$L$16:$L$25)))","v":0},{"$f":"MAX(IF(EPL_Régulation_débit!$L$16:$L$25>=Annee_BI+5,IF(EPL_Régulation_débit!$L$16:$L$25<=Annee_BI+9,EPL_Régulation_débit!$L$16:$L$25)))","v":0}]
["Eau pluviale","Ouvrage de surverse (EPL)","Ouvrage de surverse (EPL)",{"$f":"IF(Identification!$H$63=\"\",\"\",Identification!$H$63)","v":""},"Régulation de débit","Mécanique",{"$f":"EPL_Régulation_débit!$B$40","v":""},0,{"$f":"IFERROR(J335/SUM($J334:$J337),0)","v":0},{"$f":"EPL_Régulation_débit!$I$40","v":0},{"$f":"EPL_Régulation_débit!$G$40","v":""},{"$f":"EPL_Régulation_débit!$E$40","v":""},{"$f":"EPL_Régulation_débit!$F$40","v":""},{"$f":"EPL_Régulation_débit!$J$40-SUMIFS(EPL_Régulation_débit!$J$30:$J$39,EPL_Régulation_débit!$E$30:$E$39,\"<4\",EPL_Régulation_débit!$F$30:$F$39,\"<4\")","v":0},{"$f":"SUMIFS(EPL_Régulation_débit!$J$30:$J$39,EPL_Régulation_débit!$E$30:$E$39,\"<4\",EPL_Régulation_débit!$F$30:$F$39,\"<4\",EPL_Régulation_débit!$L$30:$L$39,\">=\"&Annee_BI,EPL_Régulation_débit!$L$30:$L$39,\"<=\"&Annee_BI+4)","v":0},{"$f":"MIN(IF(EPL_Régulation_débit!$L$30:$L$39>=Annee_BI,IF(EPL_Régulation_débit!$L$30:$L$39<=Annee_BI+4,EPL_Régulation_débit!$L$30:$L$39)))","v":0},{"$f":"MAX(IF(EPL_Régulation_débit!$L$30:$L$39>=Annee_BI,IF(EPL_Régulation_débit!$L$30:$L$39<=Annee_BI+4,EPL_Régulation_débit!$L$30:$L$39)))","v":0},{"$f":"SUMIFS(EPL_Régulation_débit!$J$30:$J$39,EPL_Régulation_débit!$E$30:$E$39,\"<4\",EPL_Régulation_débit!$F$30:$F$39,\"<4\",EPL_Régulation_débit!$L$30:$L$39,\">=\"&Annee_BI+5,EPL_Régulation_débit!$L$30:$L$39,\"<=\"&Annee_BI+9)","v":0},{"$f":"MIN(IF(EPL_Régulation_débit!$L$30:$L$39>=Annee_BI+5,IF(EPL_Régulation_débit!$L$30:$L$39<=Annee_BI+9,EPL_Régulation_débit!$L$30:$L$39)))","v":0},{"$f":"MAX(IF(EPL_Régulation_débit!$L$30:$L$39>=Annee_BI+5,IF(EPL_Régulation_débit!$L$30:$L$39<=Annee_BI+9,EPL_Régulation_débit!$L$30:$L$39)))","v":0}]
["Eau pluviale","Ouvrage de surverse (EPL)","Ouvrage de surverse (EPL)",{"$f":"IF(Identification!$H$63=\"\",\"\",Identification!$H$63)","v":""},"Régulation de débit","Électricité",{"$f":"EPL_Régulation_débit!$B$54","v":""},0,{"$f":"IFERROR(J336/SUM($J334:$J337),0)","v":0},{"$f":"EPL_Régulation_débit!$I$54","v":0},{"$f":"EPL_Régulation_débit!$G$54","v":""},{"$f":"EPL_Régulation_débit!$E$54","v":""},{"$f":"EPL_Régulation_débit!$F$54","v":""},{"$f":"EPL_Régulation_débit!$J$54-SUMIFS(EPL_Régulation_débit!$J$44:$J$53,EPL_Régulation_débit!$E$44:$E$53,\"<4\",EPL_Régulation_débit!$F$44:$F$53,\"<4\")","v":0},{"$f":"SUMIFS(EPL_Régulation_débit!$J$44:$J$53,EPL_Régulation_débit!$E$44:$E$53,\"<4\",EPL_Régulation_débit!$F$44:$F$53,\"<4\",EPL_Régulation_débit!$L$44:$L$53,\">=\"&Annee_BI,EPL_Régulation_débit!$L$44:$L$53,\"<=\"&Annee_BI+4)","v":0},{"$f":"MIN(IF(EPL_Régulation_débit!$L$44:$L$53>=Annee_BI,IF(EPL_Régulation_débit!$L$44:$L$53<=Annee_BI+4,EPL_Régulation_débit!$L$44:$L$53)))","v":0},{"$f":"MAX(IF(EPL_Régulation_débit!$L$44:$L$53>=Annee_BI,IF(EPL_Régulation_débit!$L$44:$L$53<=Annee_BI+4,EPL_Régulation_débit!$L$44:$L$53)))","v":0},{"$f":"SUMIFS(EPL_Régulation_débit!$J$44:$J$53,EPL_Régulation_débit!$E$44:$E$53,\"<4\",EPL_Régulation_débit!$F$44:$F$53,\"<4\",EPL_Régulation_débit!$L$44:$L$53,\">=\"&Annee_BI+5,EPL_Régulation_débit!$L$44:$L$53,\"<=\"&Annee_BI+9)","v":0},{"$f":"MIN(IF(EPL_Régulation_débit!$L$44:$L$53>=Annee_BI+5,IF(EPL_Régulation_débit!$L$44:$L$53<=Annee_BI+9,EPL_Régulation_débit!$L$44:$L$53)))","v":0},{"$f":"MAX(IF(EPL_Régulation_débit!$L$44:$L$53>=Annee_BI+5,IF(EPL_Régulation_débit!$L$44:$L$53<=Annee_BI+9,EPL_Régulation_débit!$L$44:$L$53)))","v":0}]
["Eau pluviale","Ouvrage de surverse (EPL)","Ouvrage de surverse (EPL)",{"$f":"IF(Identification!$H$63=\"\",\"\",Identification!$H$63)","v":""},"Régulation de débit","Instrumentation et contrôle",{"$f":"EPL_Régulation_débit!$B$68","v":""},0,{"$f":"IFERROR(J337/SUM($J334:$J337),0)","v":0},{"$f":"EPL_Régulation_débit!$I$68","v":0},{"$f":"EPL_Régulation_débit!$G$68","v":""},{"$f":"EPL_Régulation_débit!$E$68","v":""},{"$f":"EPL_Régulation_débit!$F$68","v":""},{"$f":"EPL_Régulation_débit!$J$68-SUMIFS(EPL_Régulation_débit!$J$58:$J$67,EPL_Régulation_débit!$E$58:$E$67,\"<4\",EPL_Régulation_débit!$F$58:$F$67,\"<4\")","v":0},{"$f":"SUMIFS(EPL_Régulation_débit!$J$58:$J$67,EPL_Régulation_débit!$E$58:$E$67,\"<4\",EPL_Régulation_débit!$F$58:$F$67,\"<4\",EPL_Régulation_débit!$L$58:$L$67,\">=\"&Annee_BI,EPL_Régulation_débit!$L$58:$L$67,\"<=\"&Annee_BI+4)","v":0},{"$f":"MIN(IF(EPL_Régulation_débit!$L$58:$L$67>=Annee_BI,IF(EPL_Régulation_débit!$L$58:$L$67<=Annee_BI+4,EPL_Régulation_débit!$L$58:$L$67)))","v":0},{"$f":"MAX(IF(EPL_Régulation_débit!$L$58:$L$67>=Annee_BI,IF(EPL_Régulation_débit!$L$58:$L$67<=Annee_BI+4,EPL_Régulation_débit!$L$58:$L$67)))","v":0},{"$f":"SUMIFS(EPL_Régulation_débit!$J$58:$J$67,EPL_Régulation_débit!$E$58:$E$67,\"<4\",EPL_Régulation_débit!$F$58:$F$67,\"<4\",EPL_Régulation_débit!$L$58:$L$67,\">=\"&Annee_BI+5,EPL_Régulation_débit!$L$58:$L$67,\"<=\"&Annee_BI+9)","v":0},{"$f":"MIN(IF(EPL_Régulation_débit!$L$58:$L$67>=Annee_BI+5,IF(EPL_Régulation_débit!$L$58:$L$67<=Annee_BI+9,EPL_Régulation_débit!$L$58:$L$67)))","v":0},{"$f":"MAX(IF(EPL_Régulation_débit!$L$58:$L$67>=Annee_BI+5,IF(EPL_Régulation_débit!$L$58:$L$67<=Annee_BI+9,EPL_Régulation_débit!$L$58:$L$67)))","v":0}]
["Eau pluviale","Poste de pompage (EPL)","Poste de pompage (EPL)",{"$f":"IF(Identification!$H$63=\"\",\"\",Identification!$H$63)","v":""},"Pompage","Civil",{"$f":"EPL_Pompage!$B$26","v":""},0,{"$f":"IFERROR(J338/SUM($J338:$J341),0)","v":0},{"$f":"EPL_Pompage!$I$26","v":0},{"$f":"EPL_Pompage!$G$26","v":""},{"$f":"EPL_Pompage!$E$26","v":""},{"$f":"EPL_Pompage!$F$26","v":""},{"$f":"EPL_Pompage!$J$26-SUMIFS(EPL_Pompage!$J$16:$J$25,EPL_Pompage!$E$16:$E$25,\"<4\",EPL_Pompage!$F$16:$F$25,\"<4\")","v":0},{"$f":"SUMIFS(EPL_Pompage!$J$16:$J$25,EPL_Pompage!$E$16:$E$25,\"<4\",EPL_Pompage!$F$16:$F$25,\"<4\",EPL_Pompage!$L$16:$L$25,\">=\"&Annee_BI,EPL_Pompage!$L$16:$L$25,\"<=\"&Annee_BI+4)","v":0},{"$f":"MIN(IF(EPL_Pompage!$L$16:$L$25>=Annee_BI,IF(EPL_Pompage!$L$16:$L$25<=Annee_BI+4,EPL_Pompage!$L$16:$L$25)))","v":0},{"$f":"MAX(IF(EPL_Pompage!$L$16:$L$25>=Annee_BI,IF(EPL_Pompage!$L$16:$L$25<=Annee_BI+4,EPL_Pompage!$L$16:$L$25)))","v":0},{"$f":"SUMIFS(EPL_Pompage!$J$16:$J$25,EPL_Pompage!$E$16:$E$25,\"<4\",EPL_Pompage!$F$16:$F$25,\"<4\",EPL_Pompage!$L$16:$L$25,\">=\"&Annee_BI+5,EPL_Pompage!$L$16:$L$25,\"<=\"&Annee_BI+9)","v":0},{"$f":"MIN(IF(EPL_Pompage!$L$16:$L$25>=Annee_BI+5,IF(EPL_Pompage!$L$16:$L$25<=Annee_BI+9,EPL_Pompage!$L$16:$L$25)))","v":0},{"$f":"MAX(IF(EPL_Pompage!$L$16:$L$25>=Annee_BI+5,IF(EPL_Pompage!$L$16:$L$25<=Annee_BI+9,EPL_Pompage!$L$16:$L$25)))","v":0}]
["Eau pluviale","Poste de pompage (EPL)","Poste de pompage (EPL)",{"$f":"IF(Identification!$H$63=\"\",\"\",Identification!$H$63)","v":""},"Pompage","Mécanique",{"$f":"EPL_Pompage!$B$40","v":""},0,{"$f":"IFERROR(J339/SUM($J338:$J341),0)","v":0},{"$f":"EPL_Pompage!$I$40","v":0},{"$f":"EPL_Pompage!$G$40","v":""},{"$f":"EPL_Pompage!$E$40","v":""},{"$f":"EPL_Pompage!$F$40","v":""},{"$f":"EPL_Pompage!$J$40-SUMIFS(EPL_Pompage!$J$30:$J$39,EPL_Pompage!$E$30:$E$39,\"<4\",EPL_Pompage!$F$30:$F$39,\"<4\")","v":0},{"$f":"SUMIFS(EPL_Pompage!$J$30:$J$39,EPL_Pompage!$E$30:$E$39,\"<4\",EPL_Pompage!$F$30:$F$39,\"<4\",EPL_Pompage!$L$30:$L$39,\">=\"&Annee_BI,EPL_Pompage!$L$30:$L$39,\"<=\"&Annee_BI+4)","v":0},{"$f":"MIN(IF(EPL_Pompage!$L$30:$L$39>=Annee_BI,IF(EPL_Pompage!$L$30:$L$39<=Annee_BI+4,EPL_Pompage!$L$30:$L$39)))","v":0},{"$f":"MAX(IF(EPL_Pompage!$L$30:$L$39>=Annee_BI,IF(EPL_Pompage!$L$30:$L$39<=Annee_BI+4,EPL_Pompage!$L$30:$L$39)))","v":0},{"$f":"SUMIFS(EPL_Pompage!$J$30:$J$39,EPL_Pompage!$E$30:$E$39,\"<4\",EPL_Pompage!$F$30:$F$39,\"<4\",EPL_Pompage!$L$30:$L$39,\">=\"&Annee_BI+5,EPL_Pompage!$L$30:$L$39,\"<=\"&Annee_BI+9)","v":0},{"$f":"MIN(IF(EPL_Pompage!$L$30:$L$39>=Annee_BI+5,IF(EPL_Pompage!$L$30:$L$39<=Annee_BI+9,EPL_Pompage!$L$30:$L$39)))","v":0},{"$f":"MAX(IF(EPL_Pompage!$L$30:$L$39>=Annee_BI+5,IF(EPL_Pompage!$L$30:$L$39<=Annee_BI+9,EPL_Pompage!$L$30:$L$39)))","v":0}]
["Eau pluviale","Poste de pompage (EPL)","Poste de pompage (EPL)",{"$f":"IF(Identification!$H$63=\"\",\"\",Identification!$H$63)","v":""},"Pompage","Électricité",{"$f":"EPL_Pompage!$B$54","v":""},0,{"$f":"IFERROR(J340/SUM($J338:$J341),0)","v":0},{"$f":"EPL_Pompage!$I$54","v":0},{"$f":"EPL_Pompage!$G$54","v":""},{"$f":"EPL_Pompage!$E$54","v":""},{"$f":"EPL_Pompage!$F$54","v":""},{"$f":"EPL_Pompage!$J$54-SUMIFS(EPL_Pompage!$J$44:$J$53,EPL_Pompage!$E$44:$E$53,\"<4\",EPL_Pompage!$F$44:$F$53,\"<4\")","v":0},{"$f":"SUMIFS(EPL_Pompage!$J$44:$J$53,EPL_Pompage!$E$44:$E$53,\"<4\",EPL_Pompage!$F$44:$F$53,\"<4\",EPL_Pompage!$L$44:$L$53,\">=\"&Annee_BI,EPL_Pompage!$L$44:$L$53,\"<=\"&Annee_BI+4)","v":0},{"$f":"MIN(IF(EPL_Pompage!$L$44:$L$53>=Annee_BI,IF(EPL_Pompage!$L$44:$L$53<=Annee_BI+4,EPL_Pompage!$L$44:$L$53)))","v":0},{"$f":"MAX(IF(EPL_Pompage!$L$44:$L$53>=Annee_BI,IF(EPL_Pompage!$L$44:$L$53<=Annee_BI+4,EPL_Pompage!$L$44:$L$53)))","v":0},{"$f":"SUMIFS(EPL_Pompage!$J$44:$J$53,EPL_Pompage!$E$44:$E$53,\"<4\",EPL_Pompage!$F$44:$F$53,\"<4\",EPL_Pompage!$L$44:$L$53,\">=\"&Annee_BI+5,EPL_Pompage!$L$44:$L$53,\"<=\"&Annee_BI+9)","v":0},{"$f":"MIN(IF(EPL_Pompage!$L$44:$L$53>=Annee_BI+5,IF(EPL_Pompage!$L$44:$L$53<=Annee_BI+9,EPL_Pompage!$L$44:$L$53)))","v":0},{"$f":"MAX(IF(EPL_Pompage!$L$44:$L$53>=Annee_BI+5,IF(EPL_Pompage!$L$44:$L$53<=Annee_BI+9,EPL_Pompage!$L$44:$L$53)))","v":0}]
["Eau pluviale","Poste de pompage (EPL)","Poste de pompage (EPL)",{"$f":"IF(Identification!$H$63=\"\",\"\",Identification!$H$63)","v":""},"Pompage","Instrumentation et contrôle",{"$f":"EPL_Pompage!$B$68","v":""},0,{"$f":"IFERROR(J341/SUM($J338:$J341),0)","v":0},{"$f":"EPL_Pompage!$I$68","v":0},{"$f":"EPL_Pompage!$G$68","v":""},{"$f":"EPL_Pompage!$E$68","v":""},{"$f":"EPL_Pompage!$F$68","v":""},{"$f":"EPL_Pompage!$J$68-SUMIFS(EPL_Pompage!$J$58:$J$67,EPL_Pompage!$E$58:$E$67,\"<4\",EPL_Pompage!$F$58:$F$67,\"<4\")","v":0},{"$f":"SUMIFS(EPL_Pompage!$J$58:$J$67,EPL_Pompage!$E$58:$E$67,\"<4\",EPL_Pompage!$F$58:$F$67,\"<4\",EPL_Pompage!$L$58:$L$67,\">=\"&Annee_BI,EPL_Pompage!$L$58:$L$67,\"<=\"&Annee_BI+4)","v":0},{"$f":"MIN(IF(EPL_Pompage!$L$58:$L$67>=Annee_BI,IF(EPL_Pompage!$L$58:$L$67<=Annee_BI+4,EPL_Pompage!$L$58:$L$67)))","v":0},{"$f":"MAX(IF(EPL_Pompage!$L$58:$L$67>=Annee_BI,IF(EPL_Pompage!$L$58:$L$67<=Annee_BI+4,EPL_Pompage!$L$58:$L$67)))","v":0},{"$f":"SUMIFS(EPL_Pompage!$J$58:$J$67,EPL_Pompage!$E$58:$E$67,\"<4\",EPL_Pompage!$F$58:$F$67,\"<4\",EPL_Pompage!$L$58:$L$67,\">=\"&Annee_BI+5,EPL_Pompage!$L$58:$L$67,\"<=\"&Annee_BI+9)","v":0},{"$f":"MIN(IF(EPL_Pompage!$L$58:$L$67>=Annee_BI+5,IF(EPL_Pompage!$L$58:$L$67<=Annee_BI+9,EPL_Pompage!$L$58:$L$67)))","v":0},{"$f":"MAX(IF(EPL_Pompage!$L$58:$L$67>=Annee_BI+5,IF(EPL_Pompage!$L$58:$L$67<=Annee_BI+9,EPL_Pompage!$L$58:$L$67)))","v":0}]
["Eau pluviale","Poste de pompage (EPL)","Poste de pompage (EPL)",{"$f":"IF(Identification!$H$63=\"\",\"\",Identification!$H$63)","v":""},"Systèmes communs","Civil",{"$f":"Systèmes_communs!$B$26","v":""},0,{"$f":"IFERROR(J342/SUM($J342:$J345),0)","v":0},{"$f":"Systèmes_communs!$I$26","v":0},{"$f":"Systèmes_communs!$G$26","v":""},{"$f":"Systèmes_communs!$E$26","v":""},{"$f":"Systèmes_communs!$F$26","v":""},{"$f":"Systèmes_communs!$J$26-SUMIFS(Systèmes_communs!$J$16:$J$25,Systèmes_communs!$E$16:$E$25,\"<4\",Systèmes_communs!$F$16:$F$25,\"<4\")","v":0},{"$f":"SUMIFS(Systèmes_communs!$J$16:$J$25,Systèmes_communs!$E$16:$E$25,\"<4\",Systèmes_communs!$F$16:$F$25,\"<4\",Systèmes_communs!$L$16:$L$25,\">=\"&Annee_BI,Systèmes_communs!$L$16:$L$25,\"<=\"&Annee_BI+4)","v":0},{"$f":"MIN(IF(Systèmes_communs!$L$16:$L$25>=Annee_BI,IF(Systèmes_communs!$L$16:$L$25<=Annee_BI+4,Systèmes_communs!$L$16:$L$25)))","v":0},{"$f":"MAX(IF(Systèmes_communs!$L$16:$L$25>=Annee_BI,IF(Systèmes_communs!$L$16:$L$25<=Annee_BI+4,Systèmes_communs!$L$16:$L$25)))","v":0},{"$f":"SUMIFS(Systèmes_communs!$J$16:$J$25,Systèmes_communs!$E$16:$E$25,\"<4\",Systèmes_communs!$F$16:$F$25,\"<4\",Systèmes_communs!$L$16:$L$25,\">=\"&Annee_BI+5,Systèmes_communs!$L$16:$L$25,\"<=\"&Annee_BI+9)","v":0},{"$f":"MIN(IF(Systèmes_communs!$L$16:$L$25>=Annee_BI+5,IF(Systèmes_communs!$L$16:$L$25<=Annee_BI+9,Systèmes_communs!$L$16:$L$25)))","v":0},{"$f":"MAX(IF(Systèmes_communs!$L$16:$L$25>=Annee_BI+5,IF(Systèmes_communs!$L$16:$L$25<=Annee_BI+9,Systèmes_communs!$L$16:$L$25)))","v":0}]
["Eau pluviale","Poste de pompage (EPL)","Poste de pompage (EPL)",{"$f":"IF(Identification!$H$63=\"\",\"\",Identification!$H$63)","v":""},"Systèmes communs","Mécanique",{"$f":"Systèmes_communs!$B$40","v":""},0,{"$f":"IFERROR(J343/SUM($J342:$J345),0)","v":0},{"$f":"Systèmes_communs!$I$40","v":0},{"$f":"Systèmes_communs!$G$40","v":""},{"$f":"Systèmes_communs!$E$40","v":""},{"$f":"Systèmes_communs!$F$40","v":""},{"$f":"Systèmes_communs!$J$40-SUMIFS(Systèmes_communs!$J$30:$J$39,Systèmes_communs!$E$30:$E$39,\"<4\",Systèmes_communs!$F$30:$F$39,\"<4\")","v":0},{"$f":"SUMIFS(Systèmes_communs!$J$30:$J$39,Systèmes_communs!$E$30:$E$39,\"<4\",Systèmes_communs!$F$30:$F$39,\"<4\",Systèmes_communs!$L$30:$L$39,\">=\"&Annee_BI,Systèmes_communs!$L$30:$L$39,\"<=\"&Annee_BI+4)","v":0},{"$f":"MIN(IF(Systèmes_communs!$L$30:$L$39>=Annee_BI,IF(Systèmes_communs!$L$30:$L$39<=Annee_BI+4,Systèmes_communs!$L$30:$L$39)))","v":0},{"$f":"MAX(IF(Systèmes_communs!$L$30:$L$39>=Annee_BI,IF(Systèmes_communs!$L$30:$L$39<=Annee_BI+4,Systèmes_communs!$L$30:$L$39)))","v":0},{"$f":"SUMIFS(Systèmes_communs!$J$30:$J$39,Systèmes_communs!$E$30:$E$39,\"<4\",Systèmes_communs!$F$30:$F$39,\"<4\",Systèmes_communs!$L$30:$L$39,\">=\"&Annee_BI+5,Systèmes_communs!$L$30:$L$39,\"<=\"&Annee_BI+9)","v":0},{"$f":"MIN(IF(Systèmes_communs!$L$30:$L$39>=Annee_BI+5,IF(Systèmes_communs!$L$30:$L$39<=Annee_BI+9,Systèmes_communs!$L$30:$L$39)))","v":0},{"$f":"MAX(IF(Systèmes_communs!$L$30:$L$39>=Annee_BI+5,IF(Systèmes_communs!$L$30:$L$39<=Annee_BI+9,Systèmes_communs!$L$30:$L$39)))","v":0}]
["Eau pluviale","Poste de pompage (EPL)","Poste de pompage (EPL)",{"$f":"IF(Identification!$H$63=\"\",\"\",Identification!$H$63)","v":""},"Systèmes communs","Électricité",{"$f":"Systèmes_communs!$B$54","v":""},0,{"$f":"IFERROR(J344/SUM($J342:$J345),0)","v":0},{"$f":"Systèmes_communs!$I$54","v":0},{"$f":"Systèmes_communs!$G$54","v":""},{"$f":"Systèmes_communs!$E$54","v":""},{"$f":"Systèmes_communs!$F$54","v":""},{"$f":"Systèmes_communs!$J$54-SUMIFS(Systèmes_communs!$J$44:$J$53,Systèmes_communs!$E$44:$E$53,\"<4\",Systèmes_communs!$F$44:$F$53,\"<4\")","v":0},{"$f":"SUMIFS(Systèmes_communs!$J$44:$J$53,Systèmes_communs!$E$44:$E$53,\"<4\",Systèmes_communs!$F$44:$F$53,\"<4\",Systèmes_communs!$L$44:$L$53,\">=\"&Annee_BI,Systèmes_communs!$L$44:$L$53,\"<=\"&Annee_BI+4)","v":0},{"$f":"MIN(IF(Systèmes_communs!$L$44:$L$53>=Annee_BI,IF(Systèmes_communs!$L$44:$L$53<=Annee_BI+4,Systèmes_communs!$L$44:$L$53)))","v":0},{"$f":"MAX(IF(Systèmes_communs!$L$44:$L$53>=Annee_BI,IF(Systèmes_communs!$L$44:$L$53<=Annee_BI+4,Systèmes_communs!$L$44:$L$53)))","v":0},{"$f":"SUMIFS(Systèmes_communs!$J$44:$J$53,Systèmes_communs!$E$44:$E$53,\"<4\",Systèmes_communs!$F$44:$F$53,\"<4\",Systèmes_communs!$L$44:$L$53,\">=\"&Annee_BI+5,Systèmes_communs!$L$44:$L$53,\"<=\"&Annee_BI+9)","v":0},{"$f":"MIN(IF(Systèmes_communs!$L$44:$L$53>=Annee_BI+5,IF(Systèmes_communs!$L$44:$L$53<=Annee_BI+9,Systèmes_communs!$L$44:$L$53)))","v":0},{"$f":"MAX(IF(Systèmes_communs!$L$44:$L$53>=Annee_BI+5,IF(Systèmes_communs!$L$44:$L$53<=Annee_BI+9,Systèmes_communs!$L$44:$L$53)))","v":0}]
["Eau pluviale","Poste de pompage (EPL)","Poste de pompage (EPL)",{"$f":"IF(Identification!$H$63=\"\",\"\",Identification!$H$63)","v":""},"Systèmes communs","Instrumentation et contrôle",{"$f":"Systèmes_communs!$B$68","v":""},0,{"$f":"IFERROR(J345/SUM($J342:$J345),0)","v":0},{"$f":"Systèmes_communs!$I$68","v":0},{"$f":"Systèmes_communs!$G$68","v":""},{"$f":"Systèmes_communs!$E$68","v":""},{"$f":"Systèmes_communs!$F$68","v":""},{"$f":"Systèmes_communs!$J$68-SUMIFS(Systèmes_communs!$J$58:$J$67,Systèmes_communs!$E$58:$E$67,\"<4\",Systèmes_communs!$F$58:$F$67,\"<4\")","v":0},{"$f":"SUMIFS(Systèmes_communs!$J$58:$J$67,Systèmes_communs!$E$58:$E$67,\"<4\",Systèmes_communs!$F$58:$F$67,\"<4\",Systèmes_communs!$L$58:$L$67,\">=\"&Annee_BI,Systèmes_communs!$L$58:$L$67,\"<=\"&Annee_BI+4)","v":0},{"$f":"MIN(IF(Systèmes_communs!$L$58:$L$67>=Annee_BI,IF(Systèmes_communs!$L$58:$L$67<=Annee_BI+4,Systèmes_communs!$L$58:$L$67)))","v":0},{"$f":"MAX(IF(Systèmes_communs!$L$58:$L$67>=Annee_BI,IF(Systèmes_communs!$L$58:$L$67<=Annee_BI+4,Systèmes_communs!$L$58:$L$67)))","v":0},{"$f":"SUMIFS(Systèmes_communs!$J$58:$J$67,Systèmes_communs!$E$58:$E$67,\"<4\",Systèmes_communs!$F$58:$F$67,\"<4\",Systèmes_communs!$L$58:$L$67,\">=\"&Annee_BI+5,Systèmes_communs!$L$58:$L$67,\"<=\"&Annee_BI+9)","v":0},{"$f":"MIN(IF(Systèmes_communs!$L$58:$L$67>=Annee_BI+5,IF(Systèmes_communs!$L$58:$L$67<=Annee_BI+9,Systèmes_communs!$L$58:$L$67)))","v":0},{"$f":"MAX(IF(Systèmes_communs!$L$58:$L$67>=Annee_BI+5,IF(Systèmes_communs!$L$58:$L$67<=Annee_BI+9,Systèmes_communs!$L$58:$L$67)))","v":0}]
["Eau pluviale","Chambre majeure (EPL)","Chambre majeure (EPL)",{"$f":"IF(Identification!$H$63=\"\",\"\",Identification!$H$63)","v":""},"Chambre","Civil",{"$f":"EPL_Chambre!$B$26","v":""},0,{"$f":"IFERROR(J346/SUM($J346:$J349),0)","v":0},{"$f":"EPL_Chambre!$I$26","v":0},{"$f":"EPL_Chambre!$G$26","v":""},{"$f":"EPL_Chambre!$E$26","v":""},{"$f":"EPL_Chambre!$F$26","v":""},{"$f":"EPL_Chambre!$J$26-SUMIFS(EPL_Chambre!$J$16:$J$25,EPL_Chambre!$E$16:$E$25,\"<4\",EPL_Chambre!$F$16:$F$25,\"<4\")","v":0},{"$f":"SUMIFS(EPL_Chambre!$J$16:$J$25,EPL_Chambre!$E$16:$E$25,\"<4\",EPL_Chambre!$F$16:$F$25,\"<4\",EPL_Chambre!$L$16:$L$25,\">=\"&Annee_BI,EPL_Chambre!$L$16:$L$25,\"<=\"&Annee_BI+4)","v":0},{"$f":"MIN(IF(EPL_Chambre!$L$16:$L$25>=Annee_BI,IF(EPL_Chambre!$L$16:$L$25<=Annee_BI+4,EPL_Chambre!$L$16:$L$25)))","v":0},{"$f":"MAX(IF(EPL_Chambre!$L$16:$L$25>=Annee_BI,IF(EPL_Chambre!$L$16:$L$25<=Annee_BI+4,EPL_Chambre!$L$16:$L$25)))","v":0},{"$f":"SUMIFS(EPL_Chambre!$J$16:$J$25,EPL_Chambre!$E$16:$E$25,\"<4\",EPL_Chambre!$F$16:$F$25,\"<4\",EPL_Chambre!$L$16:$L$25,\">=\"&Annee_BI+5,EPL_Chambre!$L$16:$L$25,\"<=\"&Annee_BI+9)","v":0},{"$f":"MIN(IF(EPL_Chambre!$L$16:$L$25>=Annee_BI+5,IF(EPL_Chambre!$L$16:$L$25<=Annee_BI+9,EPL_Chambre!$L$16:$L$25)))","v":0},{"$f":"MAX(IF(EPL_Chambre!$L$16:$L$25>=Annee_BI+5,IF(EPL_Chambre!$L$16:$L$25<=Annee_BI+9,EPL_Chambre!$L$16:$L$25)))","v":0}]
["Eau pluviale","Chambre majeure (EPL)","Chambre majeure (EPL)",{"$f":"IF(Identification!$H$63=\"\",\"\",Identification!$H$63)","v":""},"Chambre","Mécanique",{"$f":"EPL_Chambre!$B$40","v":""},0,{"$f":"IFERROR(J347/SUM($J346:$J349),0)","v":0},{"$f":"EPL_Chambre!$I$40","v":0},{"$f":"EPL_Chambre!$G$40","v":""},{"$f":"EPL_Chambre!$E$40","v":""},{"$f":"EPL_Chambre!$F$40","v":""},{"$f":"EPL_Chambre!$J$40-SUMIFS(EPL_Chambre!$J$30:$J$39,EPL_Chambre!$E$30:$E$39,\"<4\",EPL_Chambre!$F$30:$F$39,\"<4\")","v":0},{"$f":"SUMIFS(EPL_Chambre!$J$30:$J$39,EPL_Chambre!$E$30:$E$39,\"<4\",EPL_Chambre!$F$30:$F$39,\"<4\",EPL_Chambre!$L$30:$L$39,\">=\"&Annee_BI,EPL_Chambre!$L$30:$L$39,\"<=\"&Annee_BI+4)","v":0},{"$f":"MIN(IF(EPL_Chambre!$L$30:$L$39>=Annee_BI,IF(EPL_Chambre!$L$30:$L$39<=Annee_BI+4,EPL_Chambre!$L$30:$L$39)))","v":0},{"$f":"MAX(IF(EPL_Chambre!$L$30:$L$39>=Annee_BI,IF(EPL_Chambre!$L$30:$L$39<=Annee_BI+4,EPL_Chambre!$L$30:$L$39)))","v":0},{"$f":"SUMIFS(EPL_Chambre!$J$30:$J$39,EPL_Chambre!$E$30:$E$39,\"<4\",EPL_Chambre!$F$30:$F$39,\"<4\",EPL_Chambre!$L$30:$L$39,\">=\"&Annee_BI+5,EPL_Chambre!$L$30:$L$39,\"<=\"&Annee_BI+9)","v":0},{"$f":"MIN(IF(EPL_Chambre!$L$30:$L$39>=Annee_BI+5,IF(EPL_Chambre!$L$30:$L$39<=Annee_BI+9,EPL_Chambre!$L$30:$L$39)))","v":0},{"$f":"MAX(IF(EPL_Chambre!$L$30:$L$39>=Annee_BI+5,IF(EPL_Chambre!$L$30:$L$39<=Annee_BI+9,EPL_Chambre!$L$30:$L$39)))","v":0}]
["Eau pluviale","Chambre majeure (EPL)","Chambre majeure (EPL)",{"$f":"IF(Identification!$H$63=\"\",\"\",Identification!$H$63)","v":""},"Chambre","Électricité",{"$f":"EPL_Chambre!$B$54","v":""},0,{"$f":"IFERROR(J348/SUM($J346:$J349),0)","v":0},{"$f":"EPL_Chambre!$I$54","v":0},{"$f":"EPL_Chambre!$G$54","v":""},{"$f":"EPL_Chambre!$E$54","v":""},{"$f":"EPL_Chambre!$F$54","v":""},{"$f":"EPL_Chambre!$J$54-SUMIFS(EPL_Chambre!$J$44:$J$53,EPL_Chambre!$E$44:$E$53,\"<4\",EPL_Chambre!$F$44:$F$53,\"<4\")","v":0},{"$f":"SUMIFS(EPL_Chambre!$J$44:$J$53,EPL_Chambre!$E$44:$E$53,\"<4\",EPL_Chambre!$F$44:$F$53,\"<4\",EPL_Chambre!$L$44:$L$53,\">=\"&Annee_BI,EPL_Chambre!$L$44:$L$53,\"<=\"&Annee_BI+4)","v":0},{"$f":"MIN(IF(EPL_Chambre!$L$44:$L$53>=Annee_BI,IF(EPL_Chambre!$L$44:$L$53<=Annee_BI+4,EPL_Chambre!$L$44:$L$53)))","v":0},{"$f":"MAX(IF(EPL_Chambre!$L$44:$L$53>=Annee_BI,IF(EPL_Chambre!$L$44:$L$53<=Annee_BI+4,EPL_Chambre!$L$44:$L$53)))","v":0},{"$f":"SUMIFS(EPL_Chambre!$J$44:$J$53,EPL_Chambre!$E$44:$E$53,\"<4\",EPL_Chambre!$F$44:$F$53,\"<4\",EPL_Chambre!$L$44:$L$53,\">=\"&Annee_BI+5,EPL_Chambre!$L$44:$L$53,\"<=\"&Annee_BI+9)","v":0},{"$f":"MIN(IF(EPL_Chambre!$L$44:$L$53>=Annee_BI+5,IF(EPL_Chambre!$L$44:$L$53<=Annee_BI+9,EPL_Chambre!$L$44:$L$53)))","v":0},{"$f":"MAX(IF(EPL_Chambre!$L$44:$L$53>=Annee_BI+5,IF(EPL_Chambre!$L$44:$L$53<=Annee_BI+9,EPL_Chambre!$L$44:$L$53)))","v":0}]
["Eau pluviale","Chambre majeure (EPL)","Chambre majeure (EPL)",{"$f":"IF(Identification!$H$63=\"\",\"\",Identification!$H$63)","v":""},"Chambre","Instrumentation et contrôle",{"$f":"EPL_Chambre!$B$68","v":""},0,{"$f":"IFERROR(J349/SUM($J346:$J349),0)","v":0},{"$f":"EPL_Chambre!$I$68","v":0},{"$f":"EPL_Chambre!$G$68","v":""},{"$f":"EPL_Chambre!$E$68","v":""},{"$f":"EPL_Chambre!$F$68","v":""},{"$f":"EPL_Chambre!$J$68-SUMIFS(EPL_Chambre!$J$58:$J$67,EPL_Chambre!$E$58:$E$67,\"<4\",EPL_Chambre!$F$58:$F$67,\"<4\")","v":0},{"$f":"SUMIFS(EPL_Chambre!$J$58:$J$67,EPL_Chambre!$E$58:$E$67,\"<4\",EPL_Chambre!$F$58:$F$67,\"<4\",EPL_Chambre!$L$58:$L$67,\">=\"&Annee_BI,EPL_Chambre!$L$58:$L$67,\"<=\"&Annee_BI+4)","v":0},{"$f":"MIN(IF(EPL_Chambre!$L$58:$L$67>=Annee_BI,IF(EPL_Chambre!$L$58:$L$67<=Annee_BI+4,EPL_Chambre!$L$58:$L$67)))","v":0},{"$f":"MAX(IF(EPL_Chambre!$L$58:$L$67>=Annee_BI,IF(EPL_Chambre!$L$58:$L$67<=Annee_BI+4,EPL_Chambre!$L$58:$L$67)))","v":0},{"$f":"SUMIFS(EPL_Chambre!$J$58:$J$67,EPL_Chambre!$E$58:$E$67,\"<4\",EPL_Chambre!$F$58:$F$67,\"<4\",EPL_Chambre!$L$58:$L$67,\">=\"&Annee_BI+5,EPL_Chambre!$L$58:$L$67,\"<=\"&Annee_BI+9)","v":0},{"$f":"MIN(IF(EPL_Chambre!$L$58:$L$67>=Annee_BI+5,IF(EPL_Chambre!$L$58:$L$67<=Annee_BI+9,EPL_Chambre!$L$58:$L$67)))","v":0},{"$f":"MAX(IF(EPL_Chambre!$L$58:$L$67>=Annee_BI+5,IF(EPL_Chambre!$L$58:$L$67<=Annee_BI+9,EPL_Chambre!$L$58:$L$67)))","v":0}]
[]
[{"$f":"serviceau","v":0},{"$f":"typeinfra","v":0},{"$f":"stypeinfra","v":0},null,"TOTAL",null,null,null,null,{"$f":"SUMIFS(J2:J349,B2:B349,typeinfra, Synthèse_Procédés!C2:C349,stypeinfra)","v":0},{"$f":"MAX(K2:K349)","v":0},null,null,{"$f":"SUMIFS(N2:N349,B2:B349,typeinfra, Synthèse_Procédés!C2:C349,stypeinfra)","v":0},{"$f":"SUMIFS(O2:O349,B2:B349,typeinfra, Synthèse_Procédés!C2:C349,stypeinfra)","v":0},{"$f":"MIN(P2:P349)","v":0},{"$f":"MAX(Q2:Q349)","v":0},{"$f":"SUMIFS(R2:R349,B2:B349,typeinfra, Synthèse_Procédés!C2:C349,stypeinfra)","v":0},{"$f":"MIN(S2:S349)","v":0},{"$f":"MAX(T2:T349)","v":0}]

{"sheet":"Aide","index":55,"n_rows":291,"n_cols":16,"rows_kept":291,"cut":false,"hidden":false,"merged":[[4,1,4,15],[187,4,187,6],[202,13,202,15],[205,2,205,15],[208,3,208,15],[209,3,209,15],[274,12,274,15],[122,2,122,15],[125,2,125,15],[126,3,126,15],[127,3,127,15],[128,3,128,15],[129,3,129,15],[163,2,163,15],[166,2,166,15],[168,2,169,3],[168,4,168,6],[170,2,170,3],[171,2,171,3],[172,2,172,3],[173,2,173,3],[184,2,184,3],[184,4,184,6],[185,2,185,3],[273,1,273,15],[276,2,276,15],[279,2,279,15],[232,2,232,15],[237,2,238,3],[237,4,237,6],[239,2,239,3],[240,2,240,3],[241,2,241,3],[242,2,242,3],[248,2,248,15],[256,2,256,3],[256,4,256,6],[257,2,257,3],[257,4,257,6],[258,2,258,3],[258,4,258,6],[259,2,259,3],[262,2,262,15],[259,4,259,6],[235,2,235,15],[245,2,245,15],[265,2,265,15],[119,1,119,15],[185,4,185,6],[186,2,186,3],[186,4,186,6],[190,2,190,15],[187,2,187,3],[105,2,105,15],[96,2,96,15],[97,2,97,15],[176,2,176,15],[114,2,114,15],[75,5,75,6],[75,7,75,15],[76,5,76,6],[76,7,76,15],[108,2,108,15],[111,2,111,15],[77,3,81,3],[77,4,78,4],[77,5,77,6],[77,7,77,15],[78,5,78,6],[78,7,78,15],[79,5,79,6],[79,7,79,15],[80,5,80,6],[80,7,80,15],[81,5,81,6],[81,7,81,15],[90,2,90,15],[93,2,93,15],[104,2,104,15],[70,5,70,6],[70,7,70,15],[71,5,71,6],[71,7,71,15],[72,5,72,6],[72,7,72,15],[73,5,73,6],[73,7,73,15],[74,5,74,6],[74,7,74,15],[288,1,288,15],[290,1,290,15],[280,1,280,15],[281,12,281,15],[283,2,283,15],[286,2,286,15],[61,3,69,3],[61,4,62,4],[61,7,61,15],[62,5,62,6],[62,7,62,15],[63,4,65,4],[63,5,63,6],[63,7,63,15],[64,5,64,6],[64,7,64,15],[65,5,65,6],[65,7,65,15],[66,5,66,6],[66,7,66,15],[67,4,68,4],[67,5,67,6],[268,2,268,15],[271,2,271,15],[218,2,218,15],[221,2,221,15],[136,2,136,15],[139,2,139,15],[142,2,142,15],[145,2,145,15],[148,2,148,15],[160,3,160,15],[204,2,204,15],[201,1,201,15],[61,5,61,6],[6,1,6,15],[8,1,8,15],[9,13,9,15],[10,1,10,15],[228,2,228,15],[13,2,13,20],[42,3,42,15],[49,3,49,15],[55,3,55,15],[60,5,60,6],[60,7,60,15],[17,2,17,15],[18,2,18,15],[22,2,22,15],[120,13,120,15],[123,2,123,15],[67,7,67,15],[68,5,68,6],[68,7,68,15],[69,5,69,6],[69,7,69,15],[70,3,76,3],[70,4,72,4]]}
[]
[null,null,null,null,null,null,null,null,null,null,null,null,null,null,null,{"$f":"Identification!M1","v":"Municipalité : "}]
[null,null,null,null,null,null,null,null,null,null,null,null,null,null,null,{"$f":"Identification!M2","v":"Code géographique : "}]
[null,null,null,null,null,null,null,null,null,null,null,null,null,null,null,{"$f":"Identification!M3","v":"Année de mise à jour : "}]
[null,{"$f":"Identification!B4","v":"Fiche d'évaluation des infrastructures ponctuelles en eau"}]
[]
[null,"AIDE"]
[null,null,null,null,null,null,null,null,null,null,null,null,null,null,null,"v. 2020-06-01"]
[null,"IDENTIFICATION"]
[null,null,null,null,null,null,null,null,null,null,null,null,null,"Retour à l'onglet Identification"]
[null,{"$f":"Identification!B47","v":"SECTION 2  -  INFORMATIONS DE BASE"}]
[]
[null,"2.1 : Année de mise à jour"]
[null,"•","Inscrivez l'année de mise à jour du fichier."]
[]
[null,"2.2 : Identification de la municipalité"]
[null,"•","Inscrivez le code géographique de la municipalité "]
[null,"•","Les noms de la municipalité et de la région administrative correspondants à ce code géographique apparaissent automatiquement. "]
[null,"•","Pour tout problème avec l'identification de la municipalité, veuillez communiquer avec l'équipe PIEMQ du CERIU par téléphone au 514 848-9885 ou à l'adresse courriel : infrastructure@ceriu.qc.ca  "]
[]
[null,"2.3 : Identification de l'immobilisation"]
[null,"Instructions"]
[null,"•","Un ouvrage est un lieu géographique sur lequel sont situés plusieurs sytèmes qui assurent une fonction spécifique dans un réseau d'eau."]
[]
[null,"•","Informations à remplir :"]
[]
[null,null,"1. Service d'eau"]
[null,null,"Sélectionnez le type de service d'eau parmi les choix de la liste déroulante."]
[null,null,"Choix de la liste : "]
[null,null,"•","Eau potable"]
[null,null,"•","Eaux usées "]
[null,null,"•","Eau pluviale"]
[]
[null,null,"2. Type d'infrastructure"]
[null,null,"Sélectionnez le type d'infrastructure parmi les choix de la liste déroulante."]
[null,null,"Choix de la liste : "]
[]
[null,null,"Pour le service d'eau potable :"]
[null,null,"•","Installation de production"]
[null,null,"•","Barrage"]
[null,null,"•","Poste de gestion de pression et de chloration"]
[null,null,"•","Réservoir"]
[null,null,"•","Chambre majeure (EP)"]
[]
[null,null,"Pour le service des eaux usées  :"]
[null,null,"•","Installation de traitement "]
[null,null,"•","Poste de pompage (EU)"]
[null,null,"•","Ouvrage de rétention "]
[null,null,"•","Ouvrage de surverse (EU)"]
[null,null,"•","Chambre majeure (EU)"]
[]
[null,null,"Pour le service d'eau pluviale :"]
[null,null,"•","Ouvrage de traitement/retention"]
[null,null,"•","Poste de pompage (EPL)"]
[null,null,"•","Ouvrage de surverse (EPL)"]
[null,null,"•","Chambre majeure (EPL)"]
[]
[null,null,"3. Sous-type d'infrastructure"]
[null,null,"Sélectionnez un seul sous-type d'infrastructure correspondant parmi les choix de la liste déroulante."]
[null,null,null,"Tableau 1 : Descriptif des sous-types d'ouvrage"]
[null,null,null,"Type de service d'eau","Type d'ouvrage","Sous-type d'ouvrage",null,"Description"]
[null,null,null,"Eau potable","Installation de production","Stations mécanisées",null,"Grande installation de production d'eau potable comprenant un ensemble de procédés de traitement physiques ou chimiques complexes"]
[null,null,null,null,null,"Petites installations",null,"Puits, installations de captage ou petites installations de production d'eau potable"]
[null,null,null,null,"Poste de gestion de pression et de chloration","Poste de régulation de pression",null,"Ouvrage permettant de moduler la pression dans des secteurs donnés sur le réseau"]
[null,null,null,null,null,"Poste de surpression",null,"Ouvrage permettant d’assurer la circulation de l’eau à des secteurs situés plus hauts que les réservoirs qui les alimentent "]
[null,null,null,null,null,"Poste de chloration",null,"Ouvrage permettant de maintenir la qualité de l’eau dans le réseau par l’ajout de produits de chloration"]
[null,null,null,null,"Réservoir","Réservoir",null,"Ouvrage en réseau permettant d’emmagasiner l’eau traitée afin de desservir les usagers d’un secteur en particulier"]
[null,null,null,null,"Chambre majeure (EP)","Chambre majeure (EP)",null,"Tout autre ouvrage majeure situé sur le réseau d’eau potable, (excluant les postes de régulation de pression, les postes de surpression, les postes de chloration et les réservoirs)"]
[null,null,null,null,null,"Parc de compteurs d'eau",null,"Chambre de compteurs d'eau de la municipalité"]
[null,null,null,null,"Barrage","Barrage",null,"Ouvrage construit à travers un cours d’eau dont l’objectif est de réguler le débit et/ou de stocker l’eau notamment pour une réserve d’eau."]
[null,null,null,"Eaux usées","Installation de traitement","Stations mécanisées",null,"Catégorie A du MDELLCC (Usines disposant de technologies de traitement physico-chimique et biologique ainsi que les étangs aérés dont le débit moyen est supérieur à 50 000 m3/jour )."]
[null,null,null,null,null,"Étangs",null,"Catégorie B du MDELLCC (les étangs aérés dont le débit moyen est inférieur à 50 000 m3/jour ainsi que les étangs non aérés)"]
[null,null,null,null,null,"Technologie spécifique",null,"Catégorie C du MDELLCC (les stations qui utilisent des technologies nécessitant peu d’interventions)"]
[null,null,null,null,"Poste de pompage (EU)","Poste de pompage (EU)",null,"Ouvrage constitué d’une ou de plusieurs pompes avec leurs moteurs d’entraînement et tous les équipements hydrauliques, mécaniques et électriques pour assurer leur fonctionnement"]
[null,null,null,null,"Ouvrage de rétention","Réservoir de rétention",null,"Ouvrage permettant d’emmagasiner les eaux usées qui débordent, par temps de pluie ou à la fonte des neiges, des réseaux d’égout"]
[null,null,null,null,"Ouvrage de surverse (EU)","Ouvrage de surverse (EU)",null,"Ouvrage permettant d’évacuer l’excédent ou la totalité des eaux usées non traitées par l’installation de traitement dans le milieu récepteur, et ce dans des conditions spécifiques"]
[null,null,null,null,"Chambre majeure (EU)","Chambre majeure (EU)",null,"Tout  autre ouvrage majeur situé sur le réseau d’eaux usées, excluant les postes de pompage, les réservoirs de rétention et les ouvrages de surverse"]
[null,null,null,"Eau pluviale","Ouvrage de traitement/rétention","Bassin de rétention",null,"Ouvrage permettant de recevoir et/ou de traiter les eaux de ruissellement en temps de pluie (ex: bassins de rétention sec ou retenue)"]
[null,null,null,null,null,"Technologie spécifique",null,"Ouvrages de traitement autres que les bassins de rétention (les marais, les systèmes avec infiltration ou avec filtration, les séparateurs d’huiles et de sédiments)"]
[null,null,null,null,"Poste de pompage (EPL)","Poste de pompage (EPL)",null,"Ouvrage contenant des pompes de refoulement ou de relèvement destinées à amener les eaux pluviales vers un ouvrage de rétention et/ou de traitement"]
[null,null,null,null,"Ouvrage de surverse (EPL)","Ouvrage de surverse (EPL)",null,"Ouvrage permettant d’évacuer l’excédent ou la totalité des eaux pluviales dans le milieu récepteur. "]
[null,null,null,null,"Chambre majeure (EPL)","Chambre majeure (EPL)",null,"Tout autre ouvrage majeur situé sur le réseau d’eaux pluviales, excluant les postes de pompage et les ouvrages de surverse"]
[]
[null,null,"4. Nom commun"]
[null,null,"Inscrivez, le nom commun de l'infrastructure pour faciliter son identification."]
[]
[null,null,"5. Adresse civique "]
[null,null,"Inscrivez l'adresse civique de l'infrastructure afin de faciliter son identification. Cette information est complémentaire aux coordonnées GPS."]
[]
[null,null,"6. Latitude et longitude"]
[null,null,"Inscrivez les coordonnées GPS du centroïde de l'infrastructure. La latitude doit se situer entre 45,00000 et 58,00000 degrés et la longitude doit se situer entre -80,00000 et -56,00000 degrés. Les coordonnées GPS sont utilisées pour géolocaliser les infrastructures à l'aide de l'application Territoires."]
[]
[null,null,"7. Année de mise en opération"]
[null,null,"Inscrivez l'année de construction ou de mise en opération de l'infrastructure. Entrez une année de construction comprise entre 1850 et l'année actuelle inclusivement. L'année de mise en opération de l'ouvrage saisie sert de donnée de base pour calculer les durées de vie théorique écoulée des systèmes et des disciplines."]
[]
[null,null,"8. Capacité nominale"]
[null,null,"Inscrivez la capacité actuelle de production ou de traitement de votre infrastructure.\n\n"]
[null,null,"Sélectionner l'unité de la capacité nominale de votre ouvrage.\n\n"]
[null,null,"Choix de la liste : "]
[null,null,"•","m3"]
[null,null,"•","m3/jr"]
[null,null,"•","u"]
[]
[null,null,"9. Valeur de remplacement"]
[null,null,"Inscrivez la valeur de remplacement totale de l'infrastructure en dollars d'aujourd'hui. La valeur actuelle de remplacement doit tenir compte de la valeur totale des travaux de réhabilitation effectués au courant de la vie de l'infrastructure, les taxes ainsi que les frais de contingence. Les frais de contingence représentent les coûts de planification et d’évaluation pour la conception (ingénierie, arpentage, plans et devis, estimation de coûts), la surveillance et la gestion de projets admissibles.\n\n"]
[null,null,"Il est possible de trouver certaines valeurs de remplacement en se basant sur les montants inscrits dans votre police d'assurance. En effet, ces valeurs peuvent se retrouver dans votre document d’assurance répertoriant les différentes infrastructures d'eau potable et d'eaux usées de votre municipalité. Il est important de rappeler qu’il s’agit ici d’une piste de solution et qu’il est possible que les valeurs répertoriées dans ce type de document ne représentent pas la réalité. Il est donc recommandé d’utiliser cette source avec parcimonie. "]
[]
[null,null,"10. Coût des interventions"]
[null,null,"Coûts estimés des travaux en maintien d'actifs réguliers et de rattrapge sur un horizon de cinq ans. Il se calcule automatiquement selon les indicateurs d'état des composants majeurs."]
[]
[null,null,"11. Indice de vétusité physique"]
[null,null,"L'indice de vétusité physique de l'ouvrage est la somme du coût estimé de tous les travaux de maintien d’actifs devant être réalisés sur un horizon de cinq ans, divisée par la valeur de remplacement de cette infrastructure. Il est exprimé sous forme de pourcentage."]
[]
[null,null,"12. Nombre de bâtiments de l'ouvrage"]
[null,null,"Dépendamment du type d'ouvrage, il est possible de retrouver un ou plusieurs bâtiments. Ce champ permet de définir le nombre de bâtiments présents. Le nombre correspondant d'onglets relatifs aux bâtiments s'affichera (voir fiche bâtiment pour les informations à saisir par bâtiment)"]
[]
[null,"2.4 : Identification du répondant principal"]
[null,"•","Inscrivez les coordonnées du répondant principal."]
[]
[null,"FICHE  BÂTIMENT"]
[null,null,null,null,null,null,null,null,null,null,null,null,null,"Retour à l'onglet Identification"]
[null,"Instructions"]
[null,"•","Un bâtiment se définit comme toute construction à l’intérieur d’un ouvrage visant à abriter les équipements de procédés. "]
[null,"•","Cet onglet permet de calculer l'état des composants majeurs du bâtiment d'un ouvrage."]
[null,null,"Découpage des bâtiments d'un ouvrage"]
[null,null,"Le standard de classification E1557 Uniformat II de l’American Society for Testing and Materials (ASTM) a été utilisé pour décomposer le bâtiment en composants majeurs clairement identifiés et catégorisés par disciplines. Ces quatre disciplines sont :"]
[null,null,"•","Architecture : Enveloppe extérieure, toiture, construction intérieure, escaliers, finitions intérieures etc."]
[null,null,"•","Civil : fondations, sous-sol, superstructure, etc."]
[null,null,"•","Mécanique : Plomberie, CVAC (ventilation, chauffage, air climatisée), moyens de transport (ascenseurs, monte-charges, etc.), équipements de levage etc."]
[null,null,"•","Électricité : Entrée électrique, éclairage, contrôle d'accès, système d'alarme, protection incendie, etc."]
[]
[null,"•","Informations à compléter   :"]
[null,null,null,"Identification du système"]
[]
[]
[null,null,"1. Année de construction (du bâtiment)"]
[null,null,"La valeur par défaut de l'année de construction du sytème est l'année d'installation de l'ouvrage remplie à l'onglet <<Identification>>. \nInscrivez l'année d'installation du système si elle est différente de celle de l'ouvrage. Elle doit etre comprise entre l'année d'installation de l'ouvrage et l'année de mise à jour."]
[]
[null,null,"2. Valeur de remplacement"]
[null,null,"La valeur de remplacement du système est par défaut remplie et est égale à la somme des valeurs de  remplacement des différents composants majeurs remplis."]
[]
[null,null,"3. Nom commun du bâtiment"]
[null,null,"Inscrivez le nom commun du bâtiment évalué."]
[]
[null,null,"4. Année de l'évaluation"]
[null,null,"Inscrivez l'année d'évaluation du bâtiment ."]
[]
[null,null,"5. Autres informations"]
[null,null,"Inscrivez d'autres informations jugées pertinentes."]
[]
[null,"•","Relevé des composants pour chacune des 4 disciplines"]
[]
[null,null,"L'évaluation des composant majeurs peut se faire de deux manières en fonction du niveau de détail souhaité par l'utilisateur. "]
[null,null,"*","Évaluation selon le niveau 2 de découpage Uniformat II"]
[]
[null,null,null,"Dans ce cas, remplir directement les informations pour chacun des composants majeurs de niveau 2 affichés. "]
[]
[null,null,"*","Évaluation selon le niveau 3 de découpage Uniformat II"]
[]
[]
[null,null,null,"Pour un niveau 3 de découpage , remplissez les informations (case en gris foncé) en cliquant sur <<+>>, situé à gauche de l'écran, pour chacun des composants de niveau 3 affichés. "]
[]
[null,null,"1. Année d'installation  ou de dernière intervention"]
[null,null,"Inscrivez l'année d'installation ou de dernière intervention majeure du composant majeur. Elle doit etre comprise entre l'année d'installation du sytème et l'année de mise à jour."]
[]
[null,null,"2. Durée de vie utile"]
[null,null,"Inscrivez la durée de vie utile de chaque discipline du bâtiment. Des durées de vie par défaut sont automatiquement inscrites . Ces valeurs peuvent être modifiées afin de mieux représenter la durée de vie des infrastructures de la municipalité. Les tableaux suivants résument les valeurs par défaut utilisées à l'onglet \"Bâtiments\"."]
[null,null,"Tableau 2 : Durée de vie utile par discipline utilisées par défaut (batiment)"]
[null,null,"Bâtiments",null,"Durée de vie utile (an)"]
[null,null,null,null,"Min","Prob.","Max"]
[null,null,"Architecture",null,20,25,40]
[null,null,"Civil",null,40,50,100]
[null,null,"Mécanique",null,10,20,40]
[null,null,"Électricité",null,10,20,40]
[]
[null,null,"3. État constaté"]
[null,null,"L'indicateur d'état constaté vise l’identification de l’état des composants majeurs des bâtiments de cet ouvrage, à partir des défauts observés."]
[]
[null,null,"4. Année d'évaluation"]
[null,null,"Inscrivez l'année à laquelle l'évaluation de ce composant majeur a été réalisée."]
[]
[null,null,"5. Type d'évaluation"]
[null,null,"Sélectionnez le type d'évaluation éffectuée :"]
[null,null,"Tableau 3 : Type d'évaluation"]
[null,null,"Type d'évaluation",null,"Description"]
[null,null,"Visuelle",null,"Auscultation visuelle"]
[null,null,"Opérateur",null,"Entrevue avec opérateur"]
[null,null,"Mesure",null,"Expertise, étude"]
[]
[null,null,"6. Valeur de remplacement"]
[null,null,"Inscrivez la  valeur de remplacement des différents composants majeurs"]
[]
[null,null,"7. Coût de l'intervention"]
[null,null,"Inscrivez le coût estimé de l'intervention, en dollars d'aujourd'hui. Les coûts estimés des interventions doivent inclure les taxes et les frais de contingence. "]
[]
[null,null,"8. Type d'intervention"]
[null,null,"Sélectionnez le  type d'intervention à effectuer (remplacement, réparation ou réhabilitation, ajout d'un composant absent)."]
[]
[null,null,"9. Année d'intervention"]
[null,null,"Inscrivez l'année estimée d'intervention ou la période estimée d'intervention. Elle doit être supérieure à l'année de mise à jour."]
[]
[null,"FICHE  PROCÉDÉS (OU SYSTÈMES COMMUNS)"]
[null,null,null,null,null,null,null,null,null,null,null,null,null,"Retour à l'onglet Identification"]
[null,"Instructions"]
[null,"•","Un procédé est un ensemble d’équipements et de constituants physiques qui assurent une fonction spécifique au sein de l’ouvrage (production, traitement, régulation des eaux, etc.).  "]
[null,"•","Cet onglet permet de calculer l'état des composants majeurs des procédés. Les composants majeurs qui constituent les procédés varient selon le type d’ouvrage évalué. Les procédés sont tous divisés en 4 disciplines :"]
[null,null,"•","Civil "]
[null,null,"•","Mécanique "]
[null,null,"•","Électricité"]
[null,null,"•","Instrumentation et controle  "]
[]
[null,"•","Informations à compléter   :"]
[null,null,"•","Identification du système"]
[]
[]
[]
[]
[null,null,"1. Année d'installation (du système)"]
[null,null,"La valeur par défaut de l'année d'installation du sytème est l'année d'installation de l'ouvrage remplie à l'onglet Identification. Inscrivez l'année d'installation du système . Elle doit etre comprise entre l'année d'installation de l'ouvrage et l'année de mise à jour."]
[]
[null,null,"2. Valeur de remplacement"]
[null,null,"La valeur de remplacement du système est par défaut remplie et est égale à la somme des valeurs de  remplacement des différents composants majeurs remplis."]
[]
[null,null,"•","Relevé des composants pour chacune des 4 disciplines"]
[]
[]
[]
[null,null,"1. Composants majeurs"]
[null,null,"Un composant majeur est considéré comme un élément critique à la performance et à la fonctionnalité du système. Inscrivez les noms des composants majeurs de votre procédé."]
[null,null,"Pour plus d'intormations sur les différents composants majeurs des procédés, se référer au besoin à l'onglet ",null,null,null,null,null,null,null,"Inventaire"]
[]
[null,null,"2. Année d'installation  ou de dernière intervention"]
[null,null,"Inscrivez l'année d'installation ou de dernière intervention majeure du composant majeur. Elle doit etre comprise entre l'année d'installation du sytème et l'année de mise à jour."]
[]
[null,null,"3. Durée de vie utile théorique"]
[null,null,"Inscrivez la durée de vie utile de chaque composant majeur des disciplines. Des durées de vie par défaut sont automatiquement inscrites. Ces valeurs peuvent être modifiées afin de mieux représenter la durée de vie des infrastructures de la municipalité. Les tableaux suivants résument les valeurs par défaut utilisées."]
[null,null,"Tableau 4 : Durée de vie utile par discipline utilisées par défaut (procédés)"]
[null,null,"Bâtiments",null,"Durée de vie utile (an)"]
[null,null,null,null,"Min","Prob.","Max"]
[null,null,"Civil",null,40,50,100]
[null,null,"Mécanique",null,10,30,40]
[null,null,"Électricité",null,10,20,40]
[null,null,"Instrumentation et contrôle",null,10,20,40]
[]
[null,null,"4. État physique"]
[null,null,"Cet indicateur vise l’identification de l’état du composant majeur d'un procédé , à partir des défauts physiques observés. "]
[]
[null,null,"5. État fonctionnel"]
[null,null,"Cet indicateur vise l’identification de l’état du composant majeur d'un procédé , à partir des défauts fonctionnels observés."]
[]
[null,null,"6. Année d'évaluation"]
[null,null,"Inscrivez l'année à laquelle l'évaluation de ce composant majeur a été réalisée."]
[]
[null,null,"7. Type d'évaluation"]
[null,null,"Sélectionnez le type d'évaluation éffectuée :"]
[null,null,"Tableau 5 : Type d'évaluation"]
[null,null,"Type d'évaluation",null,"Description"]
[null,null,"Visuelle",null,"Auscultation visuelle"]
[null,null,"Opérateur",null,"Entrevue avec opérateur"]
[null,null,"Mesure",null,"Expertise, étude"]
[]
[null,null,"8. Valeur de remplacement"]
[null,null,"Inscrivez la valeur de remplacement des différents composants majeurs."]
[]
[null,null,"9. Coût de l'intervention"]
[null,null,"Inscrivez le coût estimé de l'intervention, en dollars d'aujourd'hui. Les coûts estimés des interventions doivent inclure les taxes et les frais de contingence. "]
[]
[null,null,"10.type d'intervention"]
[null,null,"Sélectionnez le  type d'intervention à effectuer (remplacement, réparation ou réhabilitation, ajout d'un composant absent)"]
[]
[null,null,"11. Année d'intervention"]
[null,null,"Inscrivez l'année estimée d'intervention. Elle doit être comprise dans un intervalle de 10 ans après l'année de production du formulaire. "]
[]
[null,"SYNTHÈSE_BATIMENTS"]
[null,null,null,null,null,null,null,null,null,null,null,null,"Retour à l'onglet Synthèse_Batiment"]
[null,"Remarques"]
[null,"•","Cet onglet présente le récapitulatif de l'évaluation des disciplines du bâtiment de l'ouvrage analysé ainsi que les coûts d'intervention en rattrapage et maintien d'actif pour les dix prochaines années et est conforme à la structure du formulaire élaboré dans le cadre du Guide de gestion des actifs municipaux pour le renouvellement des infrastructures ponctuelles en eau. "]
[]
[null,"Tableau "]
[null,"•","Il est possible d'utiliser les résultats de cet onglet pour compléter l'onglet \"Bâtiment\" du Formulaire_Guide_IP ."]
[null,"SYNTHÈSE_PROCÉDÉS"]
[null,null,null,null,null,null,null,null,null,null,null,null,"Retour à l'onglet Synthèse_Procédés"]
[null,"Remarques"]
[null,"•","Cet onglet présente le récapitulatif l'évaluation des disciplines des procédés et systèmes communs de l'ouvrage analysé ainsi que les coûts d'intervention en rattrapage et maintien d'actif pour les dix prochaines années et est conforme à la structure du formulaire élaboré dans le cadre du Guide de gestion des actifs municipaux pour le renouvellement des infrastructures ponctuelles en eau. "]
[]
[null,"Tableau "]
[null,"•","Il est possible d'utiliser les résultats de cet onglet pour compléter l'onglet \"Procédés\" du Formulaire_Guide_IP ."]
[]
[null,"REMERCIEMENTS"]
[]
[null,"Cet outil a été réalisé par l'équipe du Centre d'Expertise et Recherche en Infrastructure Urbaine (CERIU) et validé par un comité de travail qui rassemble notamment des représentants de municipalités québecoises, des firmes d'ingénieurs-conseils ainsi que du ministère des Affaires municipales et de l’Habitation (MAMH). Le CERIU remercie également le MAMH pour son appui financier à la réalisation de ce guide qui a pour but de fournir un outil d’aide aux municipalités pour la gestion de leurs actifs ponctuels en eau."]

{"sheet":"Inventaire","index":56,"n_rows":242,"n_cols":5,"rows_kept":242,"cut":false,"hidden":false,"merged":[[0,0,1,0],[0,1,1,1],[0,2,1,2],[0,3,1,3],[0,4,1,4]]}
["Service d'eau","Type d'ouvrage","Système","Discipline","Description des composants majeurs"]
[]
["Eau potable ","Installation de production","Captage/ Eau brute","Civil","Prise d'eau, ouvrages de captage souterrain (puits tubulaires, puits de surface, pointes filtrantes, captage de sources, puits rayonnants et drains horizontaux), bassins de pompage du puits d'eau brute, etc."]
["Eau potable ","Installation de production","Captage/ Eau brute","Mécanique","Dégrilleur (grille de tamisage), pompes (incluant moteurs), conduites, vannes et accessoires, mécanique diesel (moto-pompe, etc.), système anti-frasil"]
["Eau potable ","Installation de production","Captage/ Eau brute","Électricité","Génératrices, panneau électrique, centre de contrôle des moteurs, appareillage"]
["Eau potable ","Installation de production","Captage/ Eau brute","Instrumentation et contrôle","Débitmètre, analyseur, capteur de pression, turbidimètre, ph, etc."]
["Eau potable ","Installation de production","Coagulation/ Floculation","Civil","Bassin de mélange (coagulation ou floculation)"]
["Eau potable ","Installation de production","Coagulation/ Floculation","Mécanique","Équipements de dosage, agitateur (mélangeur statique, mélangeurs lents ou rapides), pompes (incluant moteurs), conduites, vannes et accessoires, mécanique diesel (moto-pompe, etc.)"]
["Eau potable ","Installation de production","Coagulation/ Floculation","Électricité","Génératrices, panneau électrique, centre de contrôle des moteurs, appareillage"]
["Eau potable ","Installation de production","Coagulation/ Floculation","Instrumentation et contrôle","Débitmètre, analyseur, capteur de pression, turbidimètre, ph, etc."]
["Eau potable ","Installation de production","Décantation/Flottation","Civil","Bassins de décantation ou de flottation (lits de boues pulsées, recirculation de boues interne et externe, etc.), concentrateur de boues"]
["Eau potable ","Installation de production","Décantation/Flottation","Mécanique","Pompes (incluant moteurs), conduites, vannes et accessoires, mécanique diesel (moto-pompe, etc.), équipement de dosage (pompe doseuse), agitateur, racleur de boues, système de pompe à vide, turbine, hydrocyclone, système de circulation de sable, système de lavage, actiflow, etc."]
["Eau potable ","Installation de production","Décantation/Flottation","Électricité","Génératrices, panneau électrique, centre de contrôle des moteurs, appareillage"]
["Eau potable ","Installation de production","Décantation/Flottation","Instrumentation et contrôle","Débitmètre, analyseur, capteur de pression, turbidimètre, ph, etc."]
["Eau potable ","Installation de production","Filtration","Civil","Réservoirs de filtration, réserves d'eau de lavage"]
["Eau potable ","Installation de production","Filtration","Mécanique","Membranes/filtres (nano, ultra, micro, osmose inverse), matériaux filtrants, buselures de filtration, pompes (incluant moteurs), conduites, vannes et accessoires (eau de lavage des filtres), mécanique diesel (moto-pompe, etc.), "]
["Eau potable ","Installation de production","Filtration","Électricité","Génératrices, panneau électrique, centre de contrôle des moteurs, appareillage"]
["Eau potable ","Installation de production","Filtration","Instrumentation et contrôle","Débitmètres avec totalisateur de débit, système de contrôle de débits, dispositif de mesure de perte de charge, turbidimètre, etc."]
["Eau potable ","Installation de production","Désinfection (Chloration)","Civil","Bassins de contact"]
["Eau potable ","Installation de production","Désinfection (Chloration)","Mécanique","Pompes doseuses, conduites (ex: amenée du chlore), vannes et appareils de dissolution (diffuseurs, injecteurs, agitateurs, etc.), mécanique diesel (moto-pompe, etc.), ventilation d'urgence (incluant capteurs et moteurs),  réservoirs d'entreposage (chlore, hypochlorite de sodium ou de calcium)"]
["Eau potable ","Installation de production","Désinfection (Chloration)","Électricité","Générateur (chlore, hypochlorite de sodium ou de calcium), génératrices, panneau électrique, centre de contrôle des moteurs, appareillage"]
["Eau potable ","Installation de production","Désinfection (Chloration)","Instrumentation et contrôle","Débitmètres, analyseur, capteurs de pression, turbidimètre, mesure de niveau, température, ph, détecteurs de fuite, etc."]
["Eau potable ","Installation de production","Ozonation","Civil","Bassins de contact (avec chicanes)"]
["Eau potable ","Installation de production","Ozonation","Mécanique","Ozoneur (unité d'alimentation en gaz, générateurs), destructeur (unité de traitement de l'effluent gazeux), appareils de dissolution (diffuseurs, injecteurs, agitateurs, etc.), pompes (incluant moteurs), conduites et accessoires, mécanique diesel (moto-pompe, etc.), ventilation d'urgence (incluant capteurs et moteurs)"]
["Eau potable ","Installation de production","Ozonation","Électricité","Génératrices, panneau électrique, centre de contrôle des moteurs, appareillage"]
["Eau potable ","Installation de production","Ozonation","Instrumentation et contrôle","Débitmètre, mesure d'ozone, analyseur de température, détecteurs de fuite, etc."]
["Eau potable ","Installation de production","Désinfection (U.V.)","Civil","Canal, réservoir"]
["Eau potable ","Installation de production","Désinfection (U.V.)","Mécanique","Réacteurs (tubes de quarts, lampes), pompes (incluant moteurs), conduites et accessoires, mécanique diesel (moto-pompe, etc.)"]
["Eau potable ","Installation de production","Désinfection (U.V.)","Électricité","Transformateurs ou ballasts, génératrices, panneau électrique, centre de contrôle des moteurs, appareillage"]
["Eau potable ","Installation de production","Désinfection (U.V.)","Instrumentation et contrôle","Débitmètres, analyseurs de transmittance, analyseurs d'intensité, etc."]
["Eau potable ","Installation de production","Réserve d'eau","Civil","Réservoirs, passerelles, structures en béton"]
["Eau potable ","Installation de production","Réserve d'eau","Mécanique","Ventilation, agitateur (optionnel), pompes (incluant moteurs), conduites, vannes et accessoires, mécanique diesel (moto-pompe, etc.)"]
["Eau potable ","Installation de production","Réserve d'eau","Électricité","Génératrices, panneau électrique, centre de contrôle des moteurs, appareillage"]
["Eau potable ","Installation de production","Réserve d'eau","Instrumentation et contrôle","Sonde de pression, turbidimètre, mesure de niveau d'eau, alarme de trop-plein et de bas niveau, mesure du pH, etc."]
["Eau potable ","Installation de traitement","Traitements spécifiques","Civil","Réservoir d'entreposage de produits (chimiques, etc.)"]
["Eau potable ","Installation de traitement","Traitements spécifiques","Mécanique","Pompes doseuses, équipements de traitement (pH, sable vert, adoucisseurs, etc.)"]
["Eau potable ","Installation de traitement","Traitements spécifiques","Électricité","Génératrice, panneau électrique, centre de contrôle des moteurs, appareillage"]
["Eau potable ","Installation de traitement","Traitements spécifiques","Instrumentation et contrôle","Débitmètre, analyseur, mesure de niveau, etc."]
["Eau potable ","Installation de production","Pompage de distribution","Civil","Puits de pompage"]
["Eau potable ","Installation de production","Pompage de distribution","Mécanique","Pompes haute pression, moteurs (contrôleur de vitesse de moteur (variateur, drive)), vannes de relâche de pression et accessoires, mécanique diesel (moto-pompe, etc.),  ventilation"]
["Eau potable ","Installation de production","Pompage de distribution","Électricité","Génératrices, panneau électrique, centre de contrôle des moteurs, appareillage"]
["Eau potable ","Installation de production","Pompage de distribution","Instrumentation et contrôle","Débitmètres, analyseur, turbidimètre, mesure de la pression, du pH, etc."]
["Eau potable ","Installation de production","Traitement des boues","Civil","Réservoirs d'eaux sales"]
["Eau potable ","Installation de production","Traitement des boues","Mécanique","Pompes (incluant moteurs), conduites et accessoires, mécanique diesel (moto-pompe, etc.)"]
["Eau potable ","Installation de production","Traitement des boues","Électricité","Génératrices, panneau électrique, centre de contrôle des moteurs, appareillage"]
["Eau potable ","Installation de production","Traitement des boues","Instrumentation et contrôle","Débitmètres, mesure de niveau, etc."]
["Eau potable ","Installation de production","Systèmes communs","Civil","Aménagement extérieur (drainage, stationnement, système de gestion des eaux pluviales et des inondations, clôture)"]
["Eau potable ","Installation de production","Systèmes communs","Mécanique","Pompes (incluant moteurs), conduites et accessoires, mécanique diesel (moto-pompe, etc.)"]
["Eau potable ","Installation de production","Systèmes communs","Électricité","Alimentation électrique d'urgence (groupe électrogène, commutateur de transfert, transformateur primaire, UPS),"]
["Eau potable ","Installation de production","Systèmes communs","Instrumentation et contrôle","Automates, interface personne-machine (IPM), serveurs, programme d'exploitation, télémétrie, compresseurs (d'air d'instrumentation), autres équipements de mesures"]
["Eau potable ","Installation de production","Bâtiment","Architecture","Enveloppe extérieure, toiture, construction intérieure, escaliers, finitions intérieures"]
["Eau potable ","Installation de production","Bâtiment","Civil","Fondations, sous-sol, superstructure"]
["Eau potable ","Installation de production","Bâtiment","Mécanique","Plomberie, CVAC (ventilation, chauffage, air climatisée), moyens de transport (ascenseurs, monte-charges, etc.), équipements de levage"]
["Eau potable ","Installation de production","Bâtiment","Électricité","Entrée électrique, éclairage, contrôle d'accès, système d'alarme, protection incendie"]
["Eau potable ","Barrage","Barrage","Civil","Structure du barrage"]
["Eau potable ","Barrage","Barrage","Mécanique","Pompes (incluant moteurs), conduites et accessoires mécanique diesel (moto-pompe, etc.)"]
["Eau potable ","Barrage","Barrage","Électricité","Génératrice, panneau électrique, centre de contrôle des moteurs, appareillage"]
["Eau potable ","Barrage","Barrage","Instrumentation et contrôle","Automates, interface personne-machine (IPM), serveurs, programme d'exploitation, télémétrie, compresseurs (d'air d'instrumentation), autres équipements de mesures"]
["Eau potable ","Barrage","Bâtiment","Architecture","Enveloppe extérieure, toiture, construction intérieure, escaliers, finitions intérieures"]
["Eau potable ","Barrage","Bâtiment","Civil","Fondations, sous-sol, superstructure"]
["Eau potable ","Barrage","Bâtiment","Mécanique","Plomberie, CVAC (ventilation, chauffage, air climatisée), moyens de transport (ascenseurs, monte-charges, etc.), équipements de levage"]
["Eau potable ","Barrage","Bâtiment","Électricité","Entrée électrique, éclairage, contrôle d'accès, système d'alarme, protection incendie"]
["Eau potable ","Poste de gestion de pression et de chloration","Pompage de distribution","Civil","Puits de pompage"]
["Eau potable ","Poste de gestion de pression et de chloration","Pompage de distribution","Mécanique","Pompes, moteurs, vannes et accessoires, mécanique diesel (moto-pompe, etc.),  ventilation"]
["Eau potable ","Poste de gestion de pression et de chloration","Pompage de distribution","Électricité","Génératrices, panneau électrique, centre de contrôle des moteurs, appareillage"]
["Eau potable ","Poste de gestion de pression et de chloration","Pompage de distribution","Instrumentation et contrôle","Débitmètres, analyseur, turbidimètre, mesure de la pression, du pH, etc."]
["Eau potable ","Poste de gestion de pression et de chloration","Désinfection (Chloration)","Civil","Bassins de contact"]
["Eau potable ","Poste de gestion de pression et de chloration","Désinfection (Chloration)","Mécanique","Pompes doseuses, conduites (ex: amenée du chlore), vannes et appareils de dissolution (diffuseurs, injecteurs, agitateurs, etc.), mécanique diesel (moto-pompe, etc.), ventilation d'urgence (incluant capteurs et moteurs),  réservoirs d'entreposage (chlore, hypochlorite de sodium ou de calcium)"]
["Eau potable ","Poste de gestion de pression et de chloration","Désinfection (Chloration)","Électricité","Générateur (chlore, hypochlorite de sodium ou de calcium), génératrices, panneau électrique, centre de contrôle des moteurs, appareillage"]
["Eau potable ","Poste de gestion de pression et de chloration","Désinfection (Chloration)","Instrumentation et contrôle","Débitmètres, analyseur, capteurs de pression, turbidimètre, mesure de niveau, température, ph, détecteurs de fuite, etc."]
["Eau potable ","Poste de gestion de pression et de chloration","Régulation de pression","Civil","Structure d’accès et structure souterraine"]
["Eau potable ","Poste de gestion de pression et de chloration","Régulation de pression","Mécanique","Régulateur, pompes (incluant moteurs), conduites, vannes et accessoires, mécanique diesel (moto-pompe, etc.)"]
["Eau potable ","Poste de gestion de pression et de chloration","Régulation de pression","Électricité","Génératrice, panneau électrique, centre de contrôle des moteurs, appareillage"]
["Eau potable ","Poste de gestion de pression et de chloration","Régulation de pression","Instrumentation et contrôle","Débitmètre, sonde de pression, mesure de niveau, etc."]
["Eau potable ","Poste de gestion de pression et de chloration","Systèmes communs","Civil","Aménagement extérieur (drainage, stationnement, système de gestion des eaux pluviales et des inondations, clôture)"]
["Eau potable ","Poste de gestion de pression et de chloration","Systèmes communs","Mécanique","Pompes (incluant moteurs), conduites et accessoires, mécanique diesel (moto-pompe, etc.)"]
["Eau potable ","Poste de gestion de pression et de chloration","Systèmes communs","Électricité","Alimentation électrique d'urgence (groupe électrogène, commutateur de transfert, transformateur primaire, UPS),"]
["Eau potable ","Poste de gestion de pression et de chloration","Systèmes communs","Instrumentation et contrôle","Automates, interface personne-machine (IPM), serveurs, programme d'exploitation, télémétrie, compresseurs (d'air d'instrumentation), autres équipements de mesures"]
["Eau potable ","Poste de gestion de pression et de chloration","Bâtiment","Architecture","Enveloppe extérieure, toiture, construction intérieure, escaliers, finitions intérieures"]
["Eau potable ","Poste de gestion de pression et de chloration","Bâtiment","Civil","Fondations, sous-sol, superstructure"]
["Eau potable ","Poste de gestion de pression et de chloration","Bâtiment","Mécanique","Plomberie, CVAC (ventilation, chauffage, air climatisée), moyens de transport (ascenseurs, monte-charges, etc.), équipements de levage"]
["Eau potable ","Poste de gestion de pression et de chloration","Bâtiment","Électricité","Entrée électrique, éclairage, contrôle d'accès, système d'alarme, protection incendie"]
["Eau potable ","Réservoir","Réserve d'eau","Civil","Réservoir, passerelles, structures en béton"]
["Eau potable ","Réservoir","Réserve d'eau","Mécanique","Ventilation, agitateur (optionnel), pompes (incluant moteurs), conduites, vannes et accessoires, mécanique diesel (moto-pompe, etc.)"]
["Eau potable ","Réservoir","Réserve d'eau","Électricité","Génératrices, panneau électrique, centre de contrôle des moteurs, appareillage"]
["Eau potable ","Réservoir","Réserve d'eau","Instrumentation et contrôle","Sonde de pression, turbidimètre, mesure de niveau d'eau, alarme de trop-plein et de bas niveau, mesure du pH, etc."]
["Eau potable ","Réservoir","Pompage de distribution","Civil","Puits de pompage"]
["Eau potable ","Réservoir","Pompage de distribution","Mécanique","Pompes, moteurs, vannes et accessoires, mécanique diesel (moto-pompe, etc.),  ventilation"]
["Eau potable ","Réservoir","Pompage de distribution","Électricité","Génératrices, panneau électrique, centre de contrôle des moteurs, appareillage"]
["Eau potable ","Réservoir","Pompage de distribution","Instrumentation et contrôle","Débitmètres, analyseur, turbidimètre, mesure de la pression, du pH, etc."]
["Eau potable ","Réservoir","Désinfection (Chimique)","Civil","Bassins de contact, réservoirs d'entreposage (chlore, hypochlorite de sodium ou de calcium)"]
["Eau potable ","Réservoir","Désinfection (Chimique)","Mécanique","Pompes doseuses, conduites (ex: amenée du chlore), vannes et appareils de dissolution (diffuseurs, injecteurs, agitateurs, etc.), mécanique diesel (moto-pompe, etc.), ventilation d'urgence (incluant capteurs et moteurs)"]
["Eau potable ","Réservoir","Désinfection (Chimique)","Électricité","Générateur (chlore, hypochlorite de sodium ou de calcium), génératrices, panneau électrique, centre de contrôle des moteurs, appareillage"]
["Eau potable ","Réservoir","Désinfection (Chimique)","Instrumentation et contrôle","Débitmètres, analyseur, capteurs de pression, turbidimètre, mesure de niveau, température, ph, détecteurs de fuite, etc."]
["Eau potable ","Réservoir","Systèmes communs","Civil","Aménagement extérieur (drainage, stationnement, système de gestion des eaux pluviales et des inondations, clôture)"]
["Eau potable ","Réservoir","Systèmes communs","Mécanique","Pompes (incluant moteurs), conduites et accessoires, mécanique diesel (moto-pompe, etc.)"]
["Eau potable ","Réservoir","Systèmes communs","Électricité","Alimentation électrique d'urgence (groupe électrogène, commutateur de transfert, transformateur primaire, UPS),"]
["Eau potable ","Réservoir","Systèmes communs","Instrumentation et contrôle","Automates, interface personne-machine (IPM), serveurs, programme d'exploitation, télémétrie, compresseurs (d'air d'instrumentation), autres équipements de mesures"]
["Eau potable ","Réservoir","Bâtiment","Architecture","Enveloppe extérieure, toiture, construction intérieure, escaliers, finitions intérieures"]
["Eau potable ","Réservoir","Bâtiment","Civil","Fondations, sous-sol, superstructure"]
["Eau potable ","Réservoir","Bâtiment","Mécanique","Plomberie, CVAC (ventilation, chauffage, air climatisée), moyens de transport (ascenseurs, monte-charges, etc.), équipements de levage"]
["Eau potable ","Réservoir","Bâtiment","Électricité","Entrée électrique, éclairage, contrôle d'accès, système d'alarme, protection incendie"]
["Eau potable ","Chambre majeure (EP)","Chambre","Civil","Structure d'accès et structure souterraine"]
["Eau potable ","Chambre majeure (EP)","Chambre","Mécanique","Régulateur, pompes (incluant moteurs), conduites, vannes et accessoires, mécanique diesel (moto-pompe, etc.)"]
["Eau potable ","Chambre majeure (EP)","Chambre","Électricité","Génératrice, panneau électrique, centre de contrôle des moteurs, appareillage"]
["Eau potable ","Chambre majeure (EP)","Chambre","Instrumentation et contrôle","Débitmètre, sonde de pression, mesure de niveau, etc."]
["Eaux usées","Poste de pompage (EU)","Pompage","Civil","Puits, réservoirs et structures de support d'équipement"]
["Eaux usées","Poste de pompage (EU)","Pompage","Mécanique","Pompes (incluant moteurs), conduites, vannes et accessoires, mécanique diesel (moto-pompe, etc.)"]
["Eaux usées","Poste de pompage (EU)","Pompage","Électricité","Génératrice, panneau électrique, centre de contrôle des moteurs, appareillage"]
["Eaux usées","Poste de pompage (EU)","Pompage","Instrumentation et contrôle","Débitmètre, mesure de niveau, etc."]
["Eaux usées","Poste de pompage (EU)","Systèmes communs","Civil","Aménagement extérieur (drainage, stationnement, système de gestion des eaux pluviales et des inondations, clôture)"]
["Eaux usées","Poste de pompage (EU)","Systèmes communs","Mécanique","Pompes (incluant moteurs), conduites et accessoires, mécanique diesel (moto-pompe, etc.)"]
["Eaux usées","Poste de pompage (EU)","Systèmes communs","Électricité","Alimentation électrique d'urgence (groupe électrogène, commutateur de transfert, transformateur primaire, UPS),"]
["Eaux usées","Poste de pompage (EU)","Systèmes communs","Instrumentation et contrôle","Automates, interface personne-machine (IPM), serveurs, programme d'exploitation, télémétrie, compresseurs (d'air d'instrumentation), autres équipements de mesures"]
["Eaux usées","Poste de pompage (EU)","Bâtiment","Architecture","Enveloppe extérieure, toiture, construction intérieure, escaliers, finitions intérieures"]
["Eaux usées","Poste de pompage (EU)","Bâtiment","Civil","Fondations, sous-sol, superstructure"]
["Eaux usées","Poste de pompage (EU)","Bâtiment","Mécanique","Plomberie, CVAC (ventilation, chauffage, air climatisée), moyens de transport (ascenseurs, monte-charges, etc.), équipements de levage"]
["Eaux usées","Poste de pompage (EU)","Bâtiment","Électricité","Entrée électrique, éclairage, contrôle d'accès, système d'alarme, protection incendie"]
["Eaux usées","Ouvrage de rétention","Stockage","Civil","Réservoirs ou bassins d'emmagasinement"]
["Eaux usées","Ouvrage de rétention","Stockage","Mécanique","Agitateur (optionnel), ventilation, pompes (incluant moteurs), conduites et accessoires, mécanique diesel (moto-pompe, etc.)"]
["Eaux usées","Ouvrage de rétention","Stockage","Électricité","Génératrice, panneau électrique, centre de contrôle des moteurs, appareillage"]
["Eaux usées","Ouvrage de rétention","Stockage","Instrumentation et contrôle","Débitmètre, mesure de niveau, etc."]
["Eaux usées","Ouvrage de rétention","Pompage","Civil","Puits, réservoirs et structures de support d'équipement"]
["Eaux usées","Ouvrage de rétention","Pompage","Mécanique","Pompes (incluant moteurs), conduites et accessoires, mécanique diesel (moto-pompe, etc.)"]
["Eaux usées","Ouvrage de rétention","Pompage","Électricité","Génératrice, panneau électrique, centre de contrôle des moteurs, appareillage"]
["Eaux usées","Ouvrage de rétention","Pompage","Instrumentation et contrôle","Débitmètre, mesure de niveau, etc."]
["Eaux usées","Ouvrage de rétention","Systèmes communs","Civil","Aménagement extérieur (drainage, stationnement, système de gestion des eaux pluviales et des inondations, clôture)"]
["Eaux usées","Ouvrage de rétention","Systèmes communs","Mécanique","Pompes (incluant moteurs), conduites et accessoires, mécanique diesel (moto-pompe, etc.)"]
["Eaux usées","Ouvrage de rétention","Systèmes communs","Électricité","Alimentation électrique d'urgence (groupe électrogène, commutateur de transfert, transformateur primaire, UPS),"]
["Eaux usées","Ouvrage de rétention","Systèmes communs","Instrumentation et contrôle","Automates, interface personne-machine (IPM), serveurs, programme d'exploitation, télémétrie, compresseurs (d'air d'instrumentation), autres équipements de mesures"]
["Eaux usées","Ouvrage de rétention","Bâtiment","Architecture","Enveloppe extérieure, toiture, construction intérieure, escaliers, finitions intérieures"]
["Eaux usées","Ouvrage de rétention","Bâtiment","Civil","Fondations, sous-sol, superstructure"]
["Eaux usées","Ouvrage de rétention","Bâtiment","Mécanique","Plomberie, CVAC (ventilation, chauffage, air climatisée), moyens de transport (ascenseurs, monte-charges, etc.), équipements de levage"]
["Eaux usées","Ouvrage de rétention","Bâtiment","Électricité","Entrée électrique, éclairage, contrôle d'accès, système d'alarme, protection incendie"]
["Eaux usées","Chambre majeure (EU)","Chambre","Civil","Structure d'accès et et structure souterraine, émissaire"]
["Eaux usées","Chambre majeure (EU)","Chambre","Mécanique","Régulateur de débit, pompes (incluant moteurs), conduites et accessoires, mécanique diesel (moto-pompe, etc.)"]
["Eaux usées","Chambre majeure (EU)","Chambre","Électricité","Génératrice, panneau électrique, centre de contrôle des moteurs, appareillage"]
["Eaux usées","Chambre majeure (EU)","Chambre","Instrumentation et contrôle","Débitmètre, mesure de niveau, etc."]
["Eaux usées","Ouvrage de surverse (EU)","Régulation de débit","Civil","Structure de régulation, d'accès, de vannes, regard d'inspection"]
["Eaux usées","Ouvrage de surverse (EU)","Régulation de débit","Mécanique","Régulateur de débit, pompes (incluant moteurs), conduites et accessoires, mécanique diesel (moto-pompe, etc.)"]
["Eaux usées","Ouvrage de surverse (EU)","Régulation de débit","Électricité","Génératrice, panneau électrique, centre de contrôle des moteurs, appareillage"]
["Eaux usées","Ouvrage de surverse (EU)","Régulation de débit","Instrumentation et contrôle","Enregistreur de débordements, débitmètre, mesure de niveau, etc."]
["Eaux usées","Installation de traitement","Affluent","Civil","Puits d'arrivée, canal d'alimentation, "]
["Eaux usées","Installation de traitement","Affluent","Mécanique","Pompes (incluant moteur), conduites et accessoires, mécanique diesel (moto-pompe, etc.), dispositifs d'entrée de fosse septique"]
["Eaux usées","Installation de traitement","Affluent","Électricité","Génératrice, panneau électrique, centre de contrôle des moteurs, appareillage"]
["Eaux usées","Installation de traitement","Affluent","Instrumentation et contrôle","Débitmètre, mesure de niveau d'eau, etc."]
["Eaux usées","Installation de traitement","Dégrillage","Civil","Canal de dérivation, plateforme de drainage"]
["Eaux usées","Installation de traitement","Dégrillage","Mécanique","Dégrilleurs, pompes (incluant moteur), conduites et accessoires, mécanique diesel (moto-pompe, etc.), dispositifs de rejet (convoyeurs, bennes de disposition, compresseurs à déchets, etc.)"]
["Eaux usées","Installation de traitement","Dégrillage","Électricité","Génératrice, panneau électrique, centre de contrôle des moteurs, appareillage"]
["Eaux usées","Installation de traitement","Dégrillage","Instrumentation et contrôle","Débitmètre, mesure de niveau d'eau, etc."]
["Eaux usées","Installation de traitement","Dessablage","Civil","Dessableurs, dégraisseurs"]
["Eaux usées","Installation de traitement","Dessablage","Mécanique","Système d'aération (aérateurs de surface ou à fines bulles, diffuseurs, etc.), pompes (incluant moteur), conduites et accessoires, mécanique diesel (moto-pompe, etc.), système de raclage de matières flottantes, dispositifs de rejet (convoyeurs, bennes de disposition, etc.)"]
["Eaux usées","Installation de traitement","Dessablage","Électricité","Génératrice, panneau électrique, centre de contrôle des moteurs, appareillage"]
["Eaux usées","Installation de traitement","Dessablage","Instrumentation et contrôle","Débitmètre, mesure de niveau d'eau, etc."]
["Eaux usées","Installation de traitement","Régulation de débit","Civil","Canal Parshall, bassins d'égalisation et de répartition, points de surverse, réservoir de mélange (FIR), etc."]
["Eaux usées","Installation de traitement","Régulation de débit","Mécanique","Pompes (incluant moteur), conduites et accessoires, mécanique diesel (moto-pompe, etc.), dispositifs de répartition de débit (siphons doseurs, vannes, etc.)"]
["Eaux usées","Installation de traitement","Régulation de débit","Électricité","Génératrice, panneau électrique, centre de contrôle des moteurs, appareillage"]
["Eaux usées","Installation de traitement","Régulation de débit","Instrumentation et contrôle","Débitmètre, mesure de niveau d'eau, etc."]
["Eaux usées","Installation de traitement","Décantation primaire","Civil","Clarificateurs/ Décanteurs/Bassins de coagulation et floculation, fosse septique (avec ou sans préfiltre)"]
["Eaux usées","Installation de traitement","Décantation primaire","Mécanique","Pompes doseuses, pompes (incluant moteur), conduites et accessoires, mécanique diesel (moto-pompe, etc.), équipements de mélange d'affluent (agitateurs), système de raclage, dispositifs de récupération des boues primaires et écumes"]
["Eaux usées","Installation de traitement","Décantation primaire","Électricité","Générateur de produit chimique, génératrice, panneau électrique, centre de contrôle des moteurs, appareillage"]
["Eaux usées","Installation de traitement","Décantation primaire","Instrumentation et contrôle","Débitmètre, mesure de niveau d'eau, etc."]
["Eaux usées","Installation de traitement","Traitement secondaire","Civil","Étangs aérés ou non aérés, bassins à boues activées, biofilm, biotour, filtration biologique, bioréacteurs, marais artificiels"]
["Eaux usées","Installation de traitement","Traitement secondaire","Mécanique","Système d'aération (aérateurs de surface ou à fines bulles, diffuseurs, etc.), pompes doseuses, équipements de mélange d'affluent (agitateurs), pompes (incluant moteur), conduites et accessoires, mécanique diesel (moto-pompe, etc.), dispositifs de récupération des boues, lit bactérien, disques biologiques"]
["Eaux usées","Installation de traitement","Traitement secondaire","Électricité","Générateur de produit chimique, génératrice, panneau électrique, centre de contrôle des moteurs, appareillage"]
["Eaux usées","Installation de traitement","Traitement secondaire","Instrumentation et contrôle","Débitmètre, mesure de niveau d'eau, etc."]
["Eaux usées","Installation de traitement","Décantation secondaire","Civil","Clarificateurs/Décanteurs "]
["Eaux usées","Installation de traitement","Décantation secondaire","Mécanique","Pompes doseuses, pompes (incluant moteur), conduites et accessoires, mécanique diesel (moto-pompe, etc.), équipements de déphosphatation et de mélange d'affluent (agitateurs), dispositifs de récupération des boues secondaires et écumes"]
["Eaux usées","Installation de traitement","Décantation secondaire","Électricité","Générateur de produit chimique, génératrice, panneau électrique, centre de contrôle des moteurs, appareillage"]
["Eaux usées","Installation de traitement","Décantation secondaire","Instrumentation et contrôle","Débitmètre, mesure de niveau d'eau, etc."]
["Eaux usées","Installation de traitement","Filtration","Civil","Réservoirs de filtration, réserves d'eau de lavage"]
["Eaux usées","Installation de traitement","Filtration","Mécanique","Membranes/filtres (nano, ultra, micro, osmose inverse), pompes (incluant moteurs), conduites et accessoires (eau de lavage des filtres) , mécanique diesel (moto-pompe, etc.)"]
["Eaux usées","Installation de traitement","Filtration","Électricité","Génératrices, panneau électrique, centre de contrôle des moteurs, appareillage"]
["Eaux usées","Installation de traitement","Filtration","Instrumentation et contrôle","Débitmètres avec totalisateur de débit, système de contrôle de débits, dispositif de mesure de perte de charge, turbidimètre"]
["Eaux usées","Installation de traitement","Désinfection (U.V., O3)","Civil","Réservoir"]
["Eaux usées","Installation de traitement","Désinfection (U.V., O3)","Mécanique","Ozoneur, destructeur, réacteurs, appareils de dissolution (diffuseurs, injecteurs, agitateurs, etc.), système de chloration"]
["Eaux usées","Installation de traitement","Désinfection (U.V., O3)","Électricité","Génératrice, panneau électrique, centre de contrôle des moteurs, appareillage"]
["Eaux usées","Installation de traitement","Désinfection (U.V., O3)","Instrumentation et contrôle","Débitmètre, mesure de niveau d'eau, etc."]
["Eaux usées","Installation de traitement","Effluent","Civil","Puits de pompage"]
["Eaux usées","Installation de traitement","Effluent","Mécanique","Pompes (incluant moteurs), conduites et accessoires, mécanique diesel (moto-pompe, etc.)"]
["Eaux usées","Installation de traitement","Effluent","Électricité","Génératrice, panneau électrique, centre de contrôle des moteurs, appareillage"]
["Eaux usées","Installation de traitement","Effluent","Instrumentation et contrôle","Débitmètre, mesure de niveau d'eau, etc."]
["Eaux usées","Installation de traitement","Épaississement des boues","Civil","Flottateurs, bassins d'emmagasinement, trémie ou silo d'emmagasinement"]
["Eaux usées","Installation de traitement","Épaississement des boues","Mécanique","Racleur mécanique ou épaississeur, dispositifs d'évacuation des boues (convoyeurs, pompes, conduites, etc.), mécanique diesel (moto-pompe, etc.)"]
["Eaux usées","Installation de traitement","Épaississement des boues","Électricité","Génératrice, panneau électrique, centre de contrôle des moteurs, appareillage"]
["Eaux usées","Installation de traitement","Épaississement des boues","Instrumentation et contrôle","Débitmètre, mesure de niveau, etc."]
["Eaux usées","Installation de traitement","Stabilisation des boues","Civil","Bassins d'aération ou digesteurs, puits de pompage (lixiviat)"]
["Eaux usées","Installation de traitement","Stabilisation des boues","Mécanique","Système d'aération (aérateurs de surface ou à fines bulles, diffuseurs, etc.), équipements de biogaz (chaudière, etc.), dispositifs de brassage et d'évacuation des boues (vis tubés, hélice immergée, pompes, conduites, etc.), dispositifs de récupération du lixiviat,  mécanique diesel (moto-pompe, etc.)"]
["Eaux usées","Installation de traitement","Stabilisation des boues","Électricité","Génératrice, panneau électrique, centre de contrôle des moteurs, appareillage"]
["Eaux usées","Installation de traitement","Stabilisation des boues","Instrumentation et contrôle","Débitmètre, mesure de niveau, etc."]
["Eaux usées","Installation de traitement","Déshydratation/Séchage des boues","Civil","Bassins (homogénéisation, concentrateur d'écume), lits de séchage"]
["Eaux usées","Installation de traitement","Déshydratation/Séchage des boues","Mécanique","Équipements de déshydratation (centrifugeuse, pressoirs rotatifs, filtres-presses, filtres à bandes, géotubes),  dispositifs de récupération des boues et du lixiviat (engins motorisés, convoyeurs, pompes, conduites, etc.), mécanique diesel (moto-pompe, etc.)"]
["Eaux usées","Installation de traitement","Déshydratation/Séchage des boues","Électricité","Génératrice, panneau électrique, centre de contrôle des moteurs, appareillage"]
["Eaux usées","Installation de traitement","Déshydratation/Séchage des boues","Instrumentation et contrôle","Débitmètre, mesure de niveau, etc."]
["Eaux usées","Installation de traitement","Incinération des boues","Civil","Réservoir"]
["Eaux usées","Installation de traitement","Incinération des boues","Mécanique","Incinérateurs et accessoires, système de production de vapeur, dispositifs de récupération des cendres (engins motorisés, convoyeurs, etc.), mécanique diesel (moto-pompe, etc.)"]
["Eaux usées","Installation de traitement","Incinération des boues","Électricité","Génératrice, panneau électrique, centre de contrôle des moteurs, appareillage"]
["Eaux usées","Installation de traitement","Incinération des boues","Instrumentation et contrôle","Débitmètre, mesure de niveau, etc."]
["Eaux usées","Installation de traitement","Traitement des odeurs","Civil","Tours à garnissage"]
["Eaux usées","Installation de traitement","Traitement des odeurs","Mécanique","Mécanique diesel (moto-pompe, etc.)"]
["Eaux usées","Installation de traitement","Traitement des odeurs","Électricité","Génératrice, panneau électrique, centre de contrôle des moteurs, appareillage"]
["Eaux usées","Installation de traitement","Traitement des odeurs","Instrumentation et contrôle","Instruments de mesure"]
["Eaux usées","Installation de traitement","Systèmes communs","Civil","Aménagement extérieur (drainage, stationnement, système de gestion des eaux pluviales et des inondations, clôture)"]
["Eaux usées","Installation de traitement","Systèmes communs","Mécanique","Pompes (incluant moteurs), conduites et accessoires, mécanique diesel (moto-pompe, etc.)"]
["Eaux usées","Installation de traitement","Systèmes communs","Électricité","Alimentation électrique d'urgence (groupe électrogène, commutateur de transfert, transformateur primaire, UPS),"]
["Eaux usées","Installation de traitement","Systèmes communs","Instrumentation et contrôle","Automates, interface personne-machine (IPM), serveurs, programme d'exploitation, télémétrie, compresseurs (d'air d'instrumentation), autres équipements de mesures"]
["Eaux usées","Installation de traitement","Bâtiment","Architecture","Enveloppe extérieure, toiture, construction intérieure, escaliers, finitions intérieures"]
["Eaux usées","Installation de traitement","Bâtiment","Civil","Fondations, sous-sol, superstructure"]
["Eaux usées","Installation de traitement","Bâtiment","Mécanique","Plomberie, CVAC (ventilation, chauffage, air climatisée), moyens de transport (ascenseurs, monte-charges, etc.), équipements de levage"]
["Eaux usées","Installation de traitement","Bâtiment","Électricité","Entrée électrique, éclairage, contrôle d'accès, système d'alarme, protection incendie"]
["Eau pluviale","Ouvrage de rétention/traitement","Stockage/Traitement","Civil","Réservoirs, bassins d'emmagasinement, puisards, cellule de pré-traitement, chambres de rétention souterraine, structures de contrôle de débit et de traitement"]
["Eau pluviale","Ouvrage de rétention/traitement","Stockage/Traitement","Mécanique","Agitateur (optionnel), ventilation, pompes (incluant moteurs), systèmes de contrôle de débit et de traitement (régulateur, orifice, système d’enlèvement des huiles et matières en suspension, conduites et accessoires, mécanique diesel (moto-pompe, etc.)"]
["Eau pluviale","Ouvrage de rétention/traitement","Stockage/Traitement","Électricité","Génératrice, panneau électrique, centre de contrôle des moteurs, appareillage"]
["Eau pluviale","Ouvrage de rétention/traitement","Stockage/Traitement","Instrumentation et contrôle","Débitmètres, mesure de niveau, etc."]
["Eau pluviale","Ouvrage de rétention/traitement","Systèmes communs","Civil","Aménagement extérieur (drainage, stationnement, système de gestion des eaux pluviales et des inondations, clôture)"]
["Eau pluviale","Ouvrage de rétention/traitement","Systèmes communs","Mécanique","Pompes (incluant moteurs), conduites et accessoires, mécanique diesel (moto-pompe, etc.)"]
["Eau pluviale","Ouvrage de rétention/traitement","Systèmes communs","Électricité","Alimentation électrique d'urgence (groupe électrogène, commutateur de transfert, transformateur primaire, UPS),"]
["Eau pluviale","Ouvrage de rétention/traitement","Systèmes communs","Instrumentation et contrôle","Automates, interface personne-machine (IPM), serveurs, programme d'exploitation, télémétrie, compresseurs (d'air d'instrumentation), autres équipements de mesures"]
["Eau pluviale","Ouvrage de rétention/traitement","Bâtiment","Architecture","Enveloppe extérieure, toiture, construction intérieure, escaliers, finitions intérieures"]
["Eau pluviale","Ouvrage de rétention/traitement","Bâtiment","Civil","Fondations, sous-sol, superstructure"]
["Eau pluviale","Ouvrage de rétention/traitement","Bâtiment","Mécanique","Plomberie, CVAC (ventilation, chauffage, air climatisée), moyens de transport (ascenseurs, monte-charges, etc.), équipements de levage"]
["Eau pluviale","Ouvrage de rétention/traitement","Bâtiment","Électricité","Entrée électrique, éclairage, contrôle d'accès, système d'alarme, protection incendie"]
["Eau pluviale","Ouvrage de surverse (EPL)","Régulation de débit","Civil","Structure de régulation, d'accès, de vannes, regard d'inspection"]
["Eau pluviale","Ouvrage de surverse (EPL)","Régulation de débit","Mécanique","Régulateur de débit, pompes (incluant moteurs), conduites et accessoires, mécanique diesel (moto-pompe, etc.)"]
["Eau pluviale","Ouvrage de surverse (EPL)","Régulation de débit","Électricité","Génératrice, panneau électrique, centre de contrôle des moteurs, appareillage"]
["Eau pluviale","Ouvrage de surverse (EPL)","Régulation de débit","Instrumentation et contrôle","Enregistreur de débordements, débitmètre, mesure de niveau, etc."]
["Eau pluviale","Poste de pompage (EPL)","Pompage","Civil","Puits, réservoirs et structures de support d'équipement"]
["Eau pluviale","Poste de pompage (EPL)","Pompage","Mécanique","Pompes (incluant moteurs), conduites et accessoires, mécanique diesel (moto-pompe, etc.)"]
["Eau pluviale","Poste de pompage (EPL)","Pompage","Électricité","Génératrice, panneau électrique, centre de contrôle des moteurs, appareillage"]
["Eau pluviale","Poste de pompage (EPL)","Pompage","Instrumentation et contrôle","Débitmètre, mesure de niveau, etc."]
["Eau pluviale","Poste de pompage (EPL)","Systèmes communs","Civil","Aménagement extérieur (drainage, stationnement, système de gestion des eaux pluviales et des inondations, clôture)"]
["Eau pluviale","Poste de pompage (EPL)","Systèmes communs","Mécanique","Pompes (incluant moteurs), conduites et accessoires, mécanique diesel (moto-pompe, etc.)"]
["Eau pluviale","Poste de pompage (EPL)","Systèmes communs","Électricité","Alimentation électrique d'urgence (groupe électrogène, commutateur de transfert, transformateur primaire, UPS),"]
["Eau pluviale","Poste de pompage (EPL)","Systèmes communs","Instrumentation et contrôle","Automates, interface personne-machine (IPM), serveurs, programme d'exploitation, télémétrie, compresseurs (d'air d'instrumentation), autres équipements de mesures"]
["Eau pluviale","Poste de pompage (EPL)","Bâtiment","Architecture","Enveloppe extérieure, toiture, construction intérieure, escaliers, finitions intérieures"]
["Eau pluviale","Poste de pompage (EPL)","Bâtiment","Civil","Fondations, sous-sol, superstructure"]
["Eau pluviale","Poste de pompage (EPL)","Bâtiment","Mécanique","Plomberie, CVAC (ventilation, chauffage, air climatisée), moyens de transport (ascenseurs, monte-charges, etc.), équipements de levage"]
["Eau pluviale","Poste de pompage (EPL)","Bâtiment","Électricité","Entrée électrique, éclairage, contrôle d'accès, système d'alarme, protection incendie"]
["Eau pluviale","Chambre majeure (EPL)","Chambre","Civil","Structure d'accès et et structure souterraine, émissaire"]
["Eau pluviale","Chambre majeure (EPL)","Chambre","Mécanique","Régulateur, pompes (incluant moteurs), conduites et accessoires, mécanique diesel (moto-pompe, etc.)"]
["Eau pluviale","Chambre majeure (EPL)","Chambre","Électricité","Génératrice, panneau électrique, centre de contrôle des moteurs, appareillage"]
["Eau pluviale","Chambre majeure (EPL)","Chambre","Instrumentation et contrôle","Débitmètre, mesure de niveau, etc."]

{"sheet":"Données","index":57,"n_rows":1335,"n_cols":20,"rows_kept":1335,"cut":false,"hidden":true,"merged":[[98,14,98,19],[89,1,93,1],[98,8,98,13],[68,2,69,2],[68,3,68,5],[77,2,78,2],[77,3,77,5],[39,2,45,2],[39,3,41,3],[46,2,50,2],[46,3,47,3],[12,2,16,2],[17,2,21,2],[22,2,25,2],[30,2,38,2],[30,3,31,3],[32,3,34,3],[36,3,37,3]]}
[]
[null,null,"1. Structure de découpage des immobilisations ponctuelles"]
[]
[null,null,"Tableau 1 : Type de service d'eau"]
[null,null,"Type de service d'eau","Nom_liste","ID_Service"]
[null,null,"Eau potable","Eau_potable","EP"]
[null,null,"Eaux usées","Eaux_usées","EUS"]
[null,null,"Eau pluviale","Eau_pluviale","EPL"]
[]
[]
[null,null,"Tableau 2 : Type d'ouvrage"]
[null,null,"Type de service d'eau","Type d'ouvrage","ID_ouvrage"]
[null,null,"Eau_potable","Installation de production","PAP"]
[null,null,null,"Barrage","PBA"]
[null,null,null,"Poste de gestion de pression et de chloration","PRP"]
[null,null,null,"Réservoir","PRS"]
[null,null,null,"Chambre majeure (EP)","PCH"]
[null,null,"Eaux_usées","Installation de traitement","UIT"]
[null,null,null,"Poste de pompage (EU)","UPP"]
[null,null,null,"Ouvrage de rétention","URB"]
[null,null,null,"Ouvrage de surverse (EU)","USV"]
[null,null,null,"Chambre majeure (EU)","UCH"]
[null,null,"Eau_pluviale","Ouvrage de traitement/rétention","PLC"]
[null,null,null,"Poste de pompage (EPL)","PLP"]
[null,null,null,"Ouvrage de surverse (EPL)","PLSV"]
[null,null,null,"Chambre majeure (EPL)","PLCH"]
[]
[]
[null,null,"Tableau 3 : Sous-type d'ouvrage"]
[null,null,"Type de service d'eau","Type d'ouvrage","Sous-type d'ouvrage","Concaténation","ID_type","Description","Nombre de systèmes"]
[null,null,"Eau_potable","Installation de production","Stations mécanisées",{"$f":"$D$31&E31","v":"Installation de productionStations mécanisées"},"PAP_STME","Usine de production",13]
[null,null,null,null,"Petites installations",{"$f":"$D$31&E32","v":"Installation de productionPetites installations"},"PAP_PREA","Puits et installations de captage",7]
[null,null,null,"Poste de gestion de pression et de chloration","Poste de surpression",{"$f":"$D$33&E33","v":"Poste de gestion de pression et de chlorationPoste de surpression"},"PRP_SURP","Poste de surpression",5]
[null,null,null,null,"Poste de régulation de pression",{"$f":"$D$33&E34","v":"Poste de gestion de pression et de chlorationPoste de régulation de pression"},"PRP_RP","Poste de régulation de pression",5]
[null,null,null,null,"Poste de chloration",{"$f":"$D$33&E35","v":"Poste de gestion de pression et de chlorationPoste de chloration"},"PRP_CHLO","Poste de chloration",5]
[null,null,null,"Réservoir","Réservoir",{"$f":"$D$36&E36","v":"RéservoirRéservoir"},"PRS_RESE","Réservoir en réseau",5]
[null,null,null,"Chambre majeure (EP)","Chambre majeure (EP)",{"$f":"$D$37&E37","v":"Chambre majeure (EP)Chambre majeure (EP)"},"PCH_CHAM","Chambre majeure",1]
[null,null,null,null,"Parc de compteurs d'eau","Parc de compteurs d'eauParc de compteurs d'eau","PCE_PCE",null,1]
[null,null,null,"Barrage","Barrage",{"$f":"$D$39&E39","v":"BarrageBarrage"},"PBA_BARR",null,2]
[null,null,"Eaux_usées","Installation de traitement","Stations mécanisées",{"$f":"$D$40&E40","v":"Installation de traitementStations mécanisées"},"UIT_STME","Catégorie A du MDELLCC",17]
[null,null,null,null,"Étangs",{"$f":"$D$40&E41","v":"Installation de traitementÉtangs"},"UIT_ETAN","Catégorie B du MDELLCC",11]
[null,null,null,null,"Technologie spécifique",{"$f":"$D$40&E42","v":"Installation de traitementTechnologie spécifique"},"UIT_TECH","Catégorie C du MDELLCC",6]
[null,null,null,"Poste de pompage (EU)","Poste de pompage (EU)",{"$f":"$D$43&E43","v":"Poste de pompage (EU)Poste de pompage (EU)"},"UPP_POMP",null,3]
[null,null,null,"Ouvrage de rétention","Réservoir de rétention",{"$f":"$D$44&E44","v":"Ouvrage de rétentionRéservoir de rétention"},"URB_RRET",null,4]
[null,null,null,"Ouvrage de surverse (EU)","Ouvrage de surverse (EU)",{"$f":"$D$45&E45","v":"Ouvrage de surverse (EU)Ouvrage de surverse (EU)"},"USV_SV",null,1]
[null,null,null,"Chambre majeure (EU)","Chambre majeure (EU)",{"$f":"$D$46&E46","v":"Chambre majeure (EU)Chambre majeure (EU)"},"UCH_CHAM",null,1]
[null,null,"Eau_pluviale","Ouvrage de traitement/rétention","Bassin de rétention",{"$f":"$D$47&E47","v":"Ouvrage de traitement/rétentionBassin de rétention"},"PLC_BRET",null,3]
[null,null,null,null,"Technologie spécifique",{"$f":"$D$47&E48","v":"Ouvrage de traitement/rétentionTechnologie spécifique"},"PLC_TECH",null,3]
[null,null,null,"Poste de pompage (EPL)","Poste de pompage (EPL)",{"$f":"$D$49&E49","v":"Poste de pompage (EPL)Poste de pompage (EPL)"},"PLP_POMP",null,3]
[null,null,null,"Ouvrage de surverse (EPL)","Ouvrage de surverse (EPL)",{"$f":"$D$50&E50","v":"Ouvrage de surverse (EPL)Ouvrage de surverse (EPL)"},"PLSV_SV",null,1]
[null,null,null,"Chambre majeure (EPL)","Chambre majeure (EPL)",{"$f":"$D$51&E51","v":"Chambre majeure (EPL)Chambre majeure (EPL)"},"PLCH_CHAM",null,1]
[]
[null,null,"Tableau 4: Systèmes, disicplines et composants majeurs (voir Feuille \"Inventaire\")"]
[]
[]
[null,null,"Tableau 9 : Type d'auscultation"]
[]
[null,null,"Type d'évaluation","Description"]
[null,null,"Visuelle (V)","L'auditeur a évalué visuellement le composant"]
[null,null,"Opérateur (O)","L'auditeur s'est basé sur l'opinion de l'opérateur pour assigner une cote au composant"]
[null,null,"Mesure (M)","L'auditeur a évalué le composant à l'aide de tests ou à partir d'une analyse des données d'opération du composant"]
[]
[]
[]
[null,null,"4. Durée de vie utile et durée de vie restante estimée"]
[]
[null,null,"Tableau 12: Durées de vie utile par disciplines utilisées par défaut (bâtiments)"]
[]
[null,null,"Bâtiments","Durée de vie utile (an)"]
[null,null,null,"Min","Prob.","Max"]
[null,null,"Architecture",20,25,40]
[null,null,"Civil",40,50,100]
[null,null,"Mécanique",10,20,40]
[null,null,"Électricité",10,20,40]
[]
[null,null,"Tableau 13: Durées de vie utile par disciplines utilisées par défaut (procédés)"]
[]
[null,null,"Procédés\n(eau potable, eaux usées et pluviale)","Durée de vie utile (an)"]
[null,null,null,"Min","Prob.","Max"]
[null,null,"Civil",40,50,100]
[null,null,"Mécanique",10,30,40]
[null,null,"Électricité",10,20,40]
[null,null,"Instrumentation et contrôle",10,20,40]
[]
[]
[null,null,"4. Type d'interventions"]
[]
[null,null,"Tableau 16 : Type d'intervention"]
[]
[null,"Hierarchisation","Interventions","Description"]
[null,null,"Ajout (AJ)","Ajouter un composant majeur dont la présence est requise"]
[null,null,"Remplacement (RE)","Remplacer le composant majeur actuel"]
[null,null,"Réfection majeure (RFM)","Procéder à une réhabilitation majeure du composant actuel"]
[null,null,"Expertise complémentaire (DE)","Demander une expertise complémentaire à l'auscultation visuelle pour déterminer l'ampleur du problème, les actions à prendre et les coûts qui en résultent. \n\nUne expertise technique peut nécessiter des sondages intrusifs, des analyses détaillées qui permettent de justifier les interventions à réaliser."]
[]
[null,null,"5. Valeur de remplacement"]
[]
[null,null,"Tableau 17 : Répartition des valeurs de remplacement par système et par discipline"]
[null,null,null,null,null,null,null,null,"% Disciplines par système",null,null,null,null,null,"% Disciplines dans l'ouvrage"]
[null,null,"Service d'eau","Type d'ouvrage","Sous-type d'ouvrage","Systèmes","Identificateur système","%VR total","Architecture","Civil/Structure","Mécanique","Électricité","Instrumentation et contrôle","Total","Architecture","Civil/Structure","Mécanique","Électricité","Instrumentation et contrôle","Total"]
[null,null,"Eau potable ","Installation de production","Stations mécanisées","Captage/ Eau brute",{"$f":"D101&E101&F101","v":"Installation de productionStations mécaniséesCaptage/ Eau brute"},{"$f":"IFERROR($B$5/Identification!$H$68,0)","v":0},0,{"$f":"IFERROR(K25/B5,0)","v":0},0.4,0.1,0.1,{"$f":"SUM(I101:M101)","v":0.6},{"$f":"I101*$H101","v":0},{"$f":"J101*$H101","v":0},{"$f":"K101*$H101","v":0},{"$f":"L101*$H101","v":0},{"$f":"M101*$H101","v":0},{"$f":"SUM(O101:S101)","v":0}]
[null,null,"Eau potable ","Installation de production","Stations mécanisées","Coagulation/ Floculation","Installation de productionStations mécaniséesCoagulation/ Floculation",{"$f":"IFERROR(EP_Coagulation!$B$5/Identification!$H$68,0)","v":0},0,0,0.25,0.1,0.1,0.44999999999999996,0,0,0,0,0,0]
[null,null,"Eau potable ","Installation de production","Stations mécanisées","Décantation/ Flottation","Installation de productionStations mécaniséesDécantation/ Flottation",{"$f":"IFERROR(EP_Decantation!$B$5/Identification!$H$68,0)","v":0},0,0,0.4,0.1,0.1,0.6,0,0,0,0,0,0]
[null,null,"Eau potable ","Installation de production","Stations mécanisées","Filtration","Installation de productionStations mécaniséesFiltration",{"$f":"IFERROR(EP_Filtration!$B$5/Identification!$H$68,0)","v":0},0,0,0.4,0.1,0.1,0.6,0,0,0,0,0,0]
[null,null,"Eau potable ","Installation de production","Stations mécanisées","Désinfection (Chloration)","Installation de productionStations mécaniséesDésinfection (Chloration)",{"$f":"IFERROR(EP_Desinfection_CHLO!$B$5/Identification!$H$68,0)","v":0},0,0,0.6,0.1,0.1,0.79999999999999993,0,0,0,0,0,0]
[null,null,"Eau potable ","Installation de production","Stations mécanisées","Ozonation","Installation de productionStations mécaniséesOzonation",{"$f":"IFERROR(EP_OZONATION!$B$5/Identification!$H$68,0)","v":0},0,0,0.25,0.1,0.1,0.44999999999999996,0,0,0,0,0,0]
[null,null,"Eau potable ","Installation de production","Stations mécanisées","Désinfection (U.V.)","Installation de productionStations mécaniséesDésinfection (U.V.)",{"$f":"IFERROR(EP_Desinfection_UV!$B$5/Identification!$H$68,0)","v":0},0,0,0.4,0.1,0.1,0.6,0,0,0,0,0,0]
[null,null,"Eau potable ","Installation de production","Stations mécanisées","Traitements spécifiques","Installation de productionStations mécaniséesTraitements spécifiques",{"$f":"IFERROR(EP_Desinfection_UV!$B$5/Identification!$H$68,0)","v":0},0,0,0.6,0.1,0.1,0.79999999999999993,0,0,0,0,0,0]
[null,null,"Eau potable ","Installation de production","Stations mécanisées","Réserve d'eau","Installation de productionStations mécaniséesRéserve d'eau",{"$f":"IFERROR($B$5/Identification!$H$68,0)","v":0},0,0,0.2,0.1,0.1,0.4,0,0,0,0,0,0]
[null,null,"Eau potable ","Installation de production","Stations mécanisées","Pompage de distribution","Installation de productionStations mécaniséesPompage de distribution",{"$f":"IFERROR($B$5/Identification!$H$68,0)","v":0},0,{"$f":"IFERROR(K35/B14,0)","v":0},0.4,0.1,0.1,0.6,0,0,0,0,0,0]
[null,null,"Eau potable ","Installation de production","Stations mécanisées","Traitement des boues","Installation de productionStations mécaniséesTraitement des boues",{"$f":"IFERROR($B$5/Identification!$H$68,0)","v":0},0,{"$f":"IFERROR(K36/B15,0)","v":0},0.4,0.1,0.1,0.6,0,0,0,0,0,0]
[null,null,"Eau potable ","Installation de production","Stations mécanisées","Systèmes communs","Installation de productionStations mécaniséesSystèmes communs",{"$f":"IFERROR($B$5/Identification!$H$68,0)","v":0},0,{"$f":"IFERROR(K37/B16,0)","v":0},0.1,0.3,0.3,0.7,0,0,0,0,0,0]
[null,null,"Eau potable ","Installation de production","Stations mécanisées","Bâtiment","Installation de productionStations mécaniséesBâtiment",{"$f":"IFERROR($B$5/Identification!$H$68,0)","v":0},0.3,{"$f":"IFERROR(K39/B17,0)","v":0},0.2,0.2,0,0.7,0,0,0,0,0,0]
[null,null,"Eau potable ","Installation de production","Stations mécanisées","Total","Installation de productionStations mécaniséesTotal",{"$f":"SUM(H101:H113)","v":0},null,null,null,null,null,null,{"$f":"SUM(O101:O113)","v":0},{"$f":"SUM(P101:P113)","v":0},{"$f":"SUM(Q101:Q113)","v":0},{"$f":"SUM(R101:R113)","v":0},{"$f":"SUM(S101:S113)","v":0},0]
[null,null,"Eau potable ","Installation de production","Petites installations","Captage/ Eau brute","Installation de productionPetites installationsCaptage/ Eau brute",{"$f":"IFERROR($B$5/Identification!$H$68,0)","v":0},0,0.6,0.2,0.1,0.1,{"$f":"SUM(I115:M115)","v":1},{"$f":"I115*$H115","v":0},{"$f":"J115*$H115","v":0},0,0,0,0]
[null,null,"Eau potable ","Installation de production","Petites installations","Traitements spécifiques","Installation de productionPetites installationsTraitements spécifiques",{"$f":"IFERROR($B$5/Identification!$H$68,0)","v":0},0,0.4,0.4,0.1,0.1,1,0,0,0,0,0,0]
[null,null,"Eau potable ","Installation de production","Petites installations","Désinfection (Chloration)","Installation de productionPetites installationsDésinfection (Chloration)",{"$f":"IFERROR($B$5/Identification!$H$68,0)","v":0},0,0.4,0.4,0.1,0.1,1,0,0,0,0,0,0]
[null,null,"Eau potable ","Installation de production","Petites installations","Réserve d'eau","Installation de productionPetites installationsRéserve d'eau",{"$f":"IFERROR($B$5/Identification!$H$68,0)","v":0},0,0.6,0.2,0.1,0.1,1,0,0,0,0,0,0]
[null,null,"Eau potable ","Installation de production","Petites installations","Pompage de distribution","Installation de productionPetites installationsPompage de distribution",{"$f":"IFERROR($B$5/Identification!$H$68,0)","v":0},0,0.4,0.4,0.1,0.1,1,0,0,0,0,0,0]
[null,null,"Eau potable ","Installation de production","Petites installations","Systèmes communs","Installation de productionPetites installationsSystèmes communs",{"$f":"IFERROR($B$5/Identification!$H$68,0)","v":0},0,0.3,0.1,0.3,0.3,1,0,0,0,0,0,0]
[null,null,"Eau potable ","Installation de production","Petites installations","Bâtiment","Installation de productionPetites installationsBâtiment",{"$f":"IFERROR($B$5/Identification!$H$68,0)","v":0},0.3,0.3,0.2,0.2,0,1,0,0,0,0,0,0]
[null,null,"Eau potable ","Installation de production","Prises d'eau","Total","Installation de productionPrises d'eauTotal",{"$f":"SUM(H115:H121)","v":0},null,null,null,null,null,null,{"$f":"SUM(O115:O121)","v":0},0,0,0,0,0]
[null,null,"Eau potable ","Barrage","Barrage","Barrage","BarrageBarrageBarrage",{"$f":"IFERROR($B$5/Identification!$H$68,0)","v":0},0,0.9,0,0.05,0.05,{"$f":"SUM(I123:M123)","v":1},{"$f":"I123*$H123","v":0},{"$f":"J123*$H123","v":0},0,0,0,{"$f":"SUM(O123:S123)","v":0}]
[null,null,"Eau potable ","Barrage","Barrage","Bâtiment",null,{"$f":"IFERROR($B$5/Identification!$H$68,0)","v":0},0.3,0.3,0.2,0.2,0,{"$f":"SUM(I124:M124)","v":1},{"$f":"I124*$H124","v":0},0,0,0,0,{"$f":"SUM(O124:S124)","v":0}]
[null,null,"Eau potable ","Barrage","Barrage","Total",{"$f":"D125&E125&F125","v":"BarrageBarrageTotal"},{"$f":"SUM(H123:H124)","v":0},null,null,null,null,null,null,{"$f":"SUM(O123:O123)","v":0},0,0,0,0,0]
[null,null,"Eau potable ","Poste de régulation de pression et de chloration","Poste de surpression","Désinfection (Chloration)","Poste de régulation de pression et de chlorationPoste de surpressionDésinfection (Chloration)",{"$f":"IFERROR($B$5/Identification!$H$68,0)","v":0},0,0.4,0.4,0.1,0.1,{"$f":"SUM(I126:M126)","v":1},{"$f":"I126*$H126","v":0},{"$f":"J126*$H126","v":0},0,0,0,{"$f":"SUM(O126:S126)","v":0}]
[null,null,"Eau potable ","Poste de régulation de pression et de chloration","Poste de surpression","Régulation de pression",{"$f":"D127&E127&F127","v":"Poste de régulation de pression et de chlorationPoste de surpressionRégulation de pression"},{"$f":"IFERROR($B$5/Identification!$H$68,0)","v":0},0,0.4,0.4,0.1,0.1,{"$f":"SUM(I127:M127)","v":1},{"$f":"I127*$H127","v":0},{"$f":"J127*$H127","v":0},{"$f":"K127*$H127","v":0},{"$f":"L127*$H127","v":0},{"$f":"M127*$H127","v":0},{"$f":"SUM(O127:S127)","v":0}]
[null,null,"Eau potable ","Poste de régulation de pression et de chloration","Poste de surpression","Pompage de distribution","Poste de régulation de pression et de chlorationPoste de surpressionPompage de distribution",{"$f":"IFERROR($B$5/Identification!$H$68,0)","v":0},0,0.4,0.4,0.1,0.1,{"$f":"SUM(I128:M128)","v":1},{"$f":"I128*$H128","v":0},0,0,0,0,{"$f":"SUM(O128:S128)","v":0}]
[null,null,"Eau potable ","Poste de régulation de pression et de chloration","Poste de surpression","Systèmes communs","Poste de régulation de pression et de chlorationPoste de surpressionSystèmes communs",{"$f":"IFERROR($B$5/Identification!$H$68,0)","v":0},0,0.3,0.1,0.3,0.3,{"$f":"SUM(I129:M129)","v":1},{"$f":"I129*$H129","v":0},0,0,0,0,{"$f":"SUM(O129:S129)","v":0}]
[null,null,"Eau potable ","Poste de régulation de pression et de chloration","Poste de surpression","Bâtiment","Poste de régulation de pression et de chlorationPoste de surpressionBâtiment",{"$f":"IFERROR($B$5/Identification!$H$68,0)","v":0},0.3,0.3,0.2,0.2,0,{"$f":"SUM(I130:M130)","v":1},{"$f":"I130*$H130","v":0},0,0,0,0,{"$f":"SUM(O130:S130)","v":0}]
[null,null,"Eau potable ","Poste de gestion de pression et de chloration","Poste de surpression","Total","Poste de gestion de pression et de chlorationPoste de surpressionTotal",{"$f":"SUM(H126:H130)","v":0},null,null,null,null,null,null,{"$f":"SUM(O126:O130)","v":0},0,0,0,0,0]
[null,null,"Eau potable ","Poste de régulation de pression et de chloration","Poste de régulation de pression","Désinfection (Chloration)",{"$f":"D132&E132&F132","v":"Poste de régulation de pression et de chlorationPoste de régulation de pressionDésinfection (Chloration)"},{"$f":"IFERROR($B$5/Identification!$H$68,0)","v":0},0,0.4,0.4,0.1,0.1,{"$f":"SUM(I132:M132)","v":1},{"$f":"I132*$H132","v":0},0,0,0,0,{"$f":"SUM(O132:S132)","v":0}]
[null,null,"Eau potable ","Poste de régulation de pression et de chloration","Poste de régulation de pression","Régulation de pression","Poste de régulation de pression et de chlorationPoste de régulation de pressionRégulation de pression",{"$f":"IFERROR($B$5/Identification!$H$68,0)","v":0},0,0.4,0.4,0.1,0.1,{"$f":"SUM(I133:M133)","v":1},0,0,0,0,0,{"$f":"SUM(O133:S133)","v":0}]
[null,null,"Eau potable ","Poste de régulation de pression et de chloration","Poste de régulation de pression","Pompage de distribution","Poste de régulation de pression et de chlorationPoste de régulation de pressionPompage de distribution",{"$f":"IFERROR($B$5/Identification!$H$68,0)","v":0},0,0.4,0.4,0.1,0.1,{"$f":"SUM(I134:M134)","v":1},0,0,0,0,0,{"$f":"SUM(O134:S134)","v":0}]
[null,null,"Eau potable ","Poste de régulation de pression et de chloration","Poste de régulation de pression","Systèmes communs","Poste de régulation de pression et de chlorationPoste de régulation de pressionSystèmes communs",{"$f":"IFERROR($B$5/Identification!$H$68,0)","v":0},0,0.3,0.1,0.3,0.3,{"$f":"SUM(I135:M135)","v":1},0,0,0,0,0,{"$f":"SUM(O135:S135)","v":0}]
[null,null,"Eau potable ","Poste de régulation de pression et de chloration","Poste de régulation de pression","Bâtiment","Poste de régulation de pression et de chlorationPoste de régulation de pressionBâtiment",{"$f":"IFERROR($B$5/Identification!$H$68,0)","v":0},0.3,0.3,0.2,0.2,0,{"$f":"SUM(I136:M136)","v":1},0,0,0,0,0,{"$f":"SUM(O136:S136)","v":0}]
[null,null,"Eau potable ","Poste de gestion de pression et de chloration","Poste de régulation de pression","Total","Poste de gestion de pression et de chlorationPoste de régulation de pressionTotal",{"$f":"SUM(H132:H136)","v":0},null,null,null,null,null,null,{"$f":"SUM(O132:O136)","v":0},0,0,0,0,0]
[null,null,"Eau potable ","Poste de régulation de pression et de chloration","Poste de chloration","Désinfection (Chloration)","Poste de régulation de pression et de chlorationPoste de chlorationDésinfection (Chloration)",{"$f":"IFERROR($B$5/Identification!$H$68,0)","v":0},0,0.4,0.4,0.1,0.1,{"$f":"SUM(I138:M138)","v":1},{"$f":"I138*$H138","v":0},{"$f":"J138*$H138","v":0},0,0,0,{"$f":"SUM(O138:S138)","v":0}]
[null,null,"Eau potable ","Poste de régulation de pression et de chloration","Poste de chloration","Régulation de pression","Poste de régulation de pression et de chlorationPoste de chlorationRégulation de pression",{"$f":"IFERROR($B$5/Identification!$H$68,0)","v":0},0,0.4,0.4,0.1,0.1,{"$f":"SUM(I139:M139)","v":1},{"$f":"I139*$H139","v":0},0,0,0,0,{"$f":"SUM(O139:S139)","v":0}]
[null,null,"Eau potable ","Poste de régulation de pression et de chloration","Poste de chloration","Pompage de distribution","Poste de régulation de pression et de chlorationPoste de chlorationPompage de distribution",{"$f":"IFERROR($B$5/Identification!$H$68,0)","v":0},0,0.4,0.4,0.1,0.1,{"$f":"SUM(I140:M140)","v":1},{"$f":"I140*$H140","v":0},0,0,0,0,{"$f":"SUM(O140:S140)","v":0}]
[null,null,"Eau potable ","Poste de régulation de pression et de chloration","Poste de chloration","Systèmes communs","Poste de régulation de pression et de chlorationPoste de chlorationSystèmes communs",{"$f":"IFERROR($B$5/Identification!$H$68,0)","v":0},0,0.3,0.1,0.3,0.3,{"$f":"SUM(I141:M141)","v":1},{"$f":"I141*$H141","v":0},0,0,0,0,{"$f":"SUM(O141:S141)","v":0}]
[null,null,"Eau potable ","Poste de régulation de pression et de chloration","Poste de chloration","Bâtiment","Poste de régulation de pression et de chlorationPoste de chlorationBâtiment",{"$f":"IFERROR($B$5/Identification!$H$68,0)","v":0},0.3,0.3,0.2,0.2,0,{"$f":"SUM(I142:M142)","v":1},{"$f":"I142*$H142","v":0},0,0,0,0,{"$f":"SUM(O142:S142)","v":0}]
[null,null,"Eau potable ","Poste de gestion de pression et de chloration","Poste de chloration","Total","Poste de gestion de pression et de chlorationPoste de chlorationTotal",{"$f":"SUM(H138:H142)","v":0},null,null,null,null,null,null,{"$f":"SUM(O138:O142)","v":0},0,0,0,0,0]
[null,null,"Eau potable ","Réservoir","Réservoir","Réserve d'eau","RéservoirRéservoirRéserve d'eau",{"$f":"IFERROR($B$5/Identification!$H$68,0)","v":0},0,0.6,0.2,0.1,0.1,{"$f":"SUM(I144:M144)","v":1},{"$f":"I144*$H144","v":0},{"$f":"J144*$H144","v":0},0,0,0,{"$f":"SUM(O144:S144)","v":0}]
[null,null,"Eau potable ","Réservoir","Réservoir","Désinfection (Chloration)","RéservoirRéservoirDésinfection (Chloration)",{"$f":"IFERROR($B$5/Identification!$H$68,0)","v":0},0,0.4,0.4,0.1,0.1,{"$f":"SUM(I145:M145)","v":1},{"$f":"I145*$H145","v":0},0,0,0,0,{"$f":"SUM(O145:S145)","v":0}]
[null,null,"Eau potable ","Réservoir","Réservoir","Pompage de distribution","RéservoirRéservoirPompage de distribution",{"$f":"IFERROR($B$5/Identification!$H$68,0)","v":0},0,0.4,0.4,0.1,0.1,{"$f":"SUM(I146:M146)","v":1},{"$f":"I146*$H146","v":0},0,0,0,0,{"$f":"SUM(O146:S146)","v":0}]
[null,null,"Eau potable ","Réservoir","Réservoir","Systèmes communs","RéservoirRéservoirSystèmes communs",{"$f":"IFERROR($B$5/Identification!$H$68,0)","v":0},0,0.3,0.1,0.3,0.3,{"$f":"SUM(I147:M147)","v":1},{"$f":"I147*$H147","v":0},0,0,0,0,{"$f":"SUM(O147:S147)","v":0}]
[null,null,"Eau potable ","Réservoir","Réservoir","Bâtiment","RéservoirRéservoirBâtiment",{"$f":"IFERROR($B$5/Identification!$H$68,0)","v":0},0.3,0.3,0.2,0.2,0,{"$f":"SUM(I148:M148)","v":1},{"$f":"I148*$H148","v":0},0,0,0,0,{"$f":"SUM(O148:S148)","v":0}]
[null,null,"Eau potable ","Réservoir","Réservoir","Total","RéservoirRéservoirTotal",{"$f":"SUM(H144:H148)","v":0},null,null,null,null,null,null,{"$f":"SUM(O144:O148)","v":0},0,0,0,0,0]
[null,null,"Eau potable ","Chambre majeure (EP)","Chambre majeure (EP)","Chambre","Chambre majeure (EP)Chambre majeure (EP)Chambre",1,0,0.45,0.35,0.1,0.1,{"$f":"SUM(I150:M150)","v":1},{"$f":"I150*$H150","v":0},{"$f":"J150*$H150","v":0.45},{"$f":"K150*$H150","v":0.35},{"$f":"L150*$H150","v":0.1},{"$f":"M150*$H150","v":0.1},{"$f":"SUM(O150:S150)","v":1}]
[null,null,"Eau potable ","Chambre","Chambre","Total","ChambreChambreTotal",{"$f":"SUM(H150:H150)","v":1},null,null,null,null,null,null,{"$f":"SUM(O150:O150)","v":0},0.45,0.35,0.1,0.1,1]
[null,null,"Eau potable ","Parc de compteurs d'eau","Parc de compteurs d'eau","Mesure de débit","Parc de compteurs d'eauParc de compteurs d'eauMesure de débit",1,0,0.45,0.35,0.1,0.1,{"$f":"SUM(I152:M152)","v":1},{"$f":"I152*$H152","v":0},{"$f":"J152*$H152","v":0.45},{"$f":"K152*$H152","v":0.35},{"$f":"L152*$H152","v":0.1},{"$f":"M152*$H152","v":0.1},{"$f":"SUM(O152:S152)","v":1}]
[null,null,"Eau potable ","Chambre","Chambre","Total","ChambreChambreTotal",{"$f":"SUM(H152:H152)","v":1},null,null,null,null,null,null,{"$f":"SUM(O152:O152)","v":0},0.45,0.35,0.1,0.1,1]
[null,null,"Eaux usées","Installation de traitement","Stations mécanisées","Affluent","Installation de traitementStations mécaniséesAffluent",{"$f":"IFERROR($B$5/Identification!$H$68,0)","v":0},0,0.5,0.3,0.1,0.1,{"$f":"SUM(I154:M154)","v":1},{"$f":"I154*H154","v":0},{"$f":"J154*$H$154","v":0},{"$f":"K154*$H$154","v":0},{"$f":"L154*$H$154","v":0},{"$f":"M154*$H$154","v":0},{"$f":"SUM(O154:S154)","v":0}]
[null,null,"Eaux usées","Installation de traitement","Stations mécanisées","Dégrillage","Installation de traitementStations mécaniséesDégrillage",{"$f":"IFERROR($B$5/Identification!$H$68,0)","v":0},0,0.4,0.4,0.1,0.1,1,0,{"$f":"I155*H155","v":0},{"$f":"K155*H155","v":0},{"$f":"L155*H155","v":0},{"$f":"M155*H155","v":0},0]
[null,null,"Eaux usées","Installation de traitement","Stations mécanisées","Dessablage","Installation de traitementStations mécaniséesDessablage",{"$f":"IFERROR($B$5/Identification!$H$68,0)","v":0},0,0.5,0.3,0.1,0.1,1,0,0,0,0,0,0]
[null,null,"Eaux usées","Installation de traitement","Stations mécanisées","Régulation de débit","Installation de traitementStations mécaniséesRégulation de débit",{"$f":"IFERROR($B$5/Identification!$H$68,0)","v":0},0,0.4,0.4,0.1,0.1,1,0,0,0,0,0,0]
[null,null,"Eaux usées","Installation de traitement","Stations mécanisées","Décantation primaire","Installation de traitementStations mécaniséesDécantation primaire",{"$f":"IFERROR($B$5/Identification!$H$68,0)","v":0},0,0.5,0.3,0.1,0.1,1,0,0,0,0,0,0]
[null,null,"Eaux usées","Installation de traitement","Stations mécanisées","Traitement secondaire","Installation de traitementStations mécaniséesTraitement secondaire",{"$f":"IFERROR($B$5/Identification!$H$68,0)","v":0},0,0.4,0.4,0.1,0.1,1,0,0,0,0,0,0]
[null,null,"Eaux usées","Installation de traitement","Stations mécanisées","Décantation secondaire","Installation de traitementStations mécaniséesDécantation secondaire",{"$f":"IFERROR($B$5/Identification!$H$68,0)","v":0},0,0.5,0.3,0.1,0.1,1,0,0,0,0,0,0]
[null,null,"Eaux usées","Installation de traitement","Stations mécanisées","Filtration","Installation de traitementStations mécaniséesFiltration",{"$f":"IFERROR($B$5/Identification!$H$68,0)","v":0},0,0.4,0.4,0.1,0.1,1,0,0,0,0,0,0]
[null,null,"Eaux usées","Installation de traitement","Stations mécanisées","Désinfection","Installation de traitementStations mécaniséesDésinfection",{"$f":"IFERROR($B$5/Identification!$H$68,0)","v":0},0,0.3,0.5,0.1,0.1,1,0,0,0,0,0,0]
[null,null,"Eaux usées","Installation de traitement","Stations mécanisées","Effluent","Installation de traitementStations mécaniséesEffluent",{"$f":"IFERROR($B$5/Identification!$H$68,0)","v":0},0,0.4,0.4,0.1,0.1,1,0,0,0,0,0,0]
[null,null,"Eaux usées","Installation de traitement","Stations mécanisées","Épaississement des boues","Installation de traitementStations mécaniséesÉpaississement des boues",{"$f":"IFERROR($B$5/Identification!$H$68,0)","v":0},0,0.4,0.4,0.1,0.1,1,0,0,0,0,0,0]
[null,null,"Eaux usées","Installation de traitement","Stations mécanisées","Stabilisation des boues","Installation de traitementStations mécaniséesStabilisation des boues",{"$f":"IFERROR($B$5/Identification!$H$68,0)","v":0},0,0.4,0.4,0.1,0.1,1,0,0,0,0,0,0]
[null,null,"Eaux usées","Installation de traitement","Stations mécanisées","Déshydratation/Séchage des boues","Installation de traitementStations mécaniséesDéshydratation/Séchage des boues",{"$f":"IFERROR($B$5/Identification!$H$68,0)","v":0},0,0.4,0.4,0.1,0.1,1,0,0,0,0,0,0]
[null,null,"Eaux usées","Installation de traitement","Stations mécanisées","Incinération des boues","Installation de traitementStations mécaniséesIncinération des boues",{"$f":"IFERROR($B$5/Identification!$H$68,0)","v":0},0,0.4,0.4,0.1,0.1,1,0,0,0,0,0,0]
[null,null,"Eaux usées","Installation de traitement","Stations mécanisées","Traitement des odeurs","Installation de traitementStations mécaniséesTraitement des odeurs",{"$f":"IFERROR($B$5/Identification!$H$68,0)","v":0},0,0.4,0.4,0.1,0.1,1,0,0,0,0,0,0]
[null,null,"Eaux usées","Installation de traitement","Stations mécanisées","Systèmes communs","Installation de traitementStations mécaniséesSystèmes communs",{"$f":"IFERROR($B$5/Identification!$H$68,0)","v":0},0,0.3,0.1,0.3,0.3,1,0,0,0,0,0,0]
[null,null,"Eaux usées","Installation de traitement","Stations mécanisées","Bâtiment","Installation de traitementStations mécaniséesBâtiment",{"$f":"IFERROR($B$5/Identification!$H$68,0)","v":0},0.3,0.3,0.2,0.2,0,1,0,0,0,0,0,0]
[null,null,"Eaux usées","Installation de traitement","Stations mécanisées","Total","Installation de traitementStations mécaniséesTotal",{"$f":"SUM(H154:H170)","v":0},null,null,null,null,null,null,{"$f":"SUM(O154:O170)","v":0},0,0,0,0,0]
[null,null,"Eaux usées","Installation de traitement","Étangs","Affluent","Installation de traitementÉtangsAffluent",{"$f":"IFERROR($B$5/Identification!$H$68,0)","v":0},0,0.5,0.3,0.1,0.1,{"$f":"SUM(I172:M172)","v":1},{"$f":"$H$172*I172","v":0},{"$f":"$H172*J172","v":0},{"$f":"$H172*K172","v":0},{"$f":"$H172*L172","v":0},{"$f":"$H172*M172","v":0},{"$f":"SUM(O172:S172)","v":0}]
[null,null,"Eaux usées","Installation de traitement","Étangs","Dégrillage","Installation de traitementÉtangsDégrillage",{"$f":"IFERROR($B$5/Identification!$H$68,0)","v":0},0,0.4,0.4,0.1,0.1,1,{"$f":"H173*I173","v":0},0,0,0,0,0]
[null,null,"Eaux usées","Installation de traitement","Étangs","Dessablage","Installation de traitementÉtangsDessablage",{"$f":"IFERROR($B$5/Identification!$H$68,0)","v":0},0,0.5,0.3,0.1,0.1,1,0,0,0,0,0,0]
[null,null,"Eaux usées","Installation de traitement","Étangs","Régulation de débit","Installation de traitementÉtangsRégulation de débit",{"$f":"IFERROR($B$5/Identification!$H$68,0)","v":0},0,0.4,0.4,0.1,0.1,1,0,0,0,0,0,0]
[null,null,"Eaux usées","Installation de traitement","Étangs","Traitement secondaire","Installation de traitementÉtangsTraitement secondaire",{"$f":"IFERROR($B$5/Identification!$H$68,0)","v":0},0,0.5,0.35,0.05,0.1,1,0,0,0,0,0,0]
[null,null,"Eaux usées","Installation de traitement","Étangs","Décantation secondaire","Installation de traitementÉtangsDécantation secondaire",{"$f":"IFERROR($B$5/Identification!$H$68,0)","v":0},0,0.5,0.3,0.1,0.1,1,0,0,0,0,0,0]
[null,null,"Eaux usées","Installation de traitement","Étangs","Désinfection","Installation de traitementÉtangsDésinfection",{"$f":"IFERROR($B$5/Identification!$H$68,0)","v":0},0,0.3,0.5,0.1,0.1,1,0,0,0,0,0,0]
[null,null,"Eaux usées","Installation de traitement","Étangs","Effluent","Installation de traitementÉtangsEffluent",{"$f":"IFERROR($B$5/Identification!$H$68,0)","v":0},0,0.4,0.4,0.1,0.1,1,0,0,0,0,0,0]
[null,null,"Eaux usées","Installation de traitement","Étangs","Déshydratation/Séchage des boues","Installation de traitementÉtangsDéshydratation/Séchage des boues",{"$f":"IFERROR($B$5/Identification!$H$68,0)","v":0},0,0.4,0.4,0.1,0.1,1,0,0,0,0,0,0]
[null,null,"Eaux usées","Installation de traitement","Étangs","Systèmes communs","Installation de traitementÉtangsSystèmes communs",{"$f":"IFERROR($B$5/Identification!$H$68,0)","v":0},0,0.3,0.1,0.3,0.3,1,0,0,0,0,0,0]
[null,null,"Eaux usées","Installation de traitement","Étangs","Bâtiment","Installation de traitementÉtangsBâtiment",{"$f":"IFERROR($B$5/Identification!$H$68,0)","v":0},0.3,0.3,0.2,0.2,0,1,0,0,0,0,0,0]
[null,null,"Eaux usées","Installation de traitement","Étangs","Total","Installation de traitementÉtangsTotal",{"$f":"SUM(H172:H182)","v":0},null,null,null,null,null,null,{"$f":"SUM(O172:O182)","v":0},0,0,0,0,0]
[null,null,"Eaux usées","Installation de traitement","Technologie spécifique","Affluent","Installation de traitementTechnologie spécifiqueAffluent",{"$f":"IFERROR($B$5/Identification!$H$68,0)","v":0},0,0.5,0.3,0.1,0.1,{"$f":"SUM(I184:M184)","v":1},{"$f":"$H$184*I184","v":0},{"$f":"$H184*J184","v":0},0,0,0,{"$f":"SUM(O184:S184)","v":0}]
[null,null,"Eaux usées","Installation de traitement","Technologie spécifique","Décantation primaire","Installation de traitementTechnologie spécifiqueDécantation primaire",{"$f":"IFERROR($B$5/Identification!$H$68,0)","v":0},0,0.5,0.3,0.1,0.1,1,{"$f":"H185*I185","v":0},0,0,0,0,0]
[null,null,"Eaux usées","Installation de traitement","Technologie spécifique","Régulation de débit",{"$f":"D186&E186&F186","v":"Installation de traitementTechnologie spécifiqueRégulation de débit"},{"$f":"IFERROR($B$5/Identification!$H$68,0)","v":0},0,0.4,0.4,0.1,0.1,1,0,0,0,0,0,0]
[null,null,"Eaux usées","Installation de traitement","Technologie spécifique","Traitement secondaire","Installation de traitementTechnologie spécifiqueTraitement secondaire",{"$f":"IFERROR($B$5/Identification!$H$68,0)","v":0},0,0.5,0.35,0.05,0.1,1,0,0,0,0,0,0]
[null,null,"Eaux usées","Installation de traitement","Technologie spécifique","Désinfection",{"$f":"D188&E188&F188","v":"Installation de traitementTechnologie spécifiqueDésinfection"},{"$f":"IFERROR($B$5/Identification!$H$68,0)","v":0},0,0.3,0.5,0.1,0.1,1,0,0,0,0,0,0]
[null,null,"Eaux usées","Installation de traitement","Technologie spécifique","Effluent","Installation de traitementTechnologie spécifiqueEffluent",{"$f":"IFERROR($B$5/Identification!$H$68,0)","v":0},0,0.4,0.4,0.1,0.1,1,0,0,0,0,0,0]
[null,null,"Eaux usées","Installation de traitement","Technologie spécifique","Systèmes communs","Installation de traitementTechnologie spécifiqueSystèmes communs",{"$f":"IFERROR($B$5/Identification!$H$68,0)","v":0},0,0.3,0.1,0.3,0.3,1,0,0,0,0,0,0]
[null,null,"Eaux usées","Installation de traitement","Technologie spécifique","Bâtiment","Installation de traitementTechnologie spécifiqueBâtiment",{"$f":"IFERROR($B$5/Identification!$H$68,0)","v":0},0.3,0.3,0.2,0.2,0,1,0,0,0,0,0,0]
[null,null,"Eaux usées","Installation de traitement","Étangs","Total","Installation de traitementÉtangsTotal",{"$f":"SUM(H184:H191)","v":0},null,null,null,null,null,null,{"$f":"SUM(O184:O191)","v":0},0,0,0,0,0]
[null,null,"Eaux usées","Poste de pompage","Poste de pompage","Pompage","Poste de pompagePoste de pompagePompage",{"$f":"IFERROR($B$5/Identification!$H$68,0)","v":0},0,0.4,0.4,0.1,0.1,{"$f":"SUM(I193:M193)","v":1},{"$f":"$H193*I193","v":0},{"$f":"$H193*J193","v":0},{"$f":"$H193*K193","v":0},{"$f":"$H193*L193","v":0},{"$f":"$H193*M193","v":0},{"$f":"SUM(O193:S193)","v":0}]
[null,null,"Eaux usées","Poste de pompage","Poste de pompage","Systèmes communs","Poste de pompagePoste de pompageSystèmes communs",{"$f":"IFERROR($B$5/Identification!$H$68,0)","v":0},0,0.3,0.1,0.3,0.3,{"$f":"SUM(I194:M194)","v":1},{"$f":"H194*I194","v":0},{"$f":"$H194*J194","v":0},0,0,0,{"$f":"SUM(O194:S194)","v":0}]
[null,null,"Eaux usées","Poste de pompage","Poste de pompage","Bâtiment","Poste de pompagePoste de pompageBâtiment",{"$f":"IFERROR($B$5/Identification!$H$68,0)","v":0},0.3,0.3,0.2,0.2,0,{"$f":"SUM(I195:M195)","v":1},{"$f":"H195*I195","v":0},0,0,0,0,{"$f":"SUM(O195:S195)","v":0}]
[null,null,"Eaux usées","Poste de pompage","Poste de pompage","Total","Poste de pompagePoste de pompageTotal",{"$f":"SUM(H193:H195)","v":0},null,null,null,null,null,null,{"$f":"SUM(O193:O195)","v":0},0,0,0,0,0]
[null,null,"Eaux usées","Ouvrage de rétention","Réservoir de rétention","Stockage","Ouvrage de rétentionRéservoir de rétentionStockage",{"$f":"IFERROR($B$5/Identification!$H$68,0)","v":0},0,0.6,0.2,0.1,0.1,{"$f":"SUM(I197:M197)","v":1},{"$f":"I197*H197","v":0},{"$f":"J197*H197","v":0},{"$f":"K197*H197","v":0},{"$f":"L197*H197","v":0},{"$f":"M197*H197","v":0},{"$f":"SUM(O197:S197)","v":0}]
[null,null,"Eaux usées","Ouvrage de rétention","Réservoir de rétention","Pompage","Ouvrage de rétentionRéservoir de rétentionPompage",{"$f":"IFERROR($B$5/Identification!$H$68,0)","v":0},0,0.2,0.6,0.1,0.1,{"$f":"SUM(I198:M198)","v":1},{"$f":"I198*H198","v":0},{"$f":"J198*H198","v":0},{"$f":"K198*H198","v":0},{"$f":"L198*H198","v":0},{"$f":"M198*H198","v":0},{"$f":"SUM(O198:S198)","v":0}]
[null,null,"Eaux usées","Ouvrage de rétention","Réservoir de rétention","Systèmes communs",{"$f":"D199&E199&F199","v":"Ouvrage de rétentionRéservoir de rétentionSystèmes communs"},{"$f":"IFERROR($B$5/Identification!$H$68,0)","v":0},0,0.3,0.1,0.3,0.3,{"$f":"SUM(I199:M199)","v":1},{"$f":"I199*H199","v":0},{"$f":"J199*H199","v":0},{"$f":"K199*H199","v":0},{"$f":"L199*H199","v":0},{"$f":"M199*H199","v":0},{"$f":"SUM(O199:S199)","v":0}]
[null,null,"Eaux usées","Ouvrage de rétention","Réservoir de rétention","Bâtiment","Ouvrage de rétentionRéservoir de rétentionBâtiment",{"$f":"IFERROR($B$5/Identification!$H$68,0)","v":0},0.3,0.3,0.2,0.2,0,{"$f":"SUM(I200:M200)","v":1},{"$f":"I200*H200","v":0},{"$f":"J200*H200","v":0},{"$f":"K200*H200","v":0},{"$f":"L200*H200","v":0},{"$f":"M200*H200","v":0},{"$f":"SUM(O200:S200)","v":0}]
[null,null,"Eaux usées","Ouvrage de rétention","Réservoir de rétention","Total","Ouvrage de rétentionRéservoir de rétentionTotal",{"$f":"SUM(H197:H200)","v":0},null,null,null,null,null,null,{"$f":"SUM(O197:O200)","v":0},0,0,0,0,0]
[null,null,"Eaux usées","Ouvrage de surverse","Ouvrage de surverse","Régulation de débit","Ouvrage de surverseOuvrage de surverseRégulation de débit",1,0,0.3,0.4,0.1,0.2,{"$f":"SUM(I202:M202)","v":1},null,null,null,null,null,{"$f":"SUM(O202:S202)","v":0}]
[null,null,"Eaux usées","Ouvrage de surverse","Ouvrage de surverse","Total","Ouvrage de surverseOuvrage de surverseTotal",{"$f":"SUM(H202:H202)","v":1},null,null,null,null,null,null,{"$f":"SUM(O202:O202)","v":0},0,0,0,0,0]
[null,null,"Eaux usées","Chambre","Chambre","Chambre","ChambreChambreChambre",1,0,0.45,0.35,0.1,0.1,{"$f":"SUM(I204:M204)","v":1},0,0.4,0.4,0.1,0.1,{"$f":"SUM(O204:S204)","v":1}]
[null,null,"Eaux usées","Chambre","Chambre","Total","ChambreChambreTotal",{"$f":"SUM(H204:H204)","v":1},null,null,null,null,null,null,{"$f":"SUM(O204:O204)","v":0},0.4,0.4,0.1,0.1,1]
[null,null,"Eau pluviale","Poste de pompage","Poste de pompage","Pompage","Poste de pompagePoste de pompagePompage",{"$f":"IFERROR($B$5/Identification!$H$68,0)","v":0},0,0.4,0.4,0.1,0.1,{"$f":"SUM(I206:M206)","v":1},{"$f":"$H206*I206","v":0},{"$f":"$H206*J206","v":0},{"$f":"$H206*K206","v":0},{"$f":"$H206*L206","v":0},{"$f":"$H206*M206","v":0},{"$f":"SUM(O206:S206)","v":0}]
[null,null,"Eau pluviale","Poste de pompage","Poste de pompage","Systèmes communs","Poste de pompagePoste de pompageSystèmes communs",{"$f":"IFERROR($B$5/Identification!$H$68,0)","v":0},0,0.3,0.1,0.3,0.3,{"$f":"SUM(I207:M207)","v":1},{"$f":"H207*I207","v":0},{"$f":"$H207*J207","v":0},0,0,0,{"$f":"SUM(O207:S207)","v":0}]
[null,null,"Eau pluviale","Poste de pompage","Poste de pompage","Bâtiment","Poste de pompagePoste de pompageBâtiment",{"$f":"IFERROR($B$5/Identification!$H$68,0)","v":0},0.3,0.3,0.2,0.2,0,{"$f":"SUM(I208:M208)","v":1},{"$f":"H208*I208","v":0},0,0,0,0,{"$f":"SUM(O208:S208)","v":0}]
[null,null,"Eau pluviale","Poste de pompage","Poste de pompage","Total","Poste de pompagePoste de pompageTotal",{"$f":"SUM(H206:H208)","v":0},null,null,null,null,null,null,{"$f":"SUM(O206:O208)","v":0},0,0,0,0,0]
[null,null,"Eau pluviale","Ouvrage de traitement/rétention","Bassin de rétention","Stockage/Traitement","Ouvrage de traitement/rétentionBassin de rétentionStockage/Traitement",{"$f":"IFERROR($B$5/Identification!$H$68,0)","v":0},0,0.6,0.2,0.1,0.1,{"$f":"SUM(I210:M210)","v":1},{"$f":"I210*H210","v":0},{"$f":"J210*H210","v":0},{"$f":"K210*H210","v":0},{"$f":"L210*H210","v":0},{"$f":"M210*H210","v":0},{"$f":"SUM(O210:S210)","v":0}]
[null,null,"Eau pluviale","Ouvrage de traitement/rétention","Bassin de rétention","Systèmes communs","Ouvrage de traitement/rétentionBassin de rétentionSystèmes communs",{"$f":"IFERROR($B$5/Identification!$H$68,0)","v":0},0,0.3,0.1,0.3,0.3,{"$f":"SUM(I211:M211)","v":1},{"$f":"I211*H211","v":0},{"$f":"J211*H211","v":0},{"$f":"K211*H211","v":0},{"$f":"L211*H211","v":0},{"$f":"M211*H211","v":0},{"$f":"SUM(O211:S211)","v":0}]
[null,null,"Eau pluviale","Ouvrage de traitement/rétention","Bassin de rétention","Bâtiment","Ouvrage de traitement/rétentionBassin de rétentionBâtiment",{"$f":"IFERROR($B$5/Identification!$H$68,0)","v":0},0.3,0.3,0.2,0.2,0,{"$f":"SUM(I212:M212)","v":1},{"$f":"I212*H212","v":0},{"$f":"J212*H212","v":0},{"$f":"K212*H212","v":0},{"$f":"L212*H212","v":0},{"$f":"M212*H212","v":0},{"$f":"SUM(O212:S212)","v":0}]
[null,null,"Eau pluviale","Ouvrage de traitement/rétention","Bassin de rétention","Total","Ouvrage de traitement/rétentionBassin de rétentionTotal",{"$f":"SUM(H210:H212)","v":0},null,null,null,null,null,null,{"$f":"SUM(O210:O212)","v":0},0,0,0,0,0]
[null,null,"Eau pluviale","Ouvrage de traitement/rétention","Technologie spécifique","Stockage/Traitement","Ouvrage de traitement/rétentionTechnologie spécifiqueStockage/Traitement",{"$f":"IFERROR($B$5/Identification!$H$68,0)","v":0},0,0.6,0.2,0.1,0.1,{"$f":"SUM(I214:M214)","v":1},{"$f":"I214*H214","v":0},{"$f":"J214*H214","v":0},{"$f":"K214*H214","v":0},{"$f":"L214*H214","v":0},{"$f":"M214*H214","v":0},{"$f":"SUM(O214:S214)","v":0}]
[null,null,"Eau pluviale","Ouvrage de traitement/rétention","Technologie spécifique","Systèmes communs","Ouvrage de traitement/rétentionTechnologie spécifiqueSystèmes communs",{"$f":"IFERROR($B$5/Identification!$H$68,0)","v":0},0,0.3,0.1,0.3,0.3,{"$f":"SUM(I215:M215)","v":1},{"$f":"I215*H215","v":0},{"$f":"J215*H215","v":0},{"$f":"K215*H215","v":0},{"$f":"L215*H215","v":0},{"$f":"M215*H215","v":0},{"$f":"SUM(O215:S215)","v":0}]
[null,null,"Eau pluviale","Ouvrage de traitement/rétention","Technologie spécifique","Bâtiment","Ouvrage de traitement/rétentionTechnologie spécifiqueBâtiment",{"$f":"IFERROR($B$5/Identification!$H$68,0)","v":0},0.3,0.3,0.2,0.2,0,{"$f":"SUM(I216:M216)","v":1},{"$f":"I216*H216","v":0},{"$f":"J216*H216","v":0},{"$f":"K216*H216","v":0},{"$f":"L216*H216","v":0},{"$f":"M216*H216","v":0},{"$f":"SUM(O216:S216)","v":0}]
[null,null,"Eau pluviale","Ouvrage de traitement/rétention","Technologie spécifique","Total","Ouvrage de traitement/rétentionTechnologie spécifiqueTotal",{"$f":"SUM(H214:H216)","v":0},null,null,null,null,null,null,{"$f":"SUM(O214:O216)","v":0},0,0,0,0,0]
[null,null,"Eau pluviale","Ouvrage de surverse","Ouvrage de surverse","Régulation de débit","Ouvrage de surverseOuvrage de surverseRégulation de débit",1,0,0.3,0.4,0.1,0.2,{"$f":"SUM(I218:M218)","v":1},0,0.4,0.4,0.1,0.1,{"$f":"SUM(O218:S218)","v":1}]
[null,null,"Eau pluviale","Ouvrage de surverse","Ouvrage de surverse","Total","Ouvrage de surverseOuvrage de surverseTotal",{"$f":"SUM(H218:H218)","v":1},null,null,null,null,null,null,{"$f":"SUM(O218:O218)","v":0},0.4,0.4,0.1,0.1,1]
[null,null,"Eau pluviale","Chambre","Chambre","Chambre","ChambreChambreChambre",1,0,0.45,0.35,0.1,0.1,{"$f":"SUM(I220:M220)","v":1},0,0.4,0.4,0.1,0.1,{"$f":"SUM(O220:S220)","v":1}]
[null,null,"Eaux usées","Chambre","Chambre","Total","ChambreChambreTotal",{"$f":"SUM(H220:H220)","v":1},null,null,null,null,null,null,{"$f":"SUM(O220:O220)","v":0},0.4,0.4,0.1,0.1,1]
[]
[null,null,"6. Liste des municipalités"]
[null,null,"Code géographique","Municipalité","Région"]
[null,null,46005,"ABERCORN","16-MONTÉRÉGIE "]
[null,null,48028,"ACTON VALE","16-MONTÉRÉGIE "]
[null,null,31056,"ADSTOCK","12-CHAUDIÈRE-APPALACHES "]
[null,null,98030,"AGUANISH","09-CÔTE-NORD "]
[null,null,92030,"ALBANEL","02-SAGUENAY-LAC-ST-JEAN "]
[null,null,"07025","ALBERTVILLE","01-BAS-ST-LAURENT "]
[null,null,84050,"ALLEYN-ET-CAWOOD","07-OUTAOUAIS "]
[null,null,93042,"ALMA","02-SAGUENAY-LAC-ST-JEAN "]
[null,null,78070,"AMHERST","15-LAURENTIDES "]
[null,null,88055,"AMOS","08-ABITI-TEMINASCAMINGUE"]
[null,null,"07047","AMQUI","01-BAS-ST-LAURENT "]
[null,null,55008,"ANGE-GARDIEN","16-MONTÉRÉGIE "]
[null,null,19037,"ARMAGH","12-CHAUDIÈRE-APPALACHES "]
[null,null,78060,"ARUNDEL","15-LAURENTIDES "]
[null,null,40043,"ASBESTOS","05-ESTRIE "]
[null,null,41055,"ASCOT CORNER","05-ESTRIE "]
[null,null,50013,"ASTON-JONCTION","17-CENTRE-DU-QUÉBEC "]
[null,null,13045,"AUCLAIR","01-BAS-ST-LAURENT "]
[null,null,30055,"AUDET","05-ESTRIE "]
[null,null,83090,"AUMOND","07-OUTAOUAIS "]
[null,null,45085,"AUSTIN","05-ESTRIE "]
[null,null,87050,"AUTHIER","08-ABITI-TEMINASCAMINGUE"]
[null,null,87100,"AUTHIER-NORD","08-ABITI-TEMINASCAMINGUE"]
[null,null,45035,"AYER'S CLIFF","05-ESTRIE "]
[null,null,96020,"BAIE-COMEAU","09-CÔTE-NORD "]
[null,null,"08080","BAIE-DES-SABLES","01-BAS-ST-LAURENT "]
[null,null,50100,"BAIE-DU-FEBVRE","17-CENTRE-DU-QUÉBEC "]
[null,null,66112,"BAIE-D'URFE","06-MONTRÉAL"]
[null,null,98035,"BAIE-JOHAN-BEETZ","09-CÔTE-NORD "]
[null,null,15065,"BAIE-SAINTE-CATHERINE","03-CAPITALE NATIONALE "]
[null,null,16013,"BAIE-SAINT-PAUL","03-CAPITALE NATIONALE "]
[null,null,96005,"BAIE-TRINITE","09-CÔTE-NORD "]
[null,null,78050,"BARKMERE","15-LAURENTIDES "]
[null,null,44045,"BARNSTON-OUEST","05-ESTRIE "]
[null,null,88022,"BARRAUTE","08-ABITI-TEMINASCAMINGUE"]
[null,null,37210,"BATISCAN","04-MAURICIE"]
[null,null,66107,"BEACONSFIELD","06-MONTRÉAL"]
[null,null,85020,"BEARN","08-ABITI-TEMINASCAMINGUE"]
[null,null,27028,"BEAUCEVILLE","12-CHAUDIÈRE-APPALACHES "]
[null,null,70022,"BEAUHARNOIS","16-MONTÉRÉGIE "]
[null,null,31008,"BEAULAC-GARTHBY","12-CHAUDIÈRE-APPALACHES "]
[null,null,19105,"BEAUMONT","12-CHAUDIÈRE-APPALACHES "]
[null,null,21025,"BEAUPRE","03-CAPITALE NATIONALE "]
[null,null,38010,"BECANCOUR","17-CENTRE-DU-QUÉBEC "]
[null,null,46040,"BEDFORD","16-MONTÉRÉGIE "]
[null,null,46035,"BEDFORD","16-MONTÉRÉGIE "]
[null,null,94250,"BEGIN","02-SAGUENAY-LAC-ST-JEAN "]
[null,null,89050,"BELCOURT","08-ABITI-TEMINASCAMINGUE"]
[null,null,85065,"BELLETERRE","08-ABITI-TEMINASCAMINGUE"]
[null,null,57040,"BELOEIL","16-MONTÉRÉGIE "]
[null,null,88070,"BERRY","08-ABITI-TEMINASCAMINGUE"]
[null,null,18065,"BERTHIER-SUR-MER","12-CHAUDIÈRE-APPALACHES "]
[null,null,52035,"BERTHIERVILLE","14-LANAUDIÈRE "]
[null,null,48005,"BETHANIE","16-MONTÉRÉGIE "]
[null,null,13055,"BIENCOURT","01-BAS-ST-LAURENT "]
[null,null,73015,"BLAINVILLE","15-LAURENTIDES "]
[null,null,98005,"BLANC-SABLON","09-CÔTE-NORD "]
[null,null,83045,"BLUE SEA","07-OUTAOUAIS "]
[null,null,80115,"BOILEAU","07-OUTAOUAIS "]
[null,null,73005,"BOISBRIAND","15-LAURENTIDES "]
[null,null,21045,"BOISCHATEL","03-CAPITALE NATIONALE "]
[null,null,73030,"BOIS-DES-FILION","15-LAURENTIDES "]
[null,null,83085,"BOIS-FRANC","07-OUTAOUAIS "]
[null,null,45095,"BOLTON-EST","05-ESTRIE "]
[null,null,46065,"BOLTON-OUEST","16-MONTÉRÉGIE "]
[null,null,"05045","BONAVENTURE","11-GASPÉSIE-ILES-DE-LA-MADELEINE "]
[null,null,98010,"BONNE-ESPERANCE","09-CÔTE-NORD "]
[null,null,42040,"BONSECOURS","05-ESTRIE "]
[null,null,58033,"BOUCHERVILLE","16-MONTÉRÉGIE "]
[null,null,83050,"BOUCHETTE","07-OUTAOUAIS "]
[null,null,80145,"BOWMAN","07-OUTAOUAIS "]
[null,null,78075,"BREBEUF","15-LAURENTIDES "]
[null,null,46090,"BRIGHAM","16-MONTÉRÉGIE "]
[null,null,84005,"BRISTOL","07-OUTAOUAIS "]
[null,null,46070,"BROME","16-MONTÉRÉGIE "]
[null,null,46078,"BROMONT","16-MONTÉRÉGIE "]
[null,null,58007,"BROSSARD","16-MONTÉRÉGIE "]
[null,null,76043,"BROWNSBURG-CHATHAM","15-LAURENTIDES "]
[null,null,84025,"BRYSON","07-OUTAOUAIS "]
[null,null,41070,"BURY","05-ESTRIE "]
[null,null,12057,"CACOUNA","01-BAS-ST-LAURENT "]
[null,null,59030,"CALIXA-LAVALLEE","16-MONTÉRÉGIE "]
[null,null,84030,"CAMPBELL'S BAY","07-OUTAOUAIS "]
[null,null,67020,"CANDIAC","16-MONTÉRÉGIE "]
[null,null,82020,"CANTLEY","07-OUTAOUAIS "]
[null,null,"04047","CAP-CHAT","11-GASPÉSIE-ILES-DE-LA-MADELEINE "]
[null,null,"05060","CAPLAN","11-GASPÉSIE-ILES-DE-LA-MADELEINE "]
[null,null,18045,"CAP-SAINT-IGNACE","12-CHAUDIÈRE-APPALACHES "]
[null,null,34030,"CAP-SANTE","03-CAPITALE NATIONALE "]
[null,null,57010,"CARIGNAN","16-MONTÉRÉGIE "]
[null,null,"06013","CARLETON-SUR-MER","11-GASPÉSIE-ILES-DE-LA-MADELEINE "]
[null,null,"05077","CASCAPEDIA–SAINT-JULES","11-GASPÉSIE-ILES-DE-LA-MADELEINE "]
[null,null,"07018","CAUSAPSCAL","01-BAS-ST-LAURENT "]
[null,null,83040,"CAYAMANT","07-OUTAOUAIS "]
[null,null,57005,"CHAMBLY","16-MONTÉRÉGIE "]
[null,null,91020,"CHAMBORD","02-SAGUENAY-LAC-ST-JEAN "]
[null,null,37220,"CHAMPLAIN","04-MAURICIE"]
[null,null,88005,"CHAMPNEUF","08-ABITI-TEMINASCAMINGUE"]
[null,null,"02028","CHANDLER","11-GASPÉSIE-ILES-DE-LA-MADELEINE "]
[null,null,99020,"CHAPAIS","10-NORD-DU-QUÉBEC "]
[null,null,51080,"CHARETTE","04-MAURICIE"]
[null,null,60005,"CHARLEMAGNE","14-LANAUDIÈRE "]
[null,null,41020,"CHARTIERVILLE","05-ESTRIE "]
[null,null,67050,"CHATEAUGUAY","16-MONTÉRÉGIE "]
[null,null,21035,"CHATEAU-RICHER","03-CAPITALE NATIONALE "]
[null,null,87095,"CHAZEL","08-ABITI-TEMINASCAMINGUE"]
[null,null,82025,"CHELSEA","07-OUTAOUAIS "]
[null,null,80103,"CHENEVILLE","07-OUTAOUAIS "]
[null,null,62047,"CHERTSEY","14-LANAUDIÈRE "]
[null,null,39030,"CHESTERVILLE","17-CENTRE-DU-QUÉBEC "]
[null,null,99025,"CHIBOUGAMAU","10-NORD-DU-QUÉBEC "]
[null,null,84090,"CHICHESTER","07-OUTAOUAIS "]
[null,null,96035,"CHUTE-AUX-OUTARDES","09-CÔTE-NORD "]
[null,null,79065,"CHUTE-SAINT-PHILIPPE","15-LAURENTIDES "]
[null,null,84015,"CLARENDON","07-OUTAOUAIS "]
[null,null,87110,"CLERMONT","08-ABITI-TEMINASCAMINGUE"]
[null,null,15035,"CLERMONT","08-ABITI-TEMINASCAMINGUE"]
[null,null,87075,"CLERVAL","08-ABITI-TEMINASCAMINGUE"]
[null,null,42110,"CLEVELAND","05-ESTRIE "]
[null,null,"03010","CLORIDORME","11-GASPÉSIE-ILES-DE-LA-MADELEINE "]
[null,null,44037,"COATICOOK","05-ESTRIE "]
[null,null,95050,"COLOMBIER","09-CÔTE-NORD "]
[null,null,44071,"COMPTON","05-ESTRIE "]
[null,null,59035,"CONTRECOEUR","16-MONTÉRÉGIE "]
[null,null,41038,"COOKSHIRE-EATON","05-ESTRIE "]
[null,null,71040,"COTEAU-DU-LAC","16-MONTÉRÉGIE "]
[null,null,98015,"COTE-NORD-DU-GOLFE-DU-SAINT-LAURENT","09-CÔTE-NORD "]
[null,null,66058,"COTE-SAINT-LUC","06-MONTRÉAL"]
[null,null,30090,"COURCELLES","05-ESTRIE "]
[null,null,46080,"COWANSVILLE","16-MONTÉRÉGIE "]
[null,null,61013,"CRABTREE","14-LANAUDIÈRE "]
[null,null,40047,"DANVILLE","05-ESTRIE "]
[null,null,39152,"DAVELUYVILLE","17-CENTRE-DU-QUÉBEC "]
[null,null,13005,"DEGELIS","01-BAS-ST-LAURENT "]
[null,null,83070,"DELEAGE","07-OUTAOUAIS "]
[null,null,67025,"DELSON","16-MONTÉRÉGIE "]
[null,null,83005,"DENHOLM","07-OUTAOUAIS "]
[null,null,93005,"DESBIENS","02-SAGUENAY-LAC-ST-JEAN "]
[null,null,38070,"DESCHAILLONS-SUR-SAINT-LAURENT","17-CENTRE-DU-QUÉBEC "]
[null,null,34058,"DESCHAMBAULT-GRONDINES","03-CAPITALE NATIONALE "]
[null,null,72010,"DEUX-MONTAGNES","15-LAURENTIDES "]
[null,null,31020,"DISRAELI","12-CHAUDIÈRE-APPALACHES "]
[null,null,31015,"DISRAELI","12-CHAUDIÈRE-APPALACHES "]
[null,null,44023,"DIXVILLE","05-ESTRIE "]
[null,null,92022,"DOLBEAU-MISTASSINI","02-SAGUENAY-LAC-ST-JEAN "]
[null,null,66142,"DOLLARD-DES ORMEAUX","06-MONTRÉAL"]
[null,null,34025,"DONNACONA","03-CAPITALE NATIONALE "]
[null,null,66087,"DORVAL","06-MONTRÉAL"]
[null,null,33040,"DOSQUET","12-CHAUDIÈRE-APPALACHES "]
[null,null,49058,"DRUMMONDVILLE","17-CENTRE-DU-QUÉBEC "]
[null,null,41117,"DUDSWELL","05-ESTRIE "]
[null,null,80135,"DUHAMEL","07-OUTAOUAIS "]
[null,null,85030,"DUHAMEL-OUEST","08-ABITI-TEMINASCAMINGUE"]
[null,null,69075,"DUNDEE","16-MONTÉRÉGIE "]
[null,null,46050,"DUNHAM","16-MONTÉRÉGIE "]
[null,null,87005,"DUPARQUET","08-ABITI-TEMINASCAMINGUE"]
[null,null,87085,"DUPUY","08-ABITI-TEMINASCAMINGUE"]
[null,null,49015,"DURHAM-SUD","17-CENTRE-DU-QUÉBEC "]
[null,null,41060,"EAST ANGUS","05-ESTRIE "]
[null,null,31122,"EAST BROUGHTON","12-CHAUDIÈRE-APPALACHES "]
[null,null,46085,"EAST FARNHAM","16-MONTÉRÉGIE "]
[null,null,44010,"EAST HEREFORD","05-ESTRIE "]
[null,null,45093,"EASTMAN","05-ESTRIE "]
[null,null,83075,"EGAN-SUD","07-OUTAOUAIS "]
[null,null,69050,"ELGIN","16-MONTÉRÉGIE "]
[null,null,62053,"ENTRELACS","14-LANAUDIÈRE "]
[null,null,"06025","ESCUMINAC","11-GASPÉSIE-ILES-DE-LA-MADELEINE "]
[null,null,10005,"ESPRIT-SAINT","01-BAS-ST-LAURENT "]
[null,null,77011,"ESTEREL","15-LAURENTIDES "]
[null,null,46112,"FARNHAM","16-MONTÉRÉGIE "]
[null,null,80005,"FASSETT","07-OUTAOUAIS "]
[null,null,94220,"FERLAND-ET-BOILLEAU","02-SAGUENAY-LAC-ST-JEAN "]
[null,null,79097,"FERME-NEUVE","15-LAURENTIDES "]
[null,null,97035,"FERMONT","09-CÔTE-NORD "]
[null,null,95045,"FORESTVILLE","09-CÔTE-NORD "]
[null,null,84060,"FORT-COULONGE","07-OUTAOUAIS "]
[null,null,38047,"FORTIERVILLE","17-CENTRE-DU-QUÉBEC "]
[null,null,22010,"FOSSAMBAULT-SUR-LE-LAC","03-CAPITALE NATIONALE "]
[null,null,26005,"FRAMPTON","12-CHAUDIÈRE-APPALACHES "]
[null,null,69010,"FRANKLIN","16-MONTÉRÉGIE "]
[null,null,96015,"FRANQUELIN","09-CÔTE-NORD "]
[null,null,46010,"FRELIGHSBURG","16-MONTÉRÉGIE "]
[null,null,30025,"FRONTENAC","05-ESTRIE "]
[null,null,85055,"FUGEREVILLE","08-ABITI-TEMINASCAMINGUE"]
[null,null,87020,"GALLICHAN","08-ABITI-TEMINASCAMINGUE"]
[null,null,"03005","GASPE","11-GASPÉSIE-ILES-DE-LA-MADELEINE "]
[null,null,81017,"GATINEAU","07-OUTAOUAIS "]
[null,null,92055,"GIRARDVILLE","02-SAGUENAY-LAC-ST-JEAN "]
[null,null,96010,"GODBOUT","09-CÔTE-NORD "]
[null,null,69060,"GODMANCHESTER","16-MONTÉRÉGIE "]
[null,null,76025,"GORE","15-LAURENTIDES "]
[null,null,99060,"GOUVERNEMENT REGIONAL D'EEYOU ISTCHEE BAIE-JAMES","10-NORD-DU-QUÉBEC "]
[null,null,83032,"GRACEFIELD","07-OUTAOUAIS "]
[null,null,47017,"GRANBY","16-MONTÉRÉGIE "]
[null,null,"02015","GRANDE-RIVIERE","11-GASPÉSIE-ILES-DE-LA-MADELEINE "]
[null,null,35040,"GRANDES-PILES","04-MAURICIE"]
[null,null,"03020","GRANDE-VALLEE","11-GASPÉSIE-ILES-DE-LA-MADELEINE "]
[null,null,"09060","GRAND-METIS","01-BAS-ST-LAURENT "]
[null,null,83095,"GRAND-REMOUS","07-OUTAOUAIS "]
[null,null,50065,"GRAND-SAINT-ESPRIT","17-CENTRE-DU-QUÉBEC "]
[null,null,76055,"GRENVILLE","15-LAURENTIDES "]
[null,null,76052,"GRENVILLE-SUR-LA-ROUGE","15-LAURENTIDES "]
[null,null,98014,"GROS-MECATINA","09-CÔTE-NORD "]
[null,null,"01042","GROSSE-ÎLE","11-GASPÉSIE-ILES-DE-LA-MADELEINE "]
[null,null,"08015","GROSSES-ROCHES","01-BAS-ST-LAURENT "]
[null,null,85095,"GUERIN","08-ABITI-TEMINASCAMINGUE"]
[null,null,39010,"HAM-NORD","17-CENTRE-DU-QUÉBEC "]
[null,null,41075,"HAMPDEN","05-ESTRIE "]
[null,null,66062,"HAMPSTEAD","06-MONTRÉAL"]
[null,null,40005,"HAM-SUD","05-ESTRIE "]
[null,null,76065,"HARRINGTON","15-LAURENTIDES "]
[null,null,45055,"HATLEY","05-ESTRIE "]
[null,null,45043,"HATLEY","05-ESTRIE "]
[null,null,69005,"HAVELOCK","16-MONTÉRÉGIE "]
[null,null,98040,"HAVRE-SAINT-PIERRE","09-CÔTE-NORD "]
[null,null,93020,"HEBERTVILLE","02-SAGUENAY-LAC-ST-JEAN "]
[null,null,93025,"HEBERTVILLE-STATION","02-SAGUENAY-LAC-ST-JEAN "]
[null,null,68015,"HEMMINGFORD","16-MONTÉRÉGIE "]
[null,null,68010,"HEMMINGFORD","16-MONTÉRÉGIE "]
[null,null,56042,"HENRYVILLE","16-MONTÉRÉGIE "]
[null,null,35035,"HEROUXVILLE","04-MAURICIE"]
[null,null,69045,"HINCHINBROOKE","16-MONTÉRÉGIE "]
[null,null,19070,"HONFLEUR","12-CHAUDIÈRE-APPALACHES "]
[null,null,"05025","HOPE","11-GASPÉSIE-ILES-DE-LA-MADELEINE "]
[null,null,"05020","HOPE TOWN","11-GASPÉSIE-ILES-DE-LA-MADELEINE "]
[null,null,69025,"HOWICK","16-MONTÉRÉGIE "]
[null,null,78065,"HUBERDEAU","15-LAURENTIDES "]
[null,null,71100,"HUDSON","16-MONTÉRÉGIE "]
[null,null,69055,"HUNTINGDON","16-MONTÉRÉGIE "]
[null,null,32058,"INVERNESS","17-CENTRE-DU-QUÉBEC "]
[null,null,31040,"IRLANDE","12-CHAUDIÈRE-APPALACHES "]
[null,null,78042,"IVRY-SUR-LE-LAC","15-LAURENTIDES "]
[null,null,61025,"JOLIETTE","14-LANAUDIÈRE "]
[null,null,14050,"KAMOURASKA","01-BAS-ST-LAURENT "]
[null,null,83015,"KAZABAZUA","07-OUTAOUAIS "]
[null,null,79025,"KIAMIKA","15-LAURENTIDES "]
[null,null,42070,"KINGSBURY","05-ESTRIE "]
[null,null,39097,"KINGSEY FALLS","17-CENTRE-DU-QUÉBEC "]
[null,null,31105,"KINNEAR'S MILLS","12-CHAUDIÈRE-APPALACHES "]
[null,null,85010,"KIPAWA","08-ABITI-TEMINASCAMINGUE"]
[null,null,66102,"KIRKLAND","06-MONTRÉAL"]
[null,null,90017,"LA BOSTONNAIS","04-MAURICIE"]
[null,null,78115,"LA CONCEPTION","15-LAURENTIDES "]
[null,null,88030,"LA CORNE","08-ABITI-TEMINASCAMINGUE"]
[null,null,91050,"LA DORE","02-SAGUENAY-LAC-ST-JEAN "]
[null,null,19090,"LA DURANTAYE","12-CHAUDIÈRE-APPALACHES "]
[null,null,29030,"LA GUADELOUPE","12-CHAUDIÈRE-APPALACHES "]
[null,null,79047,"LA MACAZA","15-LAURENTIDES "]
[null,null,15013,"LA MALBAIE","03-CAPITALE NATIONALE "]
[null,null,"04030","LA MARTRE","11-GASPÉSIE-ILES-DE-LA-MADELEINE "]
[null,null,78130,"LA MINERVE","15-LAURENTIDES "]
[null,null,88015,"LA MORANDIERE","08-ABITI-TEMINASCAMINGUE"]
[null,null,88045,"LA MOTTE","08-ABITI-TEMINASCAMINGUE"]
[null,null,41027,"LA PATRIE","05-ESTRIE "]
[null,null,82035,"LA PECHE","07-OUTAOUAIS "]
[null,null,14085,"LA POCATIERE","01-BAS-ST-LAURENT "]
[null,null,67015,"LA PRAIRIE","16-MONTÉRÉGIE "]
[null,null,54035,"LA PRESENTATION","16-MONTÉRÉGIE "]
[null,null,"09005","LA REDEMPTION","01-BAS-ST-LAURENT "]
[null,null,87080,"LA REINE","08-ABITI-TEMINASCAMINGUE"]
[null,null,87090,"LA SARRE","08-ABITI-TEMINASCAMINGUE"]
[null,null,10010,"LA TRINITE-DES-MONTS","01-BAS-ST-LAURENT "]
[null,null,90012,"LA TUQUE","04-MAURICIE"]
[null,null,52050,"LA VISITATION-DE-L'ÎLE-DUPAS","14-LANAUDIÈRE "]
[null,null,50085,"LA VISITATION-DE-YAMASKA","17-CENTRE-DU-QUÉBEC "]
[null,null,78120,"LABELLE","15-LAURENTIDES "]
[null,null,93055,"LABRECQUE","02-SAGUENAY-LAC-ST-JEAN "]
[null,null,"07057","LAC-AU-SAUMON","01-BAS-ST-LAURENT "]
[null,null,35010,"LAC-AUX-SABLES","04-MAURICIE"]
[null,null,22040,"LAC-BEAUPORT","03-CAPITALE NATIONALE "]
[null,null,91005,"LAC-BOUCHETTE","02-SAGUENAY-LAC-ST-JEAN "]
[null,null,46075,"LAC-BROME","16-MONTÉRÉGIE "]
[null,null,22030,"LAC-DELAGE","03-CAPITALE NATIONALE "]
[null,null,13060,"LAC-DES-AIGLES","01-BAS-ST-LAURENT "]
[null,null,79078,"LAC-DES-ÉCORCES","15-LAURENTIDES "]
[null,null,80130,"LAC-DES-PLAGES","07-OUTAOUAIS "]
[null,null,77055,"LAC-DES-SEIZE-ÎLES","15-LAURENTIDES "]
[null,null,30080,"LAC-DROLET","05-ESTRIE "]
[null,null,79015,"LAC-DU-CERF","15-LAURENTIDES "]
[null,null,90027,"LAC-ÉDOUARD","04-MAURICIE"]
[null,null,28053,"LAC-ETCHEMIN","12-CHAUDIÈRE-APPALACHES "]
[null,null,18010,"LAC-FRONTIERE","12-CHAUDIÈRE-APPALACHES "]
[null,null,76020,"LACHUTE","15-LAURENTIDES "]
[null,null,30030,"LAC-MEGANTIC","05-ESTRIE "]
[null,null,56023,"LACOLLE","16-MONTÉRÉGIE "]
[null,null,29095,"LAC-POULIN","12-CHAUDIÈRE-APPALACHES "]
[null,null,79060,"LAC-SAGUAY","15-LAURENTIDES "]
[null,null,83020,"LAC-SAINTE-MARIE","07-OUTAOUAIS "]
[null,null,22015,"LAC-SAINT-JOSEPH","03-CAPITALE NATIONALE "]
[null,null,79105,"LAC-SAINT-PAUL","15-LAURENTIDES "]
[null,null,34120,"LAC-SERGENT","03-CAPITALE NATIONALE "]
[null,null,80095,"LAC-SIMON","07-OUTAOUAIS "]
[null,null,78095,"LAC-SUPERIEUR","15-LAURENTIDES "]
[null,null,78127,"LAC-TREMBLANT-NORD","15-LAURENTIDES "]
[null,null,85070,"LAFORCE","08-ABITI-TEMINASCAMINGUE"]
[null,null,93060,"LAMARCHE","02-SAGUENAY-LAC-ST-JEAN "]
[null,null,30095,"LAMBTON","05-ESTRIE "]
[null,null,23057,"L'ANCIENNE-LORETTE","03-CAPITALE NATIONALE "]
[null,null,88035,"LANDRIENNE","08-ABITI-TEMINASCAMINGUE"]
[null,null,21040,"L'ANGE-GARDIEN","07-OUTAOUAIS "]
[null,null,82005,"L'ANGE-GARDIEN","07-OUTAOUAIS "]
[null,null,52017,"LANORAIE","14-LANAUDIÈRE "]
[null,null,94210,"L'ANSE-SAINT-JEAN","02-SAGUENAY-LAC-ST-JEAN "]
[null,null,78015,"LANTIER","15-LAURENTIDES "]
[null,null,94265,"LAROUCHE","02-SAGUENAY-LAC-ST-JEAN "]
[null,null,79050,"L'ASCENSION","15-LAURENTIDES "]
[null,null,93065,"L'ASCENSION-DE-NOTRE-SEIGNEUR","02-SAGUENAY-LAC-ST-JEAN "]
[null,null,"06060","L'ASCENSION-DE-PATAPEDIA","11-GASPÉSIE-ILES-DE-LA-MADELEINE "]
[null,null,60028,"L'ASSOMPTION","14-LANAUDIÈRE "]
[null,null,85060,"LATULIPE-ET-GABOURY","08-ABITI-TEMINASCAMINGUE"]
[null,null,88080,"LAUNAY","08-ABITI-TEMINASCAMINGUE"]
[null,null,33060,"LAURIER-STATION","12-CHAUDIÈRE-APPALACHES "]
[null,null,32072,"LAURIERVILLE","17-CENTRE-DU-QUÉBEC "]
[null,null,65005,"LAVAL","13-LAVAL"]
[null,null,52007,"LAVALTRIE","14-LANAUDIÈRE "]
[null,null,49025,"L'AVENIR","17-CENTRE-DU-QUÉBEC "]
[null,null,85052,"LAVERLOCHERE-ANGLIERS","08-ABITI-TEMINASCAMINGUE"]
[null,null,42045,"LAWRENCEVILLE","05-ESTRIE "]
[null,null,99005,"LEBEL-SUR-QUEVILLON","10-NORD-DU-QUÉBEC "]
[null,null,33123,"LECLERCVILLE","12-CHAUDIÈRE-APPALACHES "]
[null,null,49020,"LEFEBVRE","17-CENTRE-DU-QUÉBEC "]
[null,null,13050,"LEJEUNE","01-BAS-ST-LAURENT "]
[null,null,38020,"LEMIEUX","17-CENTRE-DU-QUÉBEC "]
[null,null,60037,"L'ÉPIPHANIE","14-LANAUDIÈRE "]
[null,null,67055,"LERY","16-MONTÉRÉGIE "]
[null,null,95018,"LES BERGERONNES","09-CÔTE-NORD "]
[null,null,71050,"LES CEDRES","16-MONTÉRÉGIE "]
[null,null,71033,"LES COTEAUX","16-MONTÉRÉGIE "]
[null,null,16048,"LES ÉBOULEMENTS","03-CAPITALE NATIONALE "]
[null,null,95025,"LES ESCOUMINS","09-CÔTE-NORD "]
[null,null,"09015","LES HAUTEURS","01-BAS-ST-LAURENT "]
[null,null,"01023","LES ÎLES-DE-LA-MADELEINE","11-GASPÉSIE-ILES-DE-LA-MADELEINE "]
[null,null,"08005","LES MECHINS","01-BAS-ST-LAURENT "]
[null,null,25213,"LEVIS","12-CHAUDIÈRE-APPALACHES "]
[null,null,71095,"L'ÎLE-CADIEUX","16-MONTÉRÉGIE "]
[null,null,98020,"L'ÎLE-D'ANTICOSTI","09-CÔTE-NORD "]
[null,null,66092,"L'ÎLE-DORVAL","06-MONTRÉAL"]
[null,null,84035,"L'ÎLE-DU-GRAND-CALUMET","07-OUTAOUAIS "]
[null,null,71060,"L'ÎLE-PERROT","16-MONTÉRÉGIE "]
[null,null,41085,"LINGWICK","05-ESTRIE "]
[null,null,84082,"L'ISLE-AUX-ALLUMETTES","07-OUTAOUAIS "]
[null,null,16023,"L'ISLE-AUX-COUDRES","03-CAPITALE NATIONALE "]
[null,null,17078,"L'ISLET","12-CHAUDIÈRE-APPALACHES "]
[null,null,12043,"L'ISLE-VERTE","01-BAS-ST-LAURENT "]
[null,null,84040,"LITCHFIELD","07-OUTAOUAIS "]
[null,null,80055,"LOCHABER","07-OUTAOUAIS "]
[null,null,80060,"LOCHABER-PARTIE-OUEST","07-OUTAOUAIS "]
[null,null,98045,"LONGUE-POINTE-DE-MINGAN","09-CÔTE-NORD "]
[null,null,95032,"LONGUE-RIVE","09-CÔTE-NORD "]
[null,null,58227,"LONGUEUIL","16-MONTÉRÉGIE "]
[null,null,73025,"LORRAINE","15-LAURENTIDES "]
[null,null,85037,"LORRAINVILLE","08-ABITI-TEMINASCAMINGUE"]
[null,null,33115,"LOTBINIERE","12-CHAUDIÈRE-APPALACHES "]
[null,null,51015,"LOUISEVILLE","04-MAURICIE"]
[null,null,83010,"LOW","07-OUTAOUAIS "]
[null,null,32065,"LYSTER","17-CENTRE-DU-QUÉBEC "]
[null,null,87058,"MACAMIC","08-ABITI-TEMINASCAMINGUE"]
[null,null,39165,"MADDINGTON FALLS","17-CENTRE-DU-QUÉBEC "]
[null,null,45072,"MAGOG","05-ESTRIE "]
[null,null,89015,"MALARTIC","08-ABITI-TEMINASCAMINGUE"]
[null,null,52095,"MANDEVILLE","14-LANAUDIÈRE "]
[null,null,83065,"MANIWAKI","07-OUTAOUAIS "]
[null,null,38028,"MANSEAU","17-CENTRE-DU-QUÉBEC "]
[null,null,84065,"MANSFIELD-ET-PONTEFRACT","07-OUTAOUAIS "]
[null,null,"06005","MARIA","11-GASPÉSIE-ILES-DE-LA-MADELEINE "]
[null,null,42065,"MARICOURT","05-ESTRIE "]
[null,null,55048,"MARIEVILLE","16-MONTÉRÉGIE "]
[null,null,"04025","MARSOUI","11-GASPÉSIE-ILES-DE-LA-MADELEINE "]
[null,null,30035,"MARSTON","05-ESTRIE "]
[null,null,44060,"MARTINVILLE","05-ESTRIE "]
[null,null,64015,"MASCOUCHE","14-LANAUDIÈRE "]
[null,null,51008,"MASKINONGE","04-MAURICIE"]
[null,null,53010,"MASSUEVILLE","16-MONTÉRÉGIE "]
[null,null,99015,"MATAGAMI","10-NORD-DU-QUÉBEC "]
[null,null,"08053","MATANE","01-BAS-ST-LAURENT "]
[null,null,"06045","MATAPEDIA","11-GASPÉSIE-ILES-DE-LA-MADELEINE "]
[null,null,80065,"MAYO","07-OUTAOUAIS "]
[null,null,57025,"MCMASTERVILLE","16-MONTÉRÉGIE "]
[null,null,42075,"MELBOURNE","05-ESTRIE "]
[null,null,67045,"MERCIER","16-MONTÉRÉGIE "]
[null,null,83060,"MESSINES","07-OUTAOUAIS "]
[null,null,93012,"METABETCHOUAN–LAC-A-LA-CROIX","02-SAGUENAY-LAC-ST-JEAN "]
[null,null,"09048","METIS-SUR-MER","01-BAS-ST-LAURENT "]
[null,null,30040,"MILAN","05-ESTRIE "]
[null,null,76030,"MILLE-ISLES","15-LAURENTIDES "]
[null,null,74005,"MIRABEL","15-LAURENTIDES "]
[null,null,85075,"MOFFET","08-ABITI-TEMINASCAMINGUE"]
[null,null,78055,"MONTCALM","15-LAURENTIDES "]
[null,null,14005,"MONT-CARMEL","01-BAS-ST-LAURENT "]
[null,null,83088,"MONTCERF-LYTTON","07-OUTAOUAIS "]
[null,null,80010,"MONTEBELLO","07-OUTAOUAIS "]
[null,null,"09077","MONT-JOLI","01-BAS-ST-LAURENT "]
[null,null,79088,"MONT-LAURIER","15-LAURENTIDES "]
[null,null,18050,"MONTMAGNY","12-CHAUDIÈRE-APPALACHES "]
[null,null,80090,"MONTPELLIER","07-OUTAOUAIS "]
[null,null,66023,"MONTREAL","06-MONTRÉAL"]
[null,null,66007,"MONTREAL-EST","06-MONTRÉAL"]
[null,null,66047,"MONTREAL-OUEST","06-MONTRÉAL"]
[null,null,66072,"MONT-ROYAL","06-MONTRÉAL"]
[null,null,56097,"MONT-SAINT-GREGOIRE","16-MONTÉRÉGIE "]
[null,null,57035,"MONT-SAINT-HILAIRE","16-MONTÉRÉGIE "]
[null,null,79110,"MONT-SAINT-MICHEL","15-LAURENTIDES "]
[null,null,"04015","MONT-SAINT-PIERRE","11-GASPÉSIE-ILES-DE-LA-MADELEINE "]
[null,null,78102,"MONT-TREMBLANT","15-LAURENTIDES "]
[null,null,77050,"MORIN-HEIGHTS","15-LAURENTIDES "]
[null,null,80085,"MULGRAVE-ET-DERRY","07-OUTAOUAIS "]
[null,null,"03025","MURDOCHVILLE","11-GASPÉSIE-ILES-DE-LA-MADELEINE "]
[null,null,80110,"NAMUR","07-OUTAOUAIS "]
[null,null,30045,"NANTES","05-ESTRIE "]
[null,null,68030,"NAPIERVILLE","16-MONTÉRÉGIE "]
[null,null,98025,"NATASHQUAN","09-CÔTE-NORD "]
[null,null,85100,"NEDELEC","08-ABITI-TEMINASCAMINGUE"]
[null,null,34007,"NEUVILLE","03-CAPITALE NATIONALE "]
[null,null,"05040","NEW CARLISLE","11-GASPÉSIE-ILES-DE-LA-MADELEINE "]
[null,null,"05070","NEW RICHMOND","11-GASPÉSIE-ILES-DE-LA-MADELEINE "]
[null,null,41037,"NEWPORT","05-ESTRIE "]
[null,null,50072,"NICOLET","17-CENTRE-DU-QUÉBEC "]
[null,null,79030,"NOMININGUE","15-LAURENTIDES "]
[null,null,92040,"NORMANDIN","02-SAGUENAY-LAC-ST-JEAN "]
[null,null,87115,"NORMETAL","08-ABITI-TEMINASCAMINGUE"]
[null,null,45050,"NORTH HATLEY","05-ESTRIE "]
[null,null,19010,"NOTRE-DAME-AUXILIATRICE-DE-BUCKLAND","12-CHAUDIÈRE-APPALACHES "]
[null,null,80015,"NOTRE-DAME-DE-BONSECOURS","07-OUTAOUAIS "]
[null,null,39015,"NOTRE-DAME-DE-HAM","17-CENTRE-DU-QUÉBEC "]
[null,null,62055,"NOTRE-DAME-DE-LA-MERCI","14-LANAUDIÈRE "]
[null,null,80020,"NOTRE-DAME-DE-LA-PAIX","07-OUTAOUAIS "]
[null,null,82010,"NOTRE-DAME-DE-LA-SALETTE","07-OUTAOUAIS "]
[null,null,71065,"NOTRE-DAME-DE-L'ÎLE-PERROT","16-MONTÉRÉGIE "]
[null,null,92060,"NOTRE-DAME-DE-LORETTE","02-SAGUENAY-LAC-ST-JEAN "]
[null,null,61045,"NOTRE-DAME-DE-LOURDES","14-LANAUDIÈRE "]
[null,null,32080,"NOTRE-DAME-DE-LOURDES","14-LANAUDIÈRE "]
[null,null,35005,"NOTRE-DAME-DE-MONTAUBAN","04-MAURICIE"]
[null,null,79010,"NOTRE-DAME-DE-PONTMAIN","15-LAURENTIDES "]
[null,null,23015,"NOTRE-DAME-DES-ANGES","03-CAPITALE NATIONALE "]
[null,null,30010,"NOTRE-DAME-DES-BOIS","05-ESTRIE "]
[null,null,15025,"NOTRE-DAME-DES-MONTS","03-CAPITALE NATIONALE "]
[null,null,11045,"NOTRE-DAME-DES-NEIGES","01-BAS-ST-LAURENT "]
[null,null,29120,"NOTRE-DAME-DES-PINS","12-CHAUDIÈRE-APPALACHES "]
[null,null,61030,"NOTRE-DAME-DES-PRAIRIES","14-LANAUDIÈRE "]
[null,null,12045,"NOTRE-DAME-DES-SEPT-DOULEURS","01-BAS-ST-LAURENT "]
[null,null,46100,"NOTRE-DAME-DE-STANBRIDGE","16-MONTÉRÉGIE "]
[null,null,49080,"NOTRE-DAME-DU-BON-CONSEIL","17-CENTRE-DU-QUÉBEC "]
[null,null,49075,"NOTRE-DAME-DU-BON-CONSEIL","17-CENTRE-DU-QUÉBEC "]
[null,null,79005,"NOTRE-DAME-DU-LAUS","15-LAURENTIDES "]
[null,null,37235,"NOTRE-DAME-DU-MONT-CARMEL","04-MAURICIE"]
[null,null,85090,"NOTRE-DAME-DU-NORD","08-ABITI-TEMINASCAMINGUE"]
[null,null,12080,"NOTRE-DAME-DU-PORTAGE","01-BAS-ST-LAURENT "]
[null,null,18040,"NOTRE-DAME-DU-ROSAIRE","12-CHAUDIÈRE-APPALACHES "]
[null,null,33085,"NOTRE-DAME-DU-SACRÉ-COEUR-D'ISSOUDUN","12-CHAUDIÈRE-APPALACHES "]
[null,null,"06020","NOUVELLE","11-GASPÉSIE-ILES-DE-LA-MADELEINE "]
[null,null,56015,"NOYAN","16-MONTÉRÉGIE "]
[null,null,45020,"OGDEN","05-ESTRIE "]
[null,null,72032,"OKA","15-LAURENTIDES "]
[null,null,45115,"ORFORD","05-ESTRIE "]
[null,null,69037,"ORMSTOWN","16-MONTÉRÉGIE "]
[null,null,84055,"OTTER LAKE","07-OUTAOUAIS "]
[null,null,57030,"OTTERBURN PARK","16-MONTÉRÉGIE "]
[null,null,13015,"PACKINGTON","01-BAS-ST-LAURENT "]
[null,null,"09040","PADOUE","01-BAS-ST-LAURENT "]
[null,null,87025,"PALMAROLLE","08-ABITI-TEMINASCAMINGUE"]
[null,null,80037,"PAPINEAUVILLE","07-OUTAOUAIS "]
[null,null,38055,"PARISVILLE","17-CENTRE-DU-QUÉBEC "]
[null,null,"05032","PASPEBIAC","11-GASPÉSIE-ILES-DE-LA-MADELEINE "]
[null,null,"02005","PERCE","11-GASPÉSIE-ILES-DE-LA-MADELEINE "]
[null,null,92010,"PERIBONKA","02-SAGUENAY-LAC-ST-JEAN "]
[null,null,16005,"PETITE-RIVIERE-SAINT-FRANÇOIS","03-CAPITALE NATIONALE "]
[null,null,"03015","PETITE-VALLEE","11-GASPÉSIE-ILES-DE-LA-MADELEINE "]
[null,null,94205,"PETIT-SAGUENAY","02-SAGUENAY-LAC-ST-JEAN "]
[null,null,77030,"PIEDMONT","15-LAURENTIDES "]
[null,null,50113,"PIERREVILLE","17-CENTRE-DU-QUÉBEC "]
[null,null,46025,"PIKE RIVER","16-MONTÉRÉGIE "]
[null,null,71070,"PINCOURT","16-MONTÉRÉGIE "]
[null,null,30020,"PIOPOLIS","05-ESTRIE "]
[null,null,80045,"PLAISANCE","07-OUTAOUAIS "]
[null,null,32045,"PLESSISVILLE","17-CENTRE-DU-QUÉBEC "]
[null,null,32040,"PLESSISVILLE","17-CENTRE-DU-QUÉBEC "]
[null,null,13095,"POHENEGAMOOK","01-BAS-ST-LAURENT "]
[null,null,"06030","POINTE-A-LA-CROIX","11-GASPÉSIE-ILES-DE-LA-MADELEINE "]
[null,null,96030,"POINTE-AUX-OUTARDES","09-CÔTE-NORD "]
[null,null,72020,"POINTE-CALUMET","15-LAURENTIDES "]
[null,null,66097,"POINTE-CLAIRE","06-MONTRÉAL"]
[null,null,71055,"POINTE-DES-CASCADES","16-MONTÉRÉGIE "]
[null,null,71140,"POINTE-FORTUNE","16-MONTÉRÉGIE "]
[null,null,96025,"POINTE-LEBEL","09-CÔTE-NORD "]
[null,null,82030,"PONTIAC","07-OUTAOUAIS "]
[null,null,34017,"PONT-ROUGE","03-CAPITALE NATIONALE "]
[null,null,84020,"PORTAGE-DU-FORT","07-OUTAOUAIS "]
[null,null,97022,"PORT-CARTIER","09-CÔTE-NORD "]
[null,null,"02047","PORT-DANIEL–GASCONS","11-GASPÉSIE-ILES-DE-LA-MADELEINE "]
[null,null,34048,"PORTNEUF","03-CAPITALE NATIONALE "]
[null,null,95040,"PORTNEUF-SUR-MER","09-CÔTE-NORD "]
[null,null,45030,"POTTON","05-ESTRIE "]
[null,null,87035,"POULARIES","08-ABITI-TEMINASCAMINGUE"]
[null,null,88090,"PREISSAC","08-ABITI-TEMINASCAMINGUE"]
[null,null,75040,"PREVOST","15-LAURENTIDES "]
[null,null,"09065","PRICE","01-BAS-ST-LAURENT "]
[null,null,32033,"PRINCEVILLE","17-CENTRE-DU-QUÉBEC "]
[null,null,23027,"QUEBEC","03-CAPITALE NATIONALE "]
[null,null,42032,"RACINE","05-ESTRIE "]
[null,null,96040,"RAGUENEAU","09-CÔTE-NORD "]
[null,null,87010,"RAPIDE-DANSEUR","08-ABITI-TEMINASCAMINGUE"]
[null,null,84100,"RAPIDES-DES-JOACHIMS","07-OUTAOUAIS "]
[null,null,62037,"RAWDON","14-LANAUDIÈRE "]
[null,null,85105,"REMIGNY","08-ABITI-TEMINASCAMINGUE"]
[null,null,60013,"REPENTIGNY","14-LANAUDIÈRE "]
[null,null,55057,"RICHELIEU","16-MONTÉRÉGIE "]
[null,null,42098,"RICHMOND","05-ESTRIE "]
[null,null,71133,"RIGAUD","16-MONTÉRÉGIE "]
[null,null,10043,"RIMOUSKI","01-BAS-ST-LAURENT "]
[null,null,80078,"RIPON","07-OUTAOUAIS "]
[null,null,"06035","RISTIGOUCHE-PARTIE-SUD-EST","11-GASPÉSIE-ILES-DE-LA-MADELEINE "]
[null,null,"04020","RIVIERE-A-CLAUDE","11-GASPÉSIE-ILES-DE-LA-MADELEINE "]
[null,null,34135,"RIVIERE-A-PIERRE","03-CAPITALE NATIONALE "]
[null,null,98055,"RIVIERE-AU-TONNERRE","09-CÔTE-NORD "]
[null,null,71005,"RIVIERE-BEAUDETTE","16-MONTÉRÉGIE "]
[null,null,13025,"RIVIERE-BLEUE","01-BAS-ST-LAURENT "]
[null,null,12072,"RIVIERE-DU-LOUP","01-BAS-ST-LAURENT "]
[null,null,94215,"RIVIERE-ÉTERNITE","02-SAGUENAY-LAC-ST-JEAN "]
[null,null,89010,"RIVIERE-HEVA","08-ABITI-TEMINASCAMINGUE"]
[null,null,14065,"RIVIERE-OUELLE","01-BAS-ST-LAURENT "]
[null,null,79037,"RIVIERE-ROUGE","15-LAURENTIDES "]
[null,null,98050,"RIVIERE-SAINT-JEAN","11-GASPÉSIE-ILES-DE-LA-MADELEINE "]
[null,null,91025,"ROBERVAL","02-SAGUENAY-LAC-ST-JEAN "]
[null,null,88010,"ROCHEBAUCOURT","08-ABITI-TEMINASCAMINGUE"]
[null,null,87015,"ROQUEMAURE","08-ABITI-TEMINASCAMINGUE"]
[null,null,73020,"ROSEMERE","15-LAURENTIDES "]
[null,null,55037,"ROUGEMONT","16-MONTÉRÉGIE "]
[null,null,86042,"ROUYN-NORANDA","08-ABITI-TEMINASCAMINGUE"]
[null,null,48015,"ROXTON","16-MONTÉRÉGIE "]
[null,null,48010,"ROXTON FALLS","16-MONTÉRÉGIE "]
[null,null,47047,"ROXTON POND","16-MONTÉRÉGIE "]
[null,null,95010,"SACRÉ-COEUR","09-CÔTE-NORD "]
[null,null,31130,"SACRÉ-COEUR-DE-JESUS","12-CHAUDIÈRE-APPALACHES "]
[null,null,94068,"SAGUENAY","02-SAGUENAY-LAC-ST-JEAN "]
[null,null,17015,"SAINT-ADALBERT","12-CHAUDIÈRE-APPALACHES "]
[null,null,"08030","SAINT-ADELME","01-BAS-ST-LAURENT "]
[null,null,35015,"SAINT-ADELPHE","04-MAURICIE"]
[null,null,77065,"SAINT-ADOLPHE-D'HOWARD","15-LAURENTIDES "]
[null,null,40010,"SAINT-ADRIEN","05-ESTRIE "]
[null,null,31095,"SAINT-ADRIEN-D'IRLANDE","12-CHAUDIÈRE-APPALACHES "]
[null,null,33045,"SAINT-AGAPIT","12-CHAUDIÈRE-APPALACHES "]
[null,null,53015,"SAINT-AIME","16-MONTÉRÉGIE "]
[null,null,15030,"SAINT-AIME-DES-LACS","03-CAPITALE NATIONALE "]
[null,null,79022,"SAINT-AIME-DU-LAC-DES-ÎLES","15-LAURENTIDES "]
[null,null,34097,"SAINT-ALBAN","03-CAPITALE NATIONALE "]
[null,null,39085,"SAINT-ALBERT","17-CENTRE-DU-QUÉBEC "]
[null,null,56055,"SAINT-ALEXANDRE","16-MONTÉRÉGIE "]
[null,null,14035,"SAINT-ALEXANDRE-DE-KAMOURASKA","01-BAS-ST-LAURENT "]
[null,null,"07065","SAINT-ALEXANDRE-DES-LACS","01-BAS-ST-LAURENT "]
[null,null,63023,"SAINT-ALEXIS","14-LANAUDIÈRE "]
[null,null,"06050","SAINT-ALEXIS-DE-MATAPEDIA","11-GASPÉSIE-ILES-DE-LA-MADELEINE "]
[null,null,51065,"SAINT-ALEXIS-DES-MONTS","04-MAURICIE"]
[null,null,27015,"SAINT-ALFRED","12-CHAUDIÈRE-APPALACHES "]
[null,null,"05065","SAINT-ALPHONSE","11-GASPÉSIE-ILES-DE-LA-MADELEINE "]
[null,null,47010,"SAINT-ALPHONSE-DE-GRANBY","16-MONTÉRÉGIE "]
[null,null,62025,"SAINT-ALPHONSE-RODRIGUEZ","14-LANAUDIÈRE "]
[null,null,59015,"SAINT-AMABLE","16-MONTÉRÉGIE "]
[null,null,94255,"SAINT-AMBROISE","02-SAGUENAY-LAC-ST-JEAN "]
[null,null,61040,"SAINT-AMBROISE-DE-KILDARE","14-LANAUDIÈRE "]
[null,null,10030,"SAINT-ANACLET-DE-LESSARD","01-BAS-ST-LAURENT "]
[null,null,14040,"SAINT-ANDRE","01-BAS-ST-LAURENT "]
[null,null,80027,"SAINT-ANDRE-AVELLIN","07-OUTAOUAIS "]
[null,null,76008,"SAINT-ANDRE-D'ARGENTEUIL","15-LAURENTIDES "]
[null,null,"06040","SAINT-ANDRE-DE-RESTIGOUCHE","11-GASPÉSIE-ILES-DE-LA-MADELEINE "]
[null,null,91010,"SAINT-ANDRE-DU-LAC-SAINT-JEAN","02-SAGUENAY-LAC-ST-JEAN "]
[null,null,69070,"SAINT-ANICET","16-MONTÉRÉGIE "]
[null,null,19062,"SAINT-ANSELME","12-CHAUDIÈRE-APPALACHES "]
[null,null,18070,"SAINT-ANTOINE-DE-L'ISLE-AUX-GRUES","12-CHAUDIÈRE-APPALACHES "]
[null,null,33095,"SAINT-ANTOINE-DE-TILLY","12-CHAUDIÈRE-APPALACHES "]
[null,null,57075,"SAINT-ANTOINE-SUR-RICHELIEU","16-MONTÉRÉGIE "]
[null,null,12015,"SAINT-ANTONIN","01-BAS-ST-LAURENT "]
[null,null,33090,"SAINT-APOLLINAIRE","12-CHAUDIÈRE-APPALACHES "]
[null,null,46017,"SAINT-ARMAND","16-MONTÉRÉGIE "]
[null,null,12065,"SAINT-ARSENE","01-BAS-ST-LAURENT "]
[null,null,13100,"SAINT-ATHANASE","01-BAS-ST-LAURENT "]
[null,null,17055,"SAINT-AUBERT","12-CHAUDIÈRE-APPALACHES "]
[null,null,98012,"SAINT-AUGUSTIN","02-SAGUENAY-LAC-ST-JEAN "]
[null,null,92005,"SAINT-AUGUSTIN","02-SAGUENAY-LAC-ST-JEAN "]
[null,null,23072,"SAINT-AUGUSTIN-DE-DESMAURES","03-CAPITALE NATIONALE "]
[null,null,30005,"SAINT-AUGUSTIN-DE-WOBURN","05-ESTRIE "]
[null,null,51025,"SAINT-BARNABE","04-MAURICIE"]
[null,null,54105,"SAINT-BARNABE-SUD","16-MONTÉRÉGIE "]
[null,null,52055,"SAINT-BARTHELEMY","14-LANAUDIÈRE "]
[null,null,34038,"SAINT-BASILE","03-CAPITALE NATIONALE "]
[null,null,57020,"SAINT-BASILE-LE-GRAND","16-MONTÉRÉGIE "]
[null,null,28025,"SAINT-BENJAMIN","12-CHAUDIÈRE-APPALACHES "]
[null,null,45080,"SAINT-BENOIT-DU-LAC","05-ESTRIE "]
[null,null,29100,"SAINT-BENOIT-LABRE","12-CHAUDIÈRE-APPALACHES "]
[null,null,26055,"SAINT-BERNARD","12-CHAUDIÈRE-APPALACHES "]
[null,null,68005,"SAINT-BERNARD-DE-LACOLLE","16-MONTÉRÉGIE "]
[null,null,54115,"SAINT-BERNARD-DE-MICHAUDVILLE","16-MONTÉRÉGIE "]
[null,null,56065,"SAINT-BLAISE-SUR-RICHELIEU","16-MONTÉRÉGIE "]
[null,null,49125,"SAINT-BONAVENTURE","17-CENTRE-DU-QUÉBEC "]
[null,null,51085,"SAINT-BONIFACE","04-MAURICIE"]
[null,null,93030,"SAINT-BRUNO","02-SAGUENAY-LAC-ST-JEAN "]
[null,null,85045,"SAINT-BRUNO-DE-GUIGUES","08-ABITI-TEMINASCAMINGUE"]
[null,null,14010,"SAINT-BRUNO-DE-KAMOURASKA","01-BAS-ST-LAURENT "]
[null,null,58037,"SAINT-BRUNO-DE-MONTARVILLE","16-MONTÉRÉGIE "]
[null,null,63055,"SAINT-CALIXTE","14-LANAUDIÈRE "]
[null,null,40025,"SAINT-CAMILLE","05-ESTRIE "]
[null,null,28070,"SAINT-CAMILLE-DE-LELLIS","12-CHAUDIÈRE-APPALACHES "]
[null,null,34078,"SAINT-CASIMIR","03-CAPITALE NATIONALE "]
[null,null,50035,"SAINT-CELESTIN","17-CENTRE-DU-QUÉBEC "]
[null,null,50030,"SAINT-CELESTIN","17-CENTRE-DU-QUÉBEC "]
[null,null,55023,"SAINT-CESAIRE","16-MONTÉRÉGIE "]
[null,null,61035,"SAINT-CHARLES-BORROMEE","14-LANAUDIÈRE "]
[null,null,19097,"SAINT-CHARLES-DE-BELLECHASSE","12-CHAUDIÈRE-APPALACHES "]
[null,null,94260,"SAINT-CHARLES-DE-BOURGET","02-SAGUENAY-LAC-ST-JEAN "]
[null,null,"09010","SAINT-CHARLES-GARNIER","01-BAS-ST-LAURENT "]
[null,null,57057,"SAINT-CHARLES-SUR-RICHELIEU","16-MONTÉRÉGIE "]
[null,null,39060,"SAINT-CHRISTOPHE-D'ARTHABASKA","17-CENTRE-DU-QUÉBEC "]
[null,null,69017,"SAINT-CHRYSOSTOME","16-MONTÉRÉGIE "]
[null,null,42100,"SAINT-CLAUDE","05-ESTRIE "]
[null,null,11005,"SAINT-CLEMENT","01-BAS-ST-LAURENT "]
[null,null,"07090","SAINT-CLEOPHAS","01-BAS-ST-LAURENT "]
[null,null,52075,"SAINT-CLEOPHAS-DE-BRANDON","14-LANAUDIÈRE "]
[null,null,71045,"SAINT-CLET","16-MONTÉRÉGIE "]
[null,null,75005,"SAINT-COLOMBAN","15-LAURENTIDES "]
[null,null,62065,"SAINT-COME","14-LANAUDIÈRE "]
[null,null,29057,"SAINT-COME–LINIERE","12-CHAUDIÈRE-APPALACHES "]
[null,null,67035,"SAINT-CONSTANT","16-MONTÉRÉGIE "]
[null,null,52062,"SAINT-CUTHBERT","14-LANAUDIÈRE "]
[null,null,12005,"SAINT-CYPRIEN","12-CHAUDIÈRE-APPALACHES "]
[null,null,28040,"SAINT-CYPRIEN","12-CHAUDIÈRE-APPALACHES "]
[null,null,68035,"SAINT-CYPRIEN-DE-NAPIERVILLE","16-MONTÉRÉGIE "]
[null,null,17045,"SAINT-CYRILLE-DE-LESSARD","12-CHAUDIÈRE-APPALACHES "]
[null,null,49070,"SAINT-CYRILLE-DE-WENDOVER","17-CENTRE-DU-QUÉBEC "]
[null,null,54017,"SAINT-DAMASE","16-MONTÉRÉGIE "]
[null,null,"07105","SAINT-DAMASE","16-MONTÉRÉGIE "]
[null,null,17040,"SAINT-DAMASE-DE-L'ISLET","12-CHAUDIÈRE-APPALACHES "]
[null,null,62075,"SAINT-DAMIEN","14-LANAUDIÈRE "]
[null,null,19030,"SAINT-DAMIEN-DE-BUCKLAND","12-CHAUDIÈRE-APPALACHES "]
[null,null,53005,"SAINT-DAVID","16-MONTÉRÉGIE "]
[null,null,94245,"SAINT-DAVID-DE-FALARDEAU","02-SAGUENAY-LAC-ST-JEAN "]
[null,null,14055,"SAINT-DENIS-DE LA BOUTEILLERIE","01-BAS-ST-LAURENT "]
[null,null,42025,"SAINT-DENIS-DE-BROMPTON","05-ESTRIE "]
[null,null,57068,"SAINT-DENIS-SUR-RICHELIEU","16-MONTÉRÉGIE "]
[null,null,52090,"SAINT-DIDACE","14-LANAUDIÈRE "]
[null,null,54060,"SAINT-DOMINIQUE","16-MONTÉRÉGIE "]
[null,null,88065,"SAINT-DOMINIQUE-DU-ROSAIRE","08-ABITI-TEMINASCAMINGUE"]
[null,null,62060,"SAINT-DONAT","14-LANAUDIÈRE "]
[null,null,"09030","SAINT-DONAT","14-LANAUDIÈRE "]
[null,null,77022,"SAINTE-ADELE","15-LAURENTIDES "]
[null,null,33017,"SAINTE-AGATHE-DE-LOTBINIERE","12-CHAUDIÈRE-APPALACHES "]
[null,null,78032,"SAINTE-AGATHE-DES-MONTS","15-LAURENTIDES "]
[null,null,"09035","SAINTE-ANGELE-DE-MERICI","01-BAS-ST-LAURENT "]
[null,null,55030,"SAINTE-ANGELE-DE-MONNOIR","16-MONTÉRÉGIE "]
[null,null,51055,"SAINTE-ANGELE-DE-PREMONT","04-MAURICIE"]
[null,null,21030,"SAINTE-ANNE-DE-BEAUPRE","03-CAPITALE NATIONALE "]
[null,null,66117,"SAINTE-ANNE-DE-BELLEVUE","06-MONTRÉAL"]
[null,null,37205,"SAINTE-ANNE-DE-LA-PERADE","04-MAURICIE"]
[null,null,14090,"SAINTE-ANNE-DE-LA-POCATIERE","01-BAS-ST-LAURENT "]
[null,null,42050,"SAINTE-ANNE-DE-LA-ROCHELLE","05-ESTRIE "]
[null,null,56060,"SAINTE-ANNE-DE-SABREVOIS","16-MONTÉRÉGIE "]
[null,null,77035,"SAINTE-ANNE-DES-LACS","15-LAURENTIDES "]
[null,null,"04037","SAINTE-ANNE-DES-MONTS","11-GASPÉSIE-ILES-DE-LA-MADELEINE "]
[null,null,53065,"SAINTE-ANNE-DE-SOREL","16-MONTÉRÉGIE "]
[null,null,73035,"SAINTE-ANNE-DES-PLAINES","15-LAURENTIDES "]
[null,null,79115,"SAINTE-ANNE-DU-LAC","15-LAURENTIDES "]
[null,null,18025,"SAINTE-APOLLINE-DE-PATTON","12-CHAUDIÈRE-APPALACHES "]
[null,null,28015,"SAINTE-AURELIE","12-CHAUDIÈRE-APPALACHES "]
[null,null,69065,"SAINTE-BARBE","16-MONTÉRÉGIE "]
[null,null,62020,"SAINTE-BEATRIX","14-LANAUDIÈRE "]
[null,null,56105,"SAINTE-BRIGIDE-D'IBERVILLE","16-MONTÉRÉGIE "]
[null,null,22045,"SAINTE-BRIGITTE-DE-LAVAL","03-CAPITALE NATIONALE "]
[null,null,49085,"SAINTE-BRIGITTE-DES-SAULTS","17-CENTRE-DU-QUÉBEC "]
[null,null,67030,"SAINTE-CATHERINE","16-MONTÉRÉGIE "]
[null,null,45060,"SAINTE-CATHERINE-DE-HATLEY","05-ESTRIE "]
[null,null,22005,"SAINTE-CATHERINE-DE-LA-JACQUES-CARTIER","03-CAPITALE NATIONALE "]
[null,null,38060,"SAINTE-CECILE-DE-LEVRARD","17-CENTRE-DU-QUÉBEC "]
[null,null,47055,"SAINTE-CECILE-DE-MILTON","16-MONTÉRÉGIE "]
[null,null,30050,"SAINTE-CECILE-DE-WHITTON","05-ESTRIE "]
[null,null,48020,"SAINTE-CHRISTINE","16-MONTÉRÉGIE "]
[null,null,34105,"SAINTE-CHRISTINE-D'AUVERGNE","03-CAPITALE NATIONALE "]
[null,null,19055,"SAINTE-CLAIRE","12-CHAUDIÈRE-APPALACHES "]
[null,null,68020,"SAINTE-CLOTILDE","16-MONTÉRÉGIE "]
[null,null,31060,"SAINTE-CLOTILDE-DE-BEAUCE","12-CHAUDIÈRE-APPALACHES "]
[null,null,39117,"SAINTE-CLOTILDE-DE-HORTON","17-CENTRE-DU-QUÉBEC "]
[null,null,33102,"SAINTE-CROIX","12-CHAUDIÈRE-APPALACHES "]
[null,null,49100,"SAINT-EDMOND-DE-GRANTHAM","17-CENTRE-DU-QUÉBEC "]
[null,null,92050,"SAINT-EDMOND-LES-PLAINES","02-SAGUENAY-LAC-ST-JEAN "]
[null,null,68045,"SAINT-ÉDOUARD","16-MONTÉRÉGIE "]
[null,null,85015,"SAINT-ÉDOUARD-DE-FABRE","08-ABITI-TEMINASCAMINGUE"]
[null,null,33080,"SAINT-ÉDOUARD-DE-LOTBINIERE","12-CHAUDIÈRE-APPALACHES "]
[null,null,51050,"SAINT-ÉDOUARD-DE-MASKINONGE","04-MAURICIE"]
[null,null,44055,"SAINTE-EDWIDGE-DE-CLIFTON","05-ESTRIE "]
[null,null,52030,"SAINTE-ÉLISABETH","14-LANAUDIÈRE "]
[null,null,39090,"SAINTE-ÉLIZABETH-DE-WARWICK","17-CENTRE-DU-QUÉBEC "]
[null,null,62070,"SAINTE-ÉMELIE-DE-L'ÉNERGIE","14-LANAUDIÈRE "]
[null,null,50005,"SAINTE-EULALIE","17-CENTRE-DU-QUÉBEC "]
[null,null,18035,"SAINTE-EUPHEMIE-SUR-RIVIERE-DU-SUD","12-CHAUDIÈRE-APPALACHES "]
[null,null,20010,"SAINTE-FAMILLE-DE-L'ÎLE-D'ORLEANS","03-CAPITALE NATIONALE "]
[null,null,"08023","SAINTE-FELICITE","12-CHAUDIÈRE-APPALACHES "]
[null,null,17025,"SAINTE-FELICITE","12-CHAUDIÈRE-APPALACHES "]
[null,null,"09085","SAINTE-FLAVIE","01-BAS-ST-LAURENT "]
[null,null,"07010","SAINTE-FLORENCE","01-BAS-ST-LAURENT "]
[null,null,38035,"SAINTE-FRANÇOISE","01-BAS-ST-LAURENT "]
[null,null,11030,"SAINTE-FRANÇOISE","01-BAS-ST-LAURENT "]
[null,null,37215,"SAINTE-GENEVIEVE-DE-BATISCAN","04-MAURICIE"]
[null,null,52040,"SAINTE-GENEVIEVE-DE-BERTHIER","14-LANAUDIÈRE "]
[null,null,87030,"SAINTE-GERMAINE-BOULE","08-ABITI-TEMINASCAMINGUE"]
[null,null,88085,"SAINTE-GERTRUDE-MANNEVILLE","08-ABITI-TEMINASCAMINGUE"]
[null,null,91030,"SAINTE-HEDWIDGE","02-SAGUENAY-LAC-ST-JEAN "]
[null,null,54095,"SAINTE-HELENE-DE-BAGOT","16-MONTÉRÉGIE "]
[null,null,39035,"SAINTE-HELENE-DE-CHESTER","17-CENTRE-DU-QUÉBEC "]
[null,null,14025,"SAINTE-HELENE-DE-KAMOURASKA","01-BAS-ST-LAURENT "]
[null,null,87070,"SAINTE-HELENE-DE-MANCEBOURG","08-ABITI-TEMINASCAMINGUE"]
[null,null,26040,"SAINTE-HENEDINE","12-CHAUDIÈRE-APPALACHES "]
[null,null,"07040","SAINTE-IRENE","01-BAS-ST-LAURENT "]
[null,null,"09020","SAINTE-JEANNE-D'ARC","01-BAS-ST-LAURENT "]
[null,null,92015,"SAINTE-JEANNE-D'ARC","01-BAS-ST-LAURENT "]
[null,null,59010,"SAINTE-JULIE","16-MONTÉRÉGIE "]
[null,null,63060,"SAINTE-JULIENNE","14-LANAUDIÈRE "]
[null,null,28045,"SAINTE-JUSTINE","12-CHAUDIÈRE-APPALACHES "]
[null,null,71115,"SAINTE-JUSTINE-DE-NEWTON","16-MONTÉRÉGIE "]
[null,null,51075,"SAINT-ÉLIE-DE-CAXTON","04-MAURICIE"]
[null,null,11035,"SAINT-ÉLOI","01-BAS-ST-LAURENT "]
[null,null,17060,"SAINTE-LOUISE","12-CHAUDIÈRE-APPALACHES "]
[null,null,50095,"SAINT-ELPHEGE","17-CENTRE-DU-QUÉBEC "]
[null,null,"09092","SAINTE-LUCE","01-BAS-ST-LAURENT "]
[null,null,18020,"SAINTE-LUCIE-DE-BEAUREGARD","12-CHAUDIÈRE-APPALACHES "]
[null,null,78020,"SAINTE-LUCIE-DES-LAURENTIDES","15-LAURENTIDES "]
[null,null,"05050","SAINT-ELZEAR","12-CHAUDIÈRE-APPALACHES "]
[null,null,26022,"SAINT-ELZEAR","12-CHAUDIÈRE-APPALACHES "]
[null,null,13085,"SAINT-ELZEAR-DE-TEMISCOUATA","01-BAS-ST-LAURENT "]
[null,null,54025,"SAINTE-MADELEINE","16-MONTÉRÉGIE "]
[null,null,"04005","SAINTE-MADELEINE-DE-LA-RIVIERE-MADELEINE","11-GASPÉSIE-ILES-DE-LA-MADELEINE "]
[null,null,62030,"SAINTE-MARCELLINE-DE-KILDARE","14-LANAUDIÈRE "]
[null,null,26035,"SAINTE-MARGUERITE","12-CHAUDIÈRE-APPALACHES "]
[null,null,77012,"SAINTE-MARGUERITE-DU-LAC-MASSON","15-LAURENTIDES "]
[null,null,"07005","SAINTE-MARGUERITE-MARIE","01-BAS-ST-LAURENT "]
[null,null,26030,"SAINTE-MARIE","12-CHAUDIÈRE-APPALACHES "]
[null,null,38015,"SAINTE-MARIE-DE-BLANDFORD","17-CENTRE-DU-QUÉBEC "]
[null,null,54030,"SAINTE-MARIE-MADELEINE","16-MONTÉRÉGIE "]
[null,null,63005,"SAINTE-MARIE-SALOME","14-LANAUDIÈRE "]
[null,null,71110,"SAINTE-MARTHE","16-MONTÉRÉGIE "]
[null,null,72015,"SAINTE-MARTHE-SUR-LE-LAC","15-LAURENTIDES "]
[null,null,70012,"SAINTE-MARTINE","16-MONTÉRÉGIE "]
[null,null,61050,"SAINTE-MELANIE","14-LANAUDIÈRE "]
[null,null,80125,"SAINT-ÉMILE-DE-SUFFOLK","07-OUTAOUAIS "]
[null,null,50057,"SAINTE-MONIQUE","17-CENTRE-DU-QUÉBEC "]
[null,null,93075,"SAINTE-MONIQUE","17-CENTRE-DU-QUÉBEC "]
[null,null,"08040","SAINTE-PAULE","01-BAS-ST-LAURENT "]
[null,null,17030,"SAINTE-PERPETUE","12-CHAUDIÈRE-APPALACHES "]
[null,null,50050,"SAINTE-PERPETUE","12-CHAUDIÈRE-APPALACHES "]
[null,null,20030,"SAINTE-PETRONILLE","03-CAPITALE NATIONALE "]
[null,null,29112,"SAINT-ÉPHREM-DE-BEAUCE","12-CHAUDIÈRE-APPALACHES "]
[null,null,12030,"SAINT-ÉPIPHANE","01-BAS-ST-LAURENT "]
[null,null,31050,"SAINTE-PRAXEDE","12-CHAUDIÈRE-APPALACHES "]
[null,null,11015,"SAINTE-RITA","01-BAS-ST-LAURENT "]
[null,null,28030,"SAINTE-ROSE-DE-WATFORD","12-CHAUDIÈRE-APPALACHES "]
[null,null,94230,"SAINTE-ROSE-DU-NORD","02-SAGUENAY-LAC-ST-JEAN "]
[null,null,46105,"SAINTE-SABINE","12-CHAUDIÈRE-APPALACHES "]
[null,null,28065,"SAINTE-SABINE","12-CHAUDIÈRE-APPALACHES "]
[null,null,39105,"SAINTE-SERAPHINE","17-CENTRE-DU-QUÉBEC "]
[null,null,75028,"SAINTE-SOPHIE","15-LAURENTIDES "]
[null,null,38040,"SAINTE-SOPHIE-DE-LEVRARD","17-CENTRE-DU-QUÉBEC "]
[null,null,32023,"SAINTE-SOPHIE-D'HALIFAX","17-CENTRE-DU-QUÉBEC "]
[null,null,63030,"SAINT-ESPRIT","14-LANAUDIÈRE "]
[null,null,35050,"SAINTE-THECLE","04-MAURICIE"]
[null,null,73010,"SAINTE-THERESE","15-LAURENTIDES "]
[null,null,"02010","SAINTE-THERESE-DE-GASPE","11-GASPÉSIE-ILES-DE-LA-MADELEINE "]
[null,null,83055,"SAINTE-THERESE-DE-LA-GATINEAU","07-OUTAOUAIS "]
[null,null,70030,"SAINT-ÉTIENNE-DE-BEAUHARNOIS","16-MONTÉRÉGIE "]
[null,null,45100,"SAINT-ÉTIENNE-DE-BOLTON","05-ESTRIE "]
[null,null,51090,"SAINT-ÉTIENNE-DES-GRES","04-MAURICIE"]
[null,null,49105,"SAINT-EUGENE","17-CENTRE-DU-QUÉBEC "]
[null,null,92065,"SAINT-EUGENE-D'ARGENTENAY","02-SAGUENAY-LAC-ST-JEAN "]
[null,null,85085,"SAINT-EUGENE-DE-GUIGUES","08-ABITI-TEMINASCAMINGUE"]
[null,null,10075,"SAINT-EUGENE-DE-LADRIERE","01-BAS-ST-LAURENT "]
[null,null,51040,"SAINTE-URSULE","04-MAURICIE"]
[null,null,13030,"SAINT-EUSEBE","01-BAS-ST-LAURENT "]
[null,null,72005,"SAINT-EUSTACHE","15-LAURENTIDES "]
[null,null,29025,"SAINT-ÉVARISTE-DE-FORSYTH","12-CHAUDIÈRE-APPALACHES "]
[null,null,53025,"SAINTE-VICTOIRE-DE-SOREL","16-MONTÉRÉGIE "]
[null,null,10070,"SAINT-FABIEN","01-BAS-ST-LAURENT "]
[null,null,18015,"SAINT-FABIEN-DE-PANET","12-CHAUDIÈRE-APPALACHES "]
[null,null,78047,"SAINT-FAUSTIN–LAC-CARRE","15-LAURENTIDES "]
[null,null,91042,"SAINT-FELICIEN","02-SAGUENAY-LAC-ST-JEAN "]
[null,null,88060,"SAINT-FELIX-DE-DALQUIER","08-ABITI-TEMINASCAMINGUE"]
[null,null,49005,"SAINT-FELIX-DE-KINGSEY","17-CENTRE-DU-QUÉBEC "]
[null,null,62007,"SAINT-FELIX-DE-VALOIS","14-LANAUDIÈRE "]
[null,null,94225,"SAINT-FELIX-D'OTIS","02-SAGUENAY-LAC-ST-JEAN "]
[null,null,32013,"SAINT-FERDINAND","17-CENTRE-DU-QUÉBEC "]
[null,null,21010,"SAINT-FERREOL-LES-NEIGES","03-CAPITALE NATIONALE "]
[null,null,33052,"SAINT-FLAVIEN","12-CHAUDIÈRE-APPALACHES "]
[null,null,31030,"SAINT-FORTUNAT","12-CHAUDIÈRE-APPALACHES "]
[null,null,"06055","SAINT-FRANÇOIS-D'ASSISE","11-GASPÉSIE-ILES-DE-LA-MADELEINE "]
[null,null,18060,"SAINT-FRANÇOIS-DE-LA-RIVIERE-DU-SUD","12-CHAUDIÈRE-APPALACHES "]
[null,null,20005,"SAINT-FRANÇOIS-DE-L'ÎLE-D'ORLEANS","03-CAPITALE NATIONALE "]
[null,null,91015,"SAINT-FRANÇOIS-DE-SALES","02-SAGUENAY-LAC-ST-JEAN "]
[null,null,50128,"SAINT-FRANÇOIS-DU-LAC","17-CENTRE-DU-QUÉBEC "]
[null,null,42020,"SAINT-FRANÇOIS-XAVIER-DE-BROMPTON","05-ESTRIE "]
[null,null,12025,"SAINT-FRANÇOIS-XAVIER-DE-VIGER","01-BAS-ST-LAURENT "]
[null,null,27065,"SAINT-FREDERIC","12-CHAUDIÈRE-APPALACHES "]
[null,null,94235,"SAINT-FULGENCE","02-SAGUENAY-LAC-ST-JEAN "]
[null,null,52080,"SAINT-GABRIEL","14-LANAUDIÈRE "]
[null,null,52085,"SAINT-GABRIEL-DE-BRANDON","14-LANAUDIÈRE "]
[null,null,"09025","SAINT-GABRIEL-DE-RIMOUSKI","01-BAS-ST-LAURENT "]
[null,null,22025,"SAINT-GABRIEL-DE-VALCARTIER","03-CAPITALE NATIONALE "]
[null,null,14075,"SAINT-GABRIEL-LALEMANT","01-BAS-ST-LAURENT "]
[null,null,93035,"SAINT-GEDEON","02-SAGUENAY-LAC-ST-JEAN "]
[null,null,29013,"SAINT-GEDEON-DE-BEAUCE","12-CHAUDIÈRE-APPALACHES "]
[null,null,29073,"SAINT-GEORGES","12-CHAUDIÈRE-APPALACHES "]
[null,null,56010,"SAINT-GEORGES-DE-CLARENCEVILLE","16-MONTÉRÉGIE "]
[null,null,40032,"SAINT-GEORGES-DE-WINDSOR","05-ESTRIE "]
[null,null,53085,"SAINT-GERARD-MAJELLA","16-MONTÉRÉGIE "]
[null,null,14045,"SAINT-GERMAIN","01-BAS-ST-LAURENT "]
[null,null,49048,"SAINT-GERMAIN-DE-GRANTHAM","17-CENTRE-DU-QUÉBEC "]
[null,null,19075,"SAINT-GERVAIS","12-CHAUDIÈRE-APPALACHES "]
[null,null,34060,"SAINT-GILBERT","03-CAPITALE NATIONALE "]
[null,null,33035,"SAINT-GILLES","12-CHAUDIÈRE-APPALACHES "]
[null,null,"05015","SAINT-GODEFROI","11-GASPÉSIE-ILES-DE-LA-MADELEINE "]
[null,null,49113,"SAINT-GUILLAUME","17-CENTRE-DU-QUÉBEC "]
[null,null,11020,"SAINT-GUY","01-BAS-ST-LAURENT "]
[null,null,19068,"SAINT-HENRI","12-CHAUDIÈRE-APPALACHES "]
[null,null,93070,"SAINT-HENRI-DE-TAILLON","02-SAGUENAY-LAC-ST-JEAN "]
[null,null,44015,"SAINT-HERMENEGILDE","05-ESTRIE "]
[null,null,29020,"SAINT-HILAIRE-DE-DORSET","12-CHAUDIÈRE-APPALACHES "]
[null,null,16050,"SAINT-HILARION","03-CAPITALE NATIONALE "]
[null,null,75045,"SAINT-HIPPOLYTE","15-LAURENTIDES "]
[null,null,94240,"SAINT-HONORE","02-SAGUENAY-LAC-ST-JEAN "]
[null,null,29038,"SAINT-HONORE-DE-SHENLEY","12-CHAUDIÈRE-APPALACHES "]
[null,null,13090,"SAINT-HONORE-DE-TEMISCOUATA","01-BAS-ST-LAURENT "]
[null,null,12010,"SAINT-HUBERT-DE-RIVIERE-DU-LOUP","01-BAS-ST-LAURENT "]
[null,null,54100,"SAINT-HUGUES","16-MONTÉRÉGIE "]
[null,null,54048,"SAINT-HYACINTHE","16-MONTÉRÉGIE "]
[null,null,52045,"SAINT-IGNACE-DE-LOYOLA","14-LANAUDIÈRE "]
[null,null,46095,"SAINT-IGNACE-DE-STANBRIDGE","16-MONTÉRÉGIE "]
[null,null,15005,"SAINT-IRENEE","03-CAPITALE NATIONALE "]
[null,null,26063,"SAINT-ISIDORE","12-CHAUDIÈRE-APPALACHES "]
[null,null,67040,"SAINT-ISIDORE","12-CHAUDIÈRE-APPALACHES "]
[null,null,41012,"SAINT-ISIDORE-DE-CLIFTON","05-ESTRIE "]
[null,null,63013,"SAINT-JACQUES","14-LANAUDIÈRE "]
[null,null,31140,"SAINT-JACQUES-DE-LEEDS","12-CHAUDIÈRE-APPALACHES "]
[null,null,31025,"SAINT-JACQUES-LE-MAJEUR-DE-WOLFESTOWN","12-CHAUDIÈRE-APPALACHES "]
[null,null,68040,"SAINT-JACQUES-LE-MINEUR","16-MONTÉRÉGIE "]
[null,null,33065,"SAINT-JANVIER-DE-JOLY","12-CHAUDIÈRE-APPALACHES "]
[null,null,57033,"SAINT-JEAN-BAPTISTE","16-MONTÉRÉGIE "]
[null,null,31100,"SAINT-JEAN-DE-BREBEUF","12-CHAUDIÈRE-APPALACHES "]
[null,null,"08010","SAINT-JEAN-DE-CHERBOURG","01-BAS-ST-LAURENT "]
[null,null,11010,"SAINT-JEAN-DE-DIEU","01-BAS-ST-LAURENT "]
[null,null,13010,"SAINT-JEAN-DE-LA-LANDE","01-BAS-ST-LAURENT "]
[null,null,20015,"SAINT-JEAN-DE-L'ÎLE-D'ORLEANS","03-CAPITALE NATIONALE "]
[null,null,62015,"SAINT-JEAN-DE-MATHA","14-LANAUDIÈRE "]
[null,null,17070,"SAINT-JEAN-PORT-JOLI","12-CHAUDIÈRE-APPALACHES "]
[null,null,56083,"SAINT-JEAN-SUR-RICHELIEU","16-MONTÉRÉGIE "]
[null,null,75017,"SAINT-JEROME","15-LAURENTIDES "]
[null,null,21020,"SAINT-JOACHIM","03-CAPITALE NATIONALE "]
[null,null,47040,"SAINT-JOACHIM-DE-SHEFFORD","16-MONTÉRÉGIE "]
[null,null,27043,"SAINT-JOSEPH-DE-BEAUCE","12-CHAUDIÈRE-APPALACHES "]
[null,null,31045,"SAINT-JOSEPH-DE-COLERAINE","12-CHAUDIÈRE-APPALACHES "]
[null,null,14030,"SAINT-JOSEPH-DE-KAMOURASKA","01-BAS-ST-LAURENT "]
[null,null,"09070","SAINT-JOSEPH-DE-LEPAGE","01-BAS-ST-LAURENT "]
[null,null,27050,"SAINT-JOSEPH-DES-ÉRABLES","12-CHAUDIÈRE-APPALACHES "]
[null,null,53050,"SAINT-JOSEPH-DE-SOREL","16-MONTÉRÉGIE "]
[null,null,72025,"SAINT-JOSEPH-DU-LAC","15-LAURENTIDES "]
[null,null,54110,"SAINT-JUDE","16-MONTÉRÉGIE "]
[null,null,27055,"SAINT-JULES","12-CHAUDIÈRE-APPALACHES "]
[null,null,31035,"SAINT-JULIEN","12-CHAUDIÈRE-APPALACHES "]
[null,null,18005,"SAINT-JUST-DE-BRETENIERES","12-CHAUDIÈRE-APPALACHES "]
[null,null,13040,"SAINT-JUSTE-DU-LAC","01-BAS-ST-LAURENT "]
[null,null,51045,"SAINT-JUSTIN","04-MAURICIE"]
[null,null,87120,"SAINT-LAMBERT","16-MONTÉRÉGIE "]
[null,null,58012,"SAINT-LAMBERT","16-MONTÉRÉGIE "]
[null,null,26070,"SAINT-LAMBERT-DE-LAUZON","12-CHAUDIÈRE-APPALACHES "]
[null,null,20020,"SAINT-LAURENT-DE-L'ÎLE-D'ORLEANS","03-CAPITALE NATIONALE "]
[null,null,71105,"SAINT-LAZARE","16-MONTÉRÉGIE "]
[null,null,19050,"SAINT-LAZARE-DE-BELLECHASSE","12-CHAUDIÈRE-APPALACHES "]
[null,null,"08065","SAINT-LEANDRE","01-BAS-ST-LAURENT "]
[null,null,50042,"SAINT-LEONARD-D'ASTON","17-CENTRE-DU-QUÉBEC "]
[null,null,34115,"SAINT-LEONARD-DE-PORTNEUF","03-CAPITALE NATIONALE "]
[null,null,19020,"SAINT-LEON-DE-STANDON","12-CHAUDIÈRE-APPALACHES "]
[null,null,"07030","SAINT-LEON-LE-GRAND","01-BAS-ST-LAURENT "]
[null,null,51035,"SAINT-LEON-LE-GRAND","01-BAS-ST-LAURENT "]
[null,null,54072,"SAINT-LIBOIRE","16-MONTÉRÉGIE "]
[null,null,63065,"SAINT-LIGUORI","14-LANAUDIÈRE "]
[null,null,63048,"SAINT-LIN–LAURENTIDES","14-LANAUDIÈRE "]
[null,null,54120,"SAINT-LOUIS","16-MONTÉRÉGIE "]
[null,null,39170,"SAINT-LOUIS-DE-BLANDFORD","17-CENTRE-DU-QUÉBEC "]
[null,null,28035,"SAINT-LOUIS-DE-GONZAGUE","12-CHAUDIÈRE-APPALACHES "]
[null,null,70035,"SAINT-LOUIS-DE-GONZAGUE","12-CHAUDIÈRE-APPALACHES "]
[null,null,21015,"SAINT-LOUIS-DE-GONZAGUE-DU-CAP-TOURMENTE","03-CAPITALE NATIONALE "]
[null,null,13080,"SAINT-LOUIS-DU-HA! HA!","01-BAS-ST-LAURENT "]
[null,null,28060,"SAINT-LUC-DE-BELLECHASSE","12-CHAUDIÈRE-APPALACHES "]
[null,null,37225,"SAINT-LUC-DE-VINCENNES","04-MAURICIE"]
[null,null,49030,"SAINT-LUCIEN","17-CENTRE-DU-QUÉBEC "]
[null,null,30072,"SAINT-LUDGER","05-ESTRIE "]
[null,null,93080,"SAINT-LUDGER-DE-MILOT","02-SAGUENAY-LAC-ST-JEAN "]
[null,null,28075,"SAINT-MAGLOIRE","12-CHAUDIÈRE-APPALACHES "]
[null,null,49095,"SAINT-MAJORIQUE-DE-GRANTHAM","17-CENTRE-DU-QUÉBEC "]
[null,null,19025,"SAINT-MALACHIE","12-CHAUDIÈRE-APPALACHES "]
[null,null,44003,"SAINT-MALO","05-ESTRIE "]
[null,null,88040,"SAINT-MARC-DE-FIGUERY","08-ABITI-TEMINASCAMINGUE"]
[null,null,34065,"SAINT-MARC-DES-CARRIERES","03-CAPITALE NATIONALE "]
[null,null,13020,"SAINT-MARC-DU-LAC-LONG","01-BAS-ST-LAURENT "]
[null,null,17020,"SAINT-MARCEL","12-CHAUDIÈRE-APPALACHES "]
[null,null,54125,"SAINT-MARCEL-DE-RICHELIEU","16-MONTÉRÉGIE "]
[null,null,10025,"SAINT-MARCELLIN","01-BAS-ST-LAURENT "]
[null,null,57050,"SAINT-MARC-SUR-RICHELIEU","16-MONTÉRÉGIE "]
[null,null,29045,"SAINT-MARTIN","12-CHAUDIÈRE-APPALACHES "]
[null,null,55065,"SAINT-MATHIAS-SUR-RICHELIEU","16-MONTÉRÉGIE "]
[null,null,67005,"SAINT-MATHIEU","16-MONTÉRÉGIE "]
[null,null,57045,"SAINT-MATHIEU-DE-BELOEIL","16-MONTÉRÉGIE "]
[null,null,11050,"SAINT-MATHIEU-DE-RIOUX","01-BAS-ST-LAURENT "]
[null,null,88050,"SAINT-MATHIEU-D'HARRICANA","08-ABITI-TEMINASCAMINGUE"]
[null,null,51070,"SAINT-MATHIEU-DU-PARC","04-MAURICIE"]
[null,null,37230,"SAINT-MAURICE","04-MAURICIE"]
[null,null,"04010","SAINT-MAXIME-DU-MONT-LOUIS","11-GASPÉSIE-ILES-DE-LA-MADELEINE "]
[null,null,11025,"SAINT-MEDARD","01-BAS-ST-LAURENT "]
[null,null,68050,"SAINT-MICHEL","16-MONTÉRÉGIE "]
[null,null,19110,"SAINT-MICHEL-DE-BELLECHASSE","12-CHAUDIÈRE-APPALACHES "]
[null,null,62085,"SAINT-MICHEL-DES-SAINTS","14-LANAUDIÈRE "]
[null,null,13065,"SAINT-MICHEL-DU-SQUATEC","01-BAS-ST-LAURENT "]
[null,null,12020,"SAINT-MODESTE","01-BAS-ST-LAURENT "]
[null,null,"07095","SAINT-MOÏSE","01-BAS-ST-LAURENT "]
[null,null,37240,"SAINT-NARCISSE","04-MAURICIE"]
[null,null,33030,"SAINT-NARCISSE-DE-BEAURIVAGE","12-CHAUDIÈRE-APPALACHES "]
[null,null,10015,"SAINT-NARCISSE-DE-RIMOUSKI","01-BAS-ST-LAURENT "]
[null,null,93045,"SAINT-NAZAIRE","02-SAGUENAY-LAC-ST-JEAN "]
[null,null,48050,"SAINT-NAZAIRE-D'ACTON","16-MONTÉRÉGIE "]
[null,null,19015,"SAINT-NAZAIRE-DE-DORCHESTER","12-CHAUDIÈRE-APPALACHES "]
[null,null,19045,"SAINT-NEREE-DE-BELLECHASSE","12-CHAUDIÈRE-APPALACHES "]
[null,null,"07100","SAINT-NOËL","01-BAS-ST-LAURENT "]
[null,null,52070,"SAINT-NORBERT","14-LANAUDIÈRE "]
[null,null,39043,"SAINT-NORBERT-D'ARTHABASKA","17-CENTRE-DU-QUÉBEC "]
[null,null,"09055","SAINT-OCTAVE-DE-METIS","01-BAS-ST-LAURENT "]
[null,null,27035,"SAINT-ODILON-DE-CRANBOURNE","12-CHAUDIÈRE-APPALACHES "]
[null,null,17005,"SAINT-OMER","12-CHAUDIÈRE-APPALACHES "]
[null,null,14080,"SAINT-ONESIME-D'IXWORTH","01-BAS-ST-LAURENT "]
[null,null,53032,"SAINT-OURS","16-MONTÉRÉGIE "]
[null,null,14070,"SAINT-PACOME","01-BAS-ST-LAURENT "]
[null,null,17010,"SAINT-PAMPHILE","12-CHAUDIÈRE-APPALACHES "]
[null,null,14018,"SAINT-PASCAL","01-BAS-ST-LAURENT "]
[null,null,33025,"SAINT-PATRICE-DE-BEAURIVAGE","12-CHAUDIÈRE-APPALACHES "]
[null,null,68025,"SAINT-PATRICE-DE-SHERRINGTON","16-MONTÉRÉGIE "]
[null,null,61005,"SAINT-PAUL","14-LANAUDIÈRE "]
[null,null,55015,"SAINT-PAUL-D'ABBOTSFORD","16-MONTÉRÉGIE "]
[null,null,12035,"SAINT-PAUL-DE-LA-CROIX","01-BAS-ST-LAURENT "]
[null,null,56035,"SAINT-PAUL-DE-L'ÎLE-AUX-NOIX","16-MONTÉRÉGIE "]
[null,null,18030,"SAINT-PAUL-DE-MONTMINY","12-CHAUDIÈRE-APPALACHES "]
[null,null,51060,"SAINT-PAULIN","04-MAURICIE"]
[null,null,19005,"SAINT-PHILEMON","12-CHAUDIÈRE-APPALACHES "]
[null,null,29065,"SAINT-PHILIBERT","12-CHAUDIÈRE-APPALACHES "]
[null,null,67010,"SAINT-PHILIPPE","16-MONTÉRÉGIE "]
[null,null,14060,"SAINT-PHILIPPE-DE-NERI","01-BAS-ST-LAURENT "]
[null,null,54008,"SAINT-PIE","16-MONTÉRÉGIE "]
[null,null,49130,"SAINT-PIE-DE-GUIRE","17-CENTRE-DU-QUÉBEC "]
[null,null,61020,"SAINT-PIERRE","14-LANAUDIÈRE "]
[null,null,32050,"SAINT-PIERRE-BAPTISTE","17-CENTRE-DU-QUÉBEC "]
[null,null,31135,"SAINT-PIERRE-DE-BROUGHTON","12-CHAUDIÈRE-APPALACHES "]
[null,null,13075,"SAINT-PIERRE-DE-LAMY","01-BAS-ST-LAURENT "]
[null,null,18055,"SAINT-PIERRE-DE-LA-RIVIERE-DU-SUD","12-CHAUDIÈRE-APPALACHES "]
[null,null,20025,"SAINT-PIERRE-DE-L'ÎLE-D'ORLEANS","03-CAPITALE NATIONALE "]
[null,null,38065,"SAINT-PIERRE-LES-BECQUETS","17-CENTRE-DU-QUÉBEC "]
[null,null,72043,"SAINT-PLACIDE","15-LAURENTIDES "]
[null,null,71020,"SAINT-POLYCARPE","16-MONTÉRÉGIE "]
[null,null,91035,"SAINT-PRIME","02-SAGUENAY-LAC-ST-JEAN "]
[null,null,28020,"SAINT-PROSPER","12-CHAUDIÈRE-APPALACHES "]
[null,null,37250,"SAINT-PROSPER-DE-CHAMPLAIN","04-MAURICIE"]
[null,null,19082,"SAINT-RAPHAËL","12-CHAUDIÈRE-APPALACHES "]
[null,null,34128,"SAINT-RAYMOND","03-CAPITALE NATIONALE "]
[null,null,68055,"SAINT-REMI","16-MONTÉRÉGIE "]
[null,null,39020,"SAINT-REMI-DE-TINGWICK","17-CENTRE-DU-QUÉBEC "]
[null,null,29050,"SAINT-RENE","12-CHAUDIÈRE-APPALACHES "]
[null,null,"08035","SAINT-RENE-DE-MATANE","01-BAS-ST-LAURENT "]
[null,null,53020,"SAINT-ROBERT","16-MONTÉRÉGIE "]
[null,null,30070,"SAINT-ROBERT-BELLARMIN","05-ESTRIE "]
[null,null,63035,"SAINT-ROCH-DE-L'ACHIGAN","14-LANAUDIÈRE "]
[null,null,35045,"SAINT-ROCH-DE-MEKINAC","04-MAURICIE"]
[null,null,53040,"SAINT-ROCH-DE-RICHELIEU","16-MONTÉRÉGIE "]
[null,null,17065,"SAINT-ROCH-DES-AULNAIES","12-CHAUDIÈRE-APPALACHES "]
[null,null,63040,"SAINT-ROCH-OUEST","14-LANAUDIÈRE "]
[null,null,30100,"SAINT-ROMAIN","05-ESTRIE "]
[null,null,39145,"SAINT-ROSAIRE","17-CENTRE-DU-QUÉBEC "]
[null,null,39130,"SAINT-SAMUEL","17-CENTRE-DU-QUÉBEC "]
[null,null,26010,"SAINTS-ANGES","12-CHAUDIÈRE-APPALACHES "]
[null,null,77043,"SAINT-SAUVEUR","15-LAURENTIDES "]
[null,null,30085,"SAINT-SEBASTIEN","16-MONTÉRÉGIE "]
[null,null,56050,"SAINT-SEBASTIEN","16-MONTÉRÉGIE "]
[null,null,51030,"SAINT-SEVERE","04-MAURICIE"]
[null,null,27070,"SAINT-SEVERIN","12-CHAUDIÈRE-APPALACHES "]
[null,null,35020,"SAINT-SEVERIN","12-CHAUDIÈRE-APPALACHES "]
[null,null,15058,"SAINT-SIMEON","03-CAPITALE NATIONALE "]
[null,null,"05055","SAINT-SIMEON","03-CAPITALE NATIONALE "]
[null,null,54090,"SAINT-SIMON","01-BAS-ST-LAURENT "]
[null,null,11055,"SAINT-SIMON","01-BAS-ST-LAURENT "]
[null,null,29125,"SAINT-SIMON-LES-MINES","12-CHAUDIÈRE-APPALACHES "]
[null,null,80070,"SAINT-SIXTE","07-OUTAOUAIS "]
[null,null,39005,"SAINTS-MARTYRS-CANADIENS","17-CENTRE-DU-QUÉBEC "]
[null,null,37245,"SAINT-STANISLAS","04-MAURICIE"]
[null,null,92070,"SAINT-STANISLAS","04-MAURICIE"]
[null,null,70040,"SAINT-STANISLAS-DE-KOSTKA","16-MONTÉRÉGIE "]
[null,null,60020,"SAINT-SULPICE","14-LANAUDIÈRE "]
[null,null,38005,"SAINT-SYLVERE","17-CENTRE-DU-QUÉBEC "]
[null,null,33007,"SAINT-SYLVESTRE","12-CHAUDIÈRE-APPALACHES "]
[null,null,71015,"SAINT-TELESPHORE","16-MONTÉRÉGIE "]
[null,null,"07070","SAINT-THARCISIUS","01-BAS-ST-LAURENT "]
[null,null,48045,"SAINT-THEODORE-D'ACTON","16-MONTÉRÉGIE "]
[null,null,29005,"SAINT-THEOPHILE","12-CHAUDIÈRE-APPALACHES "]
[null,null,61027,"SAINT-THOMAS","14-LANAUDIÈRE "]
[null,null,92045,"SAINT-THOMAS-DIDYME","02-SAGUENAY-LAC-ST-JEAN "]
[null,null,34085,"SAINT-THURIBE","03-CAPITALE NATIONALE "]
[null,null,35027,"SAINT-TITE","04-MAURICIE"]
[null,null,21005,"SAINT-TITE-DES-CAPS","03-CAPITALE NATIONALE "]
[null,null,34090,"SAINT-UBALDE","03-CAPITALE NATIONALE "]
[null,null,"08073","SAINT-ULRIC","01-BAS-ST-LAURENT "]
[null,null,16055,"SAINT-URBAIN","03-CAPITALE NATIONALE "]
[null,null,70005,"SAINT-URBAIN-PREMIER","16-MONTÉRÉGIE "]
[null,null,56030,"SAINT-VALENTIN","16-MONTÉRÉGIE "]
[null,null,39135,"SAINT-VALERE","17-CENTRE-DU-QUÉBEC "]
[null,null,10060,"SAINT-VALERIEN","01-BAS-ST-LAURENT "]
[null,null,54065,"SAINT-VALERIEN-DE-MILTON","16-MONTÉRÉGIE "]
[null,null,19117,"SAINT-VALLIER","12-CHAUDIÈRE-APPALACHES "]
[null,null,44005,"SAINT-VENANT-DE-PAQUETTE","05-ESTRIE "]
[null,null,"07075","SAINT-VIANNEY","01-BAS-ST-LAURENT "]
[null,null,27008,"SAINT-VICTOR","12-CHAUDIÈRE-APPALACHES "]
[null,null,50023,"SAINT-WENCESLAS","17-CENTRE-DU-QUÉBEC "]
[null,null,28005,"SAINT-ZACHARIE","12-CHAUDIÈRE-APPALACHES "]
[null,null,62080,"SAINT-ZENON","14-LANAUDIÈRE "]
[null,null,"07035","SAINT-ZENON-DU-LAC-HUMQUI","01-BAS-ST-LAURENT "]
[null,null,50090,"SAINT-ZEPHIRIN-DE-COURVAL","17-CENTRE-DU-QUÉBEC "]
[null,null,71025,"SAINT-ZOTIQUE","16-MONTÉRÉGIE "]
[null,null,70052,"SALABERRY-DE-VALLEYFIELD","16-MONTÉRÉGIE "]
[null,null,"07085","SAYABEC","01-BAS-ST-LAURENT "]
[null,null,97040,"SCHEFFERVILLE","09-CÔTE-NORD "]
[null,null,41080,"SCOTSTOWN","05-ESTRIE "]
[null,null,26048,"SCOTT","12-CHAUDIÈRE-APPALACHES "]
[null,null,89045,"SENNETERRE","08-ABITI-TEMINASCAMINGUE"]
[null,null,89040,"SENNETERRE","08-ABITI-TEMINASCAMINGUE"]
[null,null,66127,"SENNEVILLE","06-MONTRÉAL"]
[null,null,97007,"SEPT-ÎLES","09-CÔTE-NORD "]
[null,null,22020,"SHANNON","03-CAPITALE NATIONALE "]
[null,null,36033,"SHAWINIGAN","04-MAURICIE"]
[null,null,84010,"SHAWVILLE","07-OUTAOUAIS "]
[null,null,84095,"SHEENBORO","07-OUTAOUAIS "]
[null,null,47035,"SHEFFORD","16-MONTÉRÉGIE "]
[null,null,43027,"SHERBROOKE","05-ESTRIE "]
[null,null,"05010","SHIGAWAKE","11-GASPÉSIE-ILES-DE-LA-MADELEINE "]
[null,null,53052,"SOREL-TRACY","16-MONTÉRÉGIE "]
[null,null,46045,"STANBRIDGE EAST","16-MONTÉRÉGIE "]
[null,null,46030,"STANBRIDGE STATION","16-MONTÉRÉGIE "]
[null,null,45025,"STANSTEAD","05-ESTRIE "]
[null,null,45008,"STANSTEAD","05-ESTRIE "]
[null,null,44050,"STANSTEAD-EST","05-ESTRIE "]
[null,null,42005,"STOKE","05-ESTRIE "]
[null,null,22035,"STONEHAM-ET-TEWKESBURY","03-CAPITALE NATIONALE "]
[null,null,30105,"STORNOWAY","05-ESTRIE "]
[null,null,30110,"STRATFORD","05-ESTRIE "]
[null,null,45105,"STUKELY-SUD","05-ESTRIE "]
[null,null,46058,"SUTTON","16-MONTÉRÉGIE "]
[null,null,95005,"TADOUSSAC","09-CÔTE-NORD "]
[null,null,87042,"TASCHEREAU","08-ABITI-TEMINASCAMINGUE"]
[null,null,85005,"TEMISCAMING","08-ABITI-TEMINASCAMINGUE"]
[null,null,13073,"TEMISCOUATA-SUR-LE-LAC","01-BAS-ST-LAURENT "]
[null,null,71075,"TERRASSE-VAUDREUIL","16-MONTÉRÉGIE "]
[null,null,64008,"TERREBONNE","14-LANAUDIÈRE "]
[null,null,31084,"THETFORD MINES","12-CHAUDIÈRE-APPALACHES "]
[null,null,84045,"THORNE","07-OUTAOUAIS "]
[null,null,80050,"THURSO","07-OUTAOUAIS "]
[null,null,39025,"TINGWICK","17-CENTRE-DU-QUÉBEC "]
[null,null,17035,"TOURVILLE","12-CHAUDIÈRE-APPALACHES "]
[null,null,88075,"TRECESSON","08-ABITI-TEMINASCAMINGUE"]
[null,null,71125,"TRES-SAINT-REDEMPTEUR","16-MONTÉRÉGIE "]
[null,null,69030,"TRES-SAINT-SACREMENT","16-MONTÉRÉGIE "]
[null,null,27060,"TRING-JONCTION","12-CHAUDIÈRE-APPALACHES "]
[null,null,11040,"TROIS-PISTOLES","01-BAS-ST-LAURENT "]
[null,null,35055,"TROIS-RIVES","04-MAURICIE"]
[null,null,37067,"TROIS-RIVIERES","04-MAURICIE"]
[null,null,42078,"ULVERTON","05-ESTRIE "]
[null,null,48038,"UPTON","16-MONTÉRÉGIE "]
[null,null,33070,"VAL-ALAIN","12-CHAUDIÈRE-APPALACHES "]
[null,null,"07080","VAL-BRILLANT","01-BAS-ST-LAURENT "]
[null,null,42060,"VALCOURT","05-ESTRIE "]
[null,null,42055,"VALCOURT","05-ESTRIE "]
[null,null,78010,"VAL-DAVID","15-LAURENTIDES "]
[null,null,80140,"VAL-DES-BOIS","07-OUTAOUAIS "]
[null,null,78100,"VAL-DES-LACS","15-LAURENTIDES "]
[null,null,82015,"VAL-DES-MONTS","07-OUTAOUAIS "]
[null,null,89008,"VAL-D'OR","08-ABITI-TEMINASCAMINGUE"]
[null,null,42095,"VAL-JOLI","05-ESTRIE "]
[null,null,26015,"VALLEE-JONCTION","12-CHAUDIÈRE-APPALACHES "]
[null,null,78005,"VAL-MORIN","15-LAURENTIDES "]
[null,null,30015,"VAL-RACINE","05-ESTRIE "]
[null,null,87105,"VAL-SAINT-GILLES","08-ABITI-TEMINASCAMINGUE"]
[null,null,59020,"VARENNES","16-MONTÉRÉGIE "]
[null,null,71083,"VAUDREUIL-DORION","16-MONTÉRÉGIE "]
[null,null,71090,"VAUDREUIL-SUR-LE-LAC","16-MONTÉRÉGIE "]
[null,null,56005,"VENISE-EN-QUEBEC","16-MONTÉRÉGIE "]
[null,null,59025,"VERCHERES","16-MONTÉRÉGIE "]
[null,null,39062,"VICTORIAVILLE","17-CENTRE-DU-QUÉBEC "]
[null,null,85025,"VILLE-MARIE","08-ABITI-TEMINASCAMINGUE"]
[null,null,32085,"VILLEROY","17-CENTRE-DU-QUÉBEC "]
[null,null,84070,"WALTHAM","07-OUTAOUAIS "]
[null,null,47030,"WARDEN","16-MONTÉRÉGIE "]
[null,null,39077,"WARWICK","17-CENTRE-DU-QUÉBEC "]
[null,null,47025,"WATERLOO","16-MONTÉRÉGIE "]
[null,null,44080,"WATERVILLE","05-ESTRIE "]
[null,null,41098,"WEEDON","05-ESTRIE "]
[null,null,76035,"WENTWORTH","15-LAURENTIDES "]
[null,null,77060,"WENTWORTH-NORD","15-LAURENTIDES "]
[null,null,41065,"WESTBURY","05-ESTRIE "]
[null,null,66032,"WESTMOUNT","06-MONTRÉAL"]
[null,null,49040,"WICKHAM","17-CENTRE-DU-QUÉBEC "]
[null,null,42088,"WINDSOR","05-ESTRIE "]
[null,null,40017,"WOTTON","05-ESTRIE "]
[null,null,51020,"YAMACHICHE","04-MAURICIE"]
[null,null,53072,"YAMASKA","16-MONTÉRÉGIE "]
[]
[]
[null,null,"Haut de la page"]